{"text_format":"1","workbook":"xlsx","n_sheets":8,"sheets":["Start","Import","Wartosci","Przypomnienie","Dane do przypomnienia","Formularz","KomZam","Lista"],"not_rendered":{"charts":0,"images":3,"macros":1,"external_links":0,"defined_names":31,"comments":0,"pivot_tables":0},"unopened":[],"bounds":{"document_bytes":16777216,"sheet_cells":100000,"rows_first":2000,"rows_last":500,"rows_between":2000,"halvings":0,"cell_chars":16384,"cell_head_chars":4096},"cells_cut":0,"cells_raw":0,"read":"whole","date_system":"1900"}

{"sheet":"Start","index":0,"n_rows":10,"n_cols":10,"rows_kept":10,"cut":false,"hidden":false,"merged":[[8,1,8,9],[9,1,9,9],[10,1,10,9]]}
[]
[]
[]
[]
[]
[]
[]
[]
[null,"Plan zamówień publicznych","Kwestionariusz planowanych projektów rewitalizacyjnych","Kwestionariusz planowanych projektów rewitalizacyjnych","Kwestionariusz planowanych projektów rewitalizacyjnych","Kwestionariusz planowanych projektów rewitalizacyjnych","Kwestionariusz planowanych projektów rewitalizacyjnych","Kwestionariusz planowanych projektów rewitalizacyjnych","Kwestionariusz planowanych projektów rewitalizacyjnych","Kwestionariusz planowanych projektów rewitalizacyjnych"]
[null,"Niniejszy formularz przeznaczony jest do zbierania informacji na temat planów zamówień publicznych oraz generowania przypomnień do poszczególnych komórek.","Niniejszy formularz przeznaczony jest do zgłaszania informacji na temat projektów z zakresu rewitalizacji obszarów miejskich. Wprowadzone dane użyte zostaną w toku analizy możliwości wykorzystania mechanizmu JESSICA do finansowania projektów w województwie łódzkim.","Niniejszy formularz przeznaczony jest do zgłaszania informacji na temat projektów z zakresu rewitalizacji obszarów miejskich. Wprowadzone dane użyte zostaną w toku analizy możliwości wykorzystania mechanizmu JESSICA do finansowania projektów w województwie łódzkim.","Niniejszy formularz przeznaczony jest do zgłaszania informacji na temat projektów z zakresu rewitalizacji obszarów miejskich. Wprowadzone dane użyte zostaną w toku analizy możliwości wykorzystania mechanizmu JESSICA do finansowania projektów w województwie łódzkim.","Niniejszy formularz przeznaczony jest do zgłaszania informacji na temat projektów z zakresu rewitalizacji obszarów miejskich. Wprowadzone dane użyte zostaną w toku analizy możliwości wykorzystania mechanizmu JESSICA do finansowania projektów w województwie łódzkim.","Niniejszy formularz przeznaczony jest do zgłaszania informacji na temat projektów z zakresu rewitalizacji obszarów miejskich. Wprowadzone dane użyte zostaną w toku analizy możliwości wykorzystania mechanizmu JESSICA do finansowania projektów w województwie łódzkim.","Niniejszy formularz przeznaczony jest do zgłaszania informacji na temat projektów z zakresu rewitalizacji obszarów miejskich. Wprowadzone dane użyte zostaną w toku analizy możliwości wykorzystania mechanizmu JESSICA do finansowania projektów w województwie łódzkim.","Niniejszy formularz przeznaczony jest do zgłaszania informacji na temat projektów z zakresu rewitalizacji obszarów miejskich. Wprowadzone dane użyte zostaną w toku analizy możliwości wykorzystania mechanizmu JESSICA do finansowania projektów w województwie łódzkim.","Niniejszy formularz przeznaczony jest do zgłaszania informacji na temat projektów z zakresu rewitalizacji obszarów miejskich. Wprowadzone dane użyte zostaną w toku analizy możliwości wykorzystania mechanizmu JESSICA do finansowania projektów w województwie łódzkim."]

{"sheet":"Import","index":1,"n_rows":13,"n_cols":2,"rows_kept":13,"cut":false,"hidden":false,"merged":[]}
[]
[null,"Import danych z formularzy"]
[]
[]
[]
[]
[null,"1. Wklej ścieżkę katalogu, w którym zgromadzono zgłoszenia przeznaczone do importu"]
[]
[null,"C:\\Dorki\\PRACA ZDALNA\\Zestawienia_2020_MK_II"]
[]
[null,"UWAGA! Podjęta zostanie próba importu danych z każdego pliku .xls w danym katalogu (wraz z podkatalogami). Dlatego jeśli znajdują się tam pliki inne niż formularze zgłoszeń należy przenieść je do innej lokalizacji!"]
[]
[null,"2. Kliknij przycisk uruchamiający import"]

{"sheet":"Wartosci","index":2,"n_rows":4187,"n_cols":21,"rows_kept":4187,"cut":false,"hidden":false,"merged":[[0,14,1,14],[1,15,1,16],[0,1,0,3],[1,1,1,3]]}
[null,"Rok",null,null,"Kurs Euro",null,null,null,null,null,null,null,null,null,"Progi unijne [EUR]","Dostawy","Usługi","Roboty budowlane"]
[null,2020,null,null,4.2693000000000003,null,null,null,null,null,null,null,null,null,null,139000,null,5350000]
[null,null,null,null,null,null,null,null,null,null," "]
[null,null,null,null,null,null,null," "]
[null,null,null,null,null,null,null,null,null,null,null,null,null,null,null,null,null,"Planowana data wszczęcia postępowania"]
[null,"Lp.",null,"Komórka wnioskująca","Przedmiot zamówienia",null,"Rodzaj zamówienia","Kod CPV",null,null,"Wartość planowana netto PLN","Wartość planowana netto EUR",null,"Wartość planowana brutto PLN","Próg","Źródło finansowania","Proponowany tryb","Miesiąc",null,"Uwagi","Realizacja"]
[null,1,null,"BDG","Zakup akcesoriów do telefonii mobilnej (np. ładowarki, ładowarki samochodowe, przewody, etui itp.)",null,"Dostawy",null,null,null,4065.040650406504,{"$f":"IF(K7=\"\",\"\",K7/$E$2)","v":952.15624350748453},null,5000,{"$f":"IF(OR(L7=0,L7=\"\",G7=\"\"),\"\",IF(L7<=30000,\"Poniżej 30 000 EUR\",IF(AND(OR(G7=\"Dostawy\",G7=\"Usługi\"),L7<=$P$2),\"Poniżej progu unijnego\",IF(AND(G7=\"Roboty budowlane\",L7<=$R$2),\"Poniżej progu unijnego\",\"Powyżej progu unijnego\"))))","v":"Poniżej 30 000 EUR"},"Środki budżetowe",null,1,null,"poza ustawą\nart. 4 pkt 8\nzakupy dokonywane sukcesywnie, w ciągu całego roku, w zależności od potrzeb"]
[null,2,null,"BDG","Zakup odnowienia subskrypcji SWA dla aplikacji Business ConneCT oraz centrali telefonicznej SOPHO iS3000",null,"Usługi",null,null,null,9540,{"$f":"IF(K8=\"\",\"\",K8/$E$2)","v":2234.5583585131048},null,11734.2,{"$f":"IF(OR(L8=0,L8=\"\",G8=\"\"),\"\",IF(L8<=30000,\"Poniżej 30 000 EUR\",IF(AND(OR(G8=\"Dostawy\",G8=\"Usługi\"),L8<=$P$2),\"Poniżej progu unijnego\",IF(AND(G8=\"Roboty budowlane\",L8<=$R$2),\"Poniżej progu unijnego\",\"Powyżej progu unijnego\"))))","v":"Poniżej 30 000 EUR"},"Środki budżetowe",null,1,null,"poza ustawą\nart. 4 pkt 8\nklauzule środowiskowe"]
[null,4,null,"BDG","Zakup usługi przedłużenia wpisu w domenach",null,"Usługi",null,null,null,3252.0325203252032,761.72499480598765,null,4000,"Poniżej 30 000 EUR","Środki budżetowe",null,1,null,"poza ustawą\nart. 4 pkt 8\nrealizowane na bieżąco - w miarę potrzeb"]
[null,5,null,"BDG","Naprawa sprzętu informatycznego",null,"Usługi",null,null,null,19512.195121951219,4570.3499688359261,null,24000,"Poniżej 30 000 EUR","Środki budżetowe",null,1,null,"poza ustawą\nart. 4 pkt 8\nrealizowane na bieżąco - w miarę potrzeb"]
[null,6,null,"BDG","Zakup certyfikatów SSL dla serwisów internetowych MŚ",null,"Usługi",null,null,null,813.00813008130081,190.43124870149691,null,1000,"Poniżej 30 000 EUR","Środki budżetowe",null,2,null,"poza ustawą\nart. 4 pkt 8\nrealizowane na bieżąco - w miarę potrzeb"]
[null,7,null,"BDG","Zakup dostępów do LEX on-line",null,"Usługi",null,null,null,15447.154471544716,3618.1937253284414,null,19000,"Poniżej 30 000 EUR","Środki budżetowe",null,2,null,"poza ustawą\nart. 4 pkt 8\nklauzule środowiskowe"]
[null,8,null,"BDG","Zakup usługi chmury na potrzeby BDO",null,"Usługi",null,null,null,243902.43902439025,57129.374610449071,null,300000,{"$f":"IF(OR(L13=0,L13=\"\",G13=\"\"),\"\",IF(L13<=30000,\"Poniżej 30 000 EUR\",IF(AND(OR(G13=\"Dostawy\",G13=\"Usługi\"),L13<=$P$2),\"Poniżej progu unijnego\",IF(AND(G13=\"Roboty budowlane\",L13<=$R$2),\"Poniżej progu unijnego\",\"Powyżej progu unijnego\"))))","v":"Poniżej progu unijnego"},"Środki z NFOSiGW",null,2,null,"poza ustawą\nart. 4 pkt 8\nklauzule środowiskowe"]
[null,9,null,"BDG","Zakup kontynuacji wsparcia dla licencji Vmware MK",null,"Usługi",null,null,null,48780.487804878052,11425.874922089815,null,60000,"Poniżej 30 000 EUR","Środki budżetowe",null,3,null,"poza ustawą\nart. 4 pkt 8\nklauzule środowiskowe"]
[null,10,null,"BDG","Zakup doładowań dla czterech kart SIM Iridium 326 Pre-Paid doładowaniem Global 500",null,"Usługi",null,null,null,11796,2762.9822219099146,null,14509.08,"Poniżej 30 000 EUR","Środki budżetowe",null,3,null,"poza ustawą\nart. 4 pkt 8"]
[null,11,null,"BDG","Zakup wsparcia dla licencji Veeam MK",null,"Usługi",null,null,null,44715.447154471549,10473.718678582331,null,55000,"Poniżej 30 000 EUR","Środki budżetowe",null,3,null,"poza ustawą\nart. 4 pkt 8\nklauzule środowiskowe"]
[null,12,null,"BDG","Zakup kontynuacji wsparcia dla licencji Vmware BDO",null,"Usługi",null,null,null,40650.406504065038,9521.5624350748458,null,50000,"Poniżej 30 000 EUR","Środki budżetowe",null,3,null,"poza ustawą\nart. 4 pkt 8"]
[null,13,null,"BDG","Zakup wsparcia dla licencji Veeam BDO",null,"Usługi",null,null,null,28455.284552845529,6665.0937045523924,null,35000,"Poniżej 30 000 EUR","Środki budżetowe",null,3,null,"poza ustawą\nart. 4 pkt 8"]
[null,14,null,"BDG","Zakup pakietu wsparcia producenta dla 800 licencji Zimbra Network",null,"Usługi",null,null,null,17217,4032.745414939217,null,21176.91,"Poniżej 30 000 EUR","Środki budżetowe",null,3,null,"poza ustawą\nart. 4 pkt 8"]
[null,15,null,"BDG","Zakup taśm 6TB do biblioteki taśmowej Quantum Scalar i3",null,"Dostawy",null,null,null,4065.040650406504,952.15624350748453,null,5000,"Poniżej 30 000 EUR","Środki budżetowe",null,4,null,"poza ustawą\nart. 4 pkt 8"]
[null,16,null,"BDG","Zakup usługi wsparcia i prac rozwojowych stron Dziennik Urzędowy, BIP, Intranet, archiwalna strona WWW MŚ",null,"Usługi",null,null,null,48800,11430.445272058651,null,60024,"Poniżej 30 000 EUR","Środki budżetowe",null,4,null,"poza ustawą\nart. 4 pkt 8\nklauzule środowiskowe"]
[null,17,null,"BDG","Zakup usługi wsparcia i prac rozwojowych serwisu Ekoportal",null,"Usługi",null,null,null,42000,9837.6783079193301,null,51660,"Poniżej 30 000 EUR","Środki budżetowe",null,4,null,"poza ustawą\nart. 4 pkt 8\nklauzule społeczne i środowiskowe"]
[null,18,null,"BDG","Zakup kontynuacji pakietu wsparcia producenta dla Oracle Database Standard Edition",null,"Usługi",null,null,null,22764.227642276423,5332.0749636419132,null,28000,"Poniżej 30 000 EUR","Środki budżetowe",null,4,null,"poza ustawą\nart. 4 pkt 8\nklauzule środowiskowe"]
[null,19,null,"BDG","Zakup wsparcia dla systemu Moodle dla dwóch serwisów BDG i DZŚ",null,"Usługi",null,null,null,97560.975609756104,22851.749844179631,null,120000,{"$f":"IF(OR(L24=0,L24=\"\",G24=\"\"),\"\",IF(L24<=30000,\"Poniżej 30 000 EUR\",IF(AND(OR(G24=\"Dostawy\",G24=\"Usługi\"),L24<=$P$2),\"Poniżej progu unijnego\",IF(AND(G24=\"Roboty budowlane\",L24<=$R$2),\"Poniżej progu unijnego\",\"Powyżej progu unijnego\"))))","v":"Poniżej 30 000 EUR"},"Środki budżetowe",null,4,null,"poza ustawą\nart. 4 pkt 8"]
[null,20,null,"BDG","Zakup akcesoriów informatycznych",null,"Dostawy",null,null,null,85365.85365853658,19995.281113657173,null,105000,{"$f":"IF(OR(L25=0,L25=\"\",G25=\"\"),\"\",IF(L25<=30000,\"Poniżej 30 000 EUR\",IF(AND(OR(G25=\"Dostawy\",G25=\"Usługi\"),L25<=$P$2),\"Poniżej progu unijnego\",IF(AND(G25=\"Roboty budowlane\",L25<=$R$2),\"Poniżej progu unijnego\",\"Powyżej progu unijnego\"))))","v":"Poniżej 30 000 EUR"},"Środki budżetowe",null,4,null,"poza ustawą\nart. 4 pkt 8"]
[null,21,null,"BDG","Zakup kontynuacji wsparcia dla 14 serwerów CISCO",null,"Usługi",null,null,null,27900,6535.0291616892691,null,34317,"Poniżej 30 000 EUR","Środki budżetowe",null,4,null,"poza ustawą\nart. 4 pkt 8\nklauzule środowiskowe"]
[null,22,null,"BDG","Zakup pakietu wsparcia producenta dla FortiMaila",null,"Usługi",null,null,null,24390.243902439026,5712.9374610449076,null,30000,"Poniżej 30 000 EUR","Środki budżetowe",null,4,null,"poza ustawą\nart. 4 pkt 8\nklauzule środowiskowe"]
[null,23,null,"BDG","Zakup przedłużenia subskrypcji dla Splunk Enterprise",null,"Usługi",null,null,null,47967.479674796748,11235.443673388318,null,59000,"Poniżej 30 000 EUR","Środki budżetowe",null,4,null,"poza ustawą\nart. 4 pkt 8\nklauzule środowiskowe"]
[null,24,null,"BDG","Zakup oprogramowania Corel Draw",null,"Dostawy",null,null,null,2845.5284552845528,666.50937045523915,null,3500,"Poniżej 30 000 EUR","Środki budżetowe",null,5,null,"poza ustawą\nart. 4 pkt 8"]
[null,25,null,"BDG","Zakup paliwa do agregatu prądotwórczego oraz utylizacja starego paliwa",null,"Dostawy",null,null,null,8130.0813008130081,1904.3124870149691,null,10000,"Poniżej 30 000 EUR","Środki budżetowe",null,5,null,"poza ustawą\nart. 4 pkt 8\nklauzule środowiskowe"]
[null,26,null,"BDG","Zakup kontynuacji serwisów dla FortiAP",null,"Usługi",null,null,null,3252.0325203252032,761.72499480598765,null,4000,"Poniżej 30 000 EUR","Środki budżetowe",null,6,null,"poza ustawą\nart. 4 pkt 8\nklauzule środowiskowe"]
[null,27,null,"BDG","Zakup Global load balancer oraz Web application firewall dla BDO",null,"Usługi",null,null,null,126000,29513.03492375799,null,154980,"Poniżej 30 000 EUR","Środki z NFOSiGW",null,6,null,"poza ustawą\nart. 4 pkt 8\nklauzule środowiskowe"]
[null,28,null,"BDG","Zakup wsparcia do zapory sieciowej firewall do chmury na potrzeby BDO",null,"Usługi",null,null,null,8130.0813008130081,1904.3124870149691,null,10000,"Poniżej 30 000 EUR","Środki z NFOSiGW",null,6,null,"klauzule środowiskowe"]
[null,29,null,"BDG","Zakup wsparcia producenta SAP SQL",null,"Usługi",null,null,null,9756.0975609756097,2285.1749844179631,null,12000,"Poniżej 30 000 EUR","Środki budżetowe",null,6,null,"poza ustawą\nart. 4 pkt 8\nklauzule społeczne i środowiskowe"]
[null,30,null,"BDG","Zakup 4 szt. przełączników sieciowych",null,"Dostawy",null,null,null,52032.520325203252,12187.599916895802,null,64000,"Poniżej 30 000 EUR","Środki budżetowe",null,6,null,"poza ustawą\nart. 4 pkt 8\nklauzule środowiskowe"]
[null,31,null,"BDG","Zakup licencji Vmware dla nowych serwerów",null,"Dostawy",null,null,null,26016.260162601626,6093.7999584479012,null,32000,"Poniżej 30 000 EUR","Środki budżetowe",null,6,null,"poza ustawą\nart. 4 pkt 8\nklauzule środowiskowe"]
[null,32,null,"BDG","Zakup licencji Veeam dla nowych serwerów",null,"Dostawy",null,null,null,22764.227642276423,5332.0749636419132,null,28000,"Poniżej 30 000 EUR","Środki budżetowe",null,6,null,"poza ustawą\nart. 4 pkt 8\nklauzule środowiskowe"]
[null,1,null,"BDG","Zakup serwerów rack na potrzeby MK",null,"Dostawy",null,null,null,121951.21951219512,28564.687305224536,null,150000,"Poniżej 30 000 EUR","Środki budżetowe","Przetarg nieograniczony",7,null,"klauzule środowiskowe"]
[null,34,null,"BDG","Zakup pakietu standardowego wsparcia producenta dla dwóch Fortigate",null,"Usługi",null,null,null,53658.536585365851,12568.462414298796,null,66000,"Poniżej 30 000 EUR","Środki budżetowe",null,7,null,"poza ustawą\nart. 4 pkt 8\nklauzule środowiskowe"]
[null,35,null,"BDG","Zakup wsparcia dla dwóch przełączników Catalyst,  przełączników Nexus i dwóch routerów",null,"Usługi",null,null,null,32520.325203252032,7617.2499480598763,null,40000,"Poniżej 30 000 EUR","Środki budżetowe",null,7,null,"poza ustawą\nart. 4 pkt 8\nklauzule środowiskowe"]
[null,36,null,"BDG","Zakup wsparcia serwisowego Geoportalu",null,"Usługi",null,null,null,45528.455284552845,10664.149927283826,null,56000,"Poniżej 30 000 EUR","Środki budżetowe",null,7,null,"poza ustawą\nart. 4 pkt 8\nklauzule społeczne i środowiskowe"]
[null,37,null,"BDG","Zakup 3 szt. telewizorów do wideokonferencji",null,"Dostawy",null,null,null,96747.9674796748,22661.318595478133,null,119000,"Poniżej 30 000 EUR","Środki budżetowe",null,7,null,"poza ustawą\nart. 4 pkt 8\nklauzule środowiskowe"]
[null,38,null,"BDG","Zakup licencji Cisco Webex dla 50 użytkowników",null,"Dostawy",null,null,null,48780.487804878052,11425.874922089815,null,60000,"Poniżej 30 000 EUR","Środki budżetowe",null,7,null,"poza ustawą\nart. 4 pkt 8\nklauzule środowiskowe"]
[null,39,null,"BDG","Zakup nagłośnienia do sal 324A i B",null,"Dostawy",null,null,null,81300.813008130077,19043.124870149692,null,100000,"Poniżej 30 000 EUR","Środki budżetowe",null,8,null,"poza ustawą\nart. 4 pkt 8"]
[null,40,null,"BDG","Zakup Audytu bezpieczeństwa BDO",null,"Usługi",null,null,null,121951.21951219512,28564.687305224536,null,150000,"Poniżej 30 000 EUR","Środki z NFOSiGW",null,8,null,"poza ustawą\nart. 4 pkt 8\nklauzule środowiskowe"]
[null,2,null,"BDG","Zakup przedłużenia licencji subskrypcyjnej Microsoft Office 365 dla 400 użytkowników oraz zakup nowej licencji dla 100 użytkowników ",null,"Usługi",null,null,null,231707.31707317074,54272.90587992662,null,285000,"Poniżej progu unijnego","Środki budżetowe","Przetarg nieograniczony",8,null,"klauzule środowiskowe"]
[null,42,null,"BDG","Zakup Windows Server 2019 DataCenter na 16 rdzeni",null,"Dostawy",null,null,null,20325.203252032519,4760.7812175374229,null,25000,"Poniżej 30 000 EUR","Środki budżetowe",null,8,null,"poza ustawą\nart. 4 pkt 8"]
[null,43,null,"BDG","Zakup kontynuacji wsparcia dla Fortiauthenticator",null,"Usługi",null,null,null,2682.9268292682927,628.42312071493984,null,3300,"Poniżej 30 000 EUR","Środki budżetowe",null,9,null,"poza ustawą\nart. 4 pkt 8\nklauzule środowiskowe"]
[null,44,null,"BDG","Zakup przedłużenia subskrypcji Red Hat",null,"Usługi",null,null,null,20731.707317073171,4855.9968418881708,null,25500,"Poniżej 30 000 EUR","Środki budżetowe",null,9,null,"poza ustawą\nart. 4 pkt 8\nklauzule środowiskowe"]
[null,45,null,"BDG","Zakup wsparcia i prac rozwojowych publicznie dostępnego wykazu danych (PDWD)",null,"Usługi",null,null,null,81300.813008130077,19043.124870149692,null,100000,"Poniżej 30 000 EUR","Środki budżetowe",null,9,null,"poza ustawą\nart. 4 pkt 8\nklauzule środowiskowe i społeczne"]
[null,46,null,"BDG","Zakup pakietu wsparcia dla DesktopCentral",null,"Usługi",null,null,null,36585.365853658535,8569.406191567361,null,45000,"Poniżej 30 000 EUR","Środki budżetowe",null,9,null,"poza ustawą\nart. 4 pkt 8\nklauzule środowiskowe"]
[null,47,null,"BDG","Zakup łącza internetowego BDO",null,"Usługi",null,null,null,28861.788617886181,6760.3093289031403,null,35500,"Poniżej 30 000 EUR","Środki budżetowe",null,9,null,"poza ustawą\nart. 4 pkt 8\nklauzule społeczne i środowiskowe"]
[null,48,null,"BDG","Zakup wsparcia macierzy EMC Unity 400",null,"Usługi",null,null,null,24390.243902439026,5712.9374610449076,null,30000,"Poniżej 30 000 EUR","Środki budżetowe",null,9,null,"poza ustawą\nart. 4 pkt 8\nklauzule społeczne i środowiskowe"]
[null,3,null,"BDG","Zakup świadczenia usług związanych z utrzymaniem Zintegrowanego Systemu Wspomagającego Zarządzanie Zasobami Ministerstwa Środowiska (QNT) oraz modułu ZFŚS",null,"Usługi",null,null,null,569105.69105691055,133301.87409104782,null,700000,"Poniżej progu unijnego","Środki budżetowe","Przetarg nieograniczony",10,null,"klauzule społeczne i środowiskowe\n"]
[null,50,null,"BDG","Zakup półki macierzowej",null,"Dostawy",null,null,null,121951.21951219512,28564.687305224536,null,150000,"Poniżej 30 000 EUR","Środki budżetowe",null,10,null,"poza ustawą\nart. 4 pkt 8\nklauzule środowiskowe"]
[null,51,null,"BDG","Zakup przedłużenia wsparcia producenta dla oprogramowania AirWatch EMM",null,"Usługi",null,null,null,32520.325203252032,7617.2499480598763,null,40000,"Poniżej 30 000 EUR","Środki budżetowe",null,10,null,"poza ustawą\nart. 4 pkt 8\nklauzule środowiskowe"]
[null,52,null,"BDG","Zakup przedłużenia wsparcia technicznego dla oprogramowania AirWatch EMM",null,"Usługi",null,null,null,46341.463414634149,10854.581175985324,null,57000,"Poniżej 30 000 EUR","Środki budżetowe",null,10,null,"poza ustawą\nart. 4 pkt 8\nklauzule środowiskowe"]
[null,53,null,"BDG","Zakup wsparcia dla Fortiweb-VM04",null,"Usługi",null,null,null,58536.585365853658,13711.049906507777,null,72000,"Poniżej 30 000 EUR","Środki budżetowe",null,10,null,"poza ustawą\nart. 4 pkt 8\nklauzule środowiskowe"]
[null,54,null,"BDG","Zakup kontynuacji wsparcia dla FortiAnalyzer MK",null,"Usługi",null,null,null,9756.0975609756097,2285.1749844179631,null,12000,"Poniżej 30 000 EUR","Środki budżetowe",null,10,null,"poza ustawą\nart. 4 pkt 8\nklauzule środowiskowe"]
[null,55,null,"BDG","Zakup usługi wsparcia Systemu Kontroli Dostępu",null,"Usługi",null,null,null,17073.170731707316,3999.0562227314349,null,21000,"Poniżej 30 000 EUR","Środki budżetowe",null,10,null,"poza ustawą\nart. 4 pkt 8\nklauzule środowiskowe"]
[null,56,null,"BDG","Zakup kontynuacji wsparcia producenta dla oprogramowania CyberArk",null,"Usługi",null,null,null,45528.455284552845,10664.149927283826,null,56000,"Poniżej 30 000 EUR","Środki budżetowe",null,10,null,"poza ustawą\nart. 4 pkt 8\nklauzule społeczne i środowiskowe"]
[null,57,null,"BDG","Zakup kontynuacji licencji oraz wsparcia dla systemu telekonferencyjnego CISCO",null,"Usługi",null,null,null,43089.430894308942,10092.856181179335,null,53000,"Poniżej 30 000 EUR","Środki budżetowe",null,10,null,"poza ustawą\nart. 4 pkt 8\nklauzule społeczne i środowiskowe"]
[null,58,null,"BDG","Zakup kontynuacji wsparcia dla FortiAnalyzer BDO",null,"Usługi",null,null,null,3658.5365853658536,856.94061915673603,null,4500,"Poniżej 30 000 EUR","Środki budżetowe",null,10,null,"poza ustawą\nart. 4 pkt 8\nklauzule środowiskowe"]
[null,59,null,"BDG","Zakup 3-letniej usługi serwisowej systemu telekomunikacyjnego (centrala telefoniczna)",null,"Usługi",null,null,null,122400,28669.805354507764,null,150552,"Poniżej 30 000 EUR","Środki budżetowe",null,12,null,"poza ustawą\nart. 4 pkt 8\nklauzule środowiskowe"]
[null,60,null,"BDG","Usługi cateringowe",null,"Usługi",null,null,null,121951.21951219512,28564.687305224536,null,150000,"Poniżej 30 000 EUR","Środki budżetowe",null,2,null,"poza ustawą \nart. 4 pkt 8\nklauzule środowiskowe"]
[null,61,null,"BDG","Zakup samochodu elektrycznego ( 1 sztuka )",null,"Dostawy",null,null,null,127642.27642276423,29897.706046135016,null,157000,"Poniżej 30 000 EUR","Środki budżetowe",null,2,null,"poza ustawą\nart. 4 pkt 8, w oparciu o 6a\nklauzule środowiskowe"]
[null,62,null,"BDG","Usługi korzystania z saloników VIP",null,"Usługi",null,null,null,40650.406504065038,9521.5624350748458,null,50000,"Poniżej 30 000 EUR","Środki budżetowe",null,11,null,"poza ustawą \nart. 4 pkt 8"]
[null,4,null,"BDG","Wykonanie 2 stacji szybkiego ładowania",null,"Usługi",null,null,null,370800,86852.645632773521,null,456084,"Poniżej progu unijnego","Środki z NFOSiGW","Przetarg nieograniczony",6,null,"klauzule środowiskowe"]
[null,64,null,"BDG","Usługi organizacji wydarzeń na rzecz MŚ",null,"Usługi","79.95.20.00-2",null,null,4878048.7804878047,1142587.4922089814,null,6000000,"Powyżej progu unijnego","Środki budżetowe",null,1,null,"Zamówienie na usługi społeczne - art. 138 o) Pzp\nklauzule społeczne"]
[null,65,null,"BDG","Zakup akcesoriów do telefonii mobilnej (np. ładowarki, ładowarki samochodowe, przewody, etui itp.)",null,"Dostawy",null,null,null,4065.040650406504,952.15624350748453,null,5000,"Poniżej 30 000 EUR","Środki budżetowe",null,1,null,"poza ustawą\nart. 4 pkt 8\nzakupy dokonywane sukcesywnie, w ciągu całego roku, w zależności od potrzeb"]
[null,66,null,"BDG","Zakup akcesoriów do pojazdów służbowych  (np. płyny do mycia szyb, oleje itp.)",null,"Dostawy",null,null,null,4878.0487804878048,1142.5874922089815,null,6000,"Poniżej 30 000 EUR","Środki budżetowe",null,1,null,"poza ustawą\nart. 4 pkt 8\nzakupy dokonywane sukcesywnie, w ciągu całego roku, w zależności od potrzeb"]
[null,67,null,"BDG","Zakup środków BHP dla pracowników grupy roboczej",null,"Dostawy",null,null,null,4471.5447154471549,{"$f":"IF(K72=\"\",\"\",K72/$E$2)","v":1047.3718678582331},null,5500,"Poniżej 30 000 EUR","Środki budżetowe",null,1,null,"poza ustawą\nart. 4 pkt 8\nzakupy dokonywane sukcesywnie, w ciągu całego roku, w zależności od potrzeb"]
[null,68,null,"BDG","Zakupy artykułów przemysłowych oraz artykułów gospodarczych (np.: baterie, chemia gospodarcza, artykuły  gastronomiczne, akcesoria do ekspresów kawowych, akcesoria gospodarcze itp.) ",null,"Dostawy",null,null,null,40650.406504065038,9521.5624350748458,null,50000,"Poniżej 30 000 EUR","Środki budżetowe",null,1,null,"poza ustawą\nart. 4 pkt 8\n  zakupy dokonywane sukcesywnie, w ciągu całego roku, w zależności od potrzeb"]
[null,69,null,"BDG","Zakup taśm do drukarek etykiet, kart wejściowych",null,"Dostawy",null,null,null,3252.0325203252032,761.72499480598765,null,4000,"Poniżej 30 000 EUR","Środki budżetowe",null,1,null,"poza ustawą\nart. 4 pkt 8\nzakupy dokonywane sukcesywnie, w ciągu całego roku, w zależności od potrzeb"]
[null,70,null,"BDG","Zakup artykułów ogrodniczych (np. ikebany na spotkania, kwiaty okolicznościowe, wiązanki itp.)",null,"Dostawy",null,null,null,7317.0731707317073,1713.8812383134721,null,9000,"Poniżej 30 000 EUR","Środki budżetowe",null,1,null,"poza ustawą\nart. 4 pkt 8  \nzakupy dokonywane sukcesywnie, w ciągu całego roku, w zależności od potrzeb"]
[null,71,null,"BDG","Zlecanie ogłoszeń prasowych",null,"Usługi",null,null,null,40650.406504065038,9521.5624350748458,null,50000,"Poniżej 30 000 EUR","Środki budżetowe",null,1,null,"poza ustawą\nart. 4 pkt 8 \nusługi wykonywane sukcesywnie, w ciągu całego roku, w zależności od potrzeb"]
[null,72,null,"BDG","Naprawa drobnego sprzętu MŚ \n(m.in. niszczarek do dokumentów, ekspresów do kawy, telefony) ",null,"Usługi",null,null,null,16260.162601626016,3808.6249740299381,null,20000,"Poniżej 30 000 EUR","Środki budżetowe",null,1,null,"poza ustawą\nart. 4 pkt 8  \nusługi wykonywane sukcesywnie, w ciągu całego roku, w zależności od potrzeb"]
[null,73,null,"BDG","Sezonowa wymiana opon oraz ewentualne naprawy wulkanizacyjne (dotyczy samochodu będącego własnością MŚ)",null,"Dostawy",null,null,null,3252.0325203252032,761.72499480598765,null,4000,"Poniżej 30 000 EUR","Środki budżetowe",null,1,null,"poza ustawą\nart. 4 pkt 8  \nusługi wykonywane sukcesywnie, w ciągu całego roku, w zależności od potrzeb"]
[null,5,null,"BDG","Dostawa mebli na potrzeby MŚ ",null,"Dostawy",null,null,null,300000,70269.130770852353,null,350000,"Poniżej progu unijnego","Środki budżetowe","Przetarg nieograniczony",12]
[null,6,null,"BDG","Zakup 3 samochodów elektrycznych ",null,"Dostawy",null,null,null,604809.75609756098,141664.85280902276,null,743916,"Powyżej progu unijnego","Środki budżetowe","Przetarg nieograniczony",6,null,"klauzule środowiskowe"]
[null,76,null,"BDG","Zakup drobnego sprzętu AGD np. ekspresy do kawy, czajniki, lodówki itp. ",null,"Dostawy",null,null,null,16260.162601626016,3808.6249740299381,null,20000,"Poniżej 30 000 EUR","Środki budżetowe",null,1,null,"poza ustawą\nart. 4 pkt 8\nzakupy dokonywane sukcesywnie, w ciągu całego roku, w zależności od potrzeb"]
[null,77,null,"BDG","Dostawa prasy na 2021 rok ",null,"Dostawy",null,null,null,92000,21549.20010306139,null,100000,"Poniżej 30 000 EUR","Środki budżetowe",null,10,null,"poza ustawą\nart. 4 pkt 8\nklauzule środowiskowe"]
[null,78,null,"BDG","Wykonanie kalendarzy na 2021 rok dla MK",null,"Usługi",null,null,null,{"$f":"N83/1.23","v":32520.325203252032},7617.2499480598763,null,40000,"Poniżej 30 000 EUR","Środki budżetowe",null,10,null,"poza ustawą\nart. 4 pkt 8"]
[null,79,null,"BDG","Zakup ładowarki naściennej do samochodu elektrycznego",null,"Dostawy",null,null,null,3060.9756097560976,716.97365136113592,null,3765,"Poniżej 30 000 EUR","Środki budżetowe",null,3,null,"poza ustawą\nart. 4 pkt 8, w oparciu o 6a\nklauzule środowiskowe"]
[null,80,null,"BDG","Szkolenia indywidualne zgłaszane w ramach potrzeb komórek organizacyjnych",null,"Usługi",null,null,null,350000,81980.652565994416,null,350000,"Poniżej progu unijnego","Inne",null,1,null,"poza ustawą\nart. 4 pkt 8\nszkolenia realizowane sukcesywnie, w ciągu całego roku, \nna podstawie zapotrzebowań zgłaszanych przez komórki organizacyjne.\nWartość jednostkowa szkolenia nie przekracza równowartości \n30 000 euro\n(finansowane ze środków budżetowych oraz ze środków unijnych)"]
[null,81,null,"BDG","Szkolenia zamknięte organizowane w ramach potrzeb MK",null,"Usługi",null,null,null,500000,117115.21795142059,null,500000,"Poniżej progu unijnego","Środki budżetowe",null,1,null,"poza ustawą\nart. 4 pkt 8\nszkolenia realizowane sukcesywnie, w ciągu całego roku, na podstawie zapotrzebowań zgłaszanych przez komórki organizacyjne.\nWartość jednostkowa szkolenia nie przekracza równowartości 30 000 euro\nklauzule środowiskowe"]
[null,7,null,"BDG","Wymiana drzwi zewnętrznych",null,"Usługi","44.22.12.00-7",null,null,144662.67000000001,33884.400252968873,null,177935.08,"Poniżej progu unijnego","Środki budżetowe","Przetarg nieograniczony",4,null,"klauzule środowiskowe"]
[null,83,null,"BDG","Wymiana mat pyłochłonnych",null,"Usługi",null,null,null,30894.31,7236.3876982175061,null,38000,"Poniżej 30 000 EUR","Środki budżetowe",null,4,null,"poza ustawą, \nart. 4 ust. 8"]
[null,84,null,"BDG","Cyklinowanie parkietu",null,"Usługi",null,null,null,65040.65,15234.499800904128,null,80000,"Poniżej 30 000 EUR","Środki budżetowe",null,4,null,"poza ustawą, \nart. 4 ust. 8"]
[null,85,null,"BDG","Remont Sali 346 - SIDA",null,"Roboty budowlane",null,null,null,77067.48,18051.549434333494,null,94793,"Poniżej 30 000 EUR","Środki z NFOSiGW",null,5,null,"poza ustawą, \nart. 4 ust. 8"]
[null,86,null,"BDG","Wymiana okien dachowych",null,"Roboty budowlane",null,null,null,12195.12,2856.4682734874568,null,15000,{"$f":"IF(OR(L91=0,L91=\"\",G91=\"\"),\"\",IF(L91<=30000,\"Poniżej 30 000 EUR\",IF(AND(OR(G91=\"Dostawy\",G91=\"Usługi\"),L91<=$P$2),\"Poniżej progu unijnego\",IF(AND(G91=\"Roboty budowlane\",L91<=$R$2),\"Poniżej progu unijnego\",\"Powyżej progu unijnego\"))))","v":"Poniżej 30 000 EUR"},"Środki budżetowe",null,6,null,"poza ustawą, \nart. 4 ust. 8"]
[null,87,null,"BDG","Remont rozdzielni elektrycznej Kl. \"HJ\"",null,"Usługi",null,null,null,16260.16,3808.6243646499424,null,20000,"Poniżej 30 000 EUR","Środki budżetowe",null,9,null,"poza ustawą, \nart. 4 ust. 8"]
[null,88,null,"BDG","Wymiana filtrów stacji uzdatniania wody",null,"Usługi",null,null,null,13008.13,3046.8999601808255,null,16000,"Poniżej 30 000 EUR","Środki budżetowe",null,5,null,"poza ustawą\nart. 4 pkt 8"]
[null,89,null,"BDG","Przegląd instalacji ppoż. i oddymiania",null,"Usługi",null,null,null,7317.07,1713.8804956316021,null,9000,"Poniżej 30 000 EUR","Środki budżetowe",null,6,null,"poza ustawą, \nart. 4 ust. 8"]
[null,90,null,"BDG","Wymiana nawierzchni parkingu zewnętrznego",null,"Roboty budowlane",null,null,null,40650.410000000003,9521.5632539292164,null,50000,"Poniżej 30 000 EUR","Środki budżetowe",null,7,null,"poza ustawą, \nart. 4 ust. 8"]
[null,8,null,"BDG","Montaż paneli fotowoltaicznych na dachu budynku",null,"Dostawy",null,null,null,162601.63,38086.250673412498,null,200000,"Poniżej progu unijnego","Środki budżetowe","Przetarg nieograniczony",7,null,"klauzule środowiskowe"]
[null,9,null,"BDG","Sprzątanie budynku i terenu zewnętrznego",null,"Usługi",null,null,null,975609.76,228517.49935586628,null,1200000,"Powyżej progu unijnego","Środki budżetowe","Przetarg nieograniczony",8,null,"klauzule społeczne i środowiskowe"]
[null,93,null,"BDG","Obsług zaplecza kuchennego Ministra",null,"Usługi",null,null,null,85365.86,19995.282599020917,null,105000,"Poniżej 30 000 EUR","Środki budżetowe",null,5,null,"poza ustawą, \nart. 4 ust. 8"]
[null,94,null,"BDG","Prace gospodarczo porządkowe (przeprowadzki)",null,"Usługi",null,null,null,121951.22,28564.687419483285,null,150000,"Poniżej 30 000 EUR","Środki budżetowe",null,5,null,"poza ustawą, \nart. 4 ust. 8"]
[null,95,null,"BDG","Przegląd i konserwacja systemów alarmowych DSO",null,"Usługi",null,null,null,9756.09,2285.17321340735,null,12000,"Poniżej 30 000 EUR","Środki budżetowe",null,10,null,"poza ustawą, \nart. 4 ust. 8"]
[null,96,null,"BDG","Sporządzanie kosztorysów, nadzór inwestorski",null,"Usługi",null,null,null,16260.16,3808.6243646499424,null,20000,"Poniżej 30 000 EUR","Środki budżetowe",null,2,null,"poza ustawą, \nart. 4 ust. 8"]
[null,97,null,"BDG","Konserwacja i naprawa dźwigów osobowych i dźwigu towarowego",null,"Usługi",null,null,null,40650.400000000001,9521.5609116248561,null,50000,"Poniżej 30 000 EUR","Środki budżetowe",null,9,null,"poza ustawą, \nart. 4 ust. 8"]
[null,98,null,"BDG","Przeglądy budynku (wiosenny, jesienny, roczny)",null,"Usługi",null,null,null,4065.04,952.15609116248561,null,5000,"Poniżej 30 000 EUR","Środki budżetowe",null,4,null,"poza ustawą, \nart. 4 ust. 8"]
[null,99,null,"BDG","Przegląd wentylacji i szczelności gazowej ",null,"Usługi",null,null,null,2439.02,571.29271777574775,null,3000,"Poniżej 30 000 EUR","Środki budżetowe",null,10,null,"poza ustawą, \nart. 4 ust. 8"]
[null,100,null,"BDG","Zakup materiałów budowlanych do konserwacji",null,"Dostawy",null,null,null,16260.16,3808.6243646499424,null,20000,"Poniżej 30 000 EUR","Środki budżetowe",null,1,null,"poza ustawą, \nart. 4 ust. 8\nzakupy dokonywane sukcesywnie, w miarę bieżących potrzeb"]
[null,101,null,"BDG","Zakup materiałów elektrycznych do konserwacji bieżącej",null,"Dostawy",null,null,null,8130.08,1904.3121823249712,null,10000,"Poniżej 30 000 EUR","Środki budżetowe",null,1,null,"poza ustawą, \nart. 4 ust. 8\nzakupy dokonywane sukcesywnie, w miarę bieżących potrzeb"]
[null,102,null,"BDG","Zakup świetlówek LED (400 szt.) do wymiany",null,"Dostawy",null,null,null,6504.06,1523.4488089382335,null,8000,"Poniżej 30 000 EUR","Środki budżetowe",null,8,null,"poza ustawą, \nart. 4 ust. 8"]
[null,103,null,"BDG","Zakup materiałów hydraulicznych do konserwacji budynku",null,"Dostawy",null,null,null,5691.06,1333.0194645492236,null,7000,"Poniżej 30 000 EUR","Środki budżetowe",null,1,null,"poza ustawą, \nart. 4 ust. 8\nzakupy dokonywane sukcesywnie, w miarę bieżących potrzeb"]
[null,104,null,"BDG","Serwis pochłaniaczy dymu",null,"Usługi",null,null,null,8130.08,1904.3121823249712,null,10000,"Poniżej 30 000 EUR","Środki budżetowe",null,1,null,"poza ustawą\nart. 4 pkt 8"]
[null,105,null,"BDG","Zmiany na tablicy informacyjnej ",null,"Usługi",null,null,null,4065.04,952.15609116248561,null,5000,"Poniżej 30 000 EUR","Środki budżetowe",null,1,null,"poza ustawą, \nart. 4 ust. 8\nusługi realizowane sukcesywnie, w miarę bieżących potrzeb"]
[null,106,null,"BDG","Zakupy dla pracowników w ramach BHP",null,"Dostawy",null,null,null,1626.02,380.86337338673786,null,2000,"Poniżej 30 000 EUR","Środki budżetowe",null,5,null,"poza ustawą, \nart. 4 ust. 8"]
[null,107,null,"BDG","Naprawy sprzętu AGD",null,"Usługi",null,null,null,2032.52,476.0780455812428,null,2500,"Poniżej 30 000 EUR","Środki budżetowe",null,1,null,"poza ustawą, \nart. 4 ust. 8\nusługi realizowane sukcesywnie, w miarę bieżących potrzeb"]
[null,108,null,"BDG","Usługi i zakupy w zakresie rewitalizacji zieleni",null,"Usługi",null,null,null,16260.16,3808.6243646499424,null,20000,"Poniżej 30 000 EUR","Środki budżetowe",null,4,null,"poza ustawą, \nart. 4 ust. 8"]
[null,109,null,"BDG","Inne drobne zakupy (np. zakup trutki na szczury itp.)",null,"Dostawy",null,null,null,3252.03,761.72440446911673,null,4000,"Poniżej 30 000 EUR","Środki budżetowe",null,1,null,"poza ustawą\nart. 4 pkt 8\nzakupy dokonywane sukcesywnie, w miarę bieżących potrzeb"]
[null,110,null,"BDG","Wywóz odpadów niekomunalnych (gruz)",null,"Usługi",null,null,null,1219.5,285.64401658351483,null,1500,"Poniżej 30 000 EUR","Środki budżetowe",null,1,null,"poza ustawą, \nart. 4 ust. 8\nusługi realizowane sukcesywnie, w miarę bieżących potrzeb"]
[null,111,null,"DEK","Dostarczenie serwisów PAP na potrzeby informacyjne Ministerstwa Klimatu w 2021 roku",null,"Usługi",null,null,null,81300.813008130077,19043.124870149692,null,100000,"Poniżej 30 000 EUR","Środki budżetowe",null,11,null,"poza ustawą\nart. 4 pkt 8\nklauzule środowiskowe i  społeczne"]
[null,112,null,"DEK","Monitoring mediów na 2021 rok",null,"Usługi",null,null,null,13008.130081300813,3046.8999792239506,null,16000,"Poniżej 30 000 EUR","Środki budżetowe",null,11,null,"poza ustawą\nart. 4 pkt 8\nklauzule środowiskowe i  społeczne"]
[null,113,null,"DEK","Bieżąca analiza mediów społecznościowych na potrzeby Ministerstwa Klimatu w 2021 roku",null,"Usługi",null,null,null,6504.0650406504064,1523.4499896119753,null,8000,"Poniżej 30 000 EUR","Środki budżetowe",null,11,null,"poza ustawą\nart. 4 pkt 8\nklauzule środowiskowe i  społeczne"]
[null,114,null,"DEK","Usługa serwisowa (naprawa) obiektywu SIGMA",null,"Usługi",null,null,null,1270,297.47265359660832,null,1562.1,"Poniżej 30 000 EUR","Środki budżetowe",null,3,null,"poza ustawą\nart. 4 pkt 8\nklauzule środowiskowe"]
[null,115,null,"DEK","Przygotowanie do druku, druk oraz dostarczenie do siedziby Zamawiającego ścianki konferencyjnej tekstylnej",null,"Usługi",null,null,null,1189.4308943089432,278.60091685028999,null,1463,"Poniżej 30 000 EUR","Środki budżetowe",null,1,null,"poza ustawą\nart. 4 pkt 8\nklauzule środowiskowe"]
[null,116,null,"DEK","Świadczenie usług graficznych na potrzeby edukacji, promocji i informacji w 2020 roku",null,"Usługi",null,null,null,32800,7682.7582976131916,null,40344,"Poniżej 30 000 EUR","Inne",null,2,null,"poza ustawą\nart. 4 pkt 8\nklauzule środowiskowe"]
[null,117,null,"DEK","Zakup 1 audycji programu \"Wielki Test \" o charakterze informacyjno-edukacyjnym  w zakresie ochrony atmosfery i zachodzących zmian klimatu oraz czasu antenowego na potrzeby emisji tego programu ",null,"Usługi",null,null,null,600000,140538.26154170471,null,600000,"Powyżej progu unijnego","Środki z NFOSiGW",null,2,null,"poza ustawą\nart. 4 pkt 3 lit. h)\nklauzule środowiskowe"]
[null,118,null,"DEK","Przygotowanie, produkcja i emisja audycji radiowych ",null,"Usługi",null,null,null,40650.406504065038,9521.5624350748458,null,50000,"Poniżej 30 000 EUR","Środki z NFOSiGW",null,8,null,"poza ustawą\nart. 4 pkt 8\nklauzule środowiskowe"]
[null,119,null,"DEK","Świadczenie usług konsultingowych (doradczych) z zakresu planowania i zakupu mediów",null,"Usługi",null,null,null,8130.0813008130081,1904.3124870149691,null,10000,"Poniżej 30 000 EUR","Środki z NFOSiGW",null,4,null,"poza ustawą\nart. 4 pkt 8\nklauzule środowiskowe\n"]
[null,10,null,"DEK","Zakup materiałów informacyjno-promocyjnych do realizowanych działań edukacyjnych Ministerstwa Klimatu",null,"Dostawy",null,null,null,82926.829268292684,19423.987367552683,null,102000,"Poniżej 30 000 EUR","Inne","Przetarg nieograniczony",4,null,"poza ustawą\nart. 4 pkt 8\nklauzule środowiskowe"]
[null,11,null,"DEK","Kampania informacyjno-edukacyjna Piątka za segregację",null,"Usługi","79.34.14.00-0",null,null,809531.25203252025,189616.85804055003,null,995723.44,"Powyżej progu unijnego","Środki z NFOSiGW","Zamówienie z wolnej ręki",5,null,"art. 67 ust. 1 pkt. 6 (zamówienie uzupełniające) \nklauzule środowiskowe"]
[null,12,null,"DEK","Kampania informacyjno-promocyjna Czyste Powietrze - zdrowy wybór. Twój wybór!",null,"Usługi","79.34.14.00-0",null,null,317500,74368.163399152079,null,390525,"Poniżej progu unijnego","Środki z NFOSiGW","Zamówienie z wolnej ręki",5,null,"art. 67 ust. 1 pkt. 6 (zamówienie uzupełniające) \nklauzule środowiskowe"]
[null,123,null,"DEK","Zakup czasu antenowego na reemisję spotów telewizyjnych i radiowych promujących segregacje odpadów oraz Program Czyste Powietrze",null,"Usługi",null,null,null,1626016.2601626017,380862.49740299385,null,2000000,"Powyżej progu unijnego","Środki z NFOSiGW",null,5,null,"poza ustawą\nart. 4 pkt 3 lit. h)\nklauzule środowiskowe\n"]
[null,13,null,"DEK","Realizacja ogólnopolskiej kampanii informacyjno-edukacyjnej pn. „Nasz klimat”",null,"Usługi","79.34.14.00-0",null,null,1626016.2601626017,380862.49740299385,null,2000000,"Powyżej progu unijnego","Środki z NFOSiGW","Przetarg nieograniczony",6,null,"klauzule środowiskowe"]
[null,14,null,"DEK","Organizacja konkursu edukacyjnego pn. \"Moje miasto z klimatem - najlepszy zrealizowany projekt\"",null,"Usługi","79.95.21.00-3",null,null,402600,94301.173494483868,null,495198,"Poniżej progu unijnego","Środki z NFOSiGW","Przetarg nieograniczony",5,null,"klauzule środowiskowe"]
[null,126,null,"DEK","Przygotowanie i produkcja sześciu animacji o charakterze informacyjno-promocyjnym przeznaczonych do emisji w Internecie ",null,"Usługi",null,null,null,49200,11524.137446419787,null,60516,"Poniżej 30 000 EUR","Środki UE",null,2,null,"poza ustawą\nart. 4 pkt 8\nklauzule środowiskowe\n"]
[null,127,null,"DEK","Opracowanie  Systemu Identyfikacji Wizualnej Ministerstwa Klimatu, w tym logo i Księgi Znaków",null,"Usługi",null,null,null,36000,8432.2956925022827,null,44280,"Poniżej 30 000 EUR","Środki budżetowe",null,3,null,"poza ustawą\nart. 4 pkt 8\nklauzule środowiskowe\n"]
[null,15,null,"DEK","Kampania pn. \"Polskie dokonania w zakresie zielonego zwrotu\"",null,"Usługi","79.34.14.00-0",null,null,406504.06504065043,95215.624350748461,null,500000,"Poniżej progu unijnego","Rezerwa celowa","Przetarg nieograniczony",6,null,"klauzule środowiskowe"]
[null,129,null,"DEK","Przygotowanie do druku, druk oraz dostarczenie do siedziby Zamawiającego ścianki\ntekstylnej oraz dwóch roll-upów.",null,"Usługi",null,null,null,2190,512.96465462722222,null,2693.7,"Poniżej 30 000 EUR","Środki budżetowe",null,3,null,"poza ustawą\nart. 4 pkt 8\nklauzule środowiskowe\n"]
[null,130,null,"DEK","Zamówienie na wykonanie statuetek w ramach Badania Potencjału Miast - Miasto z klimatem  ",null,"Usługi",null,null,null,3252.0325203252032,761.72499480598765,null,4000,"Poniżej 30 000 EUR","Środki budżetowe",null,4,null,"poza ustawą\nart. 4 pkt 8\nklauzule środowiskowe\n"]
[null,131,null,"DEK","Realizacja działań informacyjnych wraz z komunikacją kryzysową dotyczących bezpieczeństwa energetycznego Polski w sytuacji kryzysowej, jaką jest pandemia koronawirusa",null,"Usługi",null,null,null,18250,4274.7054552268519,null,22447.5,"Poniżej 30 000 EUR","Środki budżetowe",null,4,null,"poza ustawą \nart. 4 pkt 8, w oparciu o przesłanki z art. 67 ust. 1 pkt 3)\nklauzule środowiskowe "]
[null,132,null,"DEK","Badanie świadomości edukacyjnej mieszkańców Polski",null,"Usługi",null,null,null,40650.406504065038,9521.5624350748458,null,50000,"Poniżej 30 000 EUR","Środki z NFOSiGW",null,4,null,"poza ustawą \nart. 4 pkt 8 \nklauzule środowiskowe \n(postępowanie realizowane wspólnie z DZM)"]
[null,16,null,"DFE","Zamówienie na ekspertów do oceny odwołań w ramach procedury naborowej Programu Środowisko, Energia i Zmiany Klimatu",null,"Usługi",null,null,null,257804.88,{"$f":"IF(K138=\"\",\"\",K138/$E$2)","v":60385.749420279666},null,317100,"Poniżej progu unijnego","Inne","Przetarg nieograniczony",8,null,"zamówienie będzie realizowane w okresie 2020-2021; finansowanie z kosztów zarządzania MF EOG. Zostaną zastosowane klauzule środowiskowe."]
[null,134,null,"DFE","Szkolenie dla pracowników departamentu",null,"Usługi",null,null,null,6000,1405.3826154170472,null,6000,"Poniżej 30 000 EUR","Inne",null,8,null,"poza ustawą\nart. 4 pkt 8\nzamówienie będzie finansowane ze środków PT POIiŚ oraz kosztów zarządzania MF EOG; \nKlauzule środowiskowe (zielone zamówienia) zostaną zastosowane"]
[null,135,null,"DFE","Przygotowanie prognozy oddziaływania na środowisko Programu Środowisko, Energia  i Zmiany Klimatu",null,"Usługi",null,null,null,24390.23,5712.9342046705542,null,30000,"Poniżej 30 000 EUR","Inne",null,7,null,"poza ustawą\nart. 4 pkt 8\nzamówienie będzie finansowanie z kosztów zarządzania MF EOG; wartość planowanego zamówienia zostanie zaktualizowana po dokonaniu szacowania; Zostaną zastosowane klauzule środowiskowe."]
[null,136,null,"DFE","Wybór trenera na przeprowadzenie szkolenia dla beneficjentów z obsługi systemu informatycznego SL2014.",null,"Usługi","80.50.00.00-9",null,null,40000,9369.2174361136476,null,40000,"Poniżej 30 000 EUR","Środki UE",null,7,null,"poza ustawą\nart. 4 pkt 8\nW przypadku braku poprawy sytuacji epidemicznej IP rozważa możliwość przeprowadzenia ww. szkoleń w formie webinariów"]
[null,137,null,"DFE","Wybór trenera na przeprowadzenie szkolenia dla beneficjentów z końcowego rozliczania projektów, okresu trwałości, wskaźników z osiągniętych efektów, sprawozdawczości.",null,"Usługi","80.50.00.00-9",null,null,45000,10540.369615627855,null,45000,"Poniżej 30 000 EUR","Środki UE",null,7,null,"poza ustawą\nart. 4 pkt 8"]
[null,138,null,"DFE","Wybór trenera na przeprowadzenie szkolenia dla beneficjentów z nowelizacji ustawy prawo zamówień publicznych.",null,"Usługi","80.50.00.00-9",null,null,40000,9369.2174361136476,null,40000,"Poniżej 30 000 EUR","Środki UE",null,4,null,"poza ustawą\nart. 4 pkt 8"]
[null,139,null,"DFE","Produkcja oraz emisja 3-5 audycji radiowych poświęconych efektom realizacji Programu Operacyjnego Infrastruktura i Środowisko 2014-2020 – sektor energetyka.",null,"Usługi","92.21.00.00-6",null,null,28455.279999999999,6665.0926381373984,null,35000,"Poniżej 30 000 EUR","Środki UE",null,7,null,"poza ustawą\nart. 4 pkt 8"]
[null,140,null,"DFE","Działania prezentujące efekty realizacji PO IiŚ w Internecie wraz z opracowaniem strategii, linii kreatywnej i materiałów reklamowych",null,"Usługi","39.29.41.00-0",null,null,101626.01626016261,23803.906087687115,null,125000,"Poniżej 30 000 EUR","Środki UE",null,5,null,"klauzule społeczne"]
[null,141,null,"DFE","Publikacja 3-5 ogłoszeń w prasie branżowej o zasięgu ogólnokrajowym nt. efektów realizacji POIiŚ 2014 – 2020 sektor energetyka.",null,"Usługi","39.29.41.00-0",null,null,40650.406504065038,9521.5624350748458,null,50000,"Poniżej 30 000 EUR","Środki UE",null,6,null,"klauzule społeczne"]
[null,142,null,"DFE","Reportaże telewizyjne - efekty realizacji PO IiŚ",null,"Usługi","92.22.00.00-9",null,null,60975.609756097561,14282.343652612268,null,75000,"Poniżej 30 000 EUR","Środki UE",null,6,null,"klauzule społeczne"]
[null,17,null,"DFE","Materiały promocyjne i materiały dydaktyczne na wydarzenia typu Dni Otwarte Funduszy Europejskich (20 tys.), Targi (75 tys.).",null,"Usługi","39.29.41.00-0\n79.34.22.00-5",null,null,77235.772357723574,18090.968626642207,null,95000,"Poniżej 30 000 EUR","Środki UE","Przetarg nieograniczony",7,null,"Łącznie materiały promocyjne zgodnie z RPD (w PZP poz. 9 i 16) to 120 000,00 (20 tys. DOFE, 75 tys. targi, 25 tys. Kalendarze i kartki okolicznościowe) – ewentualne zmniejszenie w przypadku rezygnacji/ ograniczeniu udziału w Targach i DOFE."]
[null,144,null,"DFE","Promocja konferencji w radio i prasie ",null,"Usługi",null,null,null,4065.040650406504,952.15624350748453,null,5000,"Poniżej 30 000 EUR","Środki UE",null,7,null,"poza ustawą\nart. 4 pkt 8\nEwentualnie rezygnacja w zależności od rozwoju sytuacji epidemicznej."]
[null,18,null,"DFE","Udział w dwóch/ trzech wydarzeniach branżowych typu.: Europejski Kongres Gospodarczy w Katowicach, Targi POL-EKO SYSTEM w Poznaniu (oba we wrześniu). Działanie obejmuje wynajem powierzchni wystawienniczej, koszt projektu, montażu i demontażu stoiska wystawienniczego. Udział w wydarzeniach targowych realizowany będzie w ramach jednej umowy.",null,"Usługi","79.95.60.00-0\n39.29.41.00-0\n79.34.22.00-5",null,null,81300.813008130077,19043.124870149692,null,100000,"Poniżej 30 000 EUR","Środki UE","Przetarg nieograniczony",6,null,"Zmniejszenie kwoty ze 150 tys. Ewentualna rezygnacja z postępowania."]
[null,146,null,"DFE","Aktualizacja treści, broszur poświęconych POIiŚ 2014-2020 sektor energetyka, w których znajduje się logo ME.\n*Aktualnie kwota ta nie jest uwzględniona w Rocznym planie działań informacyjnych i promocyjnych. Zostanie do niego zgłoszona przy okazji najbliższej aktualizacji.",null,"Usługi","79.97.00.00-4\n79.81.00.00-5\n22.10.00.00-1\n79.55.20.00-8\n",null,null,2439.0243902439024,571.29374610449076,null,3000,"Poniżej 30 000 EUR","Środki UE",null,4,null,"poza ustawą\nart. 4 pkt 8\nklauzule spoleczne"]
[null,147,null,"DFE","Produkcja filmu promocyjnego PO IiŚ 2014-2020 sektor energetyka.\nFilm dostępny będzie na stronie internetowej ministerstwa, zostanie przesłany do partnerów realizujących projekt doradztwa energetycznego, będzie także  wykorzystywany przy okazji targów, konferencji organizowanych przez IP/IW.\nProdukcja filmu promocyjnego PO IiŚ 2014-2020 sektor energetyka.\n",null,"Usługi","92.11.12.10-7",null,null,60975.609756097561,14282.343652612268,null,75000,"Poniżej 30 000 EUR","Środki UE",null,6,null,"poza ustawą\nart. 4 pkt 8\nklauzule społeczne "]
[null,148,null,"DFE","Usługa bieżącej obsługi graficznej DFE",null,"Usługi","79.82.25.00-7",null,null,25200,5902.6069847515982,null,30996,"Poniżej 30 000 EUR","Środki UE",null,5,null,"rozeznanie rynku było prowadzone w ramach Ministerstwa Energii, ale nie została zawarta umowa. W związku z przejęciem zadań przez MK celowym wydaje się udzielenie nowego zamówienia "]
[null,149,null,"DFE","Zakup kalendarzy na rok 2021 i  kartek okolicznościowych",null,"Dostawy","30.19.97.92-8\n79.82.25.00-7\n79.82.30.00-9",null,null,20325.203252032519,4760.7812175374229,null,25000,{"$f":"IF(OR(L154=0,L154=\"\",G154=\"\"),\"\",IF(L154<=30000,\"Poniżej 30 000 EUR\",IF(AND(OR(G154=\"Dostawy\",G154=\"Usługi\"),L154<=$P$2),\"Poniżej progu unijnego\",IF(AND(G154=\"Roboty budowlane\",L154<=$R$2),\"Poniżej progu unijnego\",\"Powyżej progu unijnego\"))))","v":"Poniżej 30 000 EUR"},"Środki UE",null,8,null,"poza ustawą\nart. 4 pkt 8"]
[null,150,null,"DFE","Zakup roll’up, lady promocyjnej, ścianki wystawienniczej wykorzystywanej podczas konferencji i innych wydarzeń.\n*Aktualnie kwota ta nie jest uwzględniona w Rocznym planie działań informacyjnych i promocyjnych. Zostanie do niego zgłoszona przy okazji najbliższej aktualizacji.",null,"Dostawy",null,null,null,4878.0487804878048,1142.5874922089815,null,6000,"Poniżej 30 000 EUR","Środki UE",null,4,null,"poza ustawą\nart. 4 pkt 8"]
[null,151,null,"DFE","Zakup publikacji książkowych",null,"Dostawy",null,null,null,2439.0243902439024,571.29374610449076,null,3000,"Poniżej 30 000 EUR","Środki UE",null,9,null,"poza ustawą\nart. 4 pkt 8"]
[null,152,null,"DFE","Wybór trenera na przeprowadzenie szkolenia z zakresu   oceny oddziaływania na środowisko - praktyczne aspekty dla procesu obsługi wniosków o dofinansowanie/wniosków o płatność (OOŚ) ",null,"Usługi",null,null,null,10000,2342.3043590284119,null,10000,"Poniżej 30 000 EUR","Środki UE",null,9,null,"poza ustawą\nart. 4 pkt 8"]
[null,153,null,"DFE","Wybór trenera na przeprowadzenie szkolenia z zakresu analizy finansowej  ",null,"Usługi",null,null,null,10000,2342.3043590284119,null,10000,"Poniżej 30 000 EUR","Środki UE",null,7,null,"poza ustawą\nart. 4 pkt 8"]
[null,154,null,"DFE","Wybór trenera na przeprowadzenie szkolenia z zakresu efektywności energetycznej budynków (świadectwa energetyczne, audyty, termomodernizacja\nI wykorzystanie OZE) ",null,"Usługi",null,null,null,10000,2342.3043590284119,null,10000,"Poniżej 30 000 EUR","Środki UE",null,9,null,"poza ustawą\nart. 4 pkt 8"]
[null,155,null,"DFE","Wybór trenera na przeprowadzenie szkolenia miękkie dla pracowników IP POIIŚ, sektor energetyka ",null,"Usługi",null,null,null,25000,5855.76089757103,null,25000,"Poniżej 30 000 EUR","Środki UE",null,8,null,"poza ustawą\nart. 4 pkt 8"]
[null,19,null,"DFE","Przeprowadzenie strategicznej oceny oddziaływania na środowisko wraz z prognozą oddziaływania na środowisko dla zaktualizowanego dokumentu „Lista Projektów Strategicznych dla infrastruktury energetycznej w ramach Programu Operacyjnego Infrastruktura i Środowisko 2014-2020”, stanowiącego Project pipeline dla sektora energetyki w ramach POIiŚ 2014-2020",null,"Usługi","90.71.10.00-4",null,null,200000,46846.08718056824,null,246000,"Poniżej progu unijnego","Środki UE","Przetarg nieograniczony",5]
[null,20,null,"DFE","Mapowanie uwarunkowań wsparcia efektywności energetycznej i/lub OZE pod kątem planowanego wsparcia w programie operacyjnym na lata 2021-27.",null,"Usługi","90.71.30.00-8",null,null,162601.62601626015,38086.249740299383,null,200000,"Poniżej progu unijnego","Środki UE","Przetarg nieograniczony",6]
[null,158,null,"DFE","Archiwizacja dokumentacji DFE/MAP",null,"Usługi",null,null,null,40650.406504065038,9521.5624350748458,null,50000,"Poniżej 30 000 EUR","Środki UE",null,4,null,"poza stawą\nart. 4 pkt 8"]
[null,21,null,"DPK","Wykonanie ekspertyzy pn. „Realizacja zadań związanych z wypełnieniem zobowiązań wynikających z Konwencji w sprawie transgranicznego zanieczyszczania powietrza na dalekie odległości wraz z protokołami (Konwencja LRTAP)”",null,"Usługi","90.72.00.00-0",null,null,2191056.91,513212.21511723235,null,2695000,"Powyżej progu unijnego","Środki z NFOSiGW","Zamówienie z wolnej ręki",1,null,"klauzule społeczne i środowiskowe"]
[null,22,null,"DPK","Wykonanie ekspertyzy pn. „Bezpieczne odległości od zabudowań dla przedsięwzięć, których funkcjonowanie wiąże się z ryzykiem powstawania uciążliwości zapachowej”",null,"Usługi","90.72.00.00-0",null,null,162601.63,38086.250673412498,null,200000,"Poniżej progu unijnego","Środki z NFOSiGW","Przetarg nieograniczony",5,null,"Klauzule społeczne i środowiskowe"]
[null,161,null,"DPK","Obsługa ekspercka procesu sprzedaży jednostek AAU w ramach Krajowego systemu zielonych inwestycji",null,"Usługi","79.11.00.00-8",null,null,40650.410000000003,9521.5632539292164,null,50000,"Poniżej 30 000 EUR","Środki z NFOSiGW",null,7,null,"poza ustawą\nart. 4 pkt 8"]
[null,23,null,"DPK","Prowadzenie krajowej platformy aukcyjnej do sprzedaży uprawnień do emisji gazów cieplarnianych",null,"Usługi","79.34.24.00-7, 79.34.24.10-4, 90.73.12.10-5",null,null,3492477,818044.41009064717,null,4295746.71,"Powyżej progu unijnego","Inne","Przetarg nieograniczony",7,null,"Podana wartość stanowi szacowane łączne dochody operatora platformy aukcyjnej, na bazie prowizji,  które będą pobierane od uczestników aukcji. Wykonawca otrzymywać będzie wynagrodzenie zależne od ilości sprzedanych uprawnień. Zamówienie nie generuje kosztów dla budżetu Państwa."]
[null,24,null,"Departament Ropy i Gazu","Specjalistyczne badania statystyczne w zakresie paliw i energii",null,"Usługi","79.33.00.00-6",null,null,851219.51,199381.51687630289,null,1046999.9973,"Powyżej progu unijnego","Środki budżetowe","Zamówienie z wolnej ręki",5]
[null,25,null,"Departament Ropy i Gazu","Badanie statystyczne Paliwa ciekłe i gazowe",null,"Usługi","79.33.00.00-6",null,null,1402439.0243902439,328493.90401008219,null,1725000,"Powyżej progu unijnego","Środki budżetowe","Zamówienie z wolnej ręki",5]
[null,165,null,"DZM","Zakup upominków VIP dla delegacji zagranicznych Ministra Klimatu",null,"Usługi",null,null,null,8130,1904.2934438900988,null,10000,"Poniżej 30 000 EUR","Środki budżetowe",null,5,null,"poza ustawą\nart. 4 pkt 8\nklauzule środowiskowe"]
[null,166,null,"DZM","Usługa wykonania jednotematycznych badań świadomości i zachowań ekologicznych mieszkańców Polski",null,"Usługi",null,null,null,40650,9521.4672194504947,null,50000,"Poniżej 30 000 EUR","Środki budżetowe",null,5,null,"poza ustawą\nart. 4 pkt 8\nklauzule społeczne i środowiskowe"]
[null,167,null,"DZM","Zakup artykułów promocyjnych dla projektu GreenEvo",null,"Usługi",null,null,null,24390,5712.880331670297,null,30000,"Poniżej 30 000 EUR","Rezerwa celowa",null,4,null,"poza ustawą\nart. 4 pkt 8, w oparciu o art. 6a\n klauzule środowiskowe"]
[null,168,null,"DZM","Usługi szkoleniowe do VIII edycji GreenEvo",null,"Usługi",null,null,null,32520,7617.1737755603954,null,40000,"Poniżej 30 000 EUR","Rezerwa celowa",null,3,null,"poza ustawą\nart. 4 pkt 8\nklauzule społeczne i środowiskowe"]
[null,169,null,"DZM","Usługa opracowania graficznego, składu, łamania oraz przygotowania do druku wersji angielskiej „Polityki ekologicznej państwa 2030 – strategii rozwoju w obszarze środowiska i gospodarki wodnej”",null,"Usługi",null,null,null,3000,702.6913077085236,null,3690,"Poniżej 30 000 EUR","Rezerwa celowa",null,1,null,"poza ustawą\nart. 4 pkt 8\nklauzule środowiskowe"]
[null,170,null,"DZM","Organizacja zagranicznej wizyty studyjnej na temat budownictwa drewnianego (koordynacja i organizacja, eksperci) ",null,"Usługi",null,null,null,32520,7617.1737755603954,null,40000,"Poniżej 30 000 EUR","Rezerwa celowa",null,5,null,"poza ustawą\nart. 4 pkt 8\nklauzule środowiskowe"]
[null,171,null,"DZM","Udział ekspertów podczas warsztatów dla studentów na temat budownictwa drewnianego.",null,"Usługi",null,null,null,8130,1904.2934438900988,null,10000,"Poniżej 30 000 EUR","Rezerwa celowa",null,7,null,"poza ustawą\nart. 4 pkt 8\nklauzule środowiskowe"]
[null,172,null,"DZŚ","Zorganizowanie i przeprowadzenie 8 warsztatów z udostępniania informacji o środowisku - usługa trenerska",null,"Usługi",null,null,null,50000,11711.52179514206,null,50000,"Poniżej 30 000 EUR","Środki z NFOSiGW",null,5,null,"poza ustawą\nart. 4 pkt 8, \nklauzule środowiskowe"]
[null,173,null,"DZŚ","Zorganizowanie i przeprowadzenie szkolenia na temat uregulowań międzynarodowych w zakresie dostępu społeczeństwa do sprawiedliwości w sprawach środowiskowych",null,"Usługi",null,null,null,5000,1171.152179514206,null,5000,"Poniżej 30 000 EUR","Środki budżetowe",null,6,null,"poza ustawą\nart. 4 pkt 8,\n klauzule środowiskowe"]
[null,174,null,"DZŚ","Zorganizowanie i przeprowadzenie 4 bloków szkoleniowych dla pracowników organów administracji w rozumieniu ustawy IIP wdrażających Dyrektywę INSPIRE w tematach środowiskowych",null,"Usługi",null,null,null,109748.17,25706.361698639117,null,109748.17,"Poniżej 30 000 EUR","Środki z NFOSiGW",null,5,null,"poza ustawą\nart. 4 pkt 8,\n klauzule środowiskowe i klauzule społeczne"]
[null,175,null,"DZŚ","Zapewnienie wsparcia eksperckiego dla jednostek wdrażających Dyrektywę INSPIRE w tematach środowiskowych",null,"Usługi",null,null,null,73170.73,17138.811983229098,null,90000,"Poniżej 30 000 EUR","Środki z NFOSiGW",null,5,null,"poza ustawą\nart. 4 pkt 8, \nklauzule środowiskowe i klauzule społeczne"]
[null,176,null,"DZŚ","Przygotowanie wytycznych dla urzędników dotyczących zamieszczania informacji o dokumentach dotyczących środowiska w publicznie dostępnym wykazie danych",null,"Usługi",null,null,null,20325.2,4760.780455812428,null,25000,"Poniżej 30 000 EUR","Środki budżetowe",null,5,null,"poza ustawą\nart.4 pkt 8\n klauzule środowiskowe i klauzule społeczne"]
[null,177,null,"DZŚ","Opracowanie wskaźników dla emisji do powietrza z wybranych branż przemysłowych, dostosowanych do konkluzji BAT",null,"Usługi",null,null,null,97560.98,22851.750872508372,null,120000,"Poniżej 30 000 EUR","Środki z NFOSiGW",null,6,null,"poza ustawą\nart.4 pkt 8, \nklauzule środowiskowe"]
[null,178,null,"DZŚ","Przeprowadzenie testów działania geoportalu Ministerstwa Klimatu pod kątem wydajnościowym oraz wypełnienia wymagań wynikających z Dyrektywy INSPIRE",null,"Usługi",null,null,null,3750,878.36413463565452,null,4612.5,"Poniżej 30 000 EUR","Środki budżetowe",null,4,null,"poza ustawą\nart.4 pkt 8, \nklauzule środowiskowe"]
[null,179,null,null," ",null,null,null,null,null,null,"",null,null,""]
[null,180,null,null,null,null,null,null,null,null,null,"",null,null,""]
[null,179,null,null,null,null,null,null,null,null,null,"",null,null,""]
[null,180,null,null,null,null,null,null,null,null,null,"",null,null,""]
[null,182,null,null,null,null,null,null,null,null,null,"",null,null,""]
[null,183,null,null,null,null,null,null,null,null,null,"",null,null,""]
[null,184,null,null,null,null,null,null,null,null,null,"",null,null,""]
[null,185,null,null,null,null,null,null,null,null,null,"",null,null,""]
[null,186,null,null,null,null,null,null,null,null,null,"",null,null,""]
[null,187,null,null,null,null,null,null,null,null,null,"",null,null,""]
[null,188,null,null,null,null,null,null,null,null,null,"",null,null,""]
[null,189,null,null,null,null,null,null,null,null,null,"",null,null,""]
[null,190,null,null,null,null,null,null,null,null,null,"",null,null,""]
[null,191,null,null,null,null,null,null,null,null,null,"",null,null,""]
[null,192,null,null,null,null,null,null,null,null,null,"",null,null,""]
[null,193,null,null,null,null,null,null,null,null,null,"",null,null,""]
[null,194,null,null,null,null,null,null,null,null,null,"",null,null,""]
[null,195,null,null,null,null,null,null,null,null,null,{"$f":"IF(K201=\"\",\"\",K201/$E$2)","v":""},null,null,""]
[null,196,null,null,null,null,null,null,null,null,null,"",null,null,""]
[null,197,null,null,null,null,null,null,null,null,null,"",null,null,""]
[null,198,null,null,null,null,null,null,null,null,null,"",null,null,""]
[null,199,null,null,null,null,null,null,null,null,null,"",null,null,""]
[null,200,null,null,null,null,null,null,null,null,null,"",null,null,""]
[null,201,null,null,null,null,null,null,null,null,null,"",null,null,""]
[null,202,null,null,null,null,null,null,null,null,null,"",null,null,""]
[null,203,null,null,null,null,null,null,null,null,null,"",null,null,""]
[null,204,null,null,null,null,null,null,null,null,null,"",null,null,""]
[null,205,null,null,null,null,null,null,null,null,null,"",null,null,""]
[null,206,null,null,null,null,null,null,null,null,null,"",null,null,""]
[null,207,null,null,null,null,null,null,null,null,null,"",null,null,""]
[null,208,null,null,null,null,null,null,null,null,null,"",null,null,""]
[null,209,null,null,null,null,null,null,null,null,null,"",null,null,""]
[null,210,null,null,null,null,null,null,null,null,null,"",null,null,""]
[null,211,null,null,null,null,null,null,null,null,null,"",null,null,""]
[null,212,null,null,null,null,null,null,null,null,null,"",null,null,{"$f":"IF(OR(L218=0,L218=\"\",G218=\"\"),\"\",IF(L218<=30000,\"Poniżej 30 000 EUR\",IF(AND(OR(G218=\"Dostawy\",G218=\"Usługi\"),L218<=$P$2),\"Poniżej progu unijnego\",IF(AND(G218=\"Roboty budowlane\",L218<=$R$2),\"Poniżej progu unijnego\",\"Powyżej progu unijnego\"))))","v":""}]
[null,213,null,null,null,null,null,null,null,null,null,"",null,null,{"$f":"IF(OR(L219=0,L219=\"\",G219=\"\"),\"\",IF(L219<=14000,\"Poniżej 14 000 EUR\",IF(AND(OR(G219=\"Dostawy\",G219=\"Usługi\"),L219<=$P$2),\"Poniżej progu unijnego\",IF(AND(G219=\"Roboty budowlane\",L219<=$R$2),\"Poniżej progu unijnego\",\"Powyżej progu unijnego\"))))","v":""}]
[null,214,null,null,null,null,null,null,null,null,null,"",null,null,""]
[null,215,null,null,null,null,null,null,null,null,null,"",null,null,""]
[null,216,null,null,null,null,null,null,null,null,null,"",null,null,""]
[null,217,null,null,null,null,null,null,null,null,null,"",null,null,""]
[null,218,null,null,null,null,null,null,null,null,null,"",null,null,""]
[null,219,null,null,null,null,null,null,null,null,null,"",null,null,""]
[null,220,null,null,null,null,null,null,null,null,null,"",null,null,""]
[null,221,null,null,null,null,null,null,null,null,null,"",null,null,""]
[null,222,null,null,null,null,null,null,null,null,null,"",null,null,""]
[null,223,null,null,null,null,null,null,null,null,null,"",null,null,""]
[null,224,null,null,null,null,null,null,null,null,null,"",null,null,""]
[null,225,null,null,null,null,null,null,null,null,null,"",null,null,""]
[null,226,null,null,null,null,null,null,null,null,null,"",null,null,""]
[null,227,null,null,null,null,null,null,null,null,null,"",null,null,""]
[null,228,null,null,null,null,null,null,null,null,null,"",null,null,""]
[null,229,null,null,null,null,null,null,null,null,null,"",null,null,""]
[null,230,null,null,null,null,null,null,null,null,null,"",null,null,""]
[null,231,null,null,null,null,null,null,null,null,null,"",null,null,""]
[null,232,null,null,null,null,null,null,null,null,null,"",null,null,""]
[null,233,null,null,null,null,null,null,null,null,null,"",null,null,""]
[null,234,null,null,null,null,null,null,null,null,null,"",null,null,""]
[null,235,null,null,null,null,null,null,null,null,null,"",null,null,""]
[null,236,null,null,null,null,null,null,null,null,null,"",null,null,""]
[null,237,null,null,null,null,null,null,null,null,null,"",null,null,""]
[null,238,null,null,null,null,null,null,null,null,null,"",null,null,""]
[null,239,null,null,null,null,null,null,null,null,null,"",null,null,""]
[null,240,null,null,null,null,null,null,null,null,null,"",null,null,""]
[null,241,null,null,null,null,null,null,null,null,null,"",null,null,""]
[null,242,null,null,null,null,null,null,null,null,null,"",null,null,""]
[null,243,null,null,null,null,null,null,null,null,null,"",null,null,""]
[null,244,null,null,null,null,null,null,null,null,null,"",null,null,""]
[null,245,null,null,null,null,null,null,null,null,null,"",null,null,""]
[null,246,null,null,null,null,null,null,null,null,null,"",null,null,""]
[null,247,null,null,null,null,null,null,null,null,null,"",null,null,""]
[null,248,null,null,null,null,null,null,null,null,null,"",null,null,""]
[null,249,null,null,null,null,null,null,null,null,null,"",null,null,""]
[null,250,null,null,null,null,null,null,null,null,null,"",null,null,""]
[null,251,null,null,null,null,null,null,null,null,null,"",null,null,""]
[null,252,null,null,null,null,null,null,null,null,null,"",null,null,""]
[null,253,null,null,null,null,null,null,null,null,null,"",null,null,""]
[null,254,null,null,null,null,null,null,null,null,null,"",null,null,""]
[null,255,null,null,null,null,null,null,null,null,null,"",null,null,""]
[null,256,null,null,null,null,null,null,null,null,null,"",null,null,""]
[null,257,null,null,null,null,null,null,null,null,null,"",null,null,""]
[null,258,null,null,null,null,null,null,null,null,null,"",null,null,""]
[null,259,null,null,null,null,null,null,null,null,null,{"$f":"IF(K265=\"\",\"\",K265/$E$2)","v":""},null,null,{"$f":"IF(OR(L265=0,L265=\"\",G265=\"\"),\"\",IF(L265<=14000,\"Poniżej 14 000 EUR\",IF(AND(OR(G265=\"Dostawy\",G265=\"Usługi\"),L265<=$P$2),\"Poniżej progu unijnego\",IF(AND(G265=\"Roboty budowlane\",L265<=$R$2),\"Poniżej progu unijnego\",\"Powyżej progu unijnego\"))))","v":""}]
[null,260,null,null,null,null,null,null,null,null,null,"",null,null,""]
[null,261,null,null,null,null,null,null,null,null,null,"",null,null,""]
[null,262,null,null,null,null,null,null,null,null,null,"",null,null,""]
[null,263,null,null,null,null,null,null,null,null,null,"",null,null,""]
[null,264,null,null,null,null,null,null,null,null,null,"",null,null,""]
[null,265,null,null,null,null,null,null,null,null,null,"",null,null,""]
[null,266,null,null,null,null,null,null,null,null,null,"",null,null,""]
[null,267,null,null,null,null,null,null,null,null,null,"",null,null,""]
[null,268,null,null,null,null,null,null,null,null,null,"",null,null,""]
[null,269,null,null,null,null,null,null,null,null,null,"",null,null,""]
[null,270,null,null,null,null,null,null,null,null,null,"",null,null,""]
[null,271,null,null,null,null,null,null,null,null,null,"",null,null,""]
[null,272,null,null,null,null,null,null,null,null,null,"",null,null,""]
[null,273,null,null,null,null,null,null,null,null,null,"",null,null,""]
[null,274,null,null,null,null,null,null,null,null,null,"",null,null,""]
[null,275,null,null,null,null,null,null,null,null,null,"",null,null,""]
[null,276,null,null,null,null,null,null,null,null,null,"",null,null,""]
[null,277,null,null,null,null,null,null,null,null,null,"",null,null,""]
[null,278,null,null,null,null,null,null,null,null,null,"",null,null,""]
[null,279,null,null,null,null,null,null,null,null,null,"",null,null,""]
[null,280,null,null,null,null,null,null,null,null,null,"",null,null,""]
[null,281,null,null,null,null,null,null,null,null,null,"",null,null,""]
[null,282,null,null,null,null,null,null,null,null,null,"",null,null,""]
[null,283,null,null,null,null,null,null,null,null,null,"",null,null,""]
[null,284,null,null,null,null,null,null,null,null,null,"",null,null,""]
[null,285,null,null,null,null,null,null,null,null,null,"",null,null,""]
[null,286,null,null,null,null,null,null,null,null,null,"",null,null,""]
[null,287,null,null,null,null,null,null,null,null,null,"",null,null,""]
[null,288,null,null,null,null,null,null,null,null,null,"",null,null,""]
[null,289,null,null,null,null,null,null,null,null,null,"",null,null,""]
[null,290,null,null,null,null,null,null,null,null,null,"",null,null,""]
[null,291,null,null,null,null,null,null,null,null,null,"",null,null,""]
[null,292,null,null,null,null,null,null,null,null,null,"",null,null,""]
[null,293,null,null,null,null,null,null,null,null,null,"",null,null,""]
[null,294,null,null,null,null,null,null,null,null,null,"",null,null,""]
[null,295,null,null,null,null,null,null,null,null,null,"",null,null,""]
[null,296,null,null,null,null,null,null,null,null,null,"",null,null,""]
[null,297,null,null,null,null,null,null,null,null,null,"",null,null,""]
[null,298,null,null,null,null,null,null,null,null,null,"",null,null,""]
[null,299,null,null,null,null,null,null,null,null,null,"",null,null,""]
[null,300,null,null,null,null,null,null,null,null,null,"",null,null,""]
[null,301,null,null,null,null,null,null,null,null,null,"",null,null,""]
[null,302,null,null,null,null,null,null,null,null,null,"",null,null,""]
[null,303,null,null,null,null,null,null,null,null,null,"",null,null,""]
[null,304,null,null,null,null,null,null,null,null,null,"",null,null,""]
[null,305,null,null,null,null,null,null,null,null,null,"",null,null,""]
[null,306,null,null,null,null,null,null,null,null,null,"",null,null,""]
[null,307,null,null,null,null,null,null,null,null,null,"",null,null,""]
[null,308,null,null,null,null,null,null,null,null,null,"",null,null,""]
[null,309,null,null,null,null,null,null,null,null,null,"",null,null,""]
[null,310,null,null,null,null,null,null,null,null,null,"",null,null,""]
[null,311,null,null,null,null,null,null,null,null,null,"",null,null,""]
[null,312,null,null,null,null,null,null,null,null,null,"",null,null,""]
[null,313,null,null,null,null,null,null,null,null,null,"",null,null,""]
[null,314,null,null,null,null,null,null,null,null,null,"",null,null,""]
[null,315,null,null,null,null,null,null,null,null,null,"",null,null,""]
[null,316,null,null,null,null,null,null,null,null,null,"",null,null,""]
[null,317,null,null,null,null,null,null,null,null,null,"",null,null,""]
[null,318,null,null,null,null,null,null,null,null,null,"",null,null,""]
[null,319,null,null,null,null,null,null,null,null,null,"",null,null,""]
[null,320,null,null,null,null,null,null,null,null,null,"",null,null,""]
[null,321,null,null,null,null,null,null,null,null,null,"",null,null,""]
[null,322,null,null,null,null,null,null,null,null,null,"",null,null,""]
[null,323,null,null,null,null,null,null,null,null,null,{"$f":"IF(K329=\"\",\"\",K329/$E$2)","v":""},null,null,{"$f":"IF(OR(L329=0,L329=\"\",G329=\"\"),\"\",IF(L329<=14000,\"Poniżej 14 000 EUR\",IF(AND(OR(G329=\"Dostawy\",G329=\"Usługi\"),L329<=$P$2),\"Poniżej progu unijnego\",IF(AND(G329=\"Roboty budowlane\",L329<=$R$2),\"Poniżej progu unijnego\",\"Powyżej progu unijnego\"))))","v":""}]
[null,324,null,null,null,null,null,null,null,null,null,"",null,null,""]
[null,325,null,null,null,null,null,null,null,null,null,"",null,null,""]
[null,326,null,null,null,null,null,null,null,null,null,"",null,null,""]
[null,327,null,null,null,null,null,null,null,null,null,"",null,null,""]
[null,328,null,null,null,null,null,null,null,null,null,"",null,null,""]
[null,329,null,null,null,null,null,null,null,null,null,"",null,null,""]
[null,330,null,null,null,null,null,null,null,null,null,"",null,null,""]
[null,331,null,null,null,null,null,null,null,null,null,"",null,null,""]
[null,332,null,null,null,null,null,null,null,null,null,"",null,null,""]
[null,333,null,null,null,null,null,null,null,null,null,"",null,null,""]
[null,334,null,null,null,null,null,null,null,null,null,"",null,null,""]
[null,335,null,null,null,null,null,null,null,null,null,"",null,null,""]
[null,336,null,null,null,null,null,null,null,null,null,"",null,null,""]
[null,337,null,null,null,null,null,null,null,null,null,"",null,null,""]
[null,338,null,null,null,null,null,null,null,null,null,"",null,null,""]
[null,339,null,null,null,null,null,null,null,null,null,"",null,null,""]
[null,340,null,null,null,null,null,null,null,null,null,"",null,null,""]
[null,341,null,null,null,null,null,null,null,null,null,"",null,null,""]
[null,342,null,null,null,null,null,null,null,null,null,"",null,null,""]
[null,343,null,null,null,null,null,null,null,null,null,"",null,null,""]
[null,344,null,null,null,null,null,null,null,null,null,"",null,null,""]
[null,345,null,null,null,null,null,null,null,null,null,"",null,null,""]
[null,346,null,null,null,null,null,null,null,null,null,"",null,null,""]
[null,347,null,null,null,null,null,null,null,null,null,"",null,null,""]
[null,348,null,null,null,null,null,null,null,null,null,"",null,null,""]
[null,349,null,null,null,null,null,null,null,null,null,"",null,null,""]
[null,350,null,null,null,null,null,null,null,null,null,"",null,null,""]
[null,351,null,null,null,null,null,null,null,null,null,"",null,null,""]
[null,352,null,null,null,null,null,null,null,null,null,"",null,null,""]
[null,353,null,null,null,null,null,null,null,null,null,"",null,null,""]
[null,354,null,null,null,null,null,null,null,null,null,"",null,null,""]
[null,355,null,null,null,null,null,null,null,null,null,"",null,null,""]
[null,356,null,null,null,null,null,null,null,null,null,"",null,null,""]
[null,357,null,null,null,null,null,null,null,null,null,"",null,null,""]
[null,358,null,null,null,null,null,null,null,null,null,"",null,null,""]
[null,359,null,null,null,null,null,null,null,null,null,"",null,null,""]
[null,360,null,null,null,null,null,null,null,null,null,"",null,null,""]
[null,361,null,null,null,null,null,null,null,null,null,"",null,null,""]
[null,362,null,null,null,null,null,null,null,null,null,"",null,null,""]
[null,363,null,null,null,null,null,null,null,null,null,"",null,null,""]
[null,364,null,null,null,null,null,null,null,null,null,"",null,null,""]
[null,365,null,null,null,null,null,null,null,null,null,"",null,null,""]
[null,366,null,null,null,null,null,null,null,null,null,"",null,null,""]
[null,367,null,null,null,null,null,null,null,null,null,"",null,null,""]
[null,368,null,null,null,null,null,null,null,null,null,"",null,null,""]
[null,369,null,null,null,null,null,null,null,null,null,"",null,null,""]
[null,370,null,null,null,null,null,null,null,null,null,"",null,null,""]
[null,371,null,null,null,null,null,null,null,null,null,"",null,null,""]
[null,372,null,null,null,null,null,null,null,null,null,"",null,null,""]
[null,373,null,null,null,null,null,null,null,null,null,"",null,null,""]
[null,374,null,null,null,null,null,null,null,null,null,"",null,null,""]
[null,375,null,null,null,null,null,null,null,null,null,"",null,null,""]
[null,376,null,null,null,null,null,null,null,null,null,"",null,null,""]
[null,377,null,null,null,null,null,null,null,null,null,"",null,null,""]
[null,378,null,null,null,null,null,null,null,null,null,"",null,null,""]
[null,379,null,null,null,null,null,null,null,null,null,"",null,null,""]
[null,380,null,null,null,null,null,null,null,null,null,"",null,null,""]
[null,381,null,null,null,null,null,null,null,null,null,"",null,null,""]
[null,382,null,null,null,null,null,null,null,null,null,"",null,null,""]
[null,383,null,null,null,null,null,null,null,null,null,"",null,null,""]
[null,384,null,null,null,null,null,null,null,null,null,"",null,null,""]
[null,385,null,null,null,null,null,null,null,null,null,"",null,null,""]
[null,386,null,null,null,null,null,null,null,null,null,"",null,null,""]
[null,387,null,null,null,null,null,null,null,null,null,{"$f":"IF(K393=\"\",\"\",K393/$E$2)","v":""},null,null,{"$f":"IF(OR(L393=0,L393=\"\",G393=\"\"),\"\",IF(L393<=14000,\"Poniżej 14 000 EUR\",IF(AND(OR(G393=\"Dostawy\",G393=\"Usługi\"),L393<=$P$2),\"Poniżej progu unijnego\",IF(AND(G393=\"Roboty budowlane\",L393<=$R$2),\"Poniżej progu unijnego\",\"Powyżej progu unijnego\"))))","v":""}]
[null,388,null,null,null,null,null,null,null,null,null,"",null,null,""]
[null,389,null,null,null,null,null,null,null,null,null,"",null,null,""]
[null,390,null,null,null,null,null,null,null,null,null,"",null,null,""]
[null,391,null,null,null,null,null,null,null,null,null,"",null,null,""]
[null,392,null,null,null,null,null,null,null,null,null,"",null,null,""]
[null,393,null,null,null,null,null,null,null,null,null,"",null,null,""]
[null,394,null,null,null,null,null,null,null,null,null,"",null,null,""]
[null,395,null,null,null,null,null,null,null,null,null,"",null,null,""]
[null,396,null,null,null,null,null,null,null,null,null,"",null,null,""]
[null,397,null,null,null,null,null,null,null,null,null,"",null,null,""]
[null,398,null,null,null,null,null,null,null,null,null,"",null,null,""]
[null,399,null,null,null,null,null,null,null,null,null,"",null,null,""]
[null,400,null,null,null,null,null,null,null,null,null,"",null,null,""]
[null,401,null,null,null,null,null,null,null,null,null,"",null,null,""]
[null,402,null,null,null,null,null,null,null,null,null,"",null,null,""]
[null,403,null,null,null,null,null,null,null,null,null,"",null,null,""]
[null,404,null,null,null,null,null,null,null,null,null,"",null,null,""]
[null,405,null,null,null,null,null,null,null,null,null,"",null,null,""]
[null,406,null,null,null,null,null,null,null,null,null,"",null,null,""]
[null,407,null,null,null,null,null,null,null,null,null,"",null,null,""]
[null,408,null,null,null,null,null,null,null,null,null,"",null,null,""]
[null,409,null,null,null,null,null,null,null,null,null,"",null,null,""]
[null,410,null,null,null,null,null,null,null,null,null,"",null,null,""]
[null,411,null,null,null,null,null,null,null,null,null,"",null,null,""]
[null,412,null,null,null,null,null,null,null,null,null,"",null,null,""]
[null,413,null,null,null,null,null,null,null,null,null,"",null,null,""]
[null,414,null,null,null,null,null,null,null,null,null,"",null,null,""]
[null,415,null,null,null,null,null,null,null,null,null,"",null,null,""]
[null,416,null,null,null,null,null,null,null,null,null,"",null,null,""]
[null,417,null,null,null,null,null,null,null,null,null,"",null,null,""]
[null,418,null,null,null,null,null,null,null,null,null,"",null,null,""]
[null,419,null,null,null,null,null,null,null,null,null,"",null,null,""]
[null,420,null,null,null,null,null,null,null,null,null,"",null,null,""]
[null,421,null,null,null,null,null,null,null,null,null,"",null,null,""]
[null,422,null,null,null,null,null,null,null,null,null,"",null,null,""]
[null,423,null,null,null,null,null,null,null,null,null,"",null,null,""]
[null,424,null,null,null,null,null,null,null,null,null,"",null,null,""]
[null,425,null,null,null,null,null,null,null,null,null,"",null,null,""]
[null,426,null,null,null,null,null,null,null,null,null,"",null,null,""]
[null,427,null,null,null,null,null,null,null,null,null,"",null,null,""]
[null,428,null,null,null,null,null,null,null,null,null,"",null,null,""]
[null,429,null,null,null,null,null,null,null,null,null,"",null,null,""]
[null,430,null,null,null,null,null,null,null,null,null,"",null,null,""]
[null,431,null,null,null,null,null,null,null,null,null,"",null,null,""]
[null,432,null,null,null,null,null,null,null,null,null,"",null,null,""]
[null,433,null,null,null,null,null,null,null,null,null,"",null,null,""]
[null,434,null,null,null,null,null,null,null,null,null,"",null,null,""]
[null,435,null,null,null,null,null,null,null,null,null,"",null,null,""]
[null,436,null,null,null,null,null,null,null,null,null,"",null,null,""]
[null,437,null,null,null,null,null,null,null,null,null,"",null,null,""]
[null,438,null,null,null,null,null,null,null,null,null,"",null,null,""]
[null,439,null,null,null,null,null,null,null,null,null,"",null,null,""]
[null,440,null,null,null,null,null,null,null,null,null,"",null,null,""]
[null,441,null,null,null,null,null,null,null,null,null,"",null,null,""]
[null,442,null,null,null,null,null,null,null,null,null,"",null,null,""]
[null,443,null,null,null,null,null,null,null,null,null,"",null,null,""]
[null,444,null,null,null,null,null,null,null,null,null,"",null,null,""]
[null,445,null,null,null,null,null,null,null,null,null,"",null,null,""]
[null,446,null,null,null,null,null,null,null,null,null,"",null,null,""]
[null,447,null,null,null,null,null,null,null,null,null,"",null,null,""]
[null,448,null,null,null,null,null,null,null,null,null,"",null,null,""]
[null,449,null,null,null,null,null,null,null,null,null,"",null,null,""]
[null,450,null,null,null,null,null,null,null,null,null,"",null,null,""]
[null,451,null,null,null,null,null,null,null,null,null,{"$f":"IF(K457=\"\",\"\",K457/$E$2)","v":""},null,null,{"$f":"IF(OR(L457=0,L457=\"\",G457=\"\"),\"\",IF(L457<=14000,\"Poniżej 14 000 EUR\",IF(AND(OR(G457=\"Dostawy\",G457=\"Usługi\"),L457<=$P$2),\"Poniżej progu unijnego\",IF(AND(G457=\"Roboty budowlane\",L457<=$R$2),\"Poniżej progu unijnego\",\"Powyżej progu unijnego\"))))","v":""}]
[null,452,null,null,null,null,null,null,null,null,null,"",null,null,""]
[null,453,null,null,null,null,null,null,null,null,null,"",null,null,""]
[null,454,null,null,null,null,null,null,null,null,null,"",null,null,""]
[null,455,null,null,null,null,null,null,null,null,null,"",null,null,""]
[null,456,null,null,null,null,null,null,null,null,null,"",null,null,""]
[null,457,null,null,null,null,null,null,null,null,null,"",null,null,""]
[null,458,null,null,null,null,null,{"$f":"IF(F464=\"\",\"\",IF(AND(F464=\"Dostawy\",G464<>\"\"),LEFT(G464,2)&MID(G464,4,1),\"\"))","v":""},null,null,{"$f":"IF(J464=\"\",\"\",J464/$E$2)","v":""},"",null,null,""]
[null,459,null,null,null,null,null,"",null,null,"","",null,null,""]
[null,462,null,null,null,null,null,{"$f":"IF(F466=\"\",\"\",IF(AND(F466=\"Dostawy\",G466<>\"\"),LEFT(G466,2)&MID(G466,4,1),\"\"))","v":""},null,null,{"$f":"IF(J466=\"\",\"\",J466/$E$2)","v":""},"",null,null,""]
[null,463,null,null,null,null,null,"",null,null,"","",null,null,""]
[null,464,null,null,null,null,null,"",null,null,"","",null,null,""]
[null,465,null,null,null,null,null,"",null,null,"","",null,null,""]
[null,466,null,null,null,null,null,"",null,null,"","",null,null,""]
[null,467,null,null,null,null,null,"",null,null,"","",null,null,""]
[null,468,null,null,null,null,null,"",null,null,"","",null,null,""]
[null,469,null,null,null,null,null,"",null,null,"","",null,null,""]
[null,470,null,null,null,null,null,"",null,null,"","",null,null,""]
[null,471,null,null,null,null,null,"",null,null,"","",null,null,""]
[null,472,null,null,null,null,null,"",null,null,"","",null,null,""]
[null,473,null,null,null,null,null,"",null,null,"","",null,null,""]
[null,474,null,null,null,null,null,"",null,null,"","",null,null,""]
[null,475,null,null,null,null,null,"",null,null,"","",null,null,""]
[null,476,null,null,null,null,null,"",null,null,"","",null,null,""]
[null,477,null,null,null,null,null,"",null,null,"","",null,null,""]
[null,478,null,null,null,null,null,"",null,null,"","",null,null,""]
[null,479,null,null,null,null,null,"",null,null,"","",null,null,""]
[null,480,null,null,null,null,null,"",null,null,"","",null,null,""]
[null,481,null,null,null,null,null,"",null,null,"","",null,null,""]
[null,482,null,null,null,null,null,"",null,null,"","",null,null,""]
[null,483,null,null,null,null,null,"",null,null,"","",null,null,""]
[null,484,null,null,null,null,null,"",null,null,"","",null,null,""]
[null,485,null,null,null,null,null,"",null,null,"","",null,null,""]
[null,486,null,null,null,null,null,"",null,null,"","",null,null,""]
[null,487,null,null,null,null,null,"",null,null,"","",null,null,""]
[null,488,null,null,null,null,null,"",null,null,"","",null,null,""]
[null,489,null,null,null,null,null,"",null,null,"","",null,null,""]
[null,490,null,null,null,null,null,"",null,null,"","",null,null,""]
[null,491,null,null,null,null,null,"",null,null,"","",null,null,""]
[null,492,null,null,null,null,null,"",null,null,"","",null,null,""]
[null,493,null,null,null,null,null,"",null,null,"","",null,null,""]
[null,494,null,null,null,null,null,"",null,null,"","",null,null,""]
[null,495,null,null,null,null,null,"",null,null,"","",null,null,""]
[null,496,null,null,null,null,null,"",null,null,"","",null,null,""]
[null,497,null,null,null,null,null,"",null,null,"","",null,null,""]
[null,498,null,null,null,null,null,"",null,null,"","",null,null,""]
[null,499,null,null,null,null,null,"",null,null,"","",null,null,""]
[null,500,null,null,null,null,null,"",null,null,"","",null,null,""]
[null,501,null,null,null,null,null,"",null,null,"","",null,null,""]
[null,502,null,null,null,null,null,"",null,null,"","",null,null,""]
[null,503,null,null,null,null,null,"",null,null,"","",null,null,""]
[null,504,null,null,null,null,null,"",null,null,"","",null,null,""]
[null,505,null,null,null,null,null,"",null,null,"","",null,null,""]
[null,506,null,null,null,null,null,"",null,null,"","",null,null,""]
[null,507,null,null,null,null,null,"",null,null,"","",null,null,""]
[null,508,null,null,null,null,null,"",null,null,"","",null,null,""]
[null,509,null,null,null,null,null,"",null,null,"","",null,null,""]
[null,510,null,null,null,null,null,"",null,null,"","",null,null,""]
[null,511,null,null,null,null,null,"",null,null,"","",null,null,""]
[null,512,null,null,null,null,null,"",null,null,"","",null,null,""]
[null,513,null,null,null,null,null,"",null,null,"","",null,null,""]
[null,514,null,null,null,null,null,"",null,null,"","",null,null,""]
[null,515,null,null,null,null,null,"",null,null,"","",null,null,""]
[null,516,null,null,null,null,null,"",null,null,"","",null,null,""]
[null,517,null,null,null,null,null,"",null,null,"",{"$f":"IF(K521=\"\",\"\",K521/$E$2)","v":""},null,null,{"$f":"IF(OR(L521=0,L521=\"\",G521=\"\"),\"\",IF(L521<=14000,\"Poniżej 14 000 EUR\",IF(AND(OR(G521=\"Dostawy\",G521=\"Usługi\"),L521<=$P$2),\"Poniżej progu unijnego\",IF(AND(G521=\"Roboty budowlane\",L521<=$R$2),\"Poniżej progu unijnego\",\"Powyżej progu unijnego\"))))","v":""}]
[null,518,null,null,null,null,null,"",null,null,"","",null,null,""]
[null,519,null,null,null,null,null,"",null,null,"","",null,null,""]
[null,520,null,null,null,null,null,"",null,null,"","",null,null,""]
[null,521,null,null,null,null,null,"",null,null,"","",null,null,""]
[null,522,null,null,null,null,null,"",null,null,"","",null,null,""]
[null,523,null,null,null,null,null,"",null,null,"","",null,null,""]
[null,524,null,null,null,null,null,"",null,null,"","",null,null,""]
[null,525,null,null,null,null,null,"",null,null,"","",null,null,""]
[null,526,null,null,null,null,null,{"$f":"IF(F530=\"\",\"\",IF(AND(F530=\"Dostawy\",G530<>\"\"),LEFT(G530,2)&MID(G530,4,1),\"\"))","v":""},null,null,{"$f":"IF(J530=\"\",\"\",J530/$E$2)","v":""},"",null,null,""]
[null,527,null,null,null,null,null,"",null,null,"","",null,null,""]
[null,528,null,null,null,null,null,"",null,null,"","",null,null,""]
[null,529,null,null,null,null,null,"",null,null,"","",null,null,""]
[null,530,null,null,null,null,null,"",null,null,"","",null,null,""]
[null,531,null,null,null,null,null,"",null,null,"","",null,null,""]
[null,532,null,null,null,null,null,"",null,null,"","",null,null,""]
[null,533,null,null,null,null,null,"",null,null,"","",null,null,""]
[null,534,null,null,null,null,null,"",null,null,"","",null,null,""]
[null,535,null,null,null,null,null,"",null,null,"","",null,null,""]
[null,536,null,null,null,null,null,"",null,null,"","",null,null,""]
[null,537,null,null,null,null,null,"",null,null,"","",null,null,""]
[null,538,null,null,null,null,null,"",null,null,"","",null,null,""]
[null,539,null,null,null,null,null,"",null,null,"","",null,null,""]
[null,540,null,null,null,null,null,"",null,null,"","",null,null,""]
[null,541,null,null,null,null,null,"",null,null,"","",null,null,""]
[null,542,null,null,null,null,null,"",null,null,"","",null,null,""]
[null,543,null,null,null,null,null,"",null,null,"","",null,null,""]
[null,544,null,null,null,null,null,"",null,null,"","",null,null,""]
[null,545,null,null,null,null,null,"",null,null,"","",null,null,""]
[null,546,null,null,null,null,null,"",null,null,"","",null,null,""]
[null,547,null,null,null,null,null,"",null,null,"","",null,null,""]
[null,548,null,null,null,null,null,"",null,null,"","",null,null,""]
[null,549,null,null,null,null,null,"",null,null,"","",null,null,""]
[null,550,null,null,null,null,null,"",null,null,"","",null,null,""]
[null,551,null,null,null,null,null,"",null,null,"","",null,null,""]
[null,552,null,null,null,null,null,"",null,null,"","",null,null,""]
[null,553,null,null,null,null,null,"",null,null,"","",null,null,""]
[null,543,null,null,null,null,null,"",null,null,"","",null,null,""]
[null,544,null,null,null,null,null,"",null,null,"","",null,null,""]
[null,545,null,null,null,null,null,"",null,null,"","",null,null,""]
[null,546,null,null,null,null,null,"",null,null,"","",null,null,""]
[null,547,null,null,null,null,null,"",null,null,"","",null,null,""]
[null,548,null,null,null,null,null,"",null,null,"","",null,null,""]
[null,549,null,null,null,null,null,"",null,null,"","",null,null,""]
[null,550,null,null,null,null,null,"",null,null,"","",null,null,""]
[null,551,null,null,null,null,null,"",null,null,"","",null,null,""]
[null,552,null,null,null,null,null,"",null,null,"","",null,null,""]
[null,553,null,null,null,null,null,"",null,null,"","",null,null,""]
[null,554,null,null,null,null,null,"",null,null,"","",null,null,""]
[null,555,null,null,null,null,null,"",null,null,"","",null,null,""]
[null,556,null,null,null,null,null,"",null,null,"","",null,null,""]
[null,557,null,null,null,null,null,"",null,null,"","",null,null,""]
[null,556,null,null,null,null,null,"",null,null,"","",null,null,""]
[null,557,null,null,null,null,null,"",null,null,"","",null,null,""]
[null,558,null,null,null,null,null,"",null,null,"","",null,null,""]
[null,559,null,null,null,null,null,"",null,null,"","",null,null,""]
[null,560,null,null,null,null,null,"",null,null,"","",null,null,""]
[null,561,null,null,null,null,null,"",null,null,"","",null,null,""]
[null,562,null,null,null,null,null,"",null,null,"","",null,null,""]
[null,563,null,null,null,null,null,"",null,null,"","",null,null,""]
[null,564,null,null,null,null,null,"",null,null,"","",null,null,""]
[null,565,null,null,null,null,null,"",null,null,"","",null,null,""]
[null,566,null,null,null,null,null,"",null,null,"","",null,null,""]
[null,567,null,null,null,null,null,"",null,null,"","",null,null,""]
[null,568,null,null,null,null,null,"",null,null,"",{"$f":"IF(K585=\"\",\"\",K585/$E$2)","v":""},null,null,{"$f":"IF(OR(L585=0,L585=\"\",G585=\"\"),\"\",IF(L585<=14000,\"Poniżej 14 000 EUR\",IF(AND(OR(G585=\"Dostawy\",G585=\"Usługi\"),L585<=$P$2),\"Poniżej progu unijnego\",IF(AND(G585=\"Roboty budowlane\",L585<=$R$2),\"Poniżej progu unijnego\",\"Powyżej progu unijnego\"))))","v":""}]
[null,569,null,null,null,null,null,"",null,null,"","",null,null,""]
[null,570,null,null,null,null,null,"",null,null,"","",null,null,""]
[null,571,null,null,null,null,null,"",null,null,"","",null,null,""]
[null,572,null,null,null,null,null,"",null,null,"","",null,null,""]
[null,573,null,null,null,null,null,"",null,null,"","",null,null,""]
[null,574,null,null,null,null,null,"",null,null,"","",null,null,""]
[null,575,null,null,null,null,null,"",null,null,"","",null,null,""]
[null,576,null,null,null,null,null,"",null,null,"","",null,null,""]
[null,577,null,null,null,null,null,{"$f":"IF(F594=\"\",\"\",IF(AND(F594=\"Dostawy\",G594<>\"\"),LEFT(G594,2)&MID(G594,4,1),\"\"))","v":""},null,null,{"$f":"IF(J594=\"\",\"\",J594/$E$2)","v":""},"",null,null,""]
[null,578,null,null,null,null,null,"",null,null,"","",null,null,""]
[null,579,null,null,null,null,null,"",null,null,"","",null,null,""]
[null,580,null,null,null,null,null,"",null,null,"","",null,null,""]
[null,581,null,null,null,null,null,"",null,null,"","",null,null,""]
[null,582,null,null,null,null,null,"",null,null,"","",null,null,""]
[null,583,null,null,null,null,null,"",null,null,"","",null,null,""]
[null,584,null,null,null,null,null,"",null,null,"","",null,null,""]
[null,585,null,null,null,null,null,"",null,null,"","",null,null,""]
[null,586,null,null,null,null,null,"",null,null,"","",null,null,""]
[null,587,null,null,null,null,null,"",null,null,"","",null,null,""]
[null,588,null,null,null,null,null,"",null,null,"","",null,null,""]
[null,589,null,null,null,null,null,"",null,null,"","",null,null,""]
[null,590,null,null,null,null,null,"",null,null,"","",null,null,""]
[null,591,null,null,null,null,null,"",null,null,"","",null,null,""]
[null,592,null,null,null,null,null,"",null,null,"","",null,null,""]
[null,593,null,null,null,null,null,"",null,null,"","",null,null,""]
[null,594,null,null,null,null,null,"",null,null,"","",null,null,""]
[null,595,null,null,null,null,null,"",null,null,"","",null,null,""]
[null,596,null,null,null,null,null,"",null,null,"","",null,null,""]
[null,597,null,null,null,null,null,"",null,null,"","",null,null,""]
[null,598,null,null,null,null,null,"",null,null,"","",null,null,""]
[null,599,null,null,null,null,null,"",null,null,"","",null,null,""]
[null,600,null,null,null,null,null,"",null,null,"","",null,null,""]
[null,601,null,null,null,null,null,"",null,null,"","",null,null,""]
[null,602,null,null,null,null,null,"",null,null,"","",null,null,""]
[null,603,null,null,null,null,null,"",null,null,"","",null,null,""]
[null,604,null,null,null,null,null,"",null,null,"","",null,null,""]
[null,605,null,null,null,null,null,"",null,null,"","",null,null,""]
[null,606,null,null,null,null,null,"",null,null,"","",null,null,""]
[null,607,null,null,null,null,null,"",null,null,"","",null,null,""]
[null,608,null,null,null,null,null,"",null,null,"","",null,null,""]
[null,609,null,null,null,null,null,"",null,null,"","",null,null,""]
[null,610,null,null,null,null,null,"",null,null,"","",null,null,""]
[null,611,null,null,null,null,null,"",null,null,"","",null,null,""]
[null,612,null,null,null,null,null,"",null,null,"","",null,null,""]
[null,613,null,null,null,null,null,"",null,null,"","",null,null,""]
[null,614,null,null,null,null,null,"",null,null,"","",null,null,""]
[null,615,null,null,null,null,null,"",null,null,"","",null,null,""]
[null,616,null,null,null,null,null,"",null,null,"","",null,null,""]
[null,617,null,null,null,null,null,"",null,null,"","",null,null,""]
[null,618,null,null,null,null,null,"",null,null,"","",null,null,""]
[null,619,null,null,null,null,null,"",null,null,"","",null,null,""]
[null,620,null,null,null,null,null,"",null,null,"","",null,null,""]
[null,621,null,null,null,null,null,"",null,null,"","",null,null,""]
[null,622,null,null,null,null,null,"",null,null,"","",null,null,""]
[null,623,null,null,null,null,null,"",null,null,"","",null,null,""]
[null,624,null,null,null,null,null,"",null,null,"","",null,null,""]
[null,625,null,null,null,null,null,"",null,null,"","",null,null,""]
[null,626,null,null,null,null,null,"",null,null,"","",null,null,""]
[null,627,null,null,null,null,null,"",null,null,"","",null,null,""]
[null,628,null,null,null,null,null,"",null,null,"","",null,null,""]
[null,629,null,null,null,null,null,"",null,null,"","",null,null,""]
[null,630,null,null,null,null,null,"",null,null,"","",null,null,""]
[null,631,null,null,null,null,null,"",null,null,"","",null,null,""]
[null,632,null,null,null,null,null,"",null,null,"",{"$f":"IF(K649=\"\",\"\",K649/$E$2)","v":""},null,null,{"$f":"IF(OR(L649=0,L649=\"\",G649=\"\"),\"\",IF(L649<=14000,\"Poniżej 14 000 EUR\",IF(AND(OR(G649=\"Dostawy\",G649=\"Usługi\"),L649<=$P$2),\"Poniżej progu unijnego\",IF(AND(G649=\"Roboty budowlane\",L649<=$R$2),\"Poniżej progu unijnego\",\"Powyżej progu unijnego\"))))","v":""}]
[null,633,null,null,null,null,null,"",null,null,"","",null,null,""]
[null,634,null,null,null,null,null,"",null,null,"","",null,null,""]
[null,635,null,null,null,null,null,"",null,null,"","",null,null,""]
[null,636,null,null,null,null,null,"",null,null,"","",null,null,""]
[null,637,null,null,null,null,null,"",null,null,"","",null,null,""]
[null,638,null,null,null,null,null,"",null,null,"","",null,null,""]
[null,639,null,null,null,null,null,"",null,null,"","",null,null,""]
[null,640,null,null,null,null,null,"",null,null,"","",null,null,""]
[null,641,null,null,null,null,null,{"$f":"IF(F658=\"\",\"\",IF(AND(F658=\"Dostawy\",G658<>\"\"),LEFT(G658,2)&MID(G658,4,1),\"\"))","v":""},null,null,{"$f":"IF(J658=\"\",\"\",J658/$E$2)","v":""},"",null,null,""]
[null,642,null,null,null,null,null,"",null,null,"","",null,null,""]
[null,643,null,null,null,null,null,"",null,null,"","",null,null,""]
[null,644,null,null,null,null,null,"",null,null,"","",null,null,""]
[null,645,null,null,null,null,null,"",null,null,"","",null,null,""]
[null,646,null,null,null,null,null,"",null,null,"","",null,null,""]
[null,647,null,null,null,null,null,"",null,null,"","",null,null,""]
[null,648,null,null,null,null,null,"",null,null,"","",null,null,""]
[null,649,null,null,null,null,null,"",null,null,"","",null,null,""]
[null,650,null,null,null,null,null,"",null,null,"","",null,null,""]
[null,651,null,null,null,null,null,"",null,null,"","",null,null,""]
[null,652,null,null,null,null,null,"",null,null,"","",null,null,""]
[null,653,null,null,null,null,null,"",null,null,"","",null,null,""]
[null,654,null,null,null,null,null,"",null,null,"","",null,null,""]
[null,655,null,null,null,null,null,"",null,null,"","",null,null,""]
[null,656,null,null,null,null,null,"",null,null,"","",null,null,""]
[null,657,null,null,null,null,null,"",null,null,"","",null,null,""]
[null,658,null,null,null,null,null,"",null,null,"","",null,null,""]
[null,659,null,null,null,null,null,"",null,null,"","",null,null,""]
[null,660,null,null,null,null,null,"",null,null,"","",null,null,""]
[null,661,null,null,null,null,null,"",null,null,"","",null,null,""]
[null,662,null,null,null,null,null,"",null,null,"","",null,null,""]
[null,663,null,null,null,null,null,"",null,null,"","",null,null,""]
[null,664,null,null,null,null,null,"",null,null,"","",null,null,""]
[null,665,null,null,null,null,null,"",null,null,"","",null,null,""]
[null,666,null,null,null,null,null,"",null,null,"","",null,null,""]
[null,667,null,null,null,null,null,"",null,null,"","",null,null,""]
[null,668,null,null,null,null,null,"",null,null,"","",null,null,""]
[null,669,null,null,null,null,null,"",null,null,"","",null,null,""]
[null,670,null,null,null,null,null,"",null,null,"","",null,null,""]
[null,671,null,null,null,null,null,"",null,null,"","",null,null,""]
[null,672,null,null,null,null,null,"",null,null,"","",null,null,""]
[null,673,null,null,null,null,null,"",null,null,"","",null,null,""]
[null,674,null,null,null,null,null,"",null,null,"","",null,null,""]
[null,675,null,null,null,null,null,"",null,null,"","",null,null,""]
[null,676,null,null,null,null,null,"",null,null,"","",null,null,""]
[null,677,null,null,null,null,null,"",null,null,"","",null,null,""]
[null,678,null,null,null,null,null,"",null,null,"","",null,null,""]
[null,679,null,null,null,null,null,"",null,null,"","",null,null,""]
[null,680,null,null,null,null,null,"",null,null,"","",null,null,""]
[null,681,null,null,null,null,null,"",null,null,"","",null,null,""]
[null,682,null,null,null,null,null,"",null,null,"","",null,null,""]
[null,683,null,null,null,null,null,"",null,null,"","",null,null,""]
[null,684,null,null,null,null,null,"",null,null,"","",null,null,""]
[null,685,null,null,null,null,null,"",null,null,"","",null,null,""]
[null,686,null,null,null,null,null,"",null,null,"","",null,null,""]
[null,687,null,null,null,null,null,"",null,null,"","",null,null,""]
[null,688,null,null,null,null,null,"",null,null,"","",null,null,""]
[null,689,null,null,null,null,null,"",null,null,"","",null,null,""]
[null,690,null,null,null,null,null,"",null,null,"","",null,null,""]
[null,691,null,null,null,null,null,"",null,null,"","",null,null,""]
[null,692,null,null,null,null,null,"",null,null,"","",null,null,""]
[null,693,null,null,null,null,null,"",null,null,"","",null,null,""]
[null,694,null,null,null,null,null,"",null,null,"","",null,null,""]
[null,695,null,null,null,null,null,"",null,null,"","",null,null,""]
[null,696,null,null,null,null,null,"",null,null,"",{"$f":"IF(K713=\"\",\"\",K713/$E$2)","v":""},null,null,{"$f":"IF(OR(L713=0,L713=\"\",G713=\"\"),\"\",IF(L713<=14000,\"Poniżej 14 000 EUR\",IF(AND(OR(G713=\"Dostawy\",G713=\"Usługi\"),L713<=$P$2),\"Poniżej progu unijnego\",IF(AND(G713=\"Roboty budowlane\",L713<=$R$2),\"Poniżej progu unijnego\",\"Powyżej progu unijnego\"))))","v":""}]
[null,697,null,null,null,null,null,"",null,null,"","",null,null,""]
[null,698,null,null,null,null,null,"",null,null,"","",null,null,""]
[null,699,null,null,null,null,null,"",null,null,"","",null,null,""]
[null,700,null,null,null,null,null,"",null,null,"","",null,null,""]
[null,701,null,null,null,null,null,"",null,null,"","",null,null,""]
[null,702,null,null,null,null,null,"",null,null,"","",null,null,""]
[null,703,null,null,null,null,null,"",null,null,"","",null,null,""]
[null,704,null,null,null,null,null,"",null,null,"","",null,null,""]
[null,705,null,null,null,null,null,{"$f":"IF(F722=\"\",\"\",IF(AND(F722=\"Dostawy\",G722<>\"\"),LEFT(G722,2)&MID(G722,4,1),\"\"))","v":""},null,null,{"$f":"IF(J722=\"\",\"\",J722/$E$2)","v":""},"",null,null,""]
[null,706,null,null,null,null,null,"",null,null,"","",null,null,""]
[null,707,null,null,null,null,null,"",null,null,"","",null,null,""]
[null,708,null,null,null,null,null,"",null,null,"","",null,null,""]
[null,709,null,null,null,null,null,"",null,null,"","",null,null,""]
[null,710,null,null,null,null,null,"",null,null,"","",null,null,""]
[null,711,null,null,null,null,null,"",null,null,"","",null,null,""]
[null,712,null,null,null,null,null,"",null,null,"","",null,null,""]
[null,713,null,null,null,null,null,"",null,null,"","",null,null,""]
[null,714,null,null,null,null,null,"",null,null,"","",null,null,""]
[null,715,null,null,null,null,null,"",null,null,"","",null,null,""]
[null,716,null,null,null,null,null,"",null,null,"","",null,null,""]
[null,717,null,null,null,null,null,"",null,null,"","",null,null,""]
[null,718,null,null,null,null,null,"",null,null,"","",null,null,""]
[null,719,null,null,null,null,null,"",null,null,"","",null,null,""]
[null,720,null,null,null,null,null,"",null,null,"","",null,null,""]
[null,721,null,null,null,null,null,"",null,null,"","",null,null,""]
[null,722,null,null,null,null,null,"",null,null,"","",null,null,""]
[null,723,null,null,null,null,null,"",null,null,"","",null,null,""]
[null,724,null,null,null,null,null,"",null,null,"","",null,null,""]
[null,725,null,null,null,null,null,"",null,null,"","",null,null,""]
[null,726,null,null,null,null,null,"",null,null,"","",null,null,""]
[null,727,null,null,null,null,null,"",null,null,"","",null,null,""]
[null,728,null,null,null,null,null,"",null,null,"","",null,null,""]
[null,729,null,null,null,null,null,"",null,null,"","",null,null,""]
[null,730,null,null,null,null,null,"",null,null,"","",null,null,""]
[null,731,null,null,null,null,null,"",null,null,"","",null,null,""]
[null,732,null,null,null,null,null,"",null,null,"","",null,null,""]
[null,733,null,null,null,null,null,"",null,null,"","",null,null,""]
[null,734,null,null,null,null,null,"",null,null,"","",null,null,""]
[null,735,null,null,null,null,null,"",null,null,"","",null,null,""]
[null,736,null,null,null,null,null,"",null,null,"","",null,null,""]
[null,737,null,null,null,null,null,"",null,null,"","",null,null,""]
[null,738,null,null,null,null,null,"",null,null,"","",null,null,""]
[null,739,null,null,null,null,null,"",null,null,"","",null,null,""]
[null,740,null,null,null,null,null,"",null,null,"","",null,null,""]
[null,741,null,null,null,null,null,"",null,null,"","",null,null,""]
[null,742,null,null,null,null,null,"",null,null,"","",null,null,""]
[null,743,null,null,null,null,null,"",null,null,"","",null,null,""]
[null,744,null,null,null,null,null,"",null,null,"","",null,null,""]
[null,745,null,null,null,null,null,"",null,null,"","",null,null,""]
[null,746,null,null,null,null,null,"",null,null,"","",null,null,""]
[null,747,null,null,null,null,null,"",null,null,"","",null,null,""]
[null,748,null,null,null,null,null,"",null,null,"","",null,null,""]
[null,749,null,null,null,null,null,"",null,null,"","",null,null,""]
[null,750,null,null,null,null,null,"",null,null,"","",null,null,""]
[null,751,null,null,null,null,null,"",null,null,"","",null,null,""]
[null,752,null,null,null,null,null,"",null,null,"","",null,null,""]
[null,753,null,null,null,null,null,"",null,null,"","",null,null,""]
[null,754,null,null,null,null,null,"",null,null,"","",null,null,""]
[null,755,null,null,null,null,null,"",null,null,"","",null,null,""]
[null,756,null,null,null,null,null,"",null,null,"","",null,null,""]
[null,757,null,null,null,null,null,"",null,null,"","",null,null,""]
[null,758,null,null,null,null,null,"",null,null,"","",null,null,""]
[null,759,null,null,null,null,null,"",null,null,"","",null,null,""]
[null,760,null,null,null,null,null,"",null,null,"",{"$f":"IF(K777=\"\",\"\",K777/$E$2)","v":""},null,null,{"$f":"IF(OR(L777=0,L777=\"\",G777=\"\"),\"\",IF(L777<=14000,\"Poniżej 14 000 EUR\",IF(AND(OR(G777=\"Dostawy\",G777=\"Usługi\"),L777<=$P$2),\"Poniżej progu unijnego\",IF(AND(G777=\"Roboty budowlane\",L777<=$R$2),\"Poniżej progu unijnego\",\"Powyżej progu unijnego\"))))","v":""}]
[null,761,null,null,null,null,null,"",null,null,"","",null,null,""]
[null,762,null,null,null,null,null,"",null,null,"","",null,null,""]
[null,763,null,null,null,null,null,"",null,null,"","",null,null,""]
[null,764,null,null,null,null,null,"",null,null,"","",null,null,""]
[null,765,null,null,null,null,null,"",null,null,"","",null,null,""]
[null,766,null,null,null,null,null,"",null,null,"","",null,null,""]
[null,767,null,null,null,null,null,"",null,null,"","",null,null,""]
[null,768,null,null,null,null,null,"",null,null,"","",null,null,""]
[null,769,null,null,null,null,null,{"$f":"IF(F786=\"\",\"\",IF(AND(F786=\"Dostawy\",G786<>\"\"),LEFT(G786,2)&MID(G786,4,1),\"\"))","v":""},null,null,{"$f":"IF(J786=\"\",\"\",J786/$E$2)","v":""},"",null,null,""]
[null,770,null,null,null,null,null,"",null,null,"","",null,null,""]
[null,771,null,null,null,null,null,"",null,null,"","",null,null,""]
[null,772,null,null,null,null,null,"",null,null,"","",null,null,""]
[null,773,null,null,null,null,null,"",null,null,"","",null,null,""]
[null,774,null,null,null,null,null,"",null,null,"","",null,null,""]
[null,775,null,null,null,null,null,"",null,null,"","",null,null,""]
[null,776,null,null,null,null,null,"",null,null,"","",null,null,""]
[null,777,null,null,null,null,null,"",null,null,"","",null,null,""]
[null,778,null,null,null,null,null,"",null,null,"","",null,null,""]
[null,779,null,null,null,null,null,"",null,null,"","",null,null,""]
[null,780,null,null,null,null,null,"",null,null,"","",null,null,""]
[null,781,null,null,null,null,null,"",null,null,"","",null,null,""]
[null,782,null,null,null,null,null,"",null,null,"","",null,null,""]
[null,783,null,null,null,null,null,"",null,null,"","",null,null,""]
[null,784,null,null,null,null,null,"",null,null,"","",null,null,""]
[null,785,null,null,null,null,null,"",null,null,"","",null,null,""]
[null,786,null,null,null,null,null,"",null,null,"","",null,null,""]
[null,787,null,null,null,null,null,"",null,null,"","",null,null,""]
[null,788,null,null,null,null,null,"",null,null,"","",null,null,""]
[null,789,null,null,null,null,null,"",null,null,"","",null,null,""]
[null,790,null,null,null,null,null,"",null,null,"","",null,null,""]
[null,791,null,null,null,null,null,"",null,null,"","",null,null,""]
[null,792,null,null,null,null,null,"",null,null,"","",null,null,""]
[null,793,null,null,null,null,null,"",null,null,"","",null,null,""]
[null,794,null,null,null,null,null,"",null,null,"","",null,null,""]
[null,795,null,null,null,null,null,"",null,null,"","",null,null,""]
[null,796,null,null,null,null,null,"",null,null,"","",null,null,""]
[null,797,null,null,null,null,null,"",null,null,"","",null,null,""]
[null,798,null,null,null,null,null,"",null,null,"","",null,null,""]
[null,799,null,null,null,null,null,"",null,null,"","",null,null,""]
[null,800,null,null,null,null,null,"",null,null,"","",null,null,""]
[null,801,null,null,null,null,null,"",null,null,"","",null,null,""]
[null,802,null,null,null,null,null,"",null,null,"","",null,null,""]
[null,803,null,null,null,null,null,"",null,null,"","",null,null,""]
[null,804,null,null,null,null,null,"",null,null,"","",null,null,""]
[null,805,null,null,null,null,null,"",null,null,"","",null,null,""]
[null,806,null,null,null,null,null,"",null,null,"","",null,null,""]
[null,807,null,null,null,null,null,"",null,null,"","",null,null,""]
[null,808,null,null,null,null,null,"",null,null,"","",null,null,""]
[null,809,null,null,null,null,null,"",null,null,"","",null,null,""]
[null,810,null,null,null,null,null,"",null,null,"","",null,null,""]
[null,811,null,null,null,null,null,"",null,null,"","",null,null,""]
[null,812,null,null,null,null,null,"",null,null,"","",null,null,""]
[null,813,null,null,null,null,null,"",null,null,"","",null,null,""]
[null,814,null,null,null,null,null,"",null,null,"","",null,null,""]
[null,815,null,null,null,null,null,"",null,null,"","",null,null,""]
[null,816,null,null,null,null,null,"",null,null,"","",null,null,""]
[null,817,null,null,null,null,null,"",null,null,"","",null,null,""]
[null,818,null,null,null,null,null,"",null,null,"","",null,null,""]
[null,819,null,null,null,null,null,"",null,null,"","",null,null,""]
[null,820,null,null,null,null,null,"",null,null,"","",null,null,""]
[null,821,null,null,null,null,null,"",null,null,"","",null,null,""]
[null,822,null,null,null,null,null,"",null,null,"","",null,null,""]
[null,823,null,null,null,null,null,"",null,null,"","",null,null,""]
[null,824,null,null,null,null,null,"",null,null,"",{"$f":"IF(K841=\"\",\"\",K841/$E$2)","v":""},null,null,{"$f":"IF(OR(L841=0,L841=\"\",G841=\"\"),\"\",IF(L841<=14000,\"Poniżej 14 000 EUR\",IF(AND(OR(G841=\"Dostawy\",G841=\"Usługi\"),L841<=$P$2),\"Poniżej progu unijnego\",IF(AND(G841=\"Roboty budowlane\",L841<=$R$2),\"Poniżej progu unijnego\",\"Powyżej progu unijnego\"))))","v":""}]
[null,825,null,null,null,null,null,"",null,null,"","",null,null,""]
[null,826,null,null,null,null,null,"",null,null,"","",null,null,""]
[null,827,null,null,null,null,null,"",null,null,"","",null,null,""]
[null,828,null,null,null,null,null,"",null,null,"","",null,null,""]
[null,829,null,null,null,null,null,"",null,null,"","",null,null,""]
[null,830,null,null,null,null,null,"",null,null,"","",null,null,""]
[null,831,null,null,null,null,null,"",null,null,"","",null,null,""]
[null,832,null,null,null,null,null,"",null,null,"","",null,null,""]
[null,833,null,null,null,null,null,{"$f":"IF(F850=\"\",\"\",IF(AND(F850=\"Dostawy\",G850<>\"\"),LEFT(G850,2)&MID(G850,4,1),\"\"))","v":""},null,null,{"$f":"IF(J850=\"\",\"\",J850/$E$2)","v":""},"",null,null,""]
[null,834,null,null,null,null,null,"",null,null,"","",null,null,""]
[null,835,null,null,null,null,null,"",null,null,"","",null,null,""]
[null,836,null,null,null,null,null,"",null,null,"","",null,null,""]
[null,837,null,null,null,null,null,"",null,null,"","",null,null,""]
[null,838,null,null,null,null,null,"",null,null,"","",null,null,""]
[null,839,null,null,null,null,null,"",null,null,"","",null,null,""]
[null,840,null,null,null,null,null,"",null,null,"","",null,null,""]
[null,841,null,null,null,null,null,"",null,null,"","",null,null,""]
[null,842,null,null,null,null,null,"",null,null,"","",null,null,""]
[null,843,null,null,null,null,null,"",null,null,"","",null,null,""]
[null,844,null,null,null,null,null,"",null,null,"","",null,null,""]
[null,845,null,null,null,null,null,"",null,null,"","",null,null,""]
[null,846,null,null,null,null,null,"",null,null,"","",null,null,""]
[null,847,null,null,null,null,null,"",null,null,"","",null,null,""]
[null,848,null,null,null,null,null,"",null,null,"","",null,null,""]
[null,849,null,null,null,null,null,"",null,null,"","",null,null,""]
[null,850,null,null,null,null,null,"",null,null,"","",null,null,""]
[null,851,null,null,null,null,null,"",null,null,"","",null,null,""]
[null,852,null,null,null,null,null,"",null,null,"","",null,null,""]
[null,853,null,null,null,null,null,"",null,null,"","",null,null,""]
[null,854,null,null,null,null,null,"",null,null,"","",null,null,""]
[null,855,null,null,null,null,null,"",null,null,"","",null,null,""]
[null,856,null,null,null,null,null,"",null,null,"","",null,null,""]
[null,857,null,null,null,null,null,"",null,null,"","",null,null,""]
[null,858,null,null,null,null,null,"",null,null,"","",null,null,""]
[null,859,null,null,null,null,null,"",null,null,"","",null,null,""]
[null,860,null,null,null,null,null,"",null,null,"","",null,null,""]
[null,861,null,null,null,null,null,"",null,null,"","",null,null,""]
[null,862,null,null,null,null,null,"",null,null,"","",null,null,""]
[null,863,null,null,null,null,null,"",null,null,"","",null,null,""]
[null,864,null,null,null,null,null,"",null,null,"","",null,null,""]
[null,865,null,null,null,null,null,"",null,null,"","",null,null,""]
[null,866,null,null,null,null,null,"",null,null,"","",null,null,""]
[null,867,null,null,null,null,null,"",null,null,"","",null,null,""]
[null,868,null,null,null,null,null,"",null,null,"","",null,null,""]
[null,869,null,null,null,null,null,"",null,null,"","",null,null,""]
[null,870,null,null,null,null,null,"",null,null,"","",null,null,""]
[null,871,null,null,null,null,null,"",null,null,"","",null,null,""]
[null,872,null,null,null,null,null,"",null,null,"","",null,null,""]
[null,873,null,null,null,null,null,"",null,null,"","",null,null,""]
[null,874,null,null,null,null,null,"",null,null,"","",null,null,""]
[null,875,null,null,null,null,null,"",null,null,"","",null,null,""]
[null,876,null,null,null,null,null,"",null,null,"","",null,null,""]
[null,877,null,null,null,null,null,"",null,null,"","",null,null,""]
[null,878,null,null,null,null,null,"",null,null,"","",null,null,""]
[null,879,null,null,null,null,null,"",null,null,"","",null,null,""]
[null,880,null,null,null,null,null,"",null,null,"","",null,null,""]
[null,881,null,null,null,null,null,"",null,null,"","",null,null,""]
[null,882,null,null,null,null,null,"",null,null,"","",null,null,""]
[null,883,null,null,null,null,null,"",null,null,"","",null,null,""]
[null,884,null,null,null,null,null,"",null,null,"","",null,null,""]
[null,885,null,null,null,null,null,"",null,null,"","",null,null,""]
[null,886,null,null,null,null,null,"",null,null,"","",null,null,""]
[null,887,null,null,null,null,null,"",null,null,"","",null,null,""]
[null,888,null,null,null,null,null,"",null,null,"",{"$f":"IF(K905=\"\",\"\",K905/$E$2)","v":""},null,null,{"$f":"IF(OR(L905=0,L905=\"\",G905=\"\"),\"\",IF(L905<=14000,\"Poniżej 14 000 EUR\",IF(AND(OR(G905=\"Dostawy\",G905=\"Usługi\"),L905<=$P$2),\"Poniżej progu unijnego\",IF(AND(G905=\"Roboty budowlane\",L905<=$R$2),\"Poniżej progu unijnego\",\"Powyżej progu unijnego\"))))","v":""}]
[null,889,null,null,null,null,null,"",null,null,"","",null,null,""]
[null,890,null,null,null,null,null,"",null,null,"","",null,null,""]
[null,891,null,null,null,null,null,"",null,null,"","",null,null,""]
[null,892,null,null,null,null,null,"",null,null,"","",null,null,""]
[null,893,null,null,null,null,null,"",null,null,"","",null,null,""]
[null,894,null,null,null,null,null,"",null,null,"","",null,null,""]
[null,895,null,null,null,null,null,"",null,null,"","",null,null,""]
[null,896,null,null,null,null,null,"",null,null,"","",null,null,""]
[null,897,null,null,null,null,null,{"$f":"IF(F914=\"\",\"\",IF(AND(F914=\"Dostawy\",G914<>\"\"),LEFT(G914,2)&MID(G914,4,1),\"\"))","v":""},null,null,{"$f":"IF(J914=\"\",\"\",J914/$E$2)","v":""},"",null,null,""]
[null,898,null,null,null,null,null,"",null,null,"","",null,null,""]
[null,899,null,null,null,null,null,"",null,null,"","",null,null,""]
[null,900,null,null,null,null,null,"",null,null,"","",null,null,""]
[null,901,null,null,null,null,null,"",null,null,"","",null,null,""]
[null,902,null,null,null,null,null,"",null,null,"","",null,null,""]
[null,903,null,null,null,null,null,"",null,null,"","",null,null,""]
[null,904,null,null,null,null,null,"",null,null,"","",null,null,""]
[null,905,null,null,null,null,null,"",null,null,"","",null,null,""]
[null,906,null,null,null,null,null,"",null,null,"","",null,null,""]
[null,907,null,null,null,null,null,"",null,null,"","",null,null,""]
[null,908,null,null,null,null,null,"",null,null,"","",null,null,""]
[null,909,null,null,null,null,null,"",null,null,"","",null,null,""]
[null,910,null,null,null,null,null,"",null,null,"","",null,null,""]
[null,911,null,null,null,null,null,"",null,null,"","",null,null,""]
[null,912,null,null,null,null,null,"",null,null,"","",null,null,""]
[null,913,null,null,null,null,null,"",null,null,"","",null,null,""]
[null,914,null,null,null,null,null,"",null,null,"","",null,null,""]
[null,915,null,null,null,null,null,"",null,null,"","",null,null,""]
[null,916,null,null,null,null,null,"",null,null,"","",null,null,""]
[null,917,null,null,null,null,null,"",null,null,"","",null,null,""]
[null,918,null,null,null,null,null,"",null,null,"","",null,null,""]
[null,919,null,null,null,null,null,"",null,null,"","",null,null,""]
[null,920,null,null,null,null,null,"",null,null,"","",null,null,""]
[null,921,null,null,null,null,null,"",null,null,"","",null,null,""]
[null,922,null,null,null,null,null,"",null,null,"","",null,null,""]
[null,923,null,null,null,null,null,"",null,null,"","",null,null,""]
[null,924,null,null,null,null,null,"",null,null,"","",null,null,""]
[null,925,null,null,null,null,null,"",null,null,"","",null,null,""]
[null,926,null,null,null,null,null,"",null,null,"","",null,null,""]
[null,927,null,null,null,null,null,"",null,null,"","",null,null,""]
[null,928,null,null,null,null,null,"",null,null,"","",null,null,""]
[null,929,null,null,null,null,null,"",null,null,"","",null,null,""]
[null,930,null,null,null,null,null,"",null,null,"","",null,null,""]
[null,931,null,null,null,null,null,"",null,null,"","",null,null,""]
[null,932,null,null,null,null,null,"",null,null,"","",null,null,""]
[null,933,null,null,null,null,null,"",null,null,"","",null,null,""]
[null,934,null,null,null,null,null,"",null,null,"","",null,null,""]
[null,935,null,null,null,null,null,"",null,null,"","",null,null,""]
[null,936,null,null,null,null,null,"",null,null,"","",null,null,""]
[null,937,null,null,null,null,null,"",null,null,"","",null,null,""]
[null,938,null,null,null,null,null,"",null,null,"","",null,null,""]
[null,939,null,null,null,null,null,"",null,null,"","",null,null,""]
[null,940,null,null,null,null,null,"",null,null,"","",null,null,""]
[null,941,null,null,null,null,null,"",null,null,"","",null,null,""]
[null,942,null,null,null,null,null,"",null,null,"","",null,null,""]
[null,943,null,null,null,null,null,"",null,null,"","",null,null,""]
[null,944,null,null,null,null,null,"",null,null,"","",null,null,""]
[null,945,null,null,null,null,null,"",null,null,"","",null,null,""]
[null,946,null,null,null,null,null,"",null,null,"","",null,null,""]
[null,947,null,null,null,null,null,"",null,null,"","",null,null,""]
[null,948,null,null,null,null,null,"",null,null,"","",null,null,""]
[null,949,null,null,null,null,null,"",null,null,"","",null,null,""]
[null,950,null,null,null,null,null,"",null,null,"","",null,null,""]
[null,951,null,null,null,null,null,"",null,null,"","",null,null,""]
[null,952,null,null,null,null,null,"",null,null,"",{"$f":"IF(K969=\"\",\"\",K969/$E$2)","v":""},null,null,{"$f":"IF(OR(L969=0,L969=\"\",G969=\"\"),\"\",IF(L969<=14000,\"Poniżej 14 000 EUR\",IF(AND(OR(G969=\"Dostawy\",G969=\"Usługi\"),L969<=$P$2),\"Poniżej progu unijnego\",IF(AND(G969=\"Roboty budowlane\",L969<=$R$2),\"Poniżej progu unijnego\",\"Powyżej progu unijnego\"))))","v":""}]
[null,953,null,null,null,null,null,"",null,null,"","",null,null,""]
[null,954,null,null,null,null,null,"",null,null,"","",null,null,""]
[null,955,null,null,null,null,null,"",null,null,"","",null,null,""]
[null,956,null,null,null,null,null,"",null,null,"","",null,null,""]
[null,957,null,null,null,null,null,"",null,null,"","",null,null,""]
[null,958,null,null,null,null,null,"",null,null,"","",null,null,""]
[null,959,null,null,null,null,null,"",null,null,"","",null,null,""]
[null,960,null,null,null,null,null,"",null,null,"","",null,null,""]
[null,961,null,null,null,null,null,{"$f":"IF(F978=\"\",\"\",IF(AND(F978=\"Dostawy\",G978<>\"\"),LEFT(G978,2)&MID(G978,4,1),\"\"))","v":""},null,null,{"$f":"IF(J978=\"\",\"\",J978/$E$2)","v":""},"",null,null,""]
[null,962,null,null,null,null,null,"",null,null,"","",null,null,""]
[null,963,null,null,null,null,null,"",null,null,"","",null,null,""]
[null,964,null,null,null,null,null,"",null,null,"","",null,null,""]
[null,965,null,null,null,null,null,"",null,null,"","",null,null,""]
[null,966,null,null,null,null,null,"",null,null,"","",null,null,""]
[null,967,null,null,null,null,null,"",null,null,"","",null,null,""]
[null,968,null,null,null,null,null,"",null,null,"","",null,null,""]
[null,969,null,null,null,null,null,"",null,null,"","",null,null,""]
[null,970,null,null,null,null,null,"",null,null,"","",null,null,""]
[null,971,null,null,null,null,null,"",null,null,"","",null,null,""]
[null,972,null,null,null,null,null,"",null,null,"","",null,null,""]
[null,973,null,null,null,null,null,"",null,null,"","",null,null,""]
[null,974,null,null,null,null,null,"",null,null,"","",null,null,""]
[null,975,null,null,null,null,null,"",null,null,"","",null,null,""]
[null,976,null,null,null,null,null,"",null,null,"","",null,null,""]
[null,977,null,null,null,null,null,"",null,null,"","",null,null,""]
[null,978,null,null,null,null,null,"",null,null,"","",null,null,""]
[null,979,null,null,null,null,null,"",null,null,"","",null,null,""]
[null,980,null,null,null,null,null,"",null,null,"","",null,null,""]
[null,981,null,null,null,null,null,"",null,null,"","",null,null,""]
[null,982,null,null,null,null,null,"",null,null,"","",null,null,""]
[null,983,null,null,null,null,null,"",null,null,"","",null,null,""]
[null,984,null,null,null,null,null,"",null,null,"","",null,null,""]
[null,985,null,null,null,null,null,"",null,null,"","",null,null,""]
[null,986,null,null,null,null,null,"",null,null,"","",null,null,""]
[null,987,null,null,null,null,null,"",null,null,"","",null,null,""]
[null,988,null,null,null,null,null,"",null,null,"","",null,null,""]
[null,989,null,null,null,null,null,"",null,null,"","",null,null,""]
[null,990,null,null,null,null,null,"",null,null,"","",null,null,""]
[null,991,null,null,null,null,null,"",null,null,"","",null,null,""]
[null,992,null,null,null,null,null,"",null,null,"","",null,null,""]
[null,993,null,null,null,null,null,"",null,null,"","",null,null,""]
[null,994,null,null,null,null,null,"",null,null,"","",null,null,""]
[null,995,null,null,null,null,null,"",null,null,"","",null,null,""]
[null,996,null,null,null,null,null,"",null,null,"","",null,null,""]
[null,997,null,null,null,null,null,"",null,null,"","",null,null,""]
[null,998,null,null,null,null,null,"",null,null,"","",null,null,""]
[null,999,null,null,null,null,null,"",null,null,"","",null,null,""]
[null,1000,null,null,null,null,null,"",null,null,"","",null,null,""]
[null,1001,null,null,null,null,null,"",null,null,"","",null,null,""]
[null,1002,null,null,null,null,null,"",null,null,"","",null,null,""]
[null,1003,null,null,null,null,null,"",null,null,"","",null,null,""]
[null,1004,null,null,null,null,null,"",null,null,"","",null,null,""]
[null,1005,null,null,null,null,null,"",null,null,"","",null,null,""]
[null,1006,null,null,null,null,null,"",null,null,"","",null,null,""]
[null,1007,null,null,null,null,null,"",null,null,"","",null,null,""]
[null,1008,null,null,null,null,null,"",null,null,"","",null,null,""]
[null,1009,null,null,null,null,null,"",null,null,"","",null,null,""]
[null,1010,null,null,null,null,null,"",null,null,"","",null,null,""]
[null,1011,null,null,null,null,null,"",null,null,"","",null,null,""]
[null,1012,null,null,null,null,null,"",null,null,"","",null,null,""]
[null,1013,null,null,null,null,null,"",null,null,"","",null,null,""]
[null,1014,null,null,null,null,null,"",null,null,"","",null,null,""]
[null,1015,null,null,null,null,null,"",null,null,"","",null,null,""]
[null,1016,null,null,null,null,null,"",null,null,"",{"$f":"IF(K1033=\"\",\"\",K1033/$E$2)","v":""},null,null,{"$f":"IF(OR(L1033=0,L1033=\"\",G1033=\"\"),\"\",IF(L1033<=14000,\"Poniżej 14 000 EUR\",IF(AND(OR(G1033=\"Dostawy\",G1033=\"Usługi\"),L1033<=$P$2),\"Poniżej progu unijnego\",IF(AND(G1033=\"Roboty budowlane\",L1033<=$R$2),\"Poniżej progu unijnego\",\"Powyżej progu unijnego\"))))","v":""}]
[null,1017,null,null,null,null,null,"",null,null,"","",null,null,""]
[null,1018,null,null,null,null,null,"",null,null,"","",null,null,""]
[null,1019,null,null,null,null,null,"",null,null,"","",null,null,""]
[null,1020,null,null,null,null,null,"",null,null,"","",null,null,""]
[null,1021,null,null,null,null,null,"",null,null,"","",null,null,""]
[null,1022,null,null,null,null,null,"",null,null,"","",null,null,""]
[null,1023,null,null,null,null,null,"",null,null,"","",null,null,""]
[null,1024,null,null,null,null,null,"",null,null,"","",null,null,""]
[null,1025,null,null,null,null,null,{"$f":"IF(F1042=\"\",\"\",IF(AND(F1042=\"Dostawy\",G1042<>\"\"),LEFT(G1042,2)&MID(G1042,4,1),\"\"))","v":""},null,null,{"$f":"IF(J1042=\"\",\"\",J1042/$E$2)","v":""},"",null,null,""]
[null,1026,null,null,null,null,null,"",null,null,"","",null,null,""]
[null,1027,null,null,null,null,null,"",null,null,"","",null,null,""]
[null,1028,null,null,null,null,null,"",null,null,"","",null,null,""]
[null,1029,null,null,null,null,null,"",null,null,"","",null,null,""]
[null,1030,null,null,null,null,null,"",null,null,"","",null,null,""]
[null,1031,null,null,null,null,null,"",null,null,"","",null,null,""]
[null,1032,null,null,null,null,null,"",null,null,"","",null,null,""]
[null,1033,null,null,null,null,null,"",null,null,"","",null,null,""]
[null,1034,null,null,null,null,null,"",null,null,"","",null,null,""]
[null,1035,null,null,null,null,null,"",null,null,"","",null,null,""]
[null,1036,null,null,null,null,null,"",null,null,"","",null,null,""]
[null,1037,null,null,null,null,null,"",null,null,"","",null,null,""]
[null,1038,null,null,null,null,null,"",null,null,"","",null,null,""]
[null,1039,null,null,null,null,null,"",null,null,"","",null,null,""]
[null,1040,null,null,null,null,null,"",null,null,"","",null,null,""]
[null,1041,null,null,null,null,null,"",null,null,"","",null,null,""]
[null,1042,null,null,null,null,null,"",null,null,"","",null,null,""]
[null,1043,null,null,null,null,null,"",null,null,"","",null,null,""]
[null,1044,null,null,null,null,null,"",null,null,"","",null,null,""]
[null,1045,null,null,null,null,null,"",null,null,"","",null,null,""]
[null,1046,null,null,null,null,null,"",null,null,"","",null,null,""]
[null,1047,null,null,null,null,null,"",null,null,"","",null,null,""]
[null,1048,null,null,null,null,null,"",null,null,"","",null,null,""]
[null,1049,null,null,null,null,null,"",null,null,"","",null,null,""]
[null,1050,null,null,null,null,null,"",null,null,"","",null,null,""]
[null,1051,null,null,null,null,null,"",null,null,"","",null,null,""]
[null,1052,null,null,null,null,null,"",null,null,"","",null,null,""]
[null,1053,null,null,null,null,null,"",null,null,"","",null,null,""]
[null,1054,null,null,null,null,null,"",null,null,"","",null,null,""]
[null,1055,null,null,null,null,null,"",null,null,"","",null,null,""]
[null,1056,null,null,null,null,null,"",null,null,"","",null,null,""]
[null,1057,null,null,null,null,null,"",null,null,"","",null,null,""]
[null,1058,null,null,null,null,null,"",null,null,"","",null,null,""]
[null,1059,null,null,null,null,null,"",null,null,"","",null,null,""]
[null,1060,null,null,null,null,null,"",null,null,"","",null,null,""]
[null,1061,null,null,null,null,null,"",null,null,"","",null,null,""]
[null,1062,null,null,null,null,null,"",null,null,"","",null,null,""]
[null,1063,null,null,null,null,null,"",null,null,"","",null,null,""]
[null,1064,null,null,null,null,null,"",null,null,"","",null,null,""]
[null,1065,null,null,null,null,null,"",null,null,"","",null,null,""]
[null,1066,null,null,null,null,null,"",null,null,"","",null,null,""]
[null,1067,null,null,null,null,null,"",null,null,"","",null,null,""]
[null,1068,null,null,null,null,null,"",null,null,"","",null,null,""]
[null,1069,null,null,null,null,null,"",null,null,"","",null,null,""]
[null,1070,null,null,null,null,null,"",null,null,"","",null,null,""]
[null,1071,null,null,null,null,null,"",null,null,"","",null,null,""]
[null,1072,null,null,null,null,null,"",null,null,"","",null,null,""]
[null,1073,null,null,null,null,null,"",null,null,"","",null,null,""]
[null,1074,null,null,null,null,null,"",null,null,"","",null,null,""]
[null,1075,null,null,null,null,null,"",null,null,"","",null,null,""]
[null,1076,null,null,null,null,null,"",null,null,"","",null,null,""]
[null,1077,null,null,null,null,null,"",null,null,"","",null,null,""]
[null,1078,null,null,null,null,null,"",null,null,"","",null,null,""]
[null,1079,null,null,null,null,null,"",null,null,"","",null,null,""]
[null,1080,null,null,null,null,null,"",null,null,"",{"$f":"IF(K1097=\"\",\"\",K1097/$E$2)","v":""},null,null,{"$f":"IF(OR(L1097=0,L1097=\"\",G1097=\"\"),\"\",IF(L1097<=14000,\"Poniżej 14 000 EUR\",IF(AND(OR(G1097=\"Dostawy\",G1097=\"Usługi\"),L1097<=$P$2),\"Poniżej progu unijnego\",IF(AND(G1097=\"Roboty budowlane\",L1097<=$R$2),\"Poniżej progu unijnego\",\"Powyżej progu unijnego\"))))","v":""}]
[null,1081,null,null,null,null,null,"",null,null,"","",null,null,""]
[null,1082,null,null,null,null,null,"",null,null,"","",null,null,""]
[null,1083,null,null,null,null,null,"",null,null,"","",null,null,""]
[null,1084,null,null,null,null,null,"",null,null,"","",null,null,""]
[null,1085,null,null,null,null,null,"",null,null,"","",null,null,""]
[null,1086,null,null,null,null,null,"",null,null,"","",null,null,""]
[null,1087,null,null,null,null,null,"",null,null,"","",null,null,""]
[null,1088,null,null,null,null,null,"",null,null,"","",null,null,""]
[null,1089,null,null,null,null,null,{"$f":"IF(F1106=\"\",\"\",IF(AND(F1106=\"Dostawy\",G1106<>\"\"),LEFT(G1106,2)&MID(G1106,4,1),\"\"))","v":""},null,null,{"$f":"IF(J1106=\"\",\"\",J1106/$E$2)","v":""},"",null,null,""]
[null,1090,null,null,null,null,null,"",null,null,"","",null,null,""]
[null,1091,null,null,null,null,null,"",null,null,"","",null,null,""]
[null,1092,null,null,null,null,null,"",null,null,"","",null,null,""]
[null,1093,null,null,null,null,null,"",null,null,"","",null,null,""]
[null,1094,null,null,null,null,null,"",null,null,"","",null,null,""]
[null,1095,null,null,null,null,null,"",null,null,"","",null,null,""]
[null,1096,null,null,null,null,null,"",null,null,"","",null,null,""]
[null,1097,null,null,null,null,null,"",null,null,"","",null,null,""]
[null,1098,null,null,null,null,null,"",null,null,"","",null,null,""]
[null,1099,null,null,null,null,null,"",null,null,"","",null,null,""]
[null,1100,null,null,null,null,null,"",null,null,"","",null,null,""]
[null,1101,null,null,null,null,null,"",null,null,"","",null,null,""]
[null,1102,null,null,null,null,null,"",null,null,"","",null,null,""]
[null,1103,null,null,null,null,null,"",null,null,"","",null,null,""]
[null,1104,null,null,null,null,null,"",null,null,"","",null,null,""]
[null,1105,null,null,null,null,null,"",null,null,"","",null,null,""]
[null,1106,null,null,null,null,null,"",null,null,"","",null,null,""]
[null,1107,null,null,null,null,null,"",null,null,"","",null,null,""]
[null,1108,null,null,null,null,null,"",null,null,"","",null,null,""]
[null,1109,null,null,null,null,null,"",null,null,"","",null,null,""]
[null,1110,null,null,null,null,null,"",null,null,"","",null,null,""]
[null,1111,null,null,null,null,null,"",null,null,"","",null,null,""]
[null,1112,null,null,null,null,null,"",null,null,"","",null,null,""]
[null,1113,null,null,null,null,null,"",null,null,"","",null,null,""]
[null,1114,null,null,null,null,null,"",null,null,"","",null,null,""]
[null,1115,null,null,null,null,null,"",null,null,"","",null,null,""]
[null,1116,null,null,null,null,null,"",null,null,"","",null,null,""]
[null,1117,null,null,null,null,null,"",null,null,"","",null,null,""]
[null,1118,null,null,null,null,null,"",null,null,"","",null,null,""]
[null,1119,null,null,null,null,null,"",null,null,"","",null,null,""]
[null,1120,null,null,null,null,null,"",null,null,"","",null,null,""]
[null,1121,null,null,null,null,null,"",null,null,"","",null,null,""]
[null,1122,null,null,null,null,null,"",null,null,"","",null,null,""]
[null,1123,null,null,null,null,null,"",null,null,"","",null,null,""]
[null,1124,null,null,null,null,null,"",null,null,"","",null,null,""]
[null,1125,null,null,null,null,null,"",null,null,"","",null,null,""]
[null,1126,null,null,null,null,null,"",null,null,"","",null,null,""]
[null,1127,null,null,null,null,null,"",null,null,"","",null,null,""]
[null,1128,null,null,null,null,null,"",null,null,"","",null,null,""]
[null,1129,null,null,null,null,null,"",null,null,"","",null,null,""]
[null,1130,null,null,null,null,null,"",null,null,"","",null,null,""]
[null,1131,null,null,null,null,null,"",null,null,"","",null,null,""]
[null,1132,null,null,null,null,null,"",null,null,"","",null,null,""]
[null,1133,null,null,null,null,null,"",null,null,"","",null,null,""]
[null,1134,null,null,null,null,null,"",null,null,"","",null,null,""]
[null,1135,null,null,null,null,null,"",null,null,"","",null,null,""]
[null,1136,null,null,null,null,null,"",null,null,"","",null,null,""]
[null,1137,null,null,null,null,null,"",null,null,"","",null,null,""]
[null,1138,null,null,null,null,null,"",null,null,"","",null,null,""]
[null,1139,null,null,null,null,null,"",null,null,"","",null,null,""]
[null,1140,null,null,null,null,null,"",null,null,"","",null,null,""]
[null,1141,null,null,null,null,null,"",null,null,"","",null,null,""]
[null,1142,null,null,null,null,null,"",null,null,"","",null,null,""]
[null,1143,null,null,null,null,null,"",null,null,"","",null,null,""]
[null,1144,null,null,null,null,null,"",null,null,"",{"$f":"IF(K1161=\"\",\"\",K1161/$E$2)","v":""},null,null,{"$f":"IF(OR(L1161=0,L1161=\"\",G1161=\"\"),\"\",IF(L1161<=14000,\"Poniżej 14 000 EUR\",IF(AND(OR(G1161=\"Dostawy\",G1161=\"Usługi\"),L1161<=$P$2),\"Poniżej progu unijnego\",IF(AND(G1161=\"Roboty budowlane\",L1161<=$R$2),\"Poniżej progu unijnego\",\"Powyżej progu unijnego\"))))","v":""}]
[null,1145,null,null,null,null,null,"",null,null,"","",null,null,""]
[null,1146,null,null,null,null,null,"",null,null,"","",null,null,""]
[null,1147,null,null,null,null,null,"",null,null,"","",null,null,""]
[null,1148,null,null,null,null,null,"",null,null,"","",null,null,""]
[null,1149,null,null,null,null,null,"",null,null,"","",null,null,""]
[null,1150,null,null,null,null,null,"",null,null,"","",null,null,""]
[null,1151,null,null,null,null,null,"",null,null,"","",null,null,""]
[null,1152,null,null,null,null,null,"",null,null,"","",null,null,""]
[null,1153,null,null,null,null,null,{"$f":"IF(F1170=\"\",\"\",IF(AND(F1170=\"Dostawy\",G1170<>\"\"),LEFT(G1170,2)&MID(G1170,4,1),\"\"))","v":""},null,null,{"$f":"IF(J1170=\"\",\"\",J1170/$E$2)","v":""},"",null,null,""]
[null,1154,null,null,null,null,null,"",null,null,"","",null,null,""]
[null,1155,null,null,null,null,null,"",null,null,"","",null,null,""]
[null,1156,null,null,null,null,null,"",null,null,"","",null,null,""]
[null,1157,null,null,null,null,null,"",null,null,"","",null,null,""]
[null,1158,null,null,null,null,null,"",null,null,"","",null,null,""]
[null,1159,null,null,null,null,null,"",null,null,"","",null,null,""]
[null,1160,null,null,null,null,null,"",null,null,"","",null,null,""]
[null,1161,null,null,null,null,null,"",null,null,"","",null,null,""]
[null,1162,null,null,null,null,null,"",null,null,"","",null,null,""]
[null,1163,null,null,null,null,null,"",null,null,"","",null,null,""]
[null,1164,null,null,null,null,null,"",null,null,"","",null,null,""]
[null,1165,null,null,null,null,null,"",null,null,"","",null,null,""]
[null,1166,null,null,null,null,null,"",null,null,"","",null,null,""]
[null,1167,null,null,null,null,null,"",null,null,"","",null,null,""]
[null,1168,null,null,null,null,null,"",null,null,"","",null,null,""]
[null,1169,null,null,null,null,null,"",null,null,"","",null,null,""]
[null,1170,null,null,null,null,null,"",null,null,"","",null,null,""]
[null,1171,null,null,null,null,null,"",null,null,"","",null,null,""]
[null,1172,null,null,null,null,null,"",null,null,"","",null,null,""]
[null,1173,null,null,null,null,null,"",null,null,"","",null,null,""]
[null,1174,null,null,null,null,null,"",null,null,"","",null,null,""]
[null,1175,null,null,null,null,null,"",null,null,"","",null,null,""]
[null,1176,null,null,null,null,null,"",null,null,"","",null,null,""]
[null,1177,null,null,null,null,null,"",null,null,"","",null,null,""]
[null,1178,null,null,null,null,null,"",null,null,"","",null,null,""]
[null,1179,null,null,null,null,null,"",null,null,"","",null,null,""]
[null,1180,null,null,null,null,null,"",null,null,"","",null,null,""]
[null,1181,null,null,null,null,null,"",null,null,"","",null,null,""]
[null,1182,null,null,null,null,null,"",null,null,"","",null,null,""]
[null,1183,null,null,null,null,null,"",null,null,"","",null,null,""]
[null,1184,null,null,null,null,null,"",null,null,"","",null,null,""]
[null,1185,null,null,null,null,null,"",null,null,"","",null,null,""]
[null,1186,null,null,null,null,null,"",null,null,"","",null,null,""]
[null,1187,null,null,null,null,null,"",null,null,"","",null,null,""]
[null,1188,null,null,null,null,null,"",null,null,"","",null,null,""]
[null,1189,null,null,null,null,null,"",null,null,"","",null,null,""]
[null,1190,null,null,null,null,null,"",null,null,"","",null,null,""]
[null,1191,null,null,null,null,null,"",null,null,"","",null,null,""]
[null,1192,null,null,null,null,null,"",null,null,"","",null,null,""]
[null,1193,null,null,null,null,null,"",null,null,"","",null,null,""]
[null,1194,null,null,null,null,null,"",null,null,"","",null,null,""]
[null,1195,null,null,null,null,null,"",null,null,"","",null,null,""]
[null,1196,null,null,null,null,null,"",null,null,"","",null,null,""]
[null,1197,null,null,null,null,null,"",null,null,"","",null,null,""]
[null,1198,null,null,null,null,null,"",null,null,"","",null,null,""]
[null,1199,null,null,null,null,null,"",null,null,"","",null,null,""]
[null,1200,null,null,null,null,null,"",null,null,"","",null,null,""]
[null,1201,null,null,null,null,null,"",null,null,"","",null,null,""]
[null,1202,null,null,null,null,null,"",null,null,"","",null,null,""]
[null,1203,null,null,null,null,null,"",null,null,"","",null,null,""]
[null,1204,null,null,null,null,null,"",null,null,"","",null,null,""]
[null,1205,null,null,null,null,null,"",null,null,"","",null,null,""]
[null,1206,null,null,null,null,null,"",null,null,"","",null,null,""]
[null,1207,null,null,null,null,null,"",null,null,"","",null,null,""]
[null,1208,null,null,null,null,null,"",null,null,"",{"$f":"IF(K1225=\"\",\"\",K1225/$E$2)","v":""},null,null,{"$f":"IF(OR(L1225=0,L1225=\"\",G1225=\"\"),\"\",IF(L1225<=14000,\"Poniżej 14 000 EUR\",IF(AND(OR(G1225=\"Dostawy\",G1225=\"Usługi\"),L1225<=$P$2),\"Poniżej progu unijnego\",IF(AND(G1225=\"Roboty budowlane\",L1225<=$R$2),\"Poniżej progu unijnego\",\"Powyżej progu unijnego\"))))","v":""}]
[null,1209,null,null,null,null,null,"",null,null,"","",null,null,""]
[null,1210,null,null,null,null,null,"",null,null,"","",null,null,""]
[null,1211,null,null,null,null,null,"",null,null,"","",null,null,""]
[null,1212,null,null,null,null,null,"",null,null,"","",null,null,""]
[null,1213,null,null,null,null,null,"",null,null,"","",null,null,""]
[null,1214,null,null,null,null,null,"",null,null,"","",null,null,""]
[null,1215,null,null,null,null,null,"",null,null,"","",null,null,""]
[null,1216,null,null,null,null,null,"",null,null,"","",null,null,""]
[null,1217,null,null,null,null,null,{"$f":"IF(F1234=\"\",\"\",IF(AND(F1234=\"Dostawy\",G1234<>\"\"),LEFT(G1234,2)&MID(G1234,4,1),\"\"))","v":""},null,null,{"$f":"IF(J1234=\"\",\"\",J1234/$E$2)","v":""},"",null,null,""]
[null,1218,null,null,null,null,null,"",null,null,"","",null,null,""]
[null,1219,null,null,null,null,null,"",null,null,"","",null,null,""]
[null,1220,null,null,null,null,null,"",null,null,"","",null,null,""]
[null,1221,null,null,null,null,null,"",null,null,"","",null,null,""]
[null,1222,null,null,null,null,null,"",null,null,"","",null,null,""]
[null,1223,null,null,null,null,null,"",null,null,"","",null,null,""]
[null,1224,null,null,null,null,null,"",null,null,"","",null,null,""]
[null,1225,null,null,null,null,null,"",null,null,"","",null,null,""]
[null,1226,null,null,null,null,null,"",null,null,"","",null,null,""]
[null,1227,null,null,null,null,null,"",null,null,"","",null,null,""]
[null,1228,null,null,null,null,null,"",null,null,"","",null,null,""]
[null,1229,null,null,null,null,null,"",null,null,"","",null,null,""]
[null,1230,null,null,null,null,null,"",null,null,"","",null,null,""]
[null,1231,null,null,null,null,null,"",null,null,"","",null,null,""]
[null,1232,null,null,null,null,null,"",null,null,"","",null,null,""]
[null,1233,null,null,null,null,null,"",null,null,"","",null,null,""]
[null,1234,null,null,null,null,null,"",null,null,"","",null,null,""]
[null,1235,null,null,null,null,null,"",null,null,"","",null,null,""]
[null,1236,null,null,null,null,null,"",null,null,"","",null,null,""]
[null,1237,null,null,null,null,null,"",null,null,"","",null,null,""]
[null,1238,null,null,null,null,null,"",null,null,"","",null,null,""]
[null,1239,null,null,null,null,null,"",null,null,"","",null,null,""]
[null,1240,null,null,null,null,null,"",null,null,"","",null,null,""]
[null,1241,null,null,null,null,null,"",null,null,"","",null,null,""]
[null,1242,null,null,null,null,null,"",null,null,"","",null,null,""]
[null,1243,null,null,null,null,null,"",null,null,"","",null,null,""]
[null,1244,null,null,null,null,null,"",null,null,"","",null,null,""]
[null,1245,null,null,null,null,null,"",null,null,"","",null,null,""]
[null,1246,null,null,null,null,null,"",null,null,"","",null,null,""]
[null,1247,null,null,null,null,null,"",null,null,"","",null,null,""]
[null,1248,null,null,null,null,null,"",null,null,"","",null,null,""]
[null,1249,null,null,null,null,null,"",null,null,"","",null,null,""]
[null,1250,null,null,null,null,null,"",null,null,"","",null,null,""]
[null,1251,null,null,null,null,null,"",null,null,"","",null,null,""]
[null,1252,null,null,null,null,null,"",null,null,"","",null,null,""]
[null,1253,null,null,null,null,null,"",null,null,"","",null,null,""]
[null,1254,null,null,null,null,null,"",null,null,"","",null,null,""]
[null,1255,null,null,null,null,null,"",null,null,"","",null,null,""]
[null,1256,null,null,null,null,null,"",null,null,"","",null,null,""]
[null,1257,null,null,null,null,null,"",null,null,"","",null,null,""]
[null,1258,null,null,null,null,null,"",null,null,"","",null,null,""]
[null,1259,null,null,null,null,null,"",null,null,"","",null,null,""]
[null,1260,null,null,null,null,null,"",null,null,"","",null,null,""]
[null,1261,null,null,null,null,null,"",null,null,"","",null,null,""]
[null,1262,null,null,null,null,null,"",null,null,"","",null,null,""]
[null,1263,null,null,null,null,null,"",null,null,"","",null,null,""]
[null,1264,null,null,null,null,null,"",null,null,"","",null,null,""]
[null,1265,null,null,null,null,null,"",null,null,"","",null,null,""]
[null,1266,null,null,null,null,null,"",null,null,"","",null,null,""]
[null,1267,null,null,null,null,null,"",null,null,"","",null,null,""]
[null,1268,null,null,null,null,null,"",null,null,"","",null,null,""]
[null,1269,null,null,null,null,null,"",null,null,"","",null,null,""]
[null,1270,null,null,null,null,null,"",null,null,"","",null,null,""]
[null,1271,null,null,null,null,null,"",null,null,"","",null,null,""]
[null,1272,null,null,null,null,null,"",null,null,"",{"$f":"IF(K1289=\"\",\"\",K1289/$E$2)","v":""},null,null,{"$f":"IF(OR(L1289=0,L1289=\"\",G1289=\"\"),\"\",IF(L1289<=14000,\"Poniżej 14 000 EUR\",IF(AND(OR(G1289=\"Dostawy\",G1289=\"Usługi\"),L1289<=$P$2),\"Poniżej progu unijnego\",IF(AND(G1289=\"Roboty budowlane\",L1289<=$R$2),\"Poniżej progu unijnego\",\"Powyżej progu unijnego\"))))","v":""}]
[null,1273,null,null,null,null,null,"",null,null,"","",null,null,""]
[null,1274,null,null,null,null,null,"",null,null,"","",null,null,""]
[null,1275,null,null,null,null,null,"",null,null,"","",null,null,""]
[null,1276,null,null,null,null,null,"",null,null,"","",null,null,""]
[null,1277,null,null,null,null,null,"",null,null,"","",null,null,""]
[null,1279,null,null,null,null,null,"",null,null,"","",null,null,""]
[null,1280,null,null,null,null,null,"",null,null,"","",null,null,""]
[null,1281,null,null,null,null,null,"",null,null,"","",null,null,""]
[null,1282,null,null,null,null,null,{"$f":"IF(F1298=\"\",\"\",IF(AND(F1298=\"Dostawy\",G1298<>\"\"),LEFT(G1298,2)&MID(G1298,4,1),\"\"))","v":""},null,null,{"$f":"IF(J1298=\"\",\"\",J1298/$E$2)","v":""},"",null,null,""]
[null,1283,null,null,null,null,null,"",null,null,"","",null,null,""]
[null,1284,null,null,null,null,null,"",null,null,"","",null,null,""]
[null,1285,null,null,null,null,null,"",null,null,"","",null,null,""]
[null,1286,null,null,null,null,null,"",null,null,"","",null,null,""]
[null,1287,null,null,null,null,null,"",null,null,"","",null,null,""]
[null,1288,null,null,null,null,null,"",null,null,"","",null,null,""]
[null,1289,null,null,null,null,null,"",null,null,"","",null,null,""]
[null,1290,null,null,null,null,null,"",null,null,"","",null,null,""]
[null,1291,null,null,null,null,null,"",null,null,"","",null,null,""]
[null,1292,null,null,null,null,null,"",null,null,"","",null,null,""]
[null,1293,null,null,null,null,null,"",null,null,"","",null,null,""]
[null,1294,null,null,null,null,null,"",null,null,"","",null,null,""]
[null,1295,null,null,null,null,null,"",null,null,"","",null,null,""]
[null,1296,null,null,null,null,null,"",null,null,"","",null,null,""]
[null,1297,null,null,null,null,null,"",null,null,"","",null,null,""]
[null,1298,null,null,null,null,null,"",null,null,"","",null,null,""]
[null,1299,null,null,null,null,null,"",null,null,"","",null,null,""]
[null,1300,null,null,null,null,null,"",null,null,"","",null,null,""]
[null,1301,null,null,null,null,null,"",null,null,"","",null,null,""]
[null,1302,null,null,null,null,null,"",null,null,"","",null,null,""]
[null,1303,null,null,null,null,null,"",null,null,"","",null,null,""]
[null,1304,null,null,null,null,null,"",null,null,"","",null,null,""]
[null,1305,null,null,null,null,null,"",null,null,"","",null,null,""]
[null,1306,null,null,null,null,null,"",null,null,"","",null,null,""]
[null,1307,null,null,null,null,null,"",null,null,"","",null,null,""]
[null,1308,null,null,null,null,null,"",null,null,"","",null,null,""]
[null,1309,null,null,null,null,null,"",null,null,"","",null,null,""]
[null,1310,null,null,null,null,null,"",null,null,"","",null,null,""]
[null,1311,null,null,null,null,null,"",null,null,"","",null,null,""]
[null,1312,null,null,null,null,null,"",null,null,"","",null,null,""]
[null,1313,null,null,null,null,null,"",null,null,"","",null,null,""]
[null,1314,null,null,null,null,null,"",null,null,"","",null,null,""]
[null,1315,null,null,null,null,null,"",null,null,"","",null,null,""]
[null,1316,null,null,null,null,null,"",null,null,"","",null,null,""]
[null,1317,null,null,null,null,null,"",null,null,"","",null,null,""]
[null,1318,null,null,null,null,null,"",null,null,"","",null,null,""]
[null,1319,null,null,null,null,null,"",null,null,"","",null,null,""]
[null,1320,null,null,null,null,null,"",null,null,"","",null,null,""]
[null,1321,null,null,null,null,null,"",null,null,"","",null,null,""]
[null,1322,null,null,null,null,null,"",null,null,"","",null,null,""]
[null,1323,null,null,null,null,null,"",null,null,"","",null,null,""]
[null,1324,null,null,null,null,null,"",null,null,"","",null,null,""]
[null,1325,null,null,null,null,null,"",null,null,"","",null,null,""]
[null,1326,null,null,null,null,null,"",null,null,"","",null,null,""]
[null,1327,null,null,null,null,null,"",null,null,"","",null,null,""]
[null,1328,null,null,null,null,null,"",null,null,"","",null,null,""]
[null,1329,null,null,null,null,null,"",null,null,"","",null,null,""]
[null,1330,null,null,null,null,null,"",null,null,"","",null,null,""]
[null,1331,null,null,null,null,null,"",null,null,"","",null,null,""]
[null,1332,null,null,null,null,null,"",null,null,"","",null,null,""]
[null,1333,null,null,null,null,null,"",null,null,"","",null,null,""]
[null,1334,null,null,null,null,null,"",null,null,"","",null,null,""]
[null,1335,null,null,null,null,null,"",null,null,"","",null,null,""]
[null,1336,null,null,null,null,null,"",null,null,"","",null,null,""]
[null,1337,null,null,null,null,null,"",null,null,"",{"$f":"IF(K1353=\"\",\"\",K1353/$E$2)","v":""},null,null,{"$f":"IF(OR(L1353=0,L1353=\"\",G1353=\"\"),\"\",IF(L1353<=14000,\"Poniżej 14 000 EUR\",IF(AND(OR(G1353=\"Dostawy\",G1353=\"Usługi\"),L1353<=$P$2),\"Poniżej progu unijnego\",IF(AND(G1353=\"Roboty budowlane\",L1353<=$R$2),\"Poniżej progu unijnego\",\"Powyżej progu unijnego\"))))","v":""}]
[null,1338,null,null,null,null,null,"",null,null,"","",null,null,""]
[null,1339,null,null,null,null,null,"",null,null,"","",null,null,""]
[null,1340,null,null,null,null,null,"",null,null,"","",null,null,""]
[null,1341,null,null,null,null,null,"",null,null,"","",null,null,""]
[null,1342,null,null,null,null,null,"",null,null,"","",null,null,""]
[null,1343,null,null,null,null,null,"",null,null,"","",null,null,""]
[null,1344,null,null,null,null,null,"",null,null,"","",null,null,""]
[null,1345,null,null,null,null,null,"",null,null,"","",null,null,""]
[null,1346,null,null,null,null,null,{"$f":"IF(F1362=\"\",\"\",IF(AND(F1362=\"Dostawy\",G1362<>\"\"),LEFT(G1362,2)&MID(G1362,4,1),\"\"))","v":""},null,null,{"$f":"IF(J1362=\"\",\"\",J1362/$E$2)","v":""},"",null,null,""]
[null,1347,null,null,null,null,null,"",null,null,"","",null,null,""]
[null,1348,null,null,null,null,null,"",null,null,"","",null,null,""]
[null,1349,null,null,null,null,null,"",null,null,"","",null,null,""]
[null,1350,null,null,null,null,null,"",null,null,"","",null,null,""]
[null,1351,null,null,null,null,null,"",null,null,"","",null,null,""]
[null,1352,null,null,null,null,null,"",null,null,"","",null,null,""]
[null,1353,null,null,null,null,null,"",null,null,"","",null,null,""]
[null,1354,null,null,null,null,null,"",null,null,"","",null,null,""]
[null,1355,null,null,null,null,null,"",null,null,"","",null,null,""]
[null,1356,null,null,null,null,null,"",null,null,"","",null,null,""]
[null,1357,null,null,null,null,null,"",null,null,"","",null,null,""]
[null,1358,null,null,null,null,null,"",null,null,"","",null,null,""]
[null,1359,null,null,null,null,null,"",null,null,"","",null,null,""]
[null,1360,null,null,null,null,null,"",null,null,"","",null,null,""]
[null,1361,null,null,null,null,null,"",null,null,"","",null,null,""]
[null,1362,null,null,null,null,null,"",null,null,"","",null,null,""]
[null,1363,null,null,null,null,null,"",null,null,"","",null,null,""]
[null,1364,null,null,null,null,null,"",null,null,"","",null,null,""]
[null,1365,null,null,null,null,null,"",null,null,"","",null,null,""]
[null,1366,null,null,null,null,null,"",null,null,"","",null,null,""]
[null,1367,null,null,null,null,null,"",null,null,"","",null,null,""]
[null,1368,null,null,null,null,null,"",null,null,"","",null,null,""]
[null,1369,null,null,null,null,null,"",null,null,"","",null,null,""]
[null,1370,null,null,null,null,null,"",null,null,"","",null,null,""]
[null,1371,null,null,null,null,null,"",null,null,"","",null,null,""]
[null,1372,null,null,null,null,null,"",null,null,"","",null,null,""]
[null,1373,null,null,null,null,null,"",null,null,"","",null,null,""]
[null,1374,null,null,null,null,null,"",null,null,"","",null,null,""]
[null,1375,null,null,null,null,null,"",null,null,"","",null,null,""]
[null,1376,null,null,null,null,null,"",null,null,"","",null,null,""]
[null,1377,null,null,null,null,null,"",null,null,"","",null,null,""]
[null,1378,null,null,null,null,null,"",null,null,"","",null,null,""]
[null,1379,null,null,null,null,null,"",null,null,"","",null,null,""]
[null,1380,null,null,null,null,null,"",null,null,"","",null,null,""]
[null,1381,null,null,null,null,null,"",null,null,"","",null,null,""]
[null,1382,null,null,null,null,null,"",null,null,"","",null,null,""]
[null,1383,null,null,null,null,null,"",null,null,"","",null,null,""]
[null,1384,null,null,null,null,null,"",null,null,"","",null,null,""]
[null,1385,null,null,null,null,null,"",null,null,"","",null,null,""]
[null,1386,null,null,null,null,null,"",null,null,"","",null,null,""]
[null,1387,null,null,null,null,null,"",null,null,"","",null,null,""]
[null,1388,null,null,null,null,null,"",null,null,"","",null,null,""]
[null,1389,null,null,null,null,null,"",null,null,"","",null,null,""]
[null,1390,null,null,null,null,null,"",null,null,"","",null,null,""]
[null,1391,null,null,null,null,null,"",null,null,"","",null,null,""]
[null,1392,null,null,null,null,null,"",null,null,"","",null,null,""]
[null,1393,null,null,null,null,null,"",null,null,"","",null,null,""]
[null,1394,null,null,null,null,null,"",null,null,"","",null,null,""]
[null,1395,null,null,null,null,null,"",null,null,"","",null,null,""]
[null,1396,null,null,null,null,null,"",null,null,"","",null,null,""]
[null,1397,null,null,null,null,null,"",null,null,"","",null,null,""]
[null,1398,null,null,null,null,null,"",null,null,"","",null,null,""]
[null,1399,null,null,null,null,null,"",null,null,"","",null,null,""]
[null,1400,null,null,null,null,null,"",null,null,"","",null,null,""]
[null,1401,null,null,null,null,null,"",null,null,"",{"$f":"IF(K1417=\"\",\"\",K1417/$E$2)","v":""},null,null,{"$f":"IF(OR(L1417=0,L1417=\"\",G1417=\"\"),\"\",IF(L1417<=14000,\"Poniżej 14 000 EUR\",IF(AND(OR(G1417=\"Dostawy\",G1417=\"Usługi\"),L1417<=$P$2),\"Poniżej progu unijnego\",IF(AND(G1417=\"Roboty budowlane\",L1417<=$R$2),\"Poniżej progu unijnego\",\"Powyżej progu unijnego\"))))","v":""}]
[null,1402,null,null,null,null,null,"",null,null,"","",null,null,""]
[null,1403,null,null,null,null,null,"",null,null,"","",null,null,""]
[null,1404,null,null,null,null,null,"",null,null,"","",null,null,""]
[null,1405,null,null,null,null,null,"",null,null,"","",null,null,""]
[null,1406,null,null,null,null,null,"",null,null,"","",null,null,""]
[null,1407,null,null,null,null,null,"",null,null,"","",null,null,""]
[null,1408,null,null,null,null,null,"",null,null,"","",null,null,""]
[null,1409,null,null,null,null,null,"",null,null,"","",null,null,""]
[null,1410,null,null,null,null,null,{"$f":"IF(F1426=\"\",\"\",IF(AND(F1426=\"Dostawy\",G1426<>\"\"),LEFT(G1426,2)&MID(G1426,4,1),\"\"))","v":""},null,null,{"$f":"IF(J1426=\"\",\"\",J1426/$E$2)","v":""},"",null,null,""]
[null,1411,null,null,null,null,null,"",null,null,"","",null,null,""]
[null,1412,null,null,null,null,null,"",null,null,"","",null,null,""]
[null,1413,null,null,null,null,null,"",null,null,"","",null,null,""]
[null,1414,null,null,null,null,null,"",null,null,"","",null,null,""]
[null,1415,null,null,null,null,null,"",null,null,"","",null,null,""]
[null,1416,null,null,null,null,null,"",null,null,"","",null,null,""]
[null,1417,null,null,null,null,null,"",null,null,"","",null,null,""]
[null,1418,null,null,null,null,null,"",null,null,"","",null,null,""]
[null,1419,null,null,null,null,null,"",null,null,"","",null,null,""]
[null,1420,null,null,null,null,null,"",null,null,"","",null,null,""]
[null,1421,null,null,null,null,null,"",null,null,"","",null,null,""]
[null,1422,null,null,null,null,null,"",null,null,"","",null,null,""]
[null,1423,null,null,null,null,null,"",null,null,"","",null,null,""]
[null,1424,null,null,null,null,null,"",null,null,"","",null,null,""]
[null,1425,null,null,null,null,null,"",null,null,"","",null,null,""]
[null,1426,null,null,null,null,null,"",null,null,"","",null,null,""]
[null,1427,null,null,null,null,null,"",null,null,"","",null,null,""]
[null,1428,null,null,null,null,null,"",null,null,"","",null,null,""]
[null,1429,null,null,null,null,null,"",null,null,"","",null,null,""]
[null,1430,null,null,null,null,null,"",null,null,"","",null,null,""]
[null,1431,null,null,null,null,null,"",null,null,"","",null,null,""]
[null,1432,null,null,null,null,null,"",null,null,"","",null,null,""]
[null,1433,null,null,null,null,null,"",null,null,"","",null,null,""]
[null,1434,null,null,null,null,null,"",null,null,"","",null,null,""]
[null,1435,null,null,null,null,null,"",null,null,"","",null,null,""]
[null,1436,null,null,null,null,null,"",null,null,"","",null,null,""]
[null,1437,null,null,null,null,null,"",null,null,"","",null,null,""]
[null,1438,null,null,null,null,null,"",null,null,"","",null,null,""]
[null,1439,null,null,null,null,null,"",null,null,"","",null,null,""]
[null,1440,null,null,null,null,null,"",null,null,"","",null,null,""]
[null,1441,null,null,null,null,null,"",null,null,"","",null,null,""]
[null,1442,null,null,null,null,null,"",null,null,"","",null,null,""]
[null,1443,null,null,null,null,null,"",null,null,"","",null,null,""]
[null,1444,null,null,null,null,null,"",null,null,"","",null,null,""]
[null,1445,null,null,null,null,null,"",null,null,"","",null,null,""]
[null,1446,null,null,null,null,null,"",null,null,"","",null,null,""]
[null,1447,null,null,null,null,null,"",null,null,"","",null,null,""]
[null,1448,null,null,null,null,null,"",null,null,"","",null,null,""]
[null,1449,null,null,null,null,null,"",null,null,"","",null,null,""]
[null,1450,null,null,null,null,null,"",null,null,"","",null,null,""]
[null,1451,null,null,null,null,null,"",null,null,"","",null,null,""]
[null,1452,null,null,null,null,null,"",null,null,"","",null,null,""]
[null,1453,null,null,null,null,null,"",null,null,"","",null,null,""]
[null,1454,null,null,null,null,null,"",null,null,"","",null,null,""]
[null,1455,null,null,null,null,null,"",null,null,"","",null,null,""]
[null,1456,null,null,null,null,null,"",null,null,"","",null,null,""]
[null,1457,null,null,null,null,null,"",null,null,"","",null,null,""]
[null,1458,null,null,null,null,null,"",null,null,"","",null,null,""]
[null,1459,null,null,null,null,null,"",null,null,"","",null,null,""]
[null,1460,null,null,null,null,null,"",null,null,"","",null,null,""]
[null,1461,null,null,null,null,null,"",null,null,"","",null,null,""]
[null,1462,null,null,null,null,null,"",null,null,"","",null,null,""]
[null,1463,null,null,null,null,null,"",null,null,"","",null,null,""]
[null,1464,null,null,null,null,null,"",null,null,"","",null,null,""]
[null,1465,null,null,null,null,null,"",null,null,"",{"$f":"IF(K1481=\"\",\"\",K1481/$E$2)","v":""},null,null,{"$f":"IF(OR(L1481=0,L1481=\"\",G1481=\"\"),\"\",IF(L1481<=14000,\"Poniżej 14 000 EUR\",IF(AND(OR(G1481=\"Dostawy\",G1481=\"Usługi\"),L1481<=$P$2),\"Poniżej progu unijnego\",IF(AND(G1481=\"Roboty budowlane\",L1481<=$R$2),\"Poniżej progu unijnego\",\"Powyżej progu unijnego\"))))","v":""}]
[null,1466,null,null,null,null,null,"",null,null,"","",null,null,""]
[null,1467,null,null,null,null,null,"",null,null,"","",null,null,""]
[null,1468,null,null,null,null,null,"",null,null,"","",null,null,""]
[null,1469,null,null,null,null,null,"",null,null,"","",null,null,""]
[null,1470,null,null,null,null,null,"",null,null,"","",null,null,""]
[null,1471,null,null,null,null,null,"",null,null,"","",null,null,""]
[null,1472,null,null,null,null,null,"",null,null,"","",null,null,""]
[null,1473,null,null,null,null,null,"",null,null,"","",null,null,""]
[null,1474,null,null,null,null,null,{"$f":"IF(F1490=\"\",\"\",IF(AND(F1490=\"Dostawy\",G1490<>\"\"),LEFT(G1490,2)&MID(G1490,4,1),\"\"))","v":""},null,null,{"$f":"IF(J1490=\"\",\"\",J1490/$E$2)","v":""},"",null,null,""]
[null,1475,null,null,null,null,null,"",null,null,"","",null,null,""]
[null,1476,null,null,null,null,null,"",null,null,"","",null,null,""]
[null,1477,null,null,null,null,null,"",null,null,"","",null,null,""]
[null,1478,null,null,null,null,null,"",null,null,"","",null,null,""]
[null,1479,null,null,null,null,null,"",null,null,"","",null,null,""]
[null,1480,null,null,null,null,null,"",null,null,"","",null,null,""]
[null,1481,null,null,null,null,null,"",null,null,"","",null,null,""]
[null,1482,null,null,null,null,null,"",null,null,"","",null,null,""]
[null,1483,null,null,null,null,null,"",null,null,"","",null,null,""]
[null,1484,null,null,null,null,null,"",null,null,"","",null,null,""]
[null,1485,null,null,null,null,null,"",null,null,"","",null,null,""]
[null,1486,null,null,null,null,null,"",null,null,"","",null,null,""]
[null,1487,null,null,null,null,null,"",null,null,"","",null,null,""]
[null,1488,null,null,null,null,null,"",null,null,"","",null,null,""]
[null,1489,null,null,null,null,null,"",null,null,"","",null,null,""]
[null,1490,null,null,null,null,null,"",null,null,"","",null,null,""]
[null,1491,null,null,null,null,null,"",null,null,"","",null,null,""]
[null,1492,null,null,null,null,null,"",null,null,"","",null,null,""]
[null,1493,null,null,null,null,null,"",null,null,"","",null,null,""]
[null,1494,null,null,null,null,null,"",null,null,"","",null,null,""]
[null,1495,null,null,null,null,null,"",null,null,"","",null,null,""]
[null,1496,null,null,null,null,null,"",null,null,"","",null,null,""]
[null,1497,null,null,null,null,null,"",null,null,"","",null,null,""]
[null,1498,null,null,null,null,null,"",null,null,"","",null,null,""]
[null,1499,null,null,null,null,null,"",null,null,"","",null,null,""]
[null,1500,null,null,null,null,null,"",null,null,"","",null,null,""]
[null,1501,null,null,null,null,null,"",null,null,"","",null,null,""]
[null,1502,null,null,null,null,null,"",null,null,"","",null,null,""]
[null,1503,null,null,null,null,null,"",null,null,"","",null,null,""]
[null,1504,null,null,null,null,null,"",null,null,"","",null,null,""]
[null,1505,null,null,null,null,null,"",null,null,"","",null,null,""]
[null,1506,null,null,null,null,null,"",null,null,"","",null,null,""]
[null,1507,null,null,null,null,null,"",null,null,"","",null,null,""]
[null,1508,null,null,null,null,null,"",null,null,"","",null,null,""]
[null,1509,null,null,null,null,null,"",null,null,"","",null,null,""]
[null,1510,null,null,null,null,null,"",null,null,"","",null,null,""]
[null,1511,null,null,null,null,null,"",null,null,"","",null,null,""]
[null,1512,null,null,null,null,null,"",null,null,"","",null,null,""]
[null,1513,null,null,null,null,null,"",null,null,"","",null,null,""]
[null,1514,null,null,null,null,null,"",null,null,"","",null,null,""]
[null,1515,null,null,null,null,null,"",null,null,"","",null,null,""]
[null,1516,null,null,null,null,null,"",null,null,"","",null,null,""]
[null,1517,null,null,null,null,null,"",null,null,"","",null,null,""]
[null,1518,null,null,null,null,null,"",null,null,"","",null,null,""]
[null,1519,null,null,null,null,null,"",null,null,"","",null,null,""]
[null,1520,null,null,null,null,null,"",null,null,"","",null,null,""]
[null,1521,null,null,null,null,null,"",null,null,"","",null,null,""]
[null,1522,null,null,null,null,null,"",null,null,"","",null,null,""]
[null,1523,null,null,null,null,null,"",null,null,"","",null,null,""]
[null,1524,null,null,null,null,null,"",null,null,"","",null,null,""]
[null,1525,null,null,null,null,null,"",null,null,"","",null,null,""]
[null,1526,null,null,null,null,null,"",null,null,"","",null,null,""]
[null,1527,null,null,null,null,null,"",null,null,"","",null,null,""]
[null,1528,null,null,null,null,null,"",null,null,"","",null,null,""]
[null,1529,null,null,null,null,null,"",null,null,"",{"$f":"IF(K1545=\"\",\"\",K1545/$E$2)","v":""},null,null,{"$f":"IF(OR(L1545=0,L1545=\"\",G1545=\"\"),\"\",IF(L1545<=14000,\"Poniżej 14 000 EUR\",IF(AND(OR(G1545=\"Dostawy\",G1545=\"Usługi\"),L1545<=$P$2),\"Poniżej progu unijnego\",IF(AND(G1545=\"Roboty budowlane\",L1545<=$R$2),\"Poniżej progu unijnego\",\"Powyżej progu unijnego\"))))","v":""}]
[null,1530,null,null,null,null,null,"",null,null,"","",null,null,""]
[null,1531,null,null,null,null,null,"",null,null,"","",null,null,""]
[null,1532,null,null,null,null,null,"",null,null,"","",null,null,""]
[null,1533,null,null,null,null,null,"",null,null,"","",null,null,""]
[null,1534,null,null,null,null,null,"",null,null,"","",null,null,""]
[null,1535,null,null,null,null,null,"",null,null,"","",null,null,""]
[null,1536,null,null,null,null,null,"",null,null,"","",null,null,""]
[null,1537,null,null,null,null,null,"",null,null,"","",null,null,""]
[null,1538,null,null,null,null,null,{"$f":"IF(F1554=\"\",\"\",IF(AND(F1554=\"Dostawy\",G1554<>\"\"),LEFT(G1554,2)&MID(G1554,4,1),\"\"))","v":""},null,null,{"$f":"IF(J1554=\"\",\"\",J1554/$E$2)","v":""},"",null,null,""]
[null,1539,null,null,null,null,null,"",null,null,"","",null,null,""]
[null,1540,null,null,null,null,null,"",null,null,"","",null,null,""]
[null,1541,null,null,null,null,null,"",null,null,"","",null,null,""]
[null,1542,null,null,null,null,null,"",null,null,"","",null,null,""]
[null,1543,null,null,null,null,null,"",null,null,"","",null,null,""]
[null,1544,null,null,null,null,null,"",null,null,"","",null,null,""]
[null,1545,null,null,null,null,null,"",null,null,"","",null,null,""]
[null,1546,null,null,null,null,null,"",null,null,"","",null,null,""]
[null,1547,null,null,null,null,null,"",null,null,"","",null,null,""]
[null,1548,null,null,null,null,null,"",null,null,"","",null,null,""]
[null,1549,null,null,null,null,null,"",null,null,"","",null,null,""]
[null,1550,null,null,null,null,null,"",null,null,"","",null,null,""]
[null,1551,null,null,null,null,null,"",null,null,"","",null,null,""]
[null,1552,null,null,null,null,null,"",null,null,"","",null,null,""]
[null,1553,null,null,null,null,null,"",null,null,"","",null,null,""]
[null,1554,null,null,null,null,null,"",null,null,"","",null,null,""]
[null,1555,null,null,null,null,null,"",null,null,"","",null,null,""]
[null,1556,null,null,null,null,null,"",null,null,"","",null,null,""]
[null,1557,null,null,null,null,null,"",null,null,"","",null,null,""]
[null,1558,null,null,null,null,null,"",null,null,"","",null,null,""]
[null,1559,null,null,null,null,null,"",null,null,"","",null,null,""]
[null,1560,null,null,null,null,null,"",null,null,"","",null,null,""]
[null,1561,null,null,null,null,null,"",null,null,"","",null,null,""]
[null,1562,null,null,null,null,null,"",null,null,"","",null,null,""]
[null,1563,null,null,null,null,null,"",null,null,"","",null,null,""]
[null,1564,null,null,null,null,null,"",null,null,"","",null,null,""]
[null,1565,null,null,null,null,null,"",null,null,"","",null,null,""]
[null,1566,null,null,null,null,null,"",null,null,"","",null,null,""]
[null,1567,null,null,null,null,null,"",null,null,"","",null,null,""]
[null,1568,null,null,null,null,null,"",null,null,"","",null,null,""]
[null,1569,null,null,null,null,null,"",null,null,"","",null,null,""]
[null,1570,null,null,null,null,null,"",null,null,"","",null,null,""]
[null,1571,null,null,null,null,null,"",null,null,"","",null,null,""]
[null,1572,null,null,null,null,null,"",null,null,"","",null,null,""]
[null,1573,null,null,null,null,null,"",null,null,"","",null,null,""]
[null,1574,null,null,null,null,null,"",null,null,"","",null,null,""]
[null,1575,null,null,null,null,null,"",null,null,"","",null,null,""]
[null,1576,null,null,null,null,null,"",null,null,"","",null,null,""]
[null,1577,null,null,null,null,null,"",null,null,"","",null,null,""]
[null,1578,null,null,null,null,null,"",null,null,"","",null,null,""]
[null,1579,null,null,null,null,null,"",null,null,"","",null,null,""]
[null,1580,null,null,null,null,null,"",null,null,"","",null,null,""]
[null,1581,null,null,null,null,null,"",null,null,"","",null,null,""]
[null,1582,null,null,null,null,null,"",null,null,"","",null,null,""]
[null,1583,null,null,null,null,null,"",null,null,"","",null,null,""]
[null,1584,null,null,null,null,null,"",null,null,"","",null,null,""]
[null,1585,null,null,null,null,null,"",null,null,"","",null,null,""]
[null,1586,null,null,null,null,null,"",null,null,"","",null,null,""]
[null,1587,null,null,null,null,null,"",null,null,"","",null,null,""]
[null,1588,null,null,null,null,null,"",null,null,"","",null,null,""]
[null,1589,null,null,null,null,null,"",null,null,"","",null,null,""]
[null,1590,null,null,null,null,null,"",null,null,"","",null,null,""]
[null,1591,null,null,null,null,null,"",null,null,"","",null,null,""]
[null,1592,null,null,null,null,null,"",null,null,"","",null,null,""]
[null,1593,null,null,null,null,null,"",null,null,"",{"$f":"IF(K1609=\"\",\"\",K1609/$E$2)","v":""},null,null,{"$f":"IF(OR(L1609=0,L1609=\"\",G1609=\"\"),\"\",IF(L1609<=14000,\"Poniżej 14 000 EUR\",IF(AND(OR(G1609=\"Dostawy\",G1609=\"Usługi\"),L1609<=$P$2),\"Poniżej progu unijnego\",IF(AND(G1609=\"Roboty budowlane\",L1609<=$R$2),\"Poniżej progu unijnego\",\"Powyżej progu unijnego\"))))","v":""}]
[null,1594,null,null,null,null,null,"",null,null,"","",null,null,""]
[null,1595,null,null,null,null,null,"",null,null,"","",null,null,""]
[null,1596,null,null,null,null,null,"",null,null,"","",null,null,""]
[null,1597,null,null,null,null,null,"",null,null,"","",null,null,""]
[null,1598,null,null,null,null,null,"",null,null,"","",null,null,""]
[null,1599,null,null,null,null,null,"",null,null,"","",null,null,""]
[null,1600,null,null,null,null,null,"",null,null,"","",null,null,""]
[null,1601,null,null,null,null,null,"",null,null,"","",null,null,""]
[null,1602,null,null,null,null,null,{"$f":"IF(F1618=\"\",\"\",IF(AND(F1618=\"Dostawy\",G1618<>\"\"),LEFT(G1618,2)&MID(G1618,4,1),\"\"))","v":""},null,null,{"$f":"IF(J1618=\"\",\"\",J1618/$E$2)","v":""},"",null,null,""]
[null,1603,null,null,null,null,null,"",null,null,"","",null,null,""]
[null,1604,null,null,null,null,null,"",null,null,"","",null,null,""]
[null,1605,null,null,null,null,null,"",null,null,"","",null,null,""]
[null,1606,null,null,null,null,null,"",null,null,"","",null,null,""]
[null,1607,null,null,null,null,null,"",null,null,"","",null,null,""]
[null,1608,null,null,null,null,null,"",null,null,"","",null,null,""]
[null,1609,null,null,null,null,null,"",null,null,"","",null,null,""]
[null,1610,null,null,null,null,null,"",null,null,"","",null,null,""]
[null,1611,null,null,null,null,null,"",null,null,"","",null,null,""]
[null,1612,null,null,null,null,null,"",null,null,"","",null,null,""]
[null,1613,null,null,null,null,null,"",null,null,"","",null,null,""]
[null,1614,null,null,null,null,null,"",null,null,"","",null,null,""]
[null,1615,null,null,null,null,null,"",null,null,"","",null,null,""]
[null,1616,null,null,null,null,null,"",null,null,"","",null,null,""]
[null,1617,null,null,null,null,null,"",null,null,"","",null,null,""]
[null,1618,null,null,null,null,null,"",null,null,"","",null,null,""]
[null,1619,null,null,null,null,null,"",null,null,"","",null,null,""]
[null,1620,null,null,null,null,null,"",null,null,"","",null,null,""]
[null,1621,null,null,null,null,null,"",null,null,"","",null,null,""]
[null,1622,null,null,null,null,null,"",null,null,"","",null,null,""]
[null,1623,null,null,null,null,null,"",null,null,"","",null,null,""]
[null,1624,null,null,null,null,null,"",null,null,"","",null,null,""]
[null,1625,null,null,null,null,null,"",null,null,"","",null,null,""]
[null,1626,null,null,null,null,null,"",null,null,"","",null,null,""]
[null,1627,null,null,null,null,null,"",null,null,"","",null,null,""]
[null,1628,null,null,null,null,null,"",null,null,"","",null,null,""]
[null,1629,null,null,null,null,null,"",null,null,"","",null,null,""]
[null,1630,null,null,null,null,null,"",null,null,"","",null,null,""]
[null,1631,null,null,null,null,null,"",null,null,"","",null,null,""]
[null,1632,null,null,null,null,null,"",null,null,"","",null,null,""]
[null,1633,null,null,null,null,null,"",null,null,"","",null,null,""]
[null,1634,null,null,null,null,null,"",null,null,"","",null,null,""]
[null,1635,null,null,null,null,null,"",null,null,"","",null,null,""]
[null,1636,null,null,null,null,null,"",null,null,"","",null,null,""]
[null,1637,null,null,null,null,null,"",null,null,"","",null,null,""]
[null,1638,null,null,null,null,null,"",null,null,"","",null,null,""]
[null,1639,null,null,null,null,null,"",null,null,"","",null,null,""]
[null,1640,null,null,null,null,null,"",null,null,"","",null,null,""]
[null,1641,null,null,null,null,null,"",null,null,"","",null,null,""]
[null,1642,null,null,null,null,null,"",null,null,"","",null,null,""]
[null,1643,null,null,null,null,null,"",null,null,"","",null,null,""]
[null,1644,null,null,null,null,null,"",null,null,"","",null,null,""]
[null,1645,null,null,null,null,null,"",null,null,"","",null,null,""]
[null,1646,null,null,null,null,null,"",null,null,"","",null,null,""]
[null,1647,null,null,null,null,null,"",null,null,"","",null,null,""]
[null,1648,null,null,null,null,null,"",null,null,"","",null,null,""]
[null,1649,null,null,null,null,null,"",null,null,"","",null,null,""]
[null,1650,null,null,null,null,null,"",null,null,"","",null,null,""]
[null,1651,null,null,null,null,null,"",null,null,"","",null,null,""]
[null,1652,null,null,null,null,null,"",null,null,"","",null,null,""]
[null,1653,null,null,null,null,null,"",null,null,"","",null,null,""]
[null,1654,null,null,null,null,null,"",null,null,"","",null,null,""]
[null,1655,null,null,null,null,null,"",null,null,"","",null,null,""]
[null,1656,null,null,null,null,null,"",null,null,"","",null,null,""]
[null,1657,null,null,null,null,null,"",null,null,"",{"$f":"IF(K1673=\"\",\"\",K1673/$E$2)","v":""},null,null,{"$f":"IF(OR(L1673=0,L1673=\"\",G1673=\"\"),\"\",IF(L1673<=14000,\"Poniżej 14 000 EUR\",IF(AND(OR(G1673=\"Dostawy\",G1673=\"Usługi\"),L1673<=$P$2),\"Poniżej progu unijnego\",IF(AND(G1673=\"Roboty budowlane\",L1673<=$R$2),\"Poniżej progu unijnego\",\"Powyżej progu unijnego\"))))","v":""}]
[null,1658,null,null,null,null,null,"",null,null,"","",null,null,""]
[null,1659,null,null,null,null,null,"",null,null,"","",null,null,""]
[null,1660,null,null,null,null,null,"",null,null,"","",null,null,""]
[null,1661,null,null,null,null,null,"",null,null,"","",null,null,""]
[null,1662,null,null,null,null,null,"",null,null,"","",null,null,""]
[null,1663,null,null,null,null,null,"",null,null,"","",null,null,""]
[null,1664,null,null,null,null,null,"",null,null,"","",null,null,""]
[null,1665,null,null,null,null,null,"",null,null,"","",null,null,""]
[null,1666,null,null,null,null,null,{"$f":"IF(F1682=\"\",\"\",IF(AND(F1682=\"Dostawy\",G1682<>\"\"),LEFT(G1682,2)&MID(G1682,4,1),\"\"))","v":""},null,null,{"$f":"IF(J1682=\"\",\"\",J1682/$E$2)","v":""},"",null,null,""]
[null,1667,null,null,null,null,null,"",null,null,"","",null,null,""]
[null,1668,null,null,null,null,null,"",null,null,"","",null,null,""]
[null,1669,null,null,null,null,null,"",null,null,"","",null,null,""]
[null,1670,null,null,null,null,null,"",null,null,"","",null,null,""]
[null,1671,null,null,null,null,null,"",null,null,"","",null,null,""]
[null,1672,null,null,null,null,null,"",null,null,"","",null,null,""]
[null,1673,null,null,null,null,null,"",null,null,"","",null,null,""]
[null,1674,null,null,null,null,null,"",null,null,"","",null,null,""]
[null,1675,null,null,null,null,null,"",null,null,"","",null,null,""]
[null,1676,null,null,null,null,null,"",null,null,"","",null,null,""]
[null,1677,null,null,null,null,null,"",null,null,"","",null,null,""]
[null,1678,null,null,null,null,null,"",null,null,"","",null,null,""]
[null,1679,null,null,null,null,null,"",null,null,"","",null,null,""]
[null,1680,null,null,null,null,null,"",null,null,"","",null,null,""]
[null,1681,null,null,null,null,null,"",null,null,"","",null,null,""]
[null,1682,null,null,null,null,null,"",null,null,"","",null,null,""]
[null,1683,null,null,null,null,null,"",null,null,"","",null,null,""]
[null,1684,null,null,null,null,null,"",null,null,"","",null,null,""]
[null,1685,null,null,null,null,null,"",null,null,"","",null,null,""]
[null,1686,null,null,null,null,null,"",null,null,"","",null,null,""]
[null,1687,null,null,null,null,null,"",null,null,"","",null,null,""]
[null,1688,null,null,null,null,null,"",null,null,"","",null,null,""]
[null,1689,null,null,null,null,null,"",null,null,"","",null,null,""]
[null,1690,null,null,null,null,null,"",null,null,"","",null,null,""]
[null,1691,null,null,null,null,null,"",null,null,"","",null,null,""]
[null,1692,null,null,null,null,null,"",null,null,"","",null,null,""]
[null,1693,null,null,null,null,null,"",null,null,"","",null,null,""]
[null,1694,null,null,null,null,null,"",null,null,"","",null,null,""]
[null,1695,null,null,null,null,null,"",null,null,"","",null,null,""]
[null,1696,null,null,null,null,null,"",null,null,"","",null,null,""]
[null,1697,null,null,null,null,null,"",null,null,"","",null,null,""]
[null,1698,null,null,null,null,null,"",null,null,"","",null,null,""]
[null,1699,null,null,null,null,null,"",null,null,"","",null,null,""]
[null,1700,null,null,null,null,null,"",null,null,"","",null,null,""]
[null,1701,null,null,null,null,null,"",null,null,"","",null,null,""]
[null,1702,null,null,null,null,null,"",null,null,"","",null,null,""]
[null,1703,null,null,null,null,null,"",null,null,"","",null,null,""]
[null,1704,null,null,null,null,null,"",null,null,"","",null,null,""]
[null,1705,null,null,null,null,null,"",null,null,"","",null,null,""]
[null,1706,null,null,null,null,null,"",null,null,"","",null,null,""]
[null,1707,null,null,null,null,null,"",null,null,"","",null,null,""]
[null,1708,null,null,null,null,null,"",null,null,"","",null,null,""]
[null,1709,null,null,null,null,null,"",null,null,"","",null,null,""]
[null,1710,null,null,null,null,null,"",null,null,"","",null,null,""]
[null,1711,null,null,null,null,null,"",null,null,"","",null,null,""]
[null,1712,null,null,null,null,null,"",null,null,"","",null,null,""]
[null,1713,null,null,null,null,null,"",null,null,"","",null,null,""]
[null,1714,null,null,null,null,null,"",null,null,"","",null,null,""]
[null,1715,null,null,null,null,null,"",null,null,"","",null,null,""]
[null,1716,null,null,null,null,null,"",null,null,"","",null,null,""]
[null,1717,null,null,null,null,null,"",null,null,"","",null,null,""]
[null,1718,null,null,null,null,null,"",null,null,"","",null,null,""]
[null,1719,null,null,null,null,null,"",null,null,"","",null,null,""]
[null,1720,null,null,null,null,null,"",null,null,"","",null,null,""]
[null,1721,null,null,null,null,null,"",null,null,"",{"$f":"IF(K1737=\"\",\"\",K1737/$E$2)","v":""},null,null,{"$f":"IF(OR(L1737=0,L1737=\"\",G1737=\"\"),\"\",IF(L1737<=14000,\"Poniżej 14 000 EUR\",IF(AND(OR(G1737=\"Dostawy\",G1737=\"Usługi\"),L1737<=$P$2),\"Poniżej progu unijnego\",IF(AND(G1737=\"Roboty budowlane\",L1737<=$R$2),\"Poniżej progu unijnego\",\"Powyżej progu unijnego\"))))","v":""}]
[null,1722,null,null,null,null,null,"",null,null,"","",null,null,""]
[null,1723,null,null,null,null,null,"",null,null,"","",null,null,""]
[null,1724,null,null,null,null,null,"",null,null,"","",null,null,""]
[null,1725,null,null,null,null,null,"",null,null,"","",null,null,""]
[null,1726,null,null,null,null,null,"",null,null,"","",null,null,""]
[null,1727,null,null,null,null,null,"",null,null,"","",null,null,""]
[null,1728,null,null,null,null,null,"",null,null,"","",null,null,""]
[null,1729,null,null,null,null,null,"",null,null,"","",null,null,""]
[null,1730,null,null,null,null,null,{"$f":"IF(F1746=\"\",\"\",IF(AND(F1746=\"Dostawy\",G1746<>\"\"),LEFT(G1746,2)&MID(G1746,4,1),\"\"))","v":""},null,null,{"$f":"IF(J1746=\"\",\"\",J1746/$E$2)","v":""},"",null,null,""]
[null,1731,null,null,null,null,null,"",null,null,"","",null,null,""]
[null,1732,null,null,null,null,null,"",null,null,"","",null,null,""]
[null,1733,null,null,null,null,null,"",null,null,"","",null,null,""]
[null,1734,null,null,null,null,null,"",null,null,"","",null,null,""]
[null,1735,null,null,null,null,null,"",null,null,"","",null,null,""]
[null,1736,null,null,null,null,null,"",null,null,"","",null,null,""]
[null,1737,null,null,null,null,null,"",null,null,"","",null,null,""]
[null,1738,null,null,null,null,null,"",null,null,"","",null,null,""]
[null,1739,null,null,null,null,null,"",null,null,"","",null,null,""]
[null,1740,null,null,null,null,null,"",null,null,"","",null,null,""]
[null,1741,null,null,null,null,null,"",null,null,"","",null,null,""]
[null,1742,null,null,null,null,null,"",null,null,"","",null,null,""]
[null,1743,null,null,null,null,null,"",null,null,"","",null,null,""]
[null,1744,null,null,null,null,null,"",null,null,"","",null,null,""]
[null,1745,null,null,null,null,null,"",null,null,"","",null,null,""]
[null,1746,null,null,null,null,null,"",null,null,"","",null,null,""]
[null,1747,null,null,null,null,null,"",null,null,"","",null,null,""]
[null,1748,null,null,null,null,null,"",null,null,"","",null,null,""]
[null,1749,null,null,null,null,null,"",null,null,"","",null,null,""]
[null,1750,null,null,null,null,null,"",null,null,"","",null,null,""]
[null,1751,null,null,null,null,null,"",null,null,"","",null,null,""]
[null,1752,null,null,null,null,null,"",null,null,"","",null,null,""]
[null,1753,null,null,null,null,null,"",null,null,"","",null,null,""]
[null,1754,null,null,null,null,null,"",null,null,"","",null,null,""]
[null,1755,null,null,null,null,null,"",null,null,"","",null,null,""]
[null,1756,null,null,null,null,null,"",null,null,"","",null,null,""]
[null,1757,null,null,null,null,null,"",null,null,"","",null,null,""]
[null,1758,null,null,null,null,null,"",null,null,"","",null,null,""]
[null,1759,null,null,null,null,null,"",null,null,"","",null,null,""]
[null,1760,null,null,null,null,null,"",null,null,"","",null,null,""]
[null,1761,null,null,null,null,null,"",null,null,"","",null,null,""]
[null,1762,null,null,null,null,null,"",null,null,"","",null,null,""]
[null,1763,null,null,null,null,null,"",null,null,"","",null,null,""]
[null,1764,null,null,null,null,null,"",null,null,"","",null,null,""]
[null,1765,null,null,null,null,null,"",null,null,"","",null,null,""]
[null,1766,null,null,null,null,null,"",null,null,"","",null,null,""]
[null,1767,null,null,null,null,null,"",null,null,"","",null,null,""]
[null,1768,null,null,null,null,null,"",null,null,"","",null,null,""]
[null,1769,null,null,null,null,null,"",null,null,"","",null,null,""]
[null,1770,null,null,null,null,null,"",null,null,"","",null,null,""]
[null,1771,null,null,null,null,null,"",null,null,"","",null,null,""]
[null,1772,null,null,null,null,null,"",null,null,"","",null,null,""]
[null,1773,null,null,null,null,null,"",null,null,"","",null,null,""]
[null,1774,null,null,null,null,null,"",null,null,"","",null,null,""]
[null,1775,null,null,null,null,null,"",null,null,"","",null,null,""]
[null,1776,null,null,null,null,null,"",null,null,"","",null,null,""]
[null,1777,null,null,null,null,null,"",null,null,"","",null,null,""]
[null,1778,null,null,null,null,null,"",null,null,"","",null,null,""]
[null,1779,null,null,null,null,null,"",null,null,"","",null,null,""]
[null,1780,null,null,null,null,null,"",null,null,"","",null,null,""]
[null,1781,null,null,null,null,null,"",null,null,"","",null,null,""]
[null,1782,null,null,null,null,null,"",null,null,"","",null,null,""]
[null,1783,null,null,null,null,null,"",null,null,"","",null,null,""]
[null,1784,null,null,null,null,null,"",null,null,"","",null,null,""]
[null,1785,null,null,null,null,null,"",null,null,"",{"$f":"IF(K1801=\"\",\"\",K1801/$E$2)","v":""},null,null,{"$f":"IF(OR(L1801=0,L1801=\"\",G1801=\"\"),\"\",IF(L1801<=14000,\"Poniżej 14 000 EUR\",IF(AND(OR(G1801=\"Dostawy\",G1801=\"Usługi\"),L1801<=$P$2),\"Poniżej progu unijnego\",IF(AND(G1801=\"Roboty budowlane\",L1801<=$R$2),\"Poniżej progu unijnego\",\"Powyżej progu unijnego\"))))","v":""}]
[null,1786,null,null,null,null,null,"",null,null,"","",null,null,""]
[null,1787,null,null,null,null,null,"",null,null,"","",null,null,""]
[null,1788,null,null,null,null,null,"",null,null,"","",null,null,""]
[null,1789,null,null,null,null,null,"",null,null,"","",null,null,""]
[null,1790,null,null,null,null,null,"",null,null,"","",null,null,""]
[null,1791,null,null,null,null,null,"",null,null,"","",null,null,""]
[null,1792,null,null,null,null,null,"",null,null,"","",null,null,""]
[null,1793,null,null,null,null,null,"",null,null,"","",null,null,""]
[null,1794,null,null,null,null,null,{"$f":"IF(F1810=\"\",\"\",IF(AND(F1810=\"Dostawy\",G1810<>\"\"),LEFT(G1810,2)&MID(G1810,4,1),\"\"))","v":""},null,null,{"$f":"IF(J1810=\"\",\"\",J1810/$E$2)","v":""},"",null,null,""]
[null,1795,null,null,null,null,null,"",null,null,"","",null,null,""]
[null,1796,null,null,null,null,null,"",null,null,"","",null,null,""]
[null,1797,null,null,null,null,null,"",null,null,"","",null,null,""]
[null,1798,null,null,null,null,null,"",null,null,"","",null,null,""]
[null,1799,null,null,null,null,null,"",null,null,"","",null,null,""]
[null,1800,null,null,null,null,null,"",null,null,"","",null,null,""]
[null,1801,null,null,null,null,null,"",null,null,"","",null,null,""]
[null,1802,null,null,null,null,null,"",null,null,"","",null,null,""]
[null,1803,null,null,null,null,null,"",null,null,"","",null,null,""]
[null,1804,null,null,null,null,null,"",null,null,"","",null,null,""]
[null,1805,null,null,null,null,null,"",null,null,"","",null,null,""]
[null,1806,null,null,null,null,null,"",null,null,"","",null,null,""]
[null,1807,null,null,null,null,null,"",null,null,"","",null,null,""]
[null,1808,null,null,null,null,null,"",null,null,"","",null,null,""]
[null,1809,null,null,null,null,null,"",null,null,"","",null,null,""]
[null,1810,null,null,null,null,null,"",null,null,"","",null,null,""]
[null,1811,null,null,null,null,null,"",null,null,"","",null,null,""]
[null,1812,null,null,null,null,null,"",null,null,"","",null,null,""]
[null,1813,null,null,null,null,null,"",null,null,"","",null,null,""]
[null,1814,null,null,null,null,null,"",null,null,"","",null,null,""]
[null,1815,null,null,null,null,null,"",null,null,"","",null,null,""]
[null,1816,null,null,null,null,null,"",null,null,"","",null,null,""]
[null,1817,null,null,null,null,null,"",null,null,"","",null,null,""]
[null,1818,null,null,null,null,null,"",null,null,"","",null,null,""]
[null,1819,null,null,null,null,null,"",null,null,"","",null,null,""]
[null,1820,null,null,null,null,null,"",null,null,"","",null,null,""]
[null,1821,null,null,null,null,null,"",null,null,"","",null,null,""]
[null,1822,null,null,null,null,null,"",null,null,"","",null,null,""]
[null,1823,null,null,null,null,null,"",null,null,"","",null,null,""]
[null,1824,null,null,null,null,null,"",null,null,"","",null,null,""]
[null,1825,null,null,null,null,null,"",null,null,"","",null,null,""]
[null,1826,null,null,null,null,null,"",null,null,"","",null,null,""]
[null,1827,null,null,null,null,null,"",null,null,"","",null,null,""]
[null,1828,null,null,null,null,null,"",null,null,"","",null,null,""]
[null,1829,null,null,null,null,null,"",null,null,"","",null,null,""]
[null,1830,null,null,null,null,null,"",null,null,"","",null,null,""]
[null,1831,null,null,null,null,null,"",null,null,"","",null,null,""]
[null,1832,null,null,null,null,null,"",null,null,"","",null,null,""]
[null,1833,null,null,null,null,null,"",null,null,"","",null,null,""]
[null,1834,null,null,null,null,null,"",null,null,"","",null,null,""]
[null,1835,null,null,null,null,null,"",null,null,"","",null,null,""]
[null,1836,null,null,null,null,null,"",null,null,"","",null,null,""]
[null,1837,null,null,null,null,null,"",null,null,"","",null,null,""]
[null,1838,null,null,null,null,null,"",null,null,"","",null,null,""]
[null,1839,null,null,null,null,null,"",null,null,"","",null,null,""]
[null,1840,null,null,null,null,null,"",null,null,"","",null,null,""]
[null,1841,null,null,null,null,null,"",null,null,"","",null,null,""]
[null,1842,null,null,null,null,null,"",null,null,"","",null,null,""]
[null,1843,null,null,null,null,null,"",null,null,"","",null,null,""]
[null,1844,null,null,null,null,null,"",null,null,"","",null,null,""]
[null,1845,null,null,null,null,null,"",null,null,"","",null,null,""]
[null,1846,null,null,null,null,null,"",null,null,"","",null,null,""]
[null,1847,null,null,null,null,null,"",null,null,"","",null,null,""]
[null,1848,null,null,null,null,null,"",null,null,"","",null,null,""]
[null,1849,null,null,null,null,null,"",null,null,"",{"$f":"IF(K1865=\"\",\"\",K1865/$E$2)","v":""},null,null,{"$f":"IF(OR(L1865=0,L1865=\"\",G1865=\"\"),\"\",IF(L1865<=14000,\"Poniżej 14 000 EUR\",IF(AND(OR(G1865=\"Dostawy\",G1865=\"Usługi\"),L1865<=$P$2),\"Poniżej progu unijnego\",IF(AND(G1865=\"Roboty budowlane\",L1865<=$R$2),\"Poniżej progu unijnego\",\"Powyżej progu unijnego\"))))","v":""}]
[null,1850,null,null,null,null,null,"",null,null,"","",null,null,""]
[null,1851,null,null,null,null,null,"",null,null,"","",null,null,""]
[null,1852,null,null,null,null,null,"",null,null,"","",null,null,""]
[null,1853,null,null,null,null,null,"",null,null,"","",null,null,""]
[null,1854,null,null,null,null,null,"",null,null,"","",null,null,""]
[null,1855,null,null,null,null,null,"",null,null,"","",null,null,""]
[null,1856,null,null,null,null,null,"",null,null,"","",null,null,""]
[null,1857,null,null,null,null,null,"",null,null,"","",null,null,""]
[null,1858,null,null,null,null,null,{"$f":"IF(F1874=\"\",\"\",IF(AND(F1874=\"Dostawy\",G1874<>\"\"),LEFT(G1874,2)&MID(G1874,4,1),\"\"))","v":""},null,null,{"$f":"IF(J1874=\"\",\"\",J1874/$E$2)","v":""},"",null,null,""]
[null,1859,null,null,null,null,null,"",null,null,"","",null,null,""]
[null,1860,null,null,null,null,null,"",null,null,"","",null,null,""]
[null,1861,null,null,null,null,null,"",null,null,"","",null,null,""]
[null,1862,null,null,null,null,null,"",null,null,"","",null,null,""]
[null,1863,null,null,null,null,null,"",null,null,"","",null,null,""]
[null,1864,null,null,null,null,null,"",null,null,"","",null,null,""]
[null,1865,null,null,null,null,null,"",null,null,"","",null,null,""]
[null,1866,null,null,null,null,null,"",null,null,"","",null,null,""]
[null,1867,null,null,null,null,null,"",null,null,"","",null,null,""]
[null,1868,null,null,null,null,null,"",null,null,"","",null,null,""]
[null,1869,null,null,null,null,null,"",null,null,"","",null,null,""]
[null,1870,null,null,null,null,null,"",null,null,"","",null,null,""]
[null,1871,null,null,null,null,null,"",null,null,"","",null,null,""]
[null,1872,null,null,null,null,null,"",null,null,"","",null,null,""]
[null,1873,null,null,null,null,null,"",null,null,"","",null,null,""]
[null,1874,null,null,null,null,null,"",null,null,"","",null,null,""]
[null,1875,null,null,null,null,null,"",null,null,"","",null,null,""]
[null,1876,null,null,null,null,null,"",null,null,"","",null,null,""]
[null,1877,null,null,null,null,null,"",null,null,"","",null,null,""]
[null,1878,null,null,null,null,null,"",null,null,"","",null,null,""]
[null,1879,null,null,null,null,null,"",null,null,"","",null,null,""]
[null,1880,null,null,null,null,null,"",null,null,"","",null,null,""]
[null,1881,null,null,null,null,null,"",null,null,"","",null,null,""]
[null,1882,null,null,null,null,null,"",null,null,"","",null,null,""]
[null,1883,null,null,null,null,null,"",null,null,"","",null,null,""]
[null,1884,null,null,null,null,null,"",null,null,"","",null,null,""]
[null,1885,null,null,null,null,null,"",null,null,"","",null,null,""]
[null,1886,null,null,null,null,null,"",null,null,"","",null,null,""]
[null,1887,null,null,null,null,null,"",null,null,"","",null,null,""]
[null,1888,null,null,null,null,null,"",null,null,"","",null,null,""]
[null,1889,null,null,null,null,null,"",null,null,"","",null,null,""]
[null,1890,null,null,null,null,null,"",null,null,"","",null,null,""]
[null,1891,null,null,null,null,null,"",null,null,"","",null,null,""]
[null,1892,null,null,null,null,null,"",null,null,"","",null,null,""]
[null,1893,null,null,null,null,null,"",null,null,"","",null,null,""]
[null,1894,null,null,null,null,null,"",null,null,"","",null,null,""]
[null,1895,null,null,null,null,null,"",null,null,"","",null,null,""]
[null,1896,null,null,null,null,null,"",null,null,"","",null,null,""]
[null,1897,null,null,null,null,null,"",null,null,"","",null,null,""]
[null,1898,null,null,null,null,null,"",null,null,"","",null,null,""]
[null,1899,null,null,null,null,null,"",null,null,"","",null,null,""]
[null,1900,null,null,null,null,null,"",null,null,"","",null,null,""]
[null,1901,null,null,null,null,null,"",null,null,"","",null,null,""]
[null,1902,null,null,null,null,null,"",null,null,"","",null,null,""]
[null,1903,null,null,null,null,null,"",null,null,"","",null,null,""]
[null,1904,null,null,null,null,null,"",null,null,"","",null,null,""]
[null,1905,null,null,null,null,null,"",null,null,"","",null,null,""]
[null,1906,null,null,null,null,null,"",null,null,"","",null,null,""]
[null,1907,null,null,null,null,null,"",null,null,"","",null,null,""]
[null,1908,null,null,null,null,null,"",null,null,"","",null,null,""]
[null,1909,null,null,null,null,null,"",null,null,"","",null,null,""]
[null,1910,null,null,null,null,null,"",null,null,"","",null,null,""]
[null,1911,null,null,null,null,null,"",null,null,"","",null,null,""]
[null,1912,null,null,null,null,null,"",null,null,"","",null,null,""]
[null,1913,null,null,null,null,null,"",null,null,"",{"$f":"IF(K1929=\"\",\"\",K1929/$E$2)","v":""},null,null,{"$f":"IF(OR(L1929=0,L1929=\"\",G1929=\"\"),\"\",IF(L1929<=14000,\"Poniżej 14 000 EUR\",IF(AND(OR(G1929=\"Dostawy\",G1929=\"Usługi\"),L1929<=$P$2),\"Poniżej progu unijnego\",IF(AND(G1929=\"Roboty budowlane\",L1929<=$R$2),\"Poniżej progu unijnego\",\"Powyżej progu unijnego\"))))","v":""}]
[null,1914,null,null,null,null,null,"",null,null,"","",null,null,""]
[null,1915,null,null,null,null,null,"",null,null,"","",null,null,""]
[null,1916,null,null,null,null,null,"",null,null,"","",null,null,""]
[null,1917,null,null,null,null,null,"",null,null,"","",null,null,""]
[null,1918,null,null,null,null,null,"",null,null,"","",null,null,""]
[null,1919,null,null,null,null,null,"",null,null,"","",null,null,""]
[null,1920,null,null,null,null,null,"",null,null,"","",null,null,""]
[null,1921,null,null,null,null,null,"",null,null,"","",null,null,""]
[null,1922,null,null,null,null,null,{"$f":"IF(F1938=\"\",\"\",IF(AND(F1938=\"Dostawy\",G1938<>\"\"),LEFT(G1938,2)&MID(G1938,4,1),\"\"))","v":""},null,null,{"$f":"IF(J1938=\"\",\"\",J1938/$E$2)","v":""},"",null,null,""]
[null,1923,null,null,null,null,null,"",null,null,"","",null,null,""]
[null,1924,null,null,null,null,null,"",null,null,"","",null,null,""]
[null,1925,null,null,null,null,null,"",null,null,"","",null,null,""]
[null,1926,null,null,null,null,null,"",null,null,"","",null,null,""]
[null,1927,null,null,null,null,null,"",null,null,"","",null,null,""]
[null,1928,null,null,null,null,null,"",null,null,"","",null,null,""]
[null,1929,null,null,null,null,null,"",null,null,"","",null,null,""]
[null,1930,null,null,null,null,null,"",null,null,"","",null,null,""]
[null,1931,null,null,null,null,null,"",null,null,"","",null,null,""]
[null,1932,null,null,null,null,null,"",null,null,"","",null,null,""]
[null,1933,null,null,null,null,null,"",null,null,"","",null,null,""]
[null,1934,null,null,null,null,null,"",null,null,"","",null,null,""]
[null,1935,null,null,null,null,null,"",null,null,"","",null,null,""]
[null,1936,null,null,null,null,null,"",null,null,"","",null,null,""]
[null,1937,null,null,null,null,null,"",null,null,"","",null,null,""]
[null,1938,null,null,null,null,null,"",null,null,"","",null,null,""]
[null,1939,null,null,null,null,null,"",null,null,"","",null,null,""]
[null,1940,null,null,null,null,null,"",null,null,"","",null,null,""]
[null,1941,null,null,null,null,null,"",null,null,"","",null,null,""]
[null,1942,null,null,null,null,null,"",null,null,"","",null,null,""]
[null,1943,null,null,null,null,null,"",null,null,"","",null,null,""]
[null,1944,null,null,null,null,null,"",null,null,"","",null,null,""]
[null,1945,null,null,null,null,null,"",null,null,"","",null,null,""]
[null,1946,null,null,null,null,null,"",null,null,"","",null,null,""]
[null,1947,null,null,null,null,null,"",null,null,"","",null,null,""]
[null,1948,null,null,null,null,null,"",null,null,"","",null,null,""]
[null,1949,null,null,null,null,null,"",null,null,"","",null,null,""]
[null,1950,null,null,null,null,null,"",null,null,"","",null,null,""]
[null,1951,null,null,null,null,null,"",null,null,"","",null,null,""]
[null,1952,null,null,null,null,null,"",null,null,"","",null,null,""]
[null,1953,null,null,null,null,null,"",null,null,"","",null,null,""]
[null,1954,null,null,null,null,null,"",null,null,"","",null,null,""]
[null,1955,null,null,null,null,null,"",null,null,"","",null,null,""]
[null,1956,null,null,null,null,null,"",null,null,"","",null,null,""]
[null,1957,null,null,null,null,null,"",null,null,"","",null,null,""]
[null,1958,null,null,null,null,null,"",null,null,"","",null,null,""]
[null,1959,null,null,null,null,null,"",null,null,"","",null,null,""]
[null,1960,null,null,null,null,null,"",null,null,"","",null,null,""]
[null,1961,null,null,null,null,null,"",null,null,"","",null,null,""]
[null,1962,null,null,null,null,null,"",null,null,"","",null,null,""]
[null,1963,null,null,null,null,null,"",null,null,"","",null,null,""]
[null,1964,null,null,null,null,null,"",null,null,"","",null,null,""]
[null,1965,null,null,null,null,null,"",null,null,"","",null,null,""]
[null,1966,null,null,null,null,null,"",null,null,"","",null,null,""]
[null,1967,null,null,null,null,null,"",null,null,"","",null,null,""]
[null,1968,null,null,null,null,null,"",null,null,"","",null,null,""]
[null,1969,null,null,null,null,null,"",null,null,"","",null,null,""]
[null,1970,null,null,null,null,null,"",null,null,"","",null,null,""]
[null,1971,null,null,null,null,null,"",null,null,"","",null,null,""]
[null,1972,null,null,null,null,null,"",null,null,"","",null,null,""]
[null,1973,null,null,null,null,null,"",null,null,"","",null,null,""]
[null,1974,null,null,null,null,null,"",null,null,"","",null,null,""]
[null,1975,null,null,null,null,null,"",null,null,"","",null,null,""]
[null,1976,null,null,null,null,null,"",null,null,"","",null,null,""]
[null,1977,null,null,null,null,null,"",null,null,"",{"$f":"IF(K1993=\"\",\"\",K1993/$E$2)","v":""},null,null,{"$f":"IF(OR(L1993=0,L1993=\"\",G1993=\"\"),\"\",IF(L1993<=14000,\"Poniżej 14 000 EUR\",IF(AND(OR(G1993=\"Dostawy\",G1993=\"Usługi\"),L1993<=$P$2),\"Poniżej progu unijnego\",IF(AND(G1993=\"Roboty budowlane\",L1993<=$R$2),\"Poniżej progu unijnego\",\"Powyżej progu unijnego\"))))","v":""}]
[null,1978,null,null,null,null,null,"",null,null,"","",null,null,""]
[null,1979,null,null,null,null,null,"",null,null,"","",null,null,""]
[null,1980,null,null,null,null,null,"",null,null,"","",null,null,""]
[null,1981,null,null,null,null,null,"",null,null,"","",null,null,""]
[null,1982,null,null,null,null,null,"",null,null,"","",null,null,""]
[null,1983,null,null,null,null,null,"",null,null,"","",null,null,""]
[null,1984,null,null,null,null,null,"",null,null,"","",null,null,""]
[null,1985,null,null,null,null,null,"",null,null,"","",null,null,""]
[null,1986,null,null,null,null,null,{"$f":"IF(F2002=\"\",\"\",IF(AND(F2002=\"Dostawy\",G2002<>\"\"),LEFT(G2002,2)&MID(G2002,4,1),\"\"))","v":""},null,null,{"$f":"IF(J2002=\"\",\"\",J2002/$E$2)","v":""},"",null,null,""]
[null,1987,null,null,null,null,null,"",null,null,"","",null,null,""]
[null,1988,null,null,null,null,null,"",null,null,"","",null,null,""]
[null,1989,null,null,null,null,null,"",null,null,"","",null,null,""]
[null,1990,null,null,null,null,null,"",null,null,"","",null,null,""]
[null,1991,null,null,null,null,null,"",null,null,"","",null,null,""]
[null,1992,null,null,null,null,null,"",null,null,"","",null,null,""]
[null,1993,null,null,null,null,null,"",null,null,"","",null,null,""]
[null,1994,null,null,null,null,null,"",null,null,"","",null,null,""]
[null,1995,null,null,null,null,null,"",null,null,"","",null,null,""]
[null,1996,null,null,null,null,null,"",null,null,"","",null,null,""]
[null,1997,null,null,null,null,null,"",null,null,"","",null,null,""]
[null,1998,null,null,null,null,null,"",null,null,"","",null,null,""]
[null,1999,null,null,null,null,null,"",null,null,"","",null,null,""]
[null,2000,null,null,null,null,null,"",null,null,"","",null,null,""]
[null,2001,null,null,null,null,null,"",null,null,"","",null,null,""]
[null,2002,null,null,null,null,null,"",null,null,"","",null,null,""]
[null,2003,null,null,null,null,null,"",null,null,"","",null,null,""]
[null,2004,null,null,null,null,null,"",null,null,"","",null,null,""]
[null,2005,null,null,null,null,null,"",null,null,"","",null,null,""]
[null,2006,null,null,null,null,null,"",null,null,"","",null,null,""]
[null,2007,null,null,null,null,null,"",null,null,"","",null,null,""]
[null,2008,null,null,null,null,null,"",null,null,"","",null,null,""]
[null,2009,null,null,null,null,null,"",null,null,"","",null,null,""]
[null,2010,null,null,null,null,null,"",null,null,"","",null,null,""]
[null,2011,null,null,null,null,null,"",null,null,"","",null,null,""]
[null,2012,null,null,null,null,null,"",null,null,"","",null,null,""]
[null,2013,null,null,null,null,null,"",null,null,"","",null,null,""]
[null,2014,null,null,null,null,null,"",null,null,"","",null,null,""]
[null,2015,null,null,null,null,null,"",null,null,"","",null,null,""]
[null,2016,null,null,null,null,null,"",null,null,"","",null,null,""]
[null,2017,null,null,null,null,null,"",null,null,"","",null,null,""]
[null,2018,null,null,null,null,null,"",null,null,"","",null,null,""]
[null,2019,null,null,null,null,null,"",null,null,"","",null,null,""]
[null,2020,null,null,null,null,null,"",null,null,"","",null,null,""]
[null,2021,null,null,null,null,null,"",null,null,"","",null,null,""]
[null,2022,null,null,null,null,null,"",null,null,"","",null,null,""]
[null,2023,null,null,null,null,null,"",null,null,"","",null,null,""]
[null,2024,null,null,null,null,null,"",null,null,"","",null,null,""]
[null,2025,null,null,null,null,null,"",null,null,"","",null,null,""]
[null,2026,null,null,null,null,null,"",null,null,"","",null,null,""]
[null,2027,null,null,null,null,null,"",null,null,"","",null,null,""]
[null,2028,null,null,null,null,null,"",null,null,"","",null,null,""]
[null,2029,null,null,null,null,null,"",null,null,"","",null,null,""]
[null,2030,null,null,null,null,null,"",null,null,"","",null,null,""]
[null,2031,null,null,null,null,null,"",null,null,"","",null,null,""]
[null,2032,null,null,null,null,null,"",null,null,"","",null,null,""]
[null,2033,null,null,null,null,null,"",null,null,"","",null,null,""]
[null,2034,null,null,null,null,null,"",null,null,"","",null,null,""]
[null,2035,null,null,null,null,null,"",null,null,"","",null,null,""]
[null,2036,null,null,null,null,null,"",null,null,"","",null,null,""]
[null,2037,null,null,null,null,null,"",null,null,"","",null,null,""]
[null,2038,null,null,null,null,null,"",null,null,"","",null,null,""]
[null,2039,null,null,null,null,null,"",null,null,"","",null,null,""]
[null,2040,null,null,null,null,null,"",null,null,"","",null,null,""]
[null,2041,null,null,null,null,null,"",null,null,"",{"$f":"IF(K2057=\"\",\"\",K2057/$E$2)","v":""},null,null,{"$f":"IF(OR(L2057=0,L2057=\"\",G2057=\"\"),\"\",IF(L2057<=14000,\"Poniżej 14 000 EUR\",IF(AND(OR(G2057=\"Dostawy\",G2057=\"Usługi\"),L2057<=$P$2),\"Poniżej progu unijnego\",IF(AND(G2057=\"Roboty budowlane\",L2057<=$R$2),\"Poniżej progu unijnego\",\"Powyżej progu unijnego\"))))","v":""}]
[null,2042,null,null,null,null,null,"",null,null,"","",null,null,""]
[null,2043,null,null,null,null,null,"",null,null,"","",null,null,""]
[null,2044,null,null,null,null,null,"",null,null,"","",null,null,""]
[null,2045,null,null,null,null,null,"",null,null,"","",null,null,""]
[null,2046,null,null,null,null,null,"",null,null,"","",null,null,""]
[null,2047,null,null,null,null,null,"",null,null,"","",null,null,""]
[null,2048,null,null,null,null,null,"",null,null,"","",null,null,""]
[null,2049,null,null,null,null,null,"",null,null,"","",null,null,""]
[null,2050,null,null,null,null,null,{"$f":"IF(F2066=\"\",\"\",IF(AND(F2066=\"Dostawy\",G2066<>\"\"),LEFT(G2066,2)&MID(G2066,4,1),\"\"))","v":""},null,null,{"$f":"IF(J2066=\"\",\"\",J2066/$E$2)","v":""},"",null,null,""]
[null,2051,null,null,null,null,null,"",null,null,"","",null,null,""]
[null,2052,null,null,null,null,null,"",null,null,"","",null,null,""]
[null,2053,null,null,null,null,null,"",null,null,"","",null,null,""]
[null,2054,null,null,null,null,null,"",null,null,"","",null,null,""]
[null,2055,null,null,null,null,null,"",null,null,"","",null,null,""]
[null,2056,null,null,null,null,null,"",null,null,"","",null,null,""]
[null,2057,null,null,null,null,null,"",null,null,"","",null,null,""]
[null,2058,null,null,null,null,null,"",null,null,"","",null,null,""]
[null,2059,null,null,null,null,null,"",null,null,"","",null,null,""]
[null,2060,null,null,null,null,null,"",null,null,"","",null,null,""]
[null,2061,null,null,null,null,null,"",null,null,"","",null,null,""]
[null,2062,null,null,null,null,null,"",null,null,"","",null,null,""]
[null,2063,null,null,null,null,null,"",null,null,"","",null,null,""]
[null,2064,null,null,null,null,null,"",null,null,"","",null,null,""]
[null,2065,null,null,null,null,null,"",null,null,"","",null,null,""]
[null,2066,null,null,null,null,null,"",null,null,"","",null,null,""]
[null,2067,null,null,null,null,null,"",null,null,"","",null,null,""]
[null,2068,null,null,null,null,null,"",null,null,"","",null,null,""]
[null,2069,null,null,null,null,null,"",null,null,"","",null,null,""]
[null,2070,null,null,null,null,null,"",null,null,"","",null,null,""]
[null,2071,null,null,null,null,null,"",null,null,"","",null,null,""]
[null,2072,null,null,null,null,null,"",null,null,"","",null,null,""]
[null,2073,null,null,null,null,null,"",null,null,"","",null,null,""]
[null,2074,null,null,null,null,null,"",null,null,"","",null,null,""]
[null,2075,null,null,null,null,null,"",null,null,"","",null,null,""]
[null,2076,null,null,null,null,null,"",null,null,"","",null,null,""]
[null,2077,null,null,null,null,null,"",null,null,"","",null,null,""]
[null,2078,null,null,null,null,null,"",null,null,"","",null,null,""]
[null,2079,null,null,null,null,null,"",null,null,"","",null,null,""]
[null,2080,null,null,null,null,null,"",null,null,"","",null,null,""]
[null,2081,null,null,null,null,null,"",null,null,"","",null,null,""]
[null,2082,null,null,null,null,null,"",null,null,"","",null,null,""]
[null,2083,null,null,null,null,null,"",null,null,"","",null,null,""]
[null,2084,null,null,null,null,null,"",null,null,"","",null,null,""]
[null,2085,null,null,null,null,null,"",null,null,"","",null,null,""]
[null,2086,null,null,null,null,null,"",null,null,"","",null,null,""]
[null,2087,null,null,null,null,null,"",null,null,"","",null,null,""]
[null,2088,null,null,null,null,null,"",null,null,"","",null,null,""]
[null,2089,null,null,null,null,null,"",null,null,"","",null,null,""]
[null,2090,null,null,null,null,null,"",null,null,"","",null,null,""]
[null,2091,null,null,null,null,null,"",null,null,"","",null,null,""]
[null,2092,null,null,null,null,null,"",null,null,"","",null,null,""]
[null,2093,null,null,null,null,null,"",null,null,"","",null,null,""]
[null,2094,null,null,null,null,null,"",null,null,"","",null,null,""]
[null,2095,null,null,null,null,null,"",null,null,"","",null,null,""]
[null,2096,null,null,null,null,null,"",null,null,"","",null,null,""]
[null,2097,null,null,null,null,null,"",null,null,"","",null,null,""]
[null,2098,null,null,null,null,null,"",null,null,"","",null,null,""]
[null,2099,null,null,null,null,null,"",null,null,"","",null,null,""]
[null,2100,null,null,null,null,null,"",null,null,"","",null,null,""]
[null,2101,null,null,null,null,null,"",null,null,"","",null,null,""]
[null,2102,null,null,null,null,null,"",null,null,"","",null,null,""]
[null,2103,null,null,null,null,null,"",null,null,"","",null,null,""]
[null,2104,null,null,null,null,null,"",null,null,"","",null,null,""]
[null,2105,null,null,null,null,null,"",null,null,"",{"$f":"IF(K2121=\"\",\"\",K2121/$E$2)","v":""},null,null,{"$f":"IF(OR(L2121=0,L2121=\"\",G2121=\"\"),\"\",IF(L2121<=14000,\"Poniżej 14 000 EUR\",IF(AND(OR(G2121=\"Dostawy\",G2121=\"Usługi\"),L2121<=$P$2),\"Poniżej progu unijnego\",IF(AND(G2121=\"Roboty budowlane\",L2121<=$R$2),\"Poniżej progu unijnego\",\"Powyżej progu unijnego\"))))","v":""}]
[null,2106,null,null,null,null,null,"",null,null,"","",null,null,""]
[null,2107,null,null,null,null,null,"",null,null,"","",null,null,""]
[null,2108,null,null,null,null,null,"",null,null,"","",null,null,""]
[null,2109,null,null,null,null,null,"",null,null,"","",null,null,""]
[null,2110,null,null,null,null,null,"",null,null,"","",null,null,""]
[null,2111,null,null,null,null,null,"",null,null,"","",null,null,""]
[null,2112,null,null,null,null,null,"",null,null,"","",null,null,""]
[null,2113,null,null,null,null,null,"",null,null,"","",null,null,""]
[null,2114,null,null,null,null,null,{"$f":"IF(F2130=\"\",\"\",IF(AND(F2130=\"Dostawy\",G2130<>\"\"),LEFT(G2130,2)&MID(G2130,4,1),\"\"))","v":""},null,null,{"$f":"IF(J2130=\"\",\"\",J2130/$E$2)","v":""},"",null,null,""]
[null,2115,null,null,null,null,null,"",null,null,"","",null,null,""]
[null,2116,null,null,null,null,null,"",null,null,"","",null,null,""]
[null,2117,null,null,null,null,null,"",null,null,"","",null,null,""]
[null,2118,null,null,null,null,null,"",null,null,"","",null,null,""]
[null,2119,null,null,null,null,null,"",null,null,"","",null,null,""]
[null,2120,null,null,null,null,null,"",null,null,"","",null,null,""]
[null,2121,null,null,null,null,null,"",null,null,"","",null,null,""]
[null,2122,null,null,null,null,null,"",null,null,"","",null,null,""]
[null,2123,null,null,null,null,null,"",null,null,"","",null,null,""]
[null,2124,null,null,null,null,null,"",null,null,"","",null,null,""]
[null,2125,null,null,null,null,null,"",null,null,"","",null,null,""]
[null,2126,null,null,null,null,null,"",null,null,"","",null,null,""]
[null,2127,null,null,null,null,null,"",null,null,"","",null,null,""]
[null,2128,null,null,null,null,null,"",null,null,"","",null,null,""]
[null,2129,null,null,null,null,null,"",null,null,"","",null,null,""]
[null,2130,null,null,null,null,null,"",null,null,"","",null,null,""]
[null,2131,null,null,null,null,null,"",null,null,"","",null,null,""]
[null,2132,null,null,null,null,null,"",null,null,"","",null,null,""]
[null,2133,null,null,null,null,null,"",null,null,"","",null,null,""]
[null,2134,null,null,null,null,null,"",null,null,"","",null,null,""]
[null,2135,null,null,null,null,null,"",null,null,"","",null,null,""]
[null,2136,null,null,null,null,null,"",null,null,"","",null,null,""]
[null,2137,null,null,null,null,null,"",null,null,"","",null,null,""]
[null,2138,null,null,null,null,null,"",null,null,"","",null,null,""]
[null,2139,null,null,null,null,null,"",null,null,"","",null,null,""]
[null,2140,null,null,null,null,null,"",null,null,"","",null,null,""]
[null,2141,null,null,null,null,null,"",null,null,"","",null,null,""]
[null,2142,null,null,null,null,null,"",null,null,"","",null,null,""]
[null,2143,null,null,null,null,null,"",null,null,"","",null,null,""]
[null,2144,null,null,null,null,null,"",null,null,"","",null,null,""]
[null,2145,null,null,null,null,null,"",null,null,"","",null,null,""]
[null,2146,null,null,null,null,null,"",null,null,"","",null,null,""]
[null,2147,null,null,null,null,null,"",null,null,"","",null,null,""]
[null,2148,null,null,null,null,null,"",null,null,"","",null,null,""]
[null,2149,null,null,null,null,null,"",null,null,"","",null,null,""]
[null,2150,null,null,null,null,null,"",null,null,"","",null,null,""]
[null,2151,null,null,null,null,null,"",null,null,"","",null,null,""]
[null,2152,null,null,null,null,null,"",null,null,"","",null,null,""]
[null,2153,null,null,null,null,null,"",null,null,"","",null,null,""]
[null,2154,null,null,null,null,null,"",null,null,"","",null,null,""]
[null,2155,null,null,null,null,null,"",null,null,"","",null,null,""]
[null,2156,null,null,null,null,null,"",null,null,"","",null,null,""]
[null,2157,null,null,null,null,null,"",null,null,"","",null,null,""]
[null,2158,null,null,null,null,null,"",null,null,"","",null,null,""]
[null,2159,null,null,null,null,null,"",null,null,"","",null,null,""]
[null,2160,null,null,null,null,null,"",null,null,"","",null,null,""]
[null,2161,null,null,null,null,null,"",null,null,"","",null,null,""]
[null,2162,null,null,null,null,null,"",null,null,"","",null,null,""]
[null,2163,null,null,null,null,null,"",null,null,"","",null,null,""]
[null,2164,null,null,null,null,null,"",null,null,"","",null,null,""]
[null,2165,null,null,null,null,null,"",null,null,"","",null,null,""]
[null,2166,null,null,null,null,null,"",null,null,"","",null,null,""]
[null,2167,null,null,null,null,null,"",null,null,"","",null,null,""]
[null,2168,null,null,null,null,null,"",null,null,"","",null,null,""]
[null,2169,null,null,null,null,null,"",null,null,"",{"$f":"IF(K2185=\"\",\"\",K2185/$E$2)","v":""},null,null,{"$f":"IF(OR(L2185=0,L2185=\"\",G2185=\"\"),\"\",IF(L2185<=14000,\"Poniżej 14 000 EUR\",IF(AND(OR(G2185=\"Dostawy\",G2185=\"Usługi\"),L2185<=$P$2),\"Poniżej progu unijnego\",IF(AND(G2185=\"Roboty budowlane\",L2185<=$R$2),\"Poniżej progu unijnego\",\"Powyżej progu unijnego\"))))","v":""}]
[null,2170,null,null,null,null,null,"",null,null,"","",null,null,""]
[null,2171,null,null,null,null,null,"",null,null,"","",null,null,""]
[null,2172,null,null,null,null,null,"",null,null,"","",null,null,""]
[null,2173,null,null,null,null,null,"",null,null,"","",null,null,""]
[null,2174,null,null,null,null,null,"",null,null,"","",null,null,""]
[null,2175,null,null,null,null,null,"",null,null,"","",null,null,""]
[null,2176,null,null,null,null,null,"",null,null,"","",null,null,""]
[null,2177,null,null,null,null,null,"",null,null,"","",null,null,""]
[null,2178,null,null,null,null,null,{"$f":"IF(F2194=\"\",\"\",IF(AND(F2194=\"Dostawy\",G2194<>\"\"),LEFT(G2194,2)&MID(G2194,4,1),\"\"))","v":""},null,null,{"$f":"IF(J2194=\"\",\"\",J2194/$E$2)","v":""},"",null,null,""]
[null,2179,null,null,null,null,null,"",null,null,"","",null,null,""]
[null,2180,null,null,null,null,null,"",null,null,"","",null,null,""]
[null,2181,null,null,null,null,null,"",null,null,"","",null,null,""]
[null,2182,null,null,null,null,null,"",null,null,"","",null,null,""]
[null,2183,null,null,null,null,null,"",null,null,"","",null,null,""]
[null,2184,null,null,null,null,null,"",null,null,"","",null,null,""]
[null,2185,null,null,null,null,null,"",null,null,"","",null,null,""]
[null,2186,null,null,null,null,null,"",null,null,"","",null,null,""]
[null,2187,null,null,null,null,null,"",null,null,"","",null,null,""]
[null,2188,null,null,null,null,null,"",null,null,"","",null,null,""]
[null,2189,null,null,null,null,null,"",null,null,"","",null,null,""]
[null,2190,null,null,null,null,null,"",null,null,"","",null,null,""]
[null,2191,null,null,null,null,null,"",null,null,"","",null,null,""]
[null,2192,null,null,null,null,null,"",null,null,"","",null,null,""]
[null,2193,null,null,null,null,null,"",null,null,"","",null,null,""]
[null,2194,null,null,null,null,null,"",null,null,"","",null,null,""]
[null,2195,null,null,null,null,null,"",null,null,"","",null,null,""]
[null,2196,null,null,null,null,null,"",null,null,"","",null,null,""]
[null,2197,null,null,null,null,null,"",null,null,"","",null,null,""]
[null,2198,null,null,null,null,null,"",null,null,"","",null,null,""]
[null,2199,null,null,null,null,null,"",null,null,"","",null,null,""]
[null,2200,null,null,null,null,null,"",null,null,"","",null,null,""]
[null,2201,null,null,null,null,null,"",null,null,"","",null,null,""]
[null,2202,null,null,null,null,null,"",null,null,"","",null,null,""]
[null,2203,null,null,null,null,null,"",null,null,"","",null,null,""]
[null,2204,null,null,null,null,null,"",null,null,"","",null,null,""]
[null,2205,null,null,null,null,null,"",null,null,"","",null,null,""]
[null,2206,null,null,null,null,null,"",null,null,"","",null,null,""]
[null,2207,null,null,null,null,null,"",null,null,"","",null,null,""]
[null,2208,null,null,null,null,null,"",null,null,"","",null,null,""]
[null,2209,null,null,null,null,null,"",null,null,"","",null,null,""]
[null,2210,null,null,null,null,null,"",null,null,"","",null,null,""]
[null,2211,null,null,null,null,null,"",null,null,"","",null,null,""]
[null,2212,null,null,null,null,null,"",null,null,"","",null,null,""]
[null,2213,null,null,null,null,null,"",null,null,"","",null,null,""]
[null,2214,null,null,null,null,null,"",null,null,"","",null,null,""]
[null,2215,null,null,null,null,null,"",null,null,"","",null,null,""]
[null,2216,null,null,null,null,null,"",null,null,"","",null,null,""]
[null,2217,null,null,null,null,null,"",null,null,"","",null,null,""]
[null,2218,null,null,null,null,null,"",null,null,"","",null,null,""]
[null,2219,null,null,null,null,null,"",null,null,"","",null,null,""]
[null,2220,null,null,null,null,null,"",null,null,"","",null,null,""]
[null,2221,null,null,null,null,null,"",null,null,"","",null,null,""]
[null,2222,null,null,null,null,null,"",null,null,"","",null,null,""]
[null,2223,null,null,null,null,null,"",null,null,"","",null,null,""]
[null,2224,null,null,null,null,null,"",null,null,"","",null,null,""]
[null,2225,null,null,null,null,null,"",null,null,"","",null,null,""]
[null,2226,null,null,null,null,null,"",null,null,"","",null,null,""]
[null,2227,null,null,null,null,null,"",null,null,"","",null,null,""]
[null,2228,null,null,null,null,null,"",null,null,"","",null,null,""]
[null,2229,null,null,null,null,null,"",null,null,"","",null,null,""]
[null,2230,null,null,null,null,null,"",null,null,"","",null,null,""]
[null,2231,null,null,null,null,null,"",null,null,"","",null,null,""]
[null,2232,null,null,null,null,null,"",null,null,"","",null,null,""]
[null,2233,null,null,null,null,null,"",null,null,"",{"$f":"IF(K2249=\"\",\"\",K2249/$E$2)","v":""},null,null,{"$f":"IF(OR(L2249=0,L2249=\"\",G2249=\"\"),\"\",IF(L2249<=14000,\"Poniżej 14 000 EUR\",IF(AND(OR(G2249=\"Dostawy\",G2249=\"Usługi\"),L2249<=$P$2),\"Poniżej progu unijnego\",IF(AND(G2249=\"Roboty budowlane\",L2249<=$R$2),\"Poniżej progu unijnego\",\"Powyżej progu unijnego\"))))","v":""}]
[null,2234,null,null,null,null,null,"",null,null,"","",null,null,""]
[null,2235,null,null,null,null,null,"",null,null,"","",null,null,""]
[null,2236,null,null,null,null,null,"",null,null,"","",null,null,""]
[null,2237,null,null,null,null,null,"",null,null,"","",null,null,""]
[null,2238,null,null,null,null,null,"",null,null,"","",null,null,""]
[null,2239,null,null,null,null,null,"",null,null,"","",null,null,""]
[null,2240,null,null,null,null,null,"",null,null,"","",null,null,""]
[null,2241,null,null,null,null,null,"",null,null,"","",null,null,""]
[null,2242,null,null,null,null,null,{"$f":"IF(F2258=\"\",\"\",IF(AND(F2258=\"Dostawy\",G2258<>\"\"),LEFT(G2258,2)&MID(G2258,4,1),\"\"))","v":""},null,null,{"$f":"IF(J2258=\"\",\"\",J2258/$E$2)","v":""},"",null,null,""]
[null,2243,null,null,null,null,null,"",null,null,"","",null,null,""]
[null,2244,null,null,null,null,null,"",null,null,"","",null,null,""]
[null,2245,null,null,null,null,null,"",null,null,"","",null,null,""]
[null,2246,null,null,null,null,null,"",null,null,"","",null,null,""]
[null,2247,null,null,null,null,null,"",null,null,"","",null,null,""]
[null,2248,null,null,null,null,null,"",null,null,"","",null,null,""]
[null,2249,null,null,null,null,null,"",null,null,"","",null,null,""]
[null,2250,null,null,null,null,null,"",null,null,"","",null,null,""]
[null,2251,null,null,null,null,null,"",null,null,"","",null,null,""]
[null,2252,null,null,null,null,null,"",null,null,"","",null,null,""]
[null,2253,null,null,null,null,null,"",null,null,"","",null,null,""]
[null,2254,null,null,null,null,null,"",null,null,"","",null,null,""]
[null,2255,null,null,null,null,null,"",null,null,"","",null,null,""]
[null,2256,null,null,null,null,null,"",null,null,"","",null,null,""]
[null,2257,null,null,null,null,null,"",null,null,"","",null,null,""]
[null,2258,null,null,null,null,null,"",null,null,"","",null,null,""]
[null,2259,null,null,null,null,null,"",null,null,"","",null,null,""]
[null,2260,null,null,null,null,null,"",null,null,"","",null,null,""]
[null,2261,null,null,null,null,null,"",null,null,"","",null,null,""]
[null,2262,null,null,null,null,null,"",null,null,"","",null,null,""]
[null,2263,null,null,null,null,null,"",null,null,"","",null,null,""]
[null,2264,null,null,null,null,null,"",null,null,"","",null,null,""]
[null,2265,null,null,null,null,null,"",null,null,"","",null,null,""]
[null,2266,null,null,null,null,null,"",null,null,"","",null,null,""]
[null,2267,null,null,null,null,null,"",null,null,"","",null,null,""]
[null,2268,null,null,null,null,null,"",null,null,"","",null,null,""]
[null,2269,null,null,null,null,null,"",null,null,"","",null,null,""]
[null,2270,null,null,null,null,null,"",null,null,"","",null,null,""]
[null,2271,null,null,null,null,null,"",null,null,"","",null,null,""]
[null,2272,null,null,null,null,null,"",null,null,"","",null,null,""]
[null,2273,null,null,null,null,null,"",null,null,"","",null,null,""]
[null,2274,null,null,null,null,null,"",null,null,"","",null,null,""]
[null,2275,null,null,null,null,null,"",null,null,"","",null,null,""]
[null,2276,null,null,null,null,null,"",null,null,"","",null,null,""]
[null,2277,null,null,null,null,null,"",null,null,"","",null,null,""]
[null,2278,null,null,null,null,null,"",null,null,"","",null,null,""]
[null,2279,null,null,null,null,null,"",null,null,"","",null,null,""]
[null,2280,null,null,null,null,null,"",null,null,"","",null,null,""]
[null,2281,null,null,null,null,null,"",null,null,"","",null,null,""]
[null,2282,null,null,null,null,null,"",null,null,"","",null,null,""]
[null,2283,null,null,null,null,null,"",null,null,"","",null,null,""]
[null,2284,null,null,null,null,null,"",null,null,"","",null,null,""]
[null,2285,null,null,null,null,null,"",null,null,"","",null,null,""]
[null,2286,null,null,null,null,null,"",null,null,"","",null,null,""]
[null,2287,null,null,null,null,null,"",null,null,"","",null,null,""]
[null,2288,null,null,null,null,null,"",null,null,"","",null,null,""]
[null,2289,null,null,null,null,null,"",null,null,"","",null,null,""]
[null,2290,null,null,null,null,null,"",null,null,"","",null,null,""]
[null,2291,null,null,null,null,null,"",null,null,"","",null,null,""]
[null,2292,null,null,null,null,null,"",null,null,"","",null,null,""]
[null,2293,null,null,null,null,null,"",null,null,"","",null,null,""]
[null,2294,null,null,null,null,null,"",null,null,"","",null,null,""]
[null,2295,null,null,null,null,null,"",null,null,"","",null,null,""]
[null,2296,null,null,null,null,null,"",null,null,"","",null,null,""]
[null,2297,null,null,null,null,null,"",null,null,"",{"$f":"IF(K2313=\"\",\"\",K2313/$E$2)","v":""},null,null,{"$f":"IF(OR(L2313=0,L2313=\"\",G2313=\"\"),\"\",IF(L2313<=14000,\"Poniżej 14 000 EUR\",IF(AND(OR(G2313=\"Dostawy\",G2313=\"Usługi\"),L2313<=$P$2),\"Poniżej progu unijnego\",IF(AND(G2313=\"Roboty budowlane\",L2313<=$R$2),\"Poniżej progu unijnego\",\"Powyżej progu unijnego\"))))","v":""}]
[null,2298,null,null,null,null,null,"",null,null,"","",null,null,""]
[null,2299,null,null,null,null,null,"",null,null,"","",null,null,""]
[null,2300,null,null,null,null,null,"",null,null,"","",null,null,""]
[null,2301,null,null,null,null,null,"",null,null,"","",null,null,""]
[null,2302,null,null,null,null,null,"",null,null,"","",null,null,""]
[null,2303,null,null,null,null,null,"",null,null,"","",null,null,""]
[null,2304,null,null,null,null,null,"",null,null,"","",null,null,""]
[null,2305,null,null,null,null,null,"",null,null,"","",null,null,""]
[null,2306,null,null,null,null,null,{"$f":"IF(F2322=\"\",\"\",IF(AND(F2322=\"Dostawy\",G2322<>\"\"),LEFT(G2322,2)&MID(G2322,4,1),\"\"))","v":""},null,null,{"$f":"IF(J2322=\"\",\"\",J2322/$E$2)","v":""},"",null,null,""]
[null,2307,null,null,null,null,null,"",null,null,"","",null,null,""]
[null,2308,null,null,null,null,null,"",null,null,"","",null,null,""]
[null,2309,null,null,null,null,null,"",null,null,"","",null,null,""]
[null,2310,null,null,null,null,null,"",null,null,"","",null,null,""]
[null,2311,null,null,null,null,null,"",null,null,"","",null,null,""]
[null,2312,null,null,null,null,null,"",null,null,"","",null,null,""]
[null,2313,null,null,null,null,null,"",null,null,"","",null,null,""]
[null,2314,null,null,null,null,null,"",null,null,"","",null,null,""]
[null,2315,null,null,null,null,null,"",null,null,"","",null,null,""]
[null,2316,null,null,null,null,null,"",null,null,"","",null,null,""]
[null,2317,null,null,null,null,null,"",null,null,"","",null,null,""]
[null,2318,null,null,null,null,null,"",null,null,"","",null,null,""]
[null,2319,null,null,null,null,null,"",null,null,"","",null,null,""]
[null,2320,null,null,null,null,null,"",null,null,"","",null,null,""]
[null,2321,null,null,null,null,null,"",null,null,"","",null,null,""]
[null,2322,null,null,null,null,null,"",null,null,"","",null,null,""]
[null,2323,null,null,null,null,null,"",null,null,"","",null,null,""]
[null,2324,null,null,null,null,null,"",null,null,"","",null,null,""]
[null,2325,null,null,null,null,null,"",null,null,"","",null,null,""]
[null,2326,null,null,null,null,null,"",null,null,"","",null,null,""]
[null,2327,null,null,null,null,null,"",null,null,"","",null,null,""]
[null,2328,null,null,null,null,null,"",null,null,"","",null,null,""]
[null,2329,null,null,null,null,null,"",null,null,"","",null,null,""]
[null,2330,null,null,null,null,null,"",null,null,"","",null,null,""]
[null,2331,null,null,null,null,null,"",null,null,"","",null,null,""]
[null,2332,null,null,null,null,null,"",null,null,"","",null,null,""]
[null,2333,null,null,null,null,null,"",null,null,"","",null,null,""]
[null,2334,null,null,null,null,null,"",null,null,"","",null,null,""]
[null,2335,null,null,null,null,null,"",null,null,"","",null,null,""]
[null,2336,null,null,null,null,null,"",null,null,"","",null,null,""]
[null,2337,null,null,null,null,null,"",null,null,"","",null,null,""]
[null,2338,null,null,null,null,null,"",null,null,"","",null,null,""]
[null,2339,null,null,null,null,null,"",null,null,"","",null,null,""]
[null,2340,null,null,null,null,null,"",null,null,"","",null,null,""]
[null,2341,null,null,null,null,null,"",null,null,"","",null,null,""]
[null,2342,null,null,null,null,null,"",null,null,"","",null,null,""]
[null,2343,null,null,null,null,null,"",null,null,"","",null,null,""]
[null,2344,null,null,null,null,null,"",null,null,"","",null,null,""]
[null,2345,null,null,null,null,null,"",null,null,"","",null,null,""]
[null,2346,null,null,null,null,null,"",null,null,"","",null,null,""]
[null,2347,null,null,null,null,null,"",null,null,"","",null,null,""]
[null,2348,null,null,null,null,null,"",null,null,"","",null,null,""]
[null,2349,null,null,null,null,null,"",null,null,"","",null,null,""]
[null,2350,null,null,null,null,null,"",null,null,"","",null,null,""]
[null,2351,null,null,null,null,null,"",null,null,"","",null,null,""]
[null,2352,null,null,null,null,null,"",null,null,"","",null,null,""]
[null,2353,null,null,null,null,null,"",null,null,"","",null,null,""]
[null,2354,null,null,null,null,null,"",null,null,"","",null,null,""]
[null,2355,null,null,null,null,null,"",null,null,"","",null,null,""]
[null,2356,null,null,null,null,null,"",null,null,"","",null,null,""]
[null,2357,null,null,null,null,null,"",null,null,"","",null,null,""]
[null,2358,null,null,null,null,null,"",null,null,"","",null,null,""]
[null,2359,null,null,null,null,null,"",null,null,"","",null,null,""]
[null,2360,null,null,null,null,null,"",null,null,"","",null,null,""]
[null,2361,null,null,null,null,null,"",null,null,"",{"$f":"IF(K2377=\"\",\"\",K2377/$E$2)","v":""},null,null,{"$f":"IF(OR(L2377=0,L2377=\"\",G2377=\"\"),\"\",IF(L2377<=14000,\"Poniżej 14 000 EUR\",IF(AND(OR(G2377=\"Dostawy\",G2377=\"Usługi\"),L2377<=$P$2),\"Poniżej progu unijnego\",IF(AND(G2377=\"Roboty budowlane\",L2377<=$R$2),\"Poniżej progu unijnego\",\"Powyżej progu unijnego\"))))","v":""}]
[null,2362,null,null,null,null,null,"",null,null,"","",null,null,""]
[null,2363,null,null,null,null,null,"",null,null,"","",null,null,""]
[null,2364,null,null,null,null,null,"",null,null,"","",null,null,""]
[null,2365,null,null,null,null,null,"",null,null,"","",null,null,""]
[null,2366,null,null,null,null,null,"",null,null,"","",null,null,""]
[null,2367,null,null,null,null,null,"",null,null,"","",null,null,""]
[null,2368,null,null,null,null,null,"",null,null,"","",null,null,""]
[null,2369,null,null,null,null,null,"",null,null,"","",null,null,""]
[null,2370,null,null,null,null,null,{"$f":"IF(F2386=\"\",\"\",IF(AND(F2386=\"Dostawy\",G2386<>\"\"),LEFT(G2386,2)&MID(G2386,4,1),\"\"))","v":""},null,null,{"$f":"IF(J2386=\"\",\"\",J2386/$E$2)","v":""},"",null,null,""]
[null,2371,null,null,null,null,null,"",null,null,"","",null,null,""]
[null,2372,null,null,null,null,null,"",null,null,"","",null,null,""]
[null,2373,null,null,null,null,null,"",null,null,"","",null,null,""]
[null,2374,null,null,null,null,null,"",null,null,"","",null,null,""]
[null,2375,null,null,null,null,null,"",null,null,"","",null,null,""]
[null,2376,null,null,null,null,null,"",null,null,"","",null,null,""]
[null,2377,null,null,null,null,null,"",null,null,"","",null,null,""]
[null,2378,null,null,null,null,null,"",null,null,"","",null,null,""]
[null,2379,null,null,null,null,null,"",null,null,"","",null,null,""]
[null,2380,null,null,null,null,null,"",null,null,"","",null,null,""]
[null,2381,null,null,null,null,null,"",null,null,"","",null,null,""]
[null,2382,null,null,null,null,null,"",null,null,"","",null,null,""]
[null,2383,null,null,null,null,null,"",null,null,"","",null,null,""]
[null,2384,null,null,null,null,null,"",null,null,"","",null,null,""]
[null,2385,null,null,null,null,null,"",null,null,"","",null,null,""]
[null,2386,null,null,null,null,null,"",null,null,"","",null,null,""]
[null,2387,null,null,null,null,null,"",null,null,"","",null,null,""]
[null,2388,null,null,null,null,null,"",null,null,"","",null,null,""]
[null,2389,null,null,null,null,null,"",null,null,"","",null,null,""]
[null,2390,null,null,null,null,null,"",null,null,"","",null,null,""]
[null,2391,null,null,null,null,null,"",null,null,"","",null,null,""]
[null,2392,null,null,null,null,null,"",null,null,"","",null,null,""]
[null,2393,null,null,null,null,null,"",null,null,"","",null,null,""]
[null,2394,null,null,null,null,null,"",null,null,"","",null,null,""]
[null,2395,null,null,null,null,null,"",null,null,"","",null,null,""]
[null,2396,null,null,null,null,null,"",null,null,"","",null,null,""]
[null,2397,null,null,null,null,null,"",null,null,"","",null,null,""]
[null,2398,null,null,null,null,null,"",null,null,"","",null,null,""]
[null,2399,null,null,null,null,null,"",null,null,"","",null,null,""]
[null,2400,null,null,null,null,null,"",null,null,"","",null,null,""]
[null,2401,null,null,null,null,null,"",null,null,"","",null,null,""]
[null,2402,null,null,null,null,null,"",null,null,"","",null,null,""]
[null,2403,null,null,null,null,null,"",null,null,"","",null,null,""]
[null,2404,null,null,null,null,null,"",null,null,"","",null,null,""]
[null,2405,null,null,null,null,null,"",null,null,"","",null,null,""]
[null,2406,null,null,null,null,null,"",null,null,"","",null,null,""]
[null,2407,null,null,null,null,null,"",null,null,"","",null,null,""]
[null,2408,null,null,null,null,null,"",null,null,"","",null,null,""]
[null,2409,null,null,null,null,null,"",null,null,"","",null,null,""]
[null,2410,null,null,null,null,null,"",null,null,"","",null,null,""]
[null,2411,null,null,null,null,null,"",null,null,"","",null,null,""]
[null,2412,null,null,null,null,null,"",null,null,"","",null,null,""]
[null,2413,null,null,null,null,null,"",null,null,"","",null,null,""]
[null,2414,null,null,null,null,null,"",null,null,"","",null,null,""]
[null,2415,null,null,null,null,null,"",null,null,"","",null,null,""]
[null,2416,null,null,null,null,null,"",null,null,"","",null,null,""]
[null,2417,null,null,null,null,null,"",null,null,"","",null,null,""]
[null,2418,null,null,null,null,null,"",null,null,"","",null,null,""]
[null,2419,null,null,null,null,null,"",null,null,"","",null,null,""]
[null,2420,null,null,null,null,null,"",null,null,"","",null,null,""]
[null,2421,null,null,null,null,null,"",null,null,"","",null,null,""]
[null,2422,null,null,null,null,null,"",null,null,"","",null,null,""]
[null,2423,null,null,null,null,null,"",null,null,"","",null,null,""]
[null,2424,null,null,null,null,null,"",null,null,"","",null,null,""]
[null,2425,null,null,null,null,null,"",null,null,"",{"$f":"IF(K2441=\"\",\"\",K2441/$E$2)","v":""},null,null,{"$f":"IF(OR(L2441=0,L2441=\"\",G2441=\"\"),\"\",IF(L2441<=14000,\"Poniżej 14 000 EUR\",IF(AND(OR(G2441=\"Dostawy\",G2441=\"Usługi\"),L2441<=$P$2),\"Poniżej progu unijnego\",IF(AND(G2441=\"Roboty budowlane\",L2441<=$R$2),\"Poniżej progu unijnego\",\"Powyżej progu unijnego\"))))","v":""}]
[null,2426,null,null,null,null,null,"",null,null,"","",null,null,""]
[null,2427,null,null,null,null,null,"",null,null,"","",null,null,""]
[null,2428,null,null,null,null,null,"",null,null,"","",null,null,""]
[null,2429,null,null,null,null,null,"",null,null,"","",null,null,""]
[null,2430,null,null,null,null,null,"",null,null,"","",null,null,""]
[null,2431,null,null,null,null,null,"",null,null,"","",null,null,""]
[null,2432,null,null,null,null,null,"",null,null,"","",null,null,""]
[null,2433,null,null,null,null,null,"",null,null,"","",null,null,""]
[null,2434,null,null,null,null,null,{"$f":"IF(F2450=\"\",\"\",IF(AND(F2450=\"Dostawy\",G2450<>\"\"),LEFT(G2450,2)&MID(G2450,4,1),\"\"))","v":""},null,null,{"$f":"IF(J2450=\"\",\"\",J2450/$E$2)","v":""},"",null,null,""]
[null,2435,null,null,null,null,null,"",null,null,"","",null,null,""]
[null,2436,null,null,null,null,null,"",null,null,"","",null,null,""]
[null,2437,null,null,null,null,null,"",null,null,"","",null,null,""]
[null,2438,null,null,null,null,null,"",null,null,"","",null,null,""]
[null,2439,null,null,null,null,null,"",null,null,"","",null,null,""]
[null,2440,null,null,null,null,null,"",null,null,"","",null,null,""]
[null,2441,null,null,null,null,null,"",null,null,"","",null,null,""]
[null,2442,null,null,null,null,null,"",null,null,"","",null,null,""]
[null,2443,null,null,null,null,null,"",null,null,"","",null,null,""]
[null,2444,null,null,null,null,null,"",null,null,"","",null,null,""]
[null,2445,null,null,null,null,null,"",null,null,"","",null,null,""]
[null,2446,null,null,null,null,null,"",null,null,"","",null,null,""]
[null,2447,null,null,null,null,null,"",null,null,"","",null,null,""]
[null,2448,null,null,null,null,null,"",null,null,"","",null,null,""]
[null,2449,null,null,null,null,null,"",null,null,"","",null,null,""]
[null,2450,null,null,null,null,null,"",null,null,"","",null,null,""]
[null,2451,null,null,null,null,null,"",null,null,"","",null,null,""]
[null,2452,null,null,null,null,null,"",null,null,"","",null,null,""]
[null,2453,null,null,null,null,null,"",null,null,"","",null,null,""]
[null,2454,null,null,null,null,null,"",null,null,"","",null,null,""]
[null,2455,null,null,null,null,null,"",null,null,"","",null,null,""]
[null,2456,null,null,null,null,null,"",null,null,"","",null,null,""]
[null,2457,null,null,null,null,null,"",null,null,"","",null,null,""]
[null,2458,null,null,null,null,null,"",null,null,"","",null,null,""]
[null,2459,null,null,null,null,null,"",null,null,"","",null,null,""]
[null,2460,null,null,null,null,null,"",null,null,"","",null,null,""]
[null,2461,null,null,null,null,null,"",null,null,"","",null,null,""]
[null,2462,null,null,null,null,null,"",null,null,"","",null,null,""]
[null,2463,null,null,null,null,null,"",null,null,"","",null,null,""]
[null,2464,null,null,null,null,null,"",null,null,"","",null,null,""]
[null,2465,null,null,null,null,null,"",null,null,"","",null,null,""]
[null,2466,null,null,null,null,null,"",null,null,"","",null,null,""]
[null,2467,null,null,null,null,null,"",null,null,"","",null,null,""]
[null,2468,null,null,null,null,null,"",null,null,"","",null,null,""]
[null,2469,null,null,null,null,null,"",null,null,"","",null,null,""]
[null,2470,null,null,null,null,null,"",null,null,"","",null,null,""]
[null,2471,null,null,null,null,null,"",null,null,"","",null,null,""]
[null,2472,null,null,null,null,null,"",null,null,"","",null,null,""]
[null,2473,null,null,null,null,null,"",null,null,"","",null,null,""]
[null,2474,null,null,null,null,null,"",null,null,"","",null,null,""]
[null,2475,null,null,null,null,null,"",null,null,"","",null,null,""]
[null,2476,null,null,null,null,null,"",null,null,"","",null,null,""]
[null,2477,null,null,null,null,null,"",null,null,"","",null,null,""]
[null,2478,null,null,null,null,null,"",null,null,"","",null,null,""]
[null,2479,null,null,null,null,null,"",null,null,"","",null,null,""]
[null,2480,null,null,null,null,null,"",null,null,"","",null,null,""]
[null,2481,null,null,null,null,null,"",null,null,"","",null,null,""]
[null,2482,null,null,null,null,null,"",null,null,"","",null,null,""]
[null,2483,null,null,null,null,null,"",null,null,"","",null,null,""]
[null,2484,null,null,null,null,null,"",null,null,"","",null,null,""]
[null,2485,null,null,null,null,null,"",null,null,"","",null,null,""]
[null,2486,null,null,null,null,null,"",null,null,"","",null,null,""]
[null,2487,null,null,null,null,null,"",null,null,"","",null,null,""]
[null,2488,null,null,null,null,null,"",null,null,"","",null,null,""]
[null,2489,null,null,null,null,null,"",null,null,"",{"$f":"IF(K2505=\"\",\"\",K2505/$E$2)","v":""},null,null,{"$f":"IF(OR(L2505=0,L2505=\"\",G2505=\"\"),\"\",IF(L2505<=14000,\"Poniżej 14 000 EUR\",IF(AND(OR(G2505=\"Dostawy\",G2505=\"Usługi\"),L2505<=$P$2),\"Poniżej progu unijnego\",IF(AND(G2505=\"Roboty budowlane\",L2505<=$R$2),\"Poniżej progu unijnego\",\"Powyżej progu unijnego\"))))","v":""}]
[null,2490,null,null,null,null,null,"",null,null,"","",null,null,""]
[null,2491,null,null,null,null,null,"",null,null,"","",null,null,""]
[null,2492,null,null,null,null,null,"",null,null,"","",null,null,""]
[null,2493,null,null,null,null,null,"",null,null,"","",null,null,""]
[null,2494,null,null,null,null,null,"",null,null,"","",null,null,""]
[null,2495,null,null,null,null,null,"",null,null,"","",null,null,""]
[null,2496,null,null,null,null,null,"",null,null,"","",null,null,""]
[null,2497,null,null,null,null,null,"",null,null,"","",null,null,""]
[null,2498,null,null,null,null,null,{"$f":"IF(F2514=\"\",\"\",IF(AND(F2514=\"Dostawy\",G2514<>\"\"),LEFT(G2514,2)&MID(G2514,4,1),\"\"))","v":""},null,null,{"$f":"IF(J2514=\"\",\"\",J2514/$E$2)","v":""},"",null,null,""]
[null,2499,null,null,null,null,null,"",null,null,"","",null,null,""]
[null,2500,null,null,null,null,null,"",null,null,"","",null,null,""]
[null,2501,null,null,null,null,null,"",null,null,"","",null,null,""]
[null,2502,null,null,null,null,null,"",null,null,"","",null,null,""]
[null,2503,null,null,null,null,null,"",null,null,"","",null,null,""]
[null,2504,null,null,null,null,null,"",null,null,"","",null,null,""]
[null,2505,null,null,null,null,null,"",null,null,"","",null,null,""]
[null,2506,null,null,null,null,null,"",null,null,"","",null,null,""]
[null,2507,null,null,null,null,null,"",null,null,"","",null,null,""]
[null,2508,null,null,null,null,null,"",null,null,"","",null,null,""]
[null,2509,null,null,null,null,null,"",null,null,"","",null,null,""]
[null,2510,null,null,null,null,null,"",null,null,"","",null,null,""]
[null,2511,null,null,null,null,null,"",null,null,"","",null,null,""]
[null,2512,null,null,null,null,null,"",null,null,"","",null,null,""]
[null,2513,null,null,null,null,null,"",null,null,"","",null,null,""]
[null,2514,null,null,null,null,null,"",null,null,"","",null,null,""]
[null,2515,null,null,null,null,null,"",null,null,"","",null,null,""]
[null,2516,null,null,null,null,null,"",null,null,"","",null,null,""]
[null,2517,null,null,null,null,null,"",null,null,"","",null,null,""]
[null,2518,null,null,null,null,null,"",null,null,"","",null,null,""]
[null,2519,null,null,null,null,null,"",null,null,"","",null,null,""]
[null,2520,null,null,null,null,null,"",null,null,"","",null,null,""]
[null,2521,null,null,null,null,null,"",null,null,"","",null,null,""]
[null,2522,null,null,null,null,null,"",null,null,"","",null,null,""]
[null,2523,null,null,null,null,null,"",null,null,"","",null,null,""]
[null,2524,null,null,null,null,null,"",null,null,"","",null,null,""]
[null,2525,null,null,null,null,null,"",null,null,"","",null,null,""]
[null,2526,null,null,null,null,null,"",null,null,"","",null,null,""]
[null,2527,null,null,null,null,null,"",null,null,"","",null,null,""]
[null,2528,null,null,null,null,null,"",null,null,"","",null,null,""]
[null,2529,null,null,null,null,null,"",null,null,"","",null,null,""]
[null,2530,null,null,null,null,null,"",null,null,"","",null,null,""]
[null,2531,null,null,null,null,null,"",null,null,"","",null,null,""]
[null,2532,null,null,null,null,null,"",null,null,"","",null,null,""]
[null,2533,null,null,null,null,null,"",null,null,"","",null,null,""]
[null,2534,null,null,null,null,null,"",null,null,"","",null,null,""]
[null,2535,null,null,null,null,null,"",null,null,"","",null,null,""]
[null,2536,null,null,null,null,null,"",null,null,"","",null,null,""]
[null,2537,null,null,null,null,null,"",null,null,"","",null,null,""]
[null,2538,null,null,null,null,null,"",null,null,"","",null,null,""]
[null,2539,null,null,null,null,null,"",null,null,"","",null,null,""]
[null,2540,null,null,null,null,null,"",null,null,"","",null,null,""]
[null,2541,null,null,null,null,null,"",null,null,"","",null,null,""]
[null,2542,null,null,null,null,null,"",null,null,"","",null,null,""]
[null,2543,null,null,null,null,null,"",null,null,"","",null,null,""]
[null,2544,null,null,null,null,null,"",null,null,"","",null,null,""]
[null,2545,null,null,null,null,null,"",null,null,"","",null,null,""]
[null,2546,null,null,null,null,null,"",null,null,"","",null,null,""]
[null,2547,null,null,null,null,null,"",null,null,"","",null,null,""]
[null,2548,null,null,null,null,null,"",null,null,"","",null,null,""]
[null,2549,null,null,null,null,null,"",null,null,"","",null,null,""]
[null,2550,null,null,null,null,null,"",null,null,"","",null,null,""]
[null,2551,null,null,null,null,null,"",null,null,"","",null,null,""]
[null,2552,null,null,null,null,null,"",null,null,"","",null,null,""]
[null,2553,null,null,null,null,null,"",null,null,"",{"$f":"IF(K2569=\"\",\"\",K2569/$E$2)","v":""},null,null,{"$f":"IF(OR(L2569=0,L2569=\"\",G2569=\"\"),\"\",IF(L2569<=14000,\"Poniżej 14 000 EUR\",IF(AND(OR(G2569=\"Dostawy\",G2569=\"Usługi\"),L2569<=$P$2),\"Poniżej progu unijnego\",IF(AND(G2569=\"Roboty budowlane\",L2569<=$R$2),\"Poniżej progu unijnego\",\"Powyżej progu unijnego\"))))","v":""}]
[null,2554,null,null,null,null,null,"",null,null,"","",null,null,""]
[null,2555,null,null,null,null,null,"",null,null,"","",null,null,""]
[null,2556,null,null,null,null,null,"",null,null,"","",null,null,""]
[null,2557,null,null,null,null,null,"",null,null,"","",null,null,""]
[null,2558,null,null,null,null,null,"",null,null,"","",null,null,""]
[null,2559,null,null,null,null,null,"",null,null,"","",null,null,""]
[null,2560,null,null,null,null,null,"",null,null,"","",null,null,""]
[null,2561,null,null,null,null,null,"",null,null,"","",null,null,""]
[null,2562,null,null,null,null,null,{"$f":"IF(F2578=\"\",\"\",IF(AND(F2578=\"Dostawy\",G2578<>\"\"),LEFT(G2578,2)&MID(G2578,4,1),\"\"))","v":""},null,null,{"$f":"IF(J2578=\"\",\"\",J2578/$E$2)","v":""},"",null,null,""]
[null,2563,null,null,null,null,null,"",null,null,"","",null,null,""]
[null,2564,null,null,null,null,null,"",null,null,"","",null,null,""]
[null,2565,null,null,null,null,null,"",null,null,"","",null,null,""]
[null,2566,null,null,null,null,null,"",null,null,"","",null,null,""]
[null,2567,null,null,null,null,null,"",null,null,"","",null,null,""]
[null,2568,null,null,null,null,null,"",null,null,"","",null,null,""]
[null,2569,null,null,null,null,null,"",null,null,"","",null,null,""]
[null,2570,null,null,null,null,null,"",null,null,"","",null,null,""]
[null,2571,null,null,null,null,null,"",null,null,"","",null,null,""]
[null,2572,null,null,null,null,null,"",null,null,"","",null,null,""]
[null,2573,null,null,null,null,null,"",null,null,"","",null,null,""]
[null,2574,null,null,null,null,null,"",null,null,"","",null,null,""]
[null,2575,null,null,null,null,null,"",null,null,"","",null,null,""]
[null,2576,null,null,null,null,null,"",null,null,"","",null,null,""]
[null,2577,null,null,null,null,null,"",null,null,"","",null,null,""]
[null,2578,null,null,null,null,null,"",null,null,"","",null,null,""]
[null,2579,null,null,null,null,null,"",null,null,"","",null,null,""]
[null,2580,null,null,null,null,null,"",null,null,"","",null,null,""]
[null,2581,null,null,null,null,null,"",null,null,"","",null,null,""]
[null,2582,null,null,null,null,null,"",null,null,"","",null,null,""]
[null,2583,null,null,null,null,null,"",null,null,"","",null,null,""]
[null,2584,null,null,null,null,null,"",null,null,"","",null,null,""]
[null,2585,null,null,null,null,null,"",null,null,"","",null,null,""]
[null,2586,null,null,null,null,null,"",null,null,"","",null,null,""]
[null,2587,null,null,null,null,null,"",null,null,"","",null,null,""]
[null,2588,null,null,null,null,null,"",null,null,"","",null,null,""]
[null,2589,null,null,null,null,null,"",null,null,"","",null,null,""]
[null,2590,null,null,null,null,null,"",null,null,"","",null,null,""]
[null,2591,null,null,null,null,null,"",null,null,"","",null,null,""]
[null,2592,null,null,null,null,null,"",null,null,"","",null,null,""]
[null,2593,null,null,null,null,null,"",null,null,"","",null,null,""]
[null,2594,null,null,null,null,null,"",null,null,"","",null,null,""]
[null,2595,null,null,null,null,null,"",null,null,"","",null,null,""]
[null,2596,null,null,null,null,null,"",null,null,"","",null,null,""]
[null,2597,null,null,null,null,null,"",null,null,"","",null,null,""]
[null,2598,null,null,null,null,null,"",null,null,"","",null,null,""]
[null,2599,null,null,null,null,null,"",null,null,"","",null,null,""]
[null,2600,null,null,null,null,null,"",null,null,"","",null,null,""]
[null,2601,null,null,null,null,null,"",null,null,"","",null,null,""]
[null,2602,null,null,null,null,null,"",null,null,"","",null,null,""]
[null,2603,null,null,null,null,null,"",null,null,"","",null,null,""]
[null,2604,null,null,null,null,null,"",null,null,"","",null,null,""]
[null,2605,null,null,null,null,null,"",null,null,"","",null,null,""]
[null,2606,null,null,null,null,null,"",null,null,"","",null,null,""]
[null,2607,null,null,null,null,null,"",null,null,"","",null,null,""]
[null,2608,null,null,null,null,null,"",null,null,"","",null,null,""]
[null,2609,null,null,null,null,null,"",null,null,"","",null,null,""]
[null,2610,null,null,null,null,null,"",null,null,"","",null,null,""]
[null,2611,null,null,null,null,null,"",null,null,"","",null,null,""]
[null,2612,null,null,null,null,null,"",null,null,"","",null,null,""]
[null,2613,null,null,null,null,null,"",null,null,"","",null,null,""]
[null,2614,null,null,null,null,null,"",null,null,"","",null,null,""]
[null,2615,null,null,null,null,null,"",null,null,"","",null,null,""]
[null,2616,null,null,null,null,null,"",null,null,"","",null,null,""]
[null,2617,null,null,null,null,null,"",null,null,"",{"$f":"IF(K2633=\"\",\"\",K2633/$E$2)","v":""},null,null,{"$f":"IF(OR(L2633=0,L2633=\"\",G2633=\"\"),\"\",IF(L2633<=14000,\"Poniżej 14 000 EUR\",IF(AND(OR(G2633=\"Dostawy\",G2633=\"Usługi\"),L2633<=$P$2),\"Poniżej progu unijnego\",IF(AND(G2633=\"Roboty budowlane\",L2633<=$R$2),\"Poniżej progu unijnego\",\"Powyżej progu unijnego\"))))","v":""}]
[null,2618,null,null,null,null,null,"",null,null,"","",null,null,""]
[null,2619,null,null,null,null,null,"",null,null,"","",null,null,""]
[null,2620,null,null,null,null,null,"",null,null,"","",null,null,""]
[null,2621,null,null,null,null,null,"",null,null,"","",null,null,""]
[null,2622,null,null,null,null,null,"",null,null,"","",null,null,""]
[null,2623,null,null,null,null,null,"",null,null,"","",null,null,""]
[null,2624,null,null,null,null,null,"",null,null,"","",null,null,""]
[null,2625,null,null,null,null,null,"",null,null,"","",null,null,""]
[null,2626,null,null,null,null,null,{"$f":"IF(F2642=\"\",\"\",IF(AND(F2642=\"Dostawy\",G2642<>\"\"),LEFT(G2642,2)&MID(G2642,4,1),\"\"))","v":""},null,null,{"$f":"IF(J2642=\"\",\"\",J2642/$E$2)","v":""},"",null,null,""]
[null,2627,null,null,null,null,null,"",null,null,"","",null,null,""]
[null,2628,null,null,null,null,null,"",null,null,"","",null,null,""]
[null,2629,null,null,null,null,null,"",null,null,"","",null,null,""]
[null,2630,null,null,null,null,null,"",null,null,"","",null,null,""]
[null,2631,null,null,null,null,null,"",null,null,"","",null,null,""]
[null,2632,null,null,null,null,null,"",null,null,"","",null,null,""]
[null,2633,null,null,null,null,null,"",null,null,"","",null,null,""]
[null,2634,null,null,null,null,null,"",null,null,"","",null,null,""]
[null,2635,null,null,null,null,null,"",null,null,"","",null,null,""]
[null,2636,null,null,null,null,null,"",null,null,"","",null,null,""]
[null,2637,null,null,null,null,null,"",null,null,"","",null,null,""]
[null,2638,null,null,null,null,null,"",null,null,"","",null,null,""]
[null,2639,null,null,null,null,null,"",null,null,"","",null,null,""]
[null,2640,null,null,null,null,null,"",null,null,"","",null,null,""]
[null,2641,null,null,null,null,null,"",null,null,"","",null,null,""]
[null,2642,null,null,null,null,null,"",null,null,"","",null,null,""]
[null,2643,null,null,null,null,null,"",null,null,"","",null,null,""]
[null,2644,null,null,null,null,null,"",null,null,"","",null,null,""]
[null,2645,null,null,null,null,null,"",null,null,"","",null,null,""]
[null,2646,null,null,null,null,null,"",null,null,"","",null,null,""]
[null,2647,null,null,null,null,null,"",null,null,"","",null,null,""]
[null,2648,null,null,null,null,null,"",null,null,"","",null,null,""]
[null,2649,null,null,null,null,null,"",null,null,"","",null,null,""]
[null,2650,null,null,null,null,null,"",null,null,"","",null,null,""]
[null,2651,null,null,null,null,null,"",null,null,"","",null,null,""]
[null,2652,null,null,null,null,null,"",null,null,"","",null,null,""]
[null,2653,null,null,null,null,null,"",null,null,"","",null,null,""]
[null,2654,null,null,null,null,null,"",null,null,"","",null,null,""]
[null,2655,null,null,null,null,null,"",null,null,"","",null,null,""]
[null,2656,null,null,null,null,null,"",null,null,"","",null,null,""]
[null,2657,null,null,null,null,null,"",null,null,"","",null,null,""]
[null,2658,null,null,null,null,null,"",null,null,"","",null,null,""]
[null,2659,null,null,null,null,null,"",null,null,"","",null,null,""]
[null,2660,null,null,null,null,null,"",null,null,"","",null,null,""]
[null,2661,null,null,null,null,null,"",null,null,"","",null,null,""]
[null,2662,null,null,null,null,null,"",null,null,"","",null,null,""]
[null,2663,null,null,null,null,null,"",null,null,"","",null,null,""]
[null,2664,null,null,null,null,null,"",null,null,"","",null,null,""]
[null,2665,null,null,null,null,null,"",null,null,"","",null,null,""]
[null,2666,null,null,null,null,null,"",null,null,"","",null,null,""]
[null,2667,null,null,null,null,null,"",null,null,"","",null,null,""]
[null,2668,null,null,null,null,null,"",null,null,"","",null,null,""]
[null,2669,null,null,null,null,null,"",null,null,"","",null,null,""]
[null,2670,null,null,null,null,null,"",null,null,"","",null,null,""]
[null,2671,null,null,null,null,null,"",null,null,"","",null,null,""]
[null,2672,null,null,null,null,null,"",null,null,"","",null,null,""]
[null,2673,null,null,null,null,null,"",null,null,"","",null,null,""]
[null,2674,null,null,null,null,null,"",null,null,"","",null,null,""]
[null,2675,null,null,null,null,null,"",null,null,"","",null,null,""]
[null,2676,null,null,null,null,null,"",null,null,"","",null,null,""]
[null,2677,null,null,null,null,null,"",null,null,"","",null,null,""]
[null,2678,null,null,null,null,null,"",null,null,"","",null,null,""]
[null,2679,null,null,null,null,null,"",null,null,"","",null,null,""]
[null,2680,null,null,null,null,null,"",null,null,"","",null,null,""]
[null,2681,null,null,null,null,null,"",null,null,"",{"$f":"IF(K2697=\"\",\"\",K2697/$E$2)","v":""},null,null,{"$f":"IF(OR(L2697=0,L2697=\"\",G2697=\"\"),\"\",IF(L2697<=14000,\"Poniżej 14 000 EUR\",IF(AND(OR(G2697=\"Dostawy\",G2697=\"Usługi\"),L2697<=$P$2),\"Poniżej progu unijnego\",IF(AND(G2697=\"Roboty budowlane\",L2697<=$R$2),\"Poniżej progu unijnego\",\"Powyżej progu unijnego\"))))","v":""}]
[null,2682,null,null,null,null,null,"",null,null,"","",null,null,""]
[null,2683,null,null,null,null,null,"",null,null,"","",null,null,""]
[null,2684,null,null,null,null,null,"",null,null,"","",null,null,""]
[null,2685,null,null,null,null,null,"",null,null,"","",null,null,""]
[null,2686,null,null,null,null,null,"",null,null,"","",null,null,""]
[null,2687,null,null,null,null,null,"",null,null,"","",null,null,""]
[null,2688,null,null,null,null,null,"",null,null,"","",null,null,""]
[null,2689,null,null,null,null,null,"",null,null,"","",null,null,""]
[null,2690,null,null,null,null,null,{"$f":"IF(F2706=\"\",\"\",IF(AND(F2706=\"Dostawy\",G2706<>\"\"),LEFT(G2706,2)&MID(G2706,4,1),\"\"))","v":""},null,null,{"$f":"IF(J2706=\"\",\"\",J2706/$E$2)","v":""},"",null,null,""]
[null,2691,null,null,null,null,null,"",null,null,"","",null,null,""]
[null,2692,null,null,null,null,null,"",null,null,"","",null,null,""]
[null,2693,null,null,null,null,null,"",null,null,"","",null,null,""]
[null,2694,null,null,null,null,null,"",null,null,"","",null,null,""]
[null,2695,null,null,null,null,null,"",null,null,"","",null,null,""]
[null,2696,null,null,null,null,null,"",null,null,"","",null,null,""]
[null,2697,null,null,null,null,null,"",null,null,"","",null,null,""]
[null,2698,null,null,null,null,null,"",null,null,"","",null,null,""]
[null,2699,null,null,null,null,null,"",null,null,"","",null,null,""]
[null,2700,null,null,null,null,null,"",null,null,"","",null,null,""]
[null,2701,null,null,null,null,null,"",null,null,"","",null,null,""]
[null,2702,null,null,null,null,null,"",null,null,"","",null,null,""]
[null,2703,null,null,null,null,null,"",null,null,"","",null,null,""]
[null,2704,null,null,null,null,null,"",null,null,"","",null,null,""]
[null,2705,null,null,null,null,null,"",null,null,"","",null,null,""]
[null,2706,null,null,null,null,null,"",null,null,"","",null,null,""]
[null,2707,null,null,null,null,null,"",null,null,"","",null,null,""]
[null,2708,null,null,null,null,null,"",null,null,"","",null,null,""]
[null,2709,null,null,null,null,null,"",null,null,"","",null,null,""]
[null,2710,null,null,null,null,null,"",null,null,"","",null,null,""]
[null,2711,null,null,null,null,null,"",null,null,"","",null,null,""]
[null,2712,null,null,null,null,null,"",null,null,"","",null,null,""]
[null,2713,null,null,null,null,null,"",null,null,"","",null,null,""]
[null,2714,null,null,null,null,null,"",null,null,"","",null,null,""]
[null,2715,null,null,null,null,null,"",null,null,"","",null,null,""]
[null,2716,null,null,null,null,null,"",null,null,"","",null,null,""]
[null,2717,null,null,null,null,null,"",null,null,"","",null,null,""]
[null,2718,null,null,null,null,null,"",null,null,"","",null,null,""]
[null,2719,null,null,null,null,null,"",null,null,"","",null,null,""]
[null,2720,null,null,null,null,null,"",null,null,"","",null,null,""]
[null,2721,null,null,null,null,null,"",null,null,"","",null,null,""]
[null,2722,null,null,null,null,null,"",null,null,"","",null,null,""]
[null,2723,null,null,null,null,null,"",null,null,"","",null,null,""]
[null,2724,null,null,null,null,null,"",null,null,"","",null,null,""]
[null,2725,null,null,null,null,null,"",null,null,"","",null,null,""]
[null,2726,null,null,null,null,null,"",null,null,"","",null,null,""]
[null,2727,null,null,null,null,null,"",null,null,"","",null,null,""]
[null,2728,null,null,null,null,null,"",null,null,"","",null,null,""]
[null,2729,null,null,null,null,null,"",null,null,"","",null,null,""]
[null,2730,null,null,null,null,null,"",null,null,"","",null,null,""]
[null,2731,null,null,null,null,null,"",null,null,"","",null,null,""]
[null,2732,null,null,null,null,null,"",null,null,"","",null,null,""]
[null,2733,null,null,null,null,null,"",null,null,"","",null,null,""]
[null,2734,null,null,null,null,null,"",null,null,"","",null,null,""]
[null,2735,null,null,null,null,null,"",null,null,"","",null,null,""]
[null,2736,null,null,null,null,null,"",null,null,"","",null,null,""]
[null,2737,null,null,null,null,null,"",null,null,"","",null,null,""]
[null,2738,null,null,null,null,null,"",null,null,"","",null,null,""]
[null,2739,null,null,null,null,null,"",null,null,"","",null,null,""]
[null,2740,null,null,null,null,null,"",null,null,"","",null,null,""]
[null,2741,null,null,null,null,null,"",null,null,"","",null,null,""]
[null,2742,null,null,null,null,null,"",null,null,"","",null,null,""]
[null,2743,null,null,null,null,null,"",null,null,"","",null,null,""]
[null,2744,null,null,null,null,null,"",null,null,"","",null,null,""]
[null,2745,null,null,null,null,null,"",null,null,"",{"$f":"IF(K2761=\"\",\"\",K2761/$E$2)","v":""},null,null,{"$f":"IF(OR(L2761=0,L2761=\"\",G2761=\"\"),\"\",IF(L2761<=14000,\"Poniżej 14 000 EUR\",IF(AND(OR(G2761=\"Dostawy\",G2761=\"Usługi\"),L2761<=$P$2),\"Poniżej progu unijnego\",IF(AND(G2761=\"Roboty budowlane\",L2761<=$R$2),\"Poniżej progu unijnego\",\"Powyżej progu unijnego\"))))","v":""}]
[null,2746,null,null,null,null,null,"",null,null,"","",null,null,""]
[null,2747,null,null,null,null,null,"",null,null,"","",null,null,""]
[null,2748,null,null,null,null,null,"",null,null,"","",null,null,""]
[null,2749,null,null,null,null,null,"",null,null,"","",null,null,""]
[null,2750,null,null,null,null,null,"",null,null,"","",null,null,""]
[null,2751,null,null,null,null,null,"",null,null,"","",null,null,""]
[null,2752,null,null,null,null,null,"",null,null,"","",null,null,""]
[null,2753,null,null,null,null,null,"",null,null,"","",null,null,""]
[null,2754,null,null,null,null,null,{"$f":"IF(F2770=\"\",\"\",IF(AND(F2770=\"Dostawy\",G2770<>\"\"),LEFT(G2770,2)&MID(G2770,4,1),\"\"))","v":""},null,null,{"$f":"IF(J2770=\"\",\"\",J2770/$E$2)","v":""},"",null,null,""]
[null,2755,null,null,null,null,null,"",null,null,"","",null,null,""]
[null,2756,null,null,null,null,null,"",null,null,"","",null,null,""]
[null,2757,null,null,null,null,null,"",null,null,"","",null,null,""]
[null,2758,null,null,null,null,null,"",null,null,"","",null,null,""]
[null,2759,null,null,null,null,null,"",null,null,"","",null,null,""]
[null,2760,null,null,null,null,null,"",null,null,"","",null,null,""]
[null,2761,null,null,null,null,null,"",null,null,"","",null,null,""]
[null,2762,null,null,null,null,null,"",null,null,"","",null,null,""]
[null,2763,null,null,null,null,null,"",null,null,"","",null,null,""]
[null,2764,null,null,null,null,null,"",null,null,"","",null,null,""]
[null,2765,null,null,null,null,null,"",null,null,"","",null,null,""]
[null,2766,null,null,null,null,null,"",null,null,"","",null,null,""]
[null,2767,null,null,null,null,null,"",null,null,"","",null,null,""]
[null,2768,null,null,null,null,null,"",null,null,"","",null,null,""]
[null,2769,null,null,null,null,null,"",null,null,"","",null,null,""]
[null,2770,null,null,null,null,null,"",null,null,"","",null,null,""]
[null,2771,null,null,null,null,null,"",null,null,"","",null,null,""]
[null,2772,null,null,null,null,null,"",null,null,"","",null,null,""]
[null,2773,null,null,null,null,null,"",null,null,"","",null,null,""]
[null,2774,null,null,null,null,null,"",null,null,"","",null,null,""]
[null,2775,null,null,null,null,null,"",null,null,"","",null,null,""]
[null,2776,null,null,null,null,null,"",null,null,"","",null,null,""]
[null,2777,null,null,null,null,null,"",null,null,"","",null,null,""]
[null,2778,null,null,null,null,null,"",null,null,"","",null,null,""]
[null,2779,null,null,null,null,null,"",null,null,"","",null,null,""]
[null,2780,null,null,null,null,null,"",null,null,"","",null,null,""]
[null,2781,null,null,null,null,null,"",null,null,"","",null,null,""]
[null,2782,null,null,null,null,null,"",null,null,"","",null,null,""]
[null,2783,null,null,null,null,null,"",null,null,"","",null,null,""]
[null,2784,null,null,null,null,null,"",null,null,"","",null,null,""]
[null,2785,null,null,null,null,null,"",null,null,"","",null,null,""]
[null,2786,null,null,null,null,null,"",null,null,"","",null,null,""]
[null,2787,null,null,null,null,null,"",null,null,"","",null,null,""]
[null,2788,null,null,null,null,null,"",null,null,"","",null,null,""]
[null,2789,null,null,null,null,null,"",null,null,"","",null,null,""]
[null,2790,null,null,null,null,null,"",null,null,"","",null,null,""]
[null,2791,null,null,null,null,null,"",null,null,"","",null,null,""]
[null,2792,null,null,null,null,null,"",null,null,"","",null,null,""]
[null,2793,null,null,null,null,null,"",null,null,"","",null,null,""]
[null,2794,null,null,null,null,null,"",null,null,"","",null,null,""]
[null,2795,null,null,null,null,null,"",null,null,"","",null,null,""]
[null,2796,null,null,null,null,null,"",null,null,"","",null,null,""]
[null,2797,null,null,null,null,null,"",null,null,"","",null,null,""]
[null,2798,null,null,null,null,null,"",null,null,"","",null,null,""]
[null,2799,null,null,null,null,null,"",null,null,"","",null,null,""]
[null,2800,null,null,null,null,null,"",null,null,"","",null,null,""]
[null,2801,null,null,null,null,null,"",null,null,"","",null,null,""]
[null,2802,null,null,null,null,null,"",null,null,"","",null,null,""]
[null,2803,null,null,null,null,null,"",null,null,"","",null,null,""]
[null,2804,null,null,null,null,null,"",null,null,"","",null,null,""]
[null,2805,null,null,null,null,null,"",null,null,"","",null,null,""]
[null,2806,null,null,null,null,null,"",null,null,"","",null,null,""]
[null,2807,null,null,null,null,null,"",null,null,"","",null,null,""]
[null,2808,null,null,null,null,null,"",null,null,"","",null,null,""]
[null,2809,null,null,null,null,null,"",null,null,"",{"$f":"IF(K2825=\"\",\"\",K2825/$E$2)","v":""},null,null,{"$f":"IF(OR(L2825=0,L2825=\"\",G2825=\"\"),\"\",IF(L2825<=14000,\"Poniżej 14 000 EUR\",IF(AND(OR(G2825=\"Dostawy\",G2825=\"Usługi\"),L2825<=$P$2),\"Poniżej progu unijnego\",IF(AND(G2825=\"Roboty budowlane\",L2825<=$R$2),\"Poniżej progu unijnego\",\"Powyżej progu unijnego\"))))","v":""}]
[null,2810,null,null,null,null,null,"",null,null,"","",null,null,""]
[null,2811,null,null,null,null,null,"",null,null,"","",null,null,""]
[null,2812,null,null,null,null,null,"",null,null,"","",null,null,""]
[null,2813,null,null,null,null,null,"",null,null,"","",null,null,""]
[null,2814,null,null,null,null,null,"",null,null,"","",null,null,""]
[null,2815,null,null,null,null,null,"",null,null,"","",null,null,""]
[null,2816,null,null,null,null,null,"",null,null,"","",null,null,""]
[null,2817,null,null,null,null,null,"",null,null,"","",null,null,""]
[null,2818,null,null,null,null,null,{"$f":"IF(F2834=\"\",\"\",IF(AND(F2834=\"Dostawy\",G2834<>\"\"),LEFT(G2834,2)&MID(G2834,4,1),\"\"))","v":""},null,null,{"$f":"IF(J2834=\"\",\"\",J2834/$E$2)","v":""},"",null,null,""]
[null,2819,null,null,null,null,null,"",null,null,"","",null,null,""]
[null,2820,null,null,null,null,null,"",null,null,"","",null,null,""]
[null,2821,null,null,null,null,null,"",null,null,"","",null,null,""]
[null,2822,null,null,null,null,null,"",null,null,"","",null,null,""]
[null,2823,null,null,null,null,null,"",null,null,"","",null,null,""]
[null,2824,null,null,null,null,null,"",null,null,"","",null,null,""]
[null,2825,null,null,null,null,null,"",null,null,"","",null,null,""]
[null,2826,null,null,null,null,null,"",null,null,"","",null,null,""]
[null,2827,null,null,null,null,null,"",null,null,"","",null,null,""]
[null,2828,null,null,null,null,null,"",null,null,"","",null,null,""]
[null,2829,null,null,null,null,null,"",null,null,"","",null,null,""]
[null,2830,null,null,null,null,null,"",null,null,"","",null,null,""]
[null,2831,null,null,null,null,null,"",null,null,"","",null,null,""]
[null,2832,null,null,null,null,null,"",null,null,"","",null,null,""]
[null,2833,null,null,null,null,null,"",null,null,"","",null,null,""]
[null,2834,null,null,null,null,null,"",null,null,"","",null,null,""]
[null,2835,null,null,null,null,null,"",null,null,"","",null,null,""]
[null,2836,null,null,null,null,null,"",null,null,"","",null,null,""]
[null,2837,null,null,null,null,null,"",null,null,"","",null,null,""]
[null,2838,null,null,null,null,null,"",null,null,"","",null,null,""]
[null,2839,null,null,null,null,null,"",null,null,"","",null,null,""]
[null,2840,null,null,null,null,null,"",null,null,"","",null,null,""]
[null,2841,null,null,null,null,null,"",null,null,"","",null,null,""]
[null,2842,null,null,null,null,null,"",null,null,"","",null,null,""]
[null,2843,null,null,null,null,null,"",null,null,"","",null,null,""]
[null,2844,null,null,null,null,null,"",null,null,"","",null,null,""]
[null,2845,null,null,null,null,null,"",null,null,"","",null,null,""]
[null,2846,null,null,null,null,null,"",null,null,"","",null,null,""]
[null,2847,null,null,null,null,null,"",null,null,"","",null,null,""]
[null,2848,null,null,null,null,null,"",null,null,"","",null,null,""]
[null,2849,null,null,null,null,null,"",null,null,"","",null,null,""]
[null,2850,null,null,null,null,null,"",null,null,"","",null,null,""]
[null,2851,null,null,null,null,null,"",null,null,"","",null,null,""]
[null,2852,null,null,null,null,null,"",null,null,"","",null,null,""]
[null,2853,null,null,null,null,null,"",null,null,"","",null,null,""]
[null,2854,null,null,null,null,null,"",null,null,"","",null,null,""]
[null,2855,null,null,null,null,null,"",null,null,"","",null,null,""]
[null,2856,null,null,null,null,null,"",null,null,"","",null,null,""]
[null,2857,null,null,null,null,null,"",null,null,"","",null,null,""]
[null,2858,null,null,null,null,null,"",null,null,"","",null,null,""]
[null,2859,null,null,null,null,null,"",null,null,"","",null,null,""]
[null,2860,null,null,null,null,null,"",null,null,"","",null,null,""]
[null,2861,null,null,null,null,null,"",null,null,"","",null,null,""]
[null,2862,null,null,null,null,null,"",null,null,"","",null,null,""]
[null,2863,null,null,null,null,null,"",null,null,"","",null,null,""]
[null,2864,null,null,null,null,null,"",null,null,"","",null,null,""]
[null,2865,null,null,null,null,null,"",null,null,"","",null,null,""]
[null,2866,null,null,null,null,null,"",null,null,"","",null,null,""]
[null,2867,null,null,null,null,null,"",null,null,"","",null,null,""]
[null,2868,null,null,null,null,null,"",null,null,"","",null,null,""]
[null,2869,null,null,null,null,null,"",null,null,"","",null,null,""]
[null,2870,null,null,null,null,null,"",null,null,"","",null,null,""]
[null,2871,null,null,null,null,null,"",null,null,"","",null,null,""]
[null,2872,null,null,null,null,null,"",null,null,"","",null,null,""]
[null,2873,null,null,null,null,null,"",null,null,"",{"$f":"IF(K2889=\"\",\"\",K2889/$E$2)","v":""},null,null,{"$f":"IF(OR(L2889=0,L2889=\"\",G2889=\"\"),\"\",IF(L2889<=14000,\"Poniżej 14 000 EUR\",IF(AND(OR(G2889=\"Dostawy\",G2889=\"Usługi\"),L2889<=$P$2),\"Poniżej progu unijnego\",IF(AND(G2889=\"Roboty budowlane\",L2889<=$R$2),\"Poniżej progu unijnego\",\"Powyżej progu unijnego\"))))","v":""}]
[null,2874,null,null,null,null,null,"",null,null,"","",null,null,""]
[null,2875,null,null,null,null,null,"",null,null,"","",null,null,""]
[null,2876,null,null,null,null,null,"",null,null,"","",null,null,""]
[null,2877,null,null,null,null,null,"",null,null,"","",null,null,""]
[null,2878,null,null,null,null,null,"",null,null,"","",null,null,""]
[null,2879,null,null,null,null,null,"",null,null,"","",null,null,""]
[null,2880,null,null,null,null,null,"",null,null,"","",null,null,""]
[null,2881,null,null,null,null,null,"",null,null,"","",null,null,""]
[null,2882,null,null,null,null,null,{"$f":"IF(F2898=\"\",\"\",IF(AND(F2898=\"Dostawy\",G2898<>\"\"),LEFT(G2898,2)&MID(G2898,4,1),\"\"))","v":""},null,null,{"$f":"IF(J2898=\"\",\"\",J2898/$E$2)","v":""},"",null,null,""]
[null,2883,null,null,null,null,null,"",null,null,"","",null,null,""]
[null,2884,null,null,null,null,null,"",null,null,"","",null,null,""]
[null,2885,null,null,null,null,null,"",null,null,"","",null,null,""]
[null,2886,null,null,null,null,null,"",null,null,"","",null,null,""]
[null,2887,null,null,null,null,null,"",null,null,"","",null,null,""]
[null,2888,null,null,null,null,null,"",null,null,"","",null,null,""]
[null,2889,null,null,null,null,null,"",null,null,"","",null,null,""]
[null,2890,null,null,null,null,null,"",null,null,"","",null,null,""]
[null,2891,null,null,null,null,null,"",null,null,"","",null,null,""]
[null,2892,null,null,null,null,null,"",null,null,"","",null,null,""]
[null,2893,null,null,null,null,null,"",null,null,"","",null,null,""]
[null,2894,null,null,null,null,null,"",null,null,"","",null,null,""]
[null,2895,null,null,null,null,null,"",null,null,"","",null,null,""]
[null,2896,null,null,null,null,null,"",null,null,"","",null,null,""]
[null,2897,null,null,null,null,null,"",null,null,"","",null,null,""]
[null,2898,null,null,null,null,null,"",null,null,"","",null,null,""]
[null,2899,null,null,null,null,null,"",null,null,"","",null,null,""]
[null,2900,null,null,null,null,null,"",null,null,"","",null,null,""]
[null,2901,null,null,null,null,null,"",null,null,"","",null,null,""]
[null,2902,null,null,null,null,null,"",null,null,"","",null,null,""]
[null,2903,null,null,null,null,null,"",null,null,"","",null,null,""]
[null,2904,null,null,null,null,null,"",null,null,"","",null,null,""]
[null,2905,null,null,null,null,null,"",null,null,"","",null,null,""]
[null,2906,null,null,null,null,null,"",null,null,"","",null,null,""]
[null,2907,null,null,null,null,null,"",null,null,"","",null,null,""]
[null,2908,null,null,null,null,null,"",null,null,"","",null,null,""]
[null,2909,null,null,null,null,null,"",null,null,"","",null,null,""]
[null,2910,null,null,null,null,null,"",null,null,"","",null,null,""]
[null,2911,null,null,null,null,null,"",null,null,"","",null,null,""]
[null,2912,null,null,null,null,null,"",null,null,"","",null,null,""]
[null,2913,null,null,null,null,null,"",null,null,"","",null,null,""]
[null,2914,null,null,null,null,null,"",null,null,"","",null,null,""]
[null,2915,null,null,null,null,null,"",null,null,"","",null,null,""]
[null,2916,null,null,null,null,null,"",null,null,"","",null,null,""]
[null,2917,null,null,null,null,null,"",null,null,"","",null,null,""]
[null,2918,null,null,null,null,null,"",null,null,"","",null,null,""]
[null,2919,null,null,null,null,null,"",null,null,"","",null,null,""]
[null,2920,null,null,null,null,null,"",null,null,"","",null,null,""]
[null,2921,null,null,null,null,null,"",null,null,"","",null,null,""]
[null,2922,null,null,null,null,null,"",null,null,"","",null,null,""]
[null,2923,null,null,null,null,null,"",null,null,"","",null,null,""]
[null,2924,null,null,null,null,null,"",null,null,"","",null,null,""]
[null,2925,null,null,null,null,null,"",null,null,"","",null,null,""]
[null,2926,null,null,null,null,null,"",null,null,"","",null,null,""]
[null,2927,null,null,null,null,null,"",null,null,"","",null,null,""]
[null,2928,null,null,null,null,null,"",null,null,"","",null,null,""]
[null,2929,null,null,null,null,null,"",null,null,"","",null,null,""]
[null,2930,null,null,null,null,null,"",null,null,"","",null,null,""]
[null,2931,null,null,null,null,null,"",null,null,"","",null,null,""]
[null,2932,null,null,null,null,null,"",null,null,"","",null,null,""]
[null,2933,null,null,null,null,null,"",null,null,"","",null,null,""]
[null,2934,null,null,null,null,null,"",null,null,"","",null,null,""]
[null,2935,null,null,null,null,null,"",null,null,"","",null,null,""]
[null,2936,null,null,null,null,null,"",null,null,"","",null,null,""]
[null,2937,null,null,null,null,null,"",null,null,"",{"$f":"IF(K2953=\"\",\"\",K2953/$E$2)","v":""},null,null,{"$f":"IF(OR(L2953=0,L2953=\"\",G2953=\"\"),\"\",IF(L2953<=14000,\"Poniżej 14 000 EUR\",IF(AND(OR(G2953=\"Dostawy\",G2953=\"Usługi\"),L2953<=$P$2),\"Poniżej progu unijnego\",IF(AND(G2953=\"Roboty budowlane\",L2953<=$R$2),\"Poniżej progu unijnego\",\"Powyżej progu unijnego\"))))","v":""}]
[null,2938,null,null,null,null,null,"",null,null,"","",null,null,""]
[null,2939,null,null,null,null,null,"",null,null,"","",null,null,""]
[null,2940,null,null,null,null,null,"",null,null,"","",null,null,""]
[null,2941,null,null,null,null,null,"",null,null,"","",null,null,""]
[null,2942,null,null,null,null,null,"",null,null,"","",null,null,""]
[null,2943,null,null,null,null,null,"",null,null,"","",null,null,""]
[null,2944,null,null,null,null,null,"",null,null,"","",null,null,""]
[null,2945,null,null,null,null,null,"",null,null,"","",null,null,""]
[null,2946,null,null,null,null,null,{"$f":"IF(F2962=\"\",\"\",IF(AND(F2962=\"Dostawy\",G2962<>\"\"),LEFT(G2962,2)&MID(G2962,4,1),\"\"))","v":""},null,null,{"$f":"IF(J2962=\"\",\"\",J2962/$E$2)","v":""},"",null,null,""]
[null,2947,null,null,null,null,null,"",null,null,"","",null,null,""]
[null,2948,null,null,null,null,null,"",null,null,"","",null,null,""]
[null,2949,null,null,null,null,null,"",null,null,"","",null,null,""]
[null,2950,null,null,null,null,null,"",null,null,"","",null,null,""]
[null,2951,null,null,null,null,null,"",null,null,"","",null,null,""]
[null,2952,null,null,null,null,null,"",null,null,"","",null,null,""]
[null,2953,null,null,null,null,null,"",null,null,"","",null,null,""]
[null,2954,null,null,null,null,null,"",null,null,"","",null,null,""]
[null,2955,null,null,null,null,null,"",null,null,"","",null,null,""]
[null,2956,null,null,null,null,null,"",null,null,"","",null,null,""]
[null,2957,null,null,null,null,null,"",null,null,"","",null,null,""]
[null,2958,null,null,null,null,null,"",null,null,"","",null,null,""]
[null,2959,null,null,null,null,null,"",null,null,"","",null,null,""]
[null,2960,null,null,null,null,null,"",null,null,"","",null,null,""]
[null,2961,null,null,null,null,null,"",null,null,"","",null,null,""]
[null,2962,null,null,null,null,null,"",null,null,"","",null,null,""]
[null,2963,null,null,null,null,null,"",null,null,"","",null,null,""]
[null,2964,null,null,null,null,null,"",null,null,"","",null,null,""]
[null,2965,null,null,null,null,null,"",null,null,"","",null,null,""]
[null,2966,null,null,null,null,null,"",null,null,"","",null,null,""]
[null,2967,null,null,null,null,null,"",null,null,"","",null,null,""]
[null,2968,null,null,null,null,null,"",null,null,"","",null,null,""]
[null,2969,null,null,null,null,null,"",null,null,"","",null,null,""]
[null,2970,null,null,null,null,null,"",null,null,"","",null,null,""]
[null,2971,null,null,null,null,null,"",null,null,"","",null,null,""]
[null,2972,null,null,null,null,null,"",null,null,"","",null,null,""]
[null,2973,null,null,null,null,null,"",null,null,"","",null,null,""]
[null,2974,null,null,null,null,null,"",null,null,"","",null,null,""]
[null,2975,null,null,null,null,null,"",null,null,"","",null,null,""]
[null,2976,null,null,null,null,null,"",null,null,"","",null,null,""]
[null,2977,null,null,null,null,null,"",null,null,"","",null,null,""]
[null,2978,null,null,null,null,null,"",null,null,"","",null,null,""]
[null,2979,null,null,null,null,null,"",null,null,"","",null,null,""]
[null,2980,null,null,null,null,null,"",null,null,"","",null,null,""]
[null,2981,null,null,null,null,null,"",null,null,"","",null,null,""]
[null,2982,null,null,null,null,null,"",null,null,"","",null,null,""]
[null,2983,null,null,null,null,null,"",null,null,"","",null,null,""]
[null,2984,null,null,null,null,null,"",null,null,"","",null,null,""]
[null,2985,null,null,null,null,null,"",null,null,"","",null,null,""]
[null,2986,null,null,null,null,null,"",null,null,"","",null,null,""]
[null,2987,null,null,null,null,null,"",null,null,"","",null,null,""]
[null,2988,null,null,null,null,null,"",null,null,"","",null,null,""]
[null,2989,null,null,null,null,null,"",null,null,"","",null,null,""]
[null,2990,null,null,null,null,null,"",null,null,"","",null,null,""]
[null,2991,null,null,null,null,null,"",null,null,"","",null,null,""]
[null,2992,null,null,null,null,null,"",null,null,"","",null,null,""]
[null,2993,null,null,null,null,null,"",null,null,"","",null,null,""]
[null,2994,null,null,null,null,null,"",null,null,"","",null,null,""]
[null,2995,null,null,null,null,null,"",null,null,"","",null,null,""]
[null,2996,null,null,null,null,null,"",null,null,"","",null,null,""]
[null,2997,null,null,null,null,null,"",null,null,"","",null,null,""]
[null,2998,null,null,null,null,null,"",null,null,"","",null,null,""]
[null,2999,null,null,null,null,null,"",null,null,"","",null,null,""]
[null,3000,null,null,null,null,null,"",null,null,"","",null,null,""]
[null,3001,null,null,null,null,null,"",null,null,"",{"$f":"IF(K3017=\"\",\"\",K3017/$E$2)","v":""},null,null,{"$f":"IF(OR(L3017=0,L3017=\"\",G3017=\"\"),\"\",IF(L3017<=14000,\"Poniżej 14 000 EUR\",IF(AND(OR(G3017=\"Dostawy\",G3017=\"Usługi\"),L3017<=$P$2),\"Poniżej progu unijnego\",IF(AND(G3017=\"Roboty budowlane\",L3017<=$R$2),\"Poniżej progu unijnego\",\"Powyżej progu unijnego\"))))","v":""}]
[null,3002,null,null,null,null,null,"",null,null,"","",null,null,""]
[null,3003,null,null,null,null,null,"",null,null,"","",null,null,""]
[null,3004,null,null,null,null,null,"",null,null,"","",null,null,""]
[null,3005,null,null,null,null,null,"",null,null,"","",null,null,""]
[null,3006,null,null,null,null,null,"",null,null,"","",null,null,""]
[null,3007,null,null,null,null,null,"",null,null,"","",null,null,""]
[null,3008,null,null,null,null,null,"",null,null,"","",null,null,""]
[null,3009,null,null,null,null,null,"",null,null,"","",null,null,""]
[null,3010,null,null,null,null,null,{"$f":"IF(F3026=\"\",\"\",IF(AND(F3026=\"Dostawy\",G3026<>\"\"),LEFT(G3026,2)&MID(G3026,4,1),\"\"))","v":""},null,null,{"$f":"IF(J3026=\"\",\"\",J3026/$E$2)","v":""},"",null,null,""]
[null,3011,null,null,null,null,null,"",null,null,"","",null,null,""]
[null,3012,null,null,null,null,null,"",null,null,"","",null,null,""]
[null,3013,null,null,null,null,null,"",null,null,"","",null,null,""]
[null,3014,null,null,null,null,null,"",null,null,"","",null,null,""]
[null,3015,null,null,null,null,null,"",null,null,"","",null,null,""]
[null,3016,null,null,null,null,null,"",null,null,"","",null,null,""]
[null,3017,null,null,null,null,null,"",null,null,"","",null,null,""]
[null,3018,null,null,null,null,null,"",null,null,"","",null,null,""]
[null,3019,null,null,null,null,null,"",null,null,"","",null,null,""]
[null,3020,null,null,null,null,null,"",null,null,"","",null,null,""]
[null,3021,null,null,null,null,null,"",null,null,"","",null,null,""]
[null,3022,null,null,null,null,null,"",null,null,"","",null,null,""]
[null,3023,null,null,null,null,null,"",null,null,"","",null,null,""]
[null,3024,null,null,null,null,null,"",null,null,"","",null,null,""]
[null,3025,null,null,null,null,null,"",null,null,"","",null,null,""]
[null,3026,null,null,null,null,null,"",null,null,"","",null,null,""]
[null,3027,null,null,null,null,null,"",null,null,"","",null,null,""]
[null,3028,null,null,null,null,null,"",null,null,"","",null,null,""]
[null,3029,null,null,null,null,null,"",null,null,"","",null,null,""]
[null,3030,null,null,null,null,null,"",null,null,"","",null,null,""]
[null,3031,null,null,null,null,null,"",null,null,"","",null,null,""]
[null,3032,null,null,null,null,null,"",null,null,"","",null,null,""]
[null,3033,null,null,null,null,null,"",null,null,"","",null,null,""]
[null,3034,null,null,null,null,null,"",null,null,"","",null,null,""]
[null,3035,null,null,null,null,null,"",null,null,"","",null,null,""]
[null,3036,null,null,null,null,null,"",null,null,"","",null,null,""]
[null,3037,null,null,null,null,null,"",null,null,"","",null,null,""]
[null,3038,null,null,null,null,null,"",null,null,"","",null,null,""]
[null,3039,null,null,null,null,null,"",null,null,"","",null,null,""]
[null,3040,null,null,null,null,null,"",null,null,"","",null,null,""]
[null,3041,null,null,null,null,null,"",null,null,"","",null,null,""]
[null,3042,null,null,null,null,null,"",null,null,"","",null,null,""]
[null,3043,null,null,null,null,null,"",null,null,"","",null,null,""]
[null,3044,null,null,null,null,null,"",null,null,"","",null,null,""]
[null,3045,null,null,null,null,null,"",null,null,"","",null,null,""]
[null,3046,null,null,null,null,null,"",null,null,"","",null,null,""]
[null,3047,null,null,null,null,null,"",null,null,"","",null,null,""]
[null,3048,null,null,null,null,null,"",null,null,"","",null,null,""]
[null,3049,null,null,null,null,null,"",null,null,"","",null,null,""]
[null,3050,null,null,null,null,null,"",null,null,"","",null,null,""]
[null,3051,null,null,null,null,null,"",null,null,"","",null,null,""]
[null,3052,null,null,null,null,null,"",null,null,"","",null,null,""]
[null,3053,null,null,null,null,null,"",null,null,"","",null,null,""]
[null,3054,null,null,null,null,null,"",null,null,"","",null,null,""]
[null,3055,null,null,null,null,null,"",null,null,"","",null,null,""]
[null,3056,null,null,null,null,null,"",null,null,"","",null,null,""]
[null,3057,null,null,null,null,null,"",null,null,"","",null,null,""]
[null,3058,null,null,null,null,null,"",null,null,"","",null,null,""]
[null,3059,null,null,null,null,null,"",null,null,"","",null,null,""]
[null,3060,null,null,null,null,null,"",null,null,"","",null,null,""]
[null,3061,null,null,null,null,null,"",null,null,"","",null,null,""]
[null,3062,null,null,null,null,null,"",null,null,"","",null,null,""]
[null,3063,null,null,null,null,null,"",null,null,"","",null,null,""]
[null,3064,null,null,null,null,null,"",null,null,"","",null,null,""]
[null,3065,null,null,null,null,null,"",null,null,"",{"$f":"IF(K3081=\"\",\"\",K3081/$E$2)","v":""},null,null,{"$f":"IF(OR(L3081=0,L3081=\"\",G3081=\"\"),\"\",IF(L3081<=14000,\"Poniżej 14 000 EUR\",IF(AND(OR(G3081=\"Dostawy\",G3081=\"Usługi\"),L3081<=$P$2),\"Poniżej progu unijnego\",IF(AND(G3081=\"Roboty budowlane\",L3081<=$R$2),\"Poniżej progu unijnego\",\"Powyżej progu unijnego\"))))","v":""}]
[null,3066,null,null,null,null,null,"",null,null,"","",null,null,""]
[null,3067,null,null,null,null,null,"",null,null,"","",null,null,""]
[null,3068,null,null,null,null,null,"",null,null,"","",null,null,""]
[null,3069,null,null,null,null,null,"",null,null,"","",null,null,""]
[null,3070,null,null,null,null,null,"",null,null,"","",null,null,""]
[null,3071,null,null,null,null,null,"",null,null,"","",null,null,""]
[null,3072,null,null,null,null,null,"",null,null,"","",null,null,""]
[null,3073,null,null,null,null,null,"",null,null,"","",null,null,""]
[null,3074,null,null,null,null,null,{"$f":"IF(F3090=\"\",\"\",IF(AND(F3090=\"Dostawy\",G3090<>\"\"),LEFT(G3090,2)&MID(G3090,4,1),\"\"))","v":""},null,null,{"$f":"IF(J3090=\"\",\"\",J3090/$E$2)","v":""},"",null,null,""]
[null,3075,null,null,null,null,null,"",null,null,"","",null,null,""]
[null,3076,null,null,null,null,null,"",null,null,"","",null,null,""]
[null,3077,null,null,null,null,null,"",null,null,"","",null,null,""]
[null,3078,null,null,null,null,null,"",null,null,"","",null,null,""]
[null,3079,null,null,null,null,null,"",null,null,"","",null,null,""]
[null,3080,null,null,null,null,null,"",null,null,"","",null,null,""]
[null,3081,null,null,null,null,null,"",null,null,"","",null,null,""]
[null,3082,null,null,null,null,null,"",null,null,"","",null,null,""]
[null,3083,null,null,null,null,null,"",null,null,"","",null,null,""]
[null,3084,null,null,null,null,null,"",null,null,"","",null,null,""]
[null,3085,null,null,null,null,null,"",null,null,"","",null,null,""]
[null,3086,null,null,null,null,null,"",null,null,"","",null,null,""]
[null,3087,null,null,null,null,null,"",null,null,"","",null,null,""]
[null,3088,null,null,null,null,null,"",null,null,"","",null,null,""]
[null,3089,null,null,null,null,null,"",null,null,"","",null,null,""]
[null,3090,null,null,null,null,null,"",null,null,"","",null,null,""]
[null,3091,null,null,null,null,null,"",null,null,"","",null,null,""]
[null,3092,null,null,null,null,null,"",null,null,"","",null,null,""]
[null,3093,null,null,null,null,null,"",null,null,"","",null,null,""]
[null,3094,null,null,null,null,null,"",null,null,"","",null,null,""]
[null,3095,null,null,null,null,null,"",null,null,"","",null,null,""]
[null,3096,null,null,null,null,null,"",null,null,"","",null,null,""]
[null,3097,null,null,null,null,null,"",null,null,"","",null,null,""]
[null,3098,null,null,null,null,null,"",null,null,"","",null,null,""]
[null,3099,null,null,null,null,null,"",null,null,"","",null,null,""]
[null,3100,null,null,null,null,null,"",null,null,"","",null,null,""]
[null,3101,null,null,null,null,null,"",null,null,"","",null,null,""]
[null,3102,null,null,null,null,null,"",null,null,"","",null,null,""]
[null,3103,null,null,null,null,null,"",null,null,"","",null,null,""]
[null,3104,null,null,null,null,null,"",null,null,"","",null,null,""]
[null,3105,null,null,null,null,null,"",null,null,"","",null,null,""]
[null,3106,null,null,null,null,null,"",null,null,"","",null,null,""]
[null,3107,null,null,null,null,null,"",null,null,"","",null,null,""]
[null,3108,null,null,null,null,null,"",null,null,"","",null,null,""]
[null,3109,null,null,null,null,null,"",null,null,"","",null,null,""]
[null,3110,null,null,null,null,null,"",null,null,"","",null,null,""]
[null,3111,null,null,null,null,null,"",null,null,"","",null,null,""]
[null,3112,null,null,null,null,null,"",null,null,"","",null,null,""]
[null,3113,null,null,null,null,null,"",null,null,"","",null,null,""]
[null,3114,null,null,null,null,null,"",null,null,"","",null,null,""]
[null,3115,null,null,null,null,null,"",null,null,"","",null,null,""]
[null,3116,null,null,null,null,null,"",null,null,"","",null,null,""]
[null,3117,null,null,null,null,null,"",null,null,"","",null,null,""]
[null,3118,null,null,null,null,null,"",null,null,"","",null,null,""]
[null,3119,null,null,null,null,null,"",null,null,"","",null,null,""]
[null,3120,null,null,null,null,null,"",null,null,"","",null,null,""]
[null,3121,null,null,null,null,null,"",null,null,"","",null,null,""]
[null,3122,null,null,null,null,null,"",null,null,"","",null,null,""]
[null,3123,null,null,null,null,null,"",null,null,"","",null,null,""]
[null,3124,null,null,null,null,null,"",null,null,"","",null,null,""]
[null,3125,null,null,null,null,null,"",null,null,"","",null,null,""]
[null,3126,null,null,null,null,null,"",null,null,"","",null,null,""]
[null,3127,null,null,null,null,null,"",null,null,"","",null,null,""]
[null,3128,null,null,null,null,null,"",null,null,"","",null,null,""]
[null,3129,null,null,null,null,null,"",null,null,"",{"$f":"IF(K3145=\"\",\"\",K3145/$E$2)","v":""},null,null,{"$f":"IF(OR(L3145=0,L3145=\"\",G3145=\"\"),\"\",IF(L3145<=14000,\"Poniżej 14 000 EUR\",IF(AND(OR(G3145=\"Dostawy\",G3145=\"Usługi\"),L3145<=$P$2),\"Poniżej progu unijnego\",IF(AND(G3145=\"Roboty budowlane\",L3145<=$R$2),\"Poniżej progu unijnego\",\"Powyżej progu unijnego\"))))","v":""}]
[null,3130,null,null,null,null,null,"",null,null,"","",null,null,""]
[null,3131,null,null,null,null,null,"",null,null,"","",null,null,""]
[null,3132,null,null,null,null,null,"",null,null,"","",null,null,""]
[null,3133,null,null,null,null,null,"",null,null,"","",null,null,""]
[null,3134,null,null,null,null,null,"",null,null,"","",null,null,""]
[null,3135,null,null,null,null,null,"",null,null,"","",null,null,""]
[null,3136,null,null,null,null,null,"",null,null,"","",null,null,""]
[null,3137,null,null,null,null,null,"",null,null,"","",null,null,""]
[null,3138,null,null,null,null,null,{"$f":"IF(F3154=\"\",\"\",IF(AND(F3154=\"Dostawy\",G3154<>\"\"),LEFT(G3154,2)&MID(G3154,4,1),\"\"))","v":""},null,null,{"$f":"IF(J3154=\"\",\"\",J3154/$E$2)","v":""},"",null,null,""]
[null,3139,null,null,null,null,null,"",null,null,"","",null,null,""]
[null,3140,null,null,null,null,null,"",null,null,"","",null,null,""]
[null,3141,null,null,null,null,null,"",null,null,"","",null,null,""]
[null,3142,null,null,null,null,null,"",null,null,"","",null,null,""]
[null,3143,null,null,null,null,null,"",null,null,"","",null,null,""]
[null,3144,null,null,null,null,null,"",null,null,"","",null,null,""]
[null,3145,null,null,null,null,null,"",null,null,"","",null,null,""]
[null,3146,null,null,null,null,null,"",null,null,"","",null,null,""]
[null,3147,null,null,null,null,null,"",null,null,"","",null,null,""]
[null,3148,null,null,null,null,null,"",null,null,"","",null,null,""]
[null,3149,null,null,null,null,null,"",null,null,"","",null,null,""]
[null,3150,null,null,null,null,null,"",null,null,"","",null,null,""]
[null,3151,null,null,null,null,null,"",null,null,"","",null,null,""]
[null,3152,null,null,null,null,null,"",null,null,"","",null,null,""]
[null,3153,null,null,null,null,null,"",null,null,"","",null,null,""]
[null,3154,null,null,null,null,null,"",null,null,"","",null,null,""]
[null,3155,null,null,null,null,null,"",null,null,"","",null,null,""]
[null,3156,null,null,null,null,null,"",null,null,"","",null,null,""]
[null,3157,null,null,null,null,null,"",null,null,"","",null,null,""]
[null,3158,null,null,null,null,null,"",null,null,"","",null,null,""]
[null,3159,null,null,null,null,null,"",null,null,"","",null,null,""]
[null,3160,null,null,null,null,null,"",null,null,"","",null,null,""]
[null,3161,null,null,null,null,null,"",null,null,"","",null,null,""]
[null,3162,null,null,null,null,null,"",null,null,"","",null,null,""]
[null,3163,null,null,null,null,null,"",null,null,"","",null,null,""]
[null,3164,null,null,null,null,null,"",null,null,"","",null,null,""]
[null,3165,null,null,null,null,null,"",null,null,"","",null,null,""]
[null,3166,null,null,null,null,null,"",null,null,"","",null,null,""]
[null,3167,null,null,null,null,null,"",null,null,"","",null,null,""]
[null,3168,null,null,null,null,null,"",null,null,"","",null,null,""]
[null,3169,null,null,null,null,null,"",null,null,"","",null,null,""]
[null,3170,null,null,null,null,null,"",null,null,"","",null,null,""]
[null,3171,null,null,null,null,null,"",null,null,"","",null,null,""]
[null,3172,null,null,null,null,null,"",null,null,"","",null,null,""]
[null,3173,null,null,null,null,null,"",null,null,"","",null,null,""]
[null,3174,null,null,null,null,null,"",null,null,"","",null,null,""]
[null,3175,null,null,null,null,null,"",null,null,"","",null,null,""]
[null,3176,null,null,null,null,null,"",null,null,"","",null,null,""]
[null,3177,null,null,null,null,null,"",null,null,"","",null,null,""]
[null,3178,null,null,null,null,null,"",null,null,"","",null,null,""]
[null,3179,null,null,null,null,null,"",null,null,"","",null,null,""]
[null,3180,null,null,null,null,null,"",null,null,"","",null,null,""]
[null,3181,null,null,null,null,null,"",null,null,"","",null,null,""]
[null,3182,null,null,null,null,null,"",null,null,"","",null,null,""]
[null,3183,null,null,null,null,null,"",null,null,"","",null,null,""]
[null,3184,null,null,null,null,null,"",null,null,"","",null,null,""]
[null,3185,null,null,null,null,null,"",null,null,"","",null,null,""]
[null,3186,null,null,null,null,null,"",null,null,"","",null,null,""]
[null,3187,null,null,null,null,null,"",null,null,"","",null,null,""]
[null,3188,null,null,null,null,null,"",null,null,"","",null,null,""]
[null,3189,null,null,null,null,null,"",null,null,"","",null,null,""]
[null,3190,null,null,null,null,null,"",null,null,"","",null,null,""]
[null,3191,null,null,null,null,null,"",null,null,"","",null,null,""]
[null,3192,null,null,null,null,null,"",null,null,"","",null,null,""]
[null,3193,null,null,null,null,null,"",null,null,"",{"$f":"IF(K3209=\"\",\"\",K3209/$E$2)","v":""},null,null,{"$f":"IF(OR(L3209=0,L3209=\"\",G3209=\"\"),\"\",IF(L3209<=14000,\"Poniżej 14 000 EUR\",IF(AND(OR(G3209=\"Dostawy\",G3209=\"Usługi\"),L3209<=$P$2),\"Poniżej progu unijnego\",IF(AND(G3209=\"Roboty budowlane\",L3209<=$R$2),\"Poniżej progu unijnego\",\"Powyżej progu unijnego\"))))","v":""}]
[null,3194,null,null,null,null,null,"",null,null,"","",null,null,""]
[null,3195,null,null,null,null,null,"",null,null,"","",null,null,""]
[null,3196,null,null,null,null,null,"",null,null,"","",null,null,""]
[null,3197,null,null,null,null,null,"",null,null,"","",null,null,""]
[null,3198,null,null,null,null,null,"",null,null,"","",null,null,""]
[null,3199,null,null,null,null,null,"",null,null,"","",null,null,""]
[null,3200,null,null,null,null,null,"",null,null,"","",null,null,""]
[null,3201,null,null,null,null,null,"",null,null,"","",null,null,""]
[null,3202,null,null,null,null,null,{"$f":"IF(F3218=\"\",\"\",IF(AND(F3218=\"Dostawy\",G3218<>\"\"),LEFT(G3218,2)&MID(G3218,4,1),\"\"))","v":""},null,null,{"$f":"IF(J3218=\"\",\"\",J3218/$E$2)","v":""},"",null,null,""]
[null,3203,null,null,null,null,null,"",null,null,"","",null,null,""]
[null,3204,null,null,null,null,null,"",null,null,"","",null,null,""]
[null,3205,null,null,null,null,null,"",null,null,"","",null,null,""]
[null,3206,null,null,null,null,null,"",null,null,"","",null,null,""]
[null,3207,null,null,null,null,null,"",null,null,"","",null,null,""]
[null,3208,null,null,null,null,null,"",null,null,"","",null,null,""]
[null,3209,null,null,null,null,null,"",null,null,"","",null,null,""]
[null,3210,null,null,null,null,null,"",null,null,"","",null,null,""]
[null,3211,null,null,null,null,null,"",null,null,"","",null,null,""]
[null,3212,null,null,null,null,null,"",null,null,"","",null,null,""]
[null,3213,null,null,null,null,null,"",null,null,"","",null,null,""]
[null,3214,null,null,null,null,null,"",null,null,"","",null,null,""]
[null,3215,null,null,null,null,null,"",null,null,"","",null,null,""]
[null,3216,null,null,null,null,null,"",null,null,"","",null,null,""]
[null,3217,null,null,null,null,null,"",null,null,"","",null,null,""]
[null,3218,null,null,null,null,null,"",null,null,"","",null,null,""]
[null,3219,null,null,null,null,null,"",null,null,"","",null,null,""]
[null,3220,null,null,null,null,null,"",null,null,"","",null,null,""]
[null,3221,null,null,null,null,null,"",null,null,"","",null,null,""]
[null,3222,null,null,null,null,null,"",null,null,"","",null,null,""]
[null,3223,null,null,null,null,null,"",null,null,"","",null,null,""]
[null,3224,null,null,null,null,null,"",null,null,"","",null,null,""]
[null,3225,null,null,null,null,null,"",null,null,"","",null,null,""]
[null,3226,null,null,null,null,null,"",null,null,"","",null,null,""]
[null,3227,null,null,null,null,null,"",null,null,"","",null,null,""]
[null,3228,null,null,null,null,null,"",null,null,"","",null,null,""]
[null,3229,null,null,null,null,null,"",null,null,"","",null,null,""]
[null,3230,null,null,null,null,null,"",null,null,"","",null,null,""]
[null,3231,null,null,null,null,null,"",null,null,"","",null,null,""]
[null,3232,null,null,null,null,null,"",null,null,"","",null,null,""]
[null,3233,null,null,null,null,null,"",null,null,"","",null,null,""]
[null,3234,null,null,null,null,null,"",null,null,"","",null,null,""]
[null,3235,null,null,null,null,null,"",null,null,"","",null,null,""]
[null,3236,null,null,null,null,null,"",null,null,"","",null,null,""]
[null,3237,null,null,null,null,null,"",null,null,"","",null,null,""]
[null,3238,null,null,null,null,null,"",null,null,"","",null,null,""]
[null,3239,null,null,null,null,null,"",null,null,"","",null,null,""]
[null,3240,null,null,null,null,null,"",null,null,"","",null,null,""]
[null,3241,null,null,null,null,null,"",null,null,"","",null,null,""]
[null,3242,null,null,null,null,null,"",null,null,"","",null,null,""]
[null,3243,null,null,null,null,null,"",null,null,"","",null,null,""]
[null,3244,null,null,null,null,null,"",null,null,"","",null,null,""]
[null,3245,null,null,null,null,null,"",null,null,"","",null,null,""]
[null,3246,null,null,null,null,null,"",null,null,"","",null,null,""]
[null,3247,null,null,null,null,null,"",null,null,"","",null,null,""]
[null,3248,null,null,null,null,null,"",null,null,"","",null,null,""]
[null,3249,null,null,null,null,null,"",null,null,"","",null,null,""]
[null,3250,null,null,null,null,null,"",null,null,"","",null,null,""]
[null,3251,null,null,null,null,null,"",null,null,"","",null,null,""]
[null,3252,null,null,null,null,null,"",null,null,"","",null,null,""]
[null,3253,null,null,null,null,null,"",null,null,"","",null,null,""]
[null,3254,null,null,null,null,null,"",null,null,"","",null,null,""]
[null,3255,null,null,null,null,null,"",null,null,"","",null,null,""]
[null,3256,null,null,null,null,null,"",null,null,"","",null,null,""]
[null,3257,null,null,null,null,null,"",null,null,"",{"$f":"IF(K3273=\"\",\"\",K3273/$E$2)","v":""},null,null,{"$f":"IF(OR(L3273=0,L3273=\"\",G3273=\"\"),\"\",IF(L3273<=14000,\"Poniżej 14 000 EUR\",IF(AND(OR(G3273=\"Dostawy\",G3273=\"Usługi\"),L3273<=$P$2),\"Poniżej progu unijnego\",IF(AND(G3273=\"Roboty budowlane\",L3273<=$R$2),\"Poniżej progu unijnego\",\"Powyżej progu unijnego\"))))","v":""}]
[null,3258,null,null,null,null,null,"",null,null,"","",null,null,""]
[null,3259,null,null,null,null,null,"",null,null,"","",null,null,""]
[null,3260,null,null,null,null,null,"",null,null,"","",null,null,""]
[null,3261,null,null,null,null,null,"",null,null,"","",null,null,""]
[null,3262,null,null,null,null,null,"",null,null,"","",null,null,""]
[null,3263,null,null,null,null,null,"",null,null,"","",null,null,""]
[null,3264,null,null,null,null,null,"",null,null,"","",null,null,""]
[null,3265,null,null,null,null,null,"",null,null,"","",null,null,""]
[null,3266,null,null,null,null,null,{"$f":"IF(F3282=\"\",\"\",IF(AND(F3282=\"Dostawy\",G3282<>\"\"),LEFT(G3282,2)&MID(G3282,4,1),\"\"))","v":""},null,null,{"$f":"IF(J3282=\"\",\"\",J3282/$E$2)","v":""},"",null,null,""]
[null,3267,null,null,null,null,null,"",null,null,"","",null,null,""]
[null,3268,null,null,null,null,null,"",null,null,"","",null,null,""]
[null,3269,null,null,null,null,null,"",null,null,"","",null,null,""]
[null,3270,null,null,null,null,null,"",null,null,"","",null,null,""]
[null,3271,null,null,null,null,null,"",null,null,"","",null,null,""]
[null,3272,null,null,null,null,null,"",null,null,"","",null,null,""]
[null,3273,null,null,null,null,null,"",null,null,"","",null,null,""]
[null,3274,null,null,null,null,null,"",null,null,"","",null,null,""]
[null,3275,null,null,null,null,null,"",null,null,"","",null,null,""]
[null,3276,null,null,null,null,null,"",null,null,"","",null,null,""]
[null,3277,null,null,null,null,null,"",null,null,"","",null,null,""]
[null,3278,null,null,null,null,null,"",null,null,"","",null,null,""]
[null,3279,null,null,null,null,null,"",null,null,"","",null,null,""]
[null,3280,null,null,null,null,null,"",null,null,"","",null,null,""]
[null,3281,null,null,null,null,null,"",null,null,"","",null,null,""]
[null,3282,null,null,null,null,null,"",null,null,"","",null,null,""]
[null,3283,null,null,null,null,null,"",null,null,"","",null,null,""]
[null,3284,null,null,null,null,null,"",null,null,"","",null,null,""]
[null,3285,null,null,null,null,null,"",null,null,"","",null,null,""]
[null,3286,null,null,null,null,null,"",null,null,"","",null,null,""]
[null,3287,null,null,null,null,null,"",null,null,"","",null,null,""]
[null,3288,null,null,null,null,null,"",null,null,"","",null,null,""]
[null,3289,null,null,null,null,null,"",null,null,"","",null,null,""]
[null,3290,null,null,null,null,null,"",null,null,"","",null,null,""]
[null,3291,null,null,null,null,null,"",null,null,"","",null,null,""]
[null,3292,null,null,null,null,null,"",null,null,"","",null,null,""]
[null,3293,null,null,null,null,null,"",null,null,"","",null,null,""]
[null,3294,null,null,null,null,null,"",null,null,"","",null,null,""]
[null,3295,null,null,null,null,null,"",null,null,"","",null,null,""]
[null,3296,null,null,null,null,null,"",null,null,"","",null,null,""]
[null,3297,null,null,null,null,null,"",null,null,"","",null,null,""]
[null,3298,null,null,null,null,null,"",null,null,"","",null,null,""]
[null,3299,null,null,null,null,null,"",null,null,"","",null,null,""]
[null,3300,null,null,null,null,null,"",null,null,"","",null,null,""]
[null,3301,null,null,null,null,null,"",null,null,"","",null,null,""]
[null,3302,null,null,null,null,null,"",null,null,"","",null,null,""]
[null,3303,null,null,null,null,null,"",null,null,"","",null,null,""]
[null,3304,null,null,null,null,null,"",null,null,"","",null,null,""]
[null,3305,null,null,null,null,null,"",null,null,"","",null,null,""]
[null,3306,null,null,null,null,null,"",null,null,"","",null,null,""]
[null,3307,null,null,null,null,null,"",null,null,"","",null,null,""]
[null,3308,null,null,null,null,null,"",null,null,"","",null,null,""]
[null,3309,null,null,null,null,null,"",null,null,"","",null,null,""]
[null,3310,null,null,null,null,null,"",null,null,"","",null,null,""]
[null,3311,null,null,null,null,null,"",null,null,"","",null,null,""]
[null,3312,null,null,null,null,null,"",null,null,"","",null,null,""]
[null,3313,null,null,null,null,null,"",null,null,"","",null,null,""]
[null,3314,null,null,null,null,null,"",null,null,"","",null,null,""]
[null,3315,null,null,null,null,null,"",null,null,"","",null,null,""]
[null,3316,null,null,null,null,null,"",null,null,"","",null,null,""]
[null,3317,null,null,null,null,null,"",null,null,"","",null,null,""]
[null,3318,null,null,null,null,null,"",null,null,"","",null,null,""]
[null,3319,null,null,null,null,null,"",null,null,"","",null,null,""]
[null,3320,null,null,null,null,null,"",null,null,"","",null,null,""]
[null,3321,null,null,null,null,null,"",null,null,"",{"$f":"IF(K3337=\"\",\"\",K3337/$E$2)","v":""},null,null,{"$f":"IF(OR(L3337=0,L3337=\"\",G3337=\"\"),\"\",IF(L3337<=14000,\"Poniżej 14 000 EUR\",IF(AND(OR(G3337=\"Dostawy\",G3337=\"Usługi\"),L3337<=$P$2),\"Poniżej progu unijnego\",IF(AND(G3337=\"Roboty budowlane\",L3337<=$R$2),\"Poniżej progu unijnego\",\"Powyżej progu unijnego\"))))","v":""}]
[null,3322,null,null,null,null,null,"",null,null,"","",null,null,""]
[null,3323,null,null,null,null,null,"",null,null,"","",null,null,""]
[null,3324,null,null,null,null,null,"",null,null,"","",null,null,""]
[null,3325,null,null,null,null,null,"",null,null,"","",null,null,""]
[null,3326,null,null,null,null,null,"",null,null,"","",null,null,""]
[null,3327,null,null,null,null,null,"",null,null,"","",null,null,""]
[null,3328,null,null,null,null,null,"",null,null,"","",null,null,""]
[null,3329,null,null,null,null,null,"",null,null,"","",null,null,""]
[null,3330,null,null,null,null,null,{"$f":"IF(F3346=\"\",\"\",IF(AND(F3346=\"Dostawy\",G3346<>\"\"),LEFT(G3346,2)&MID(G3346,4,1),\"\"))","v":""},null,null,{"$f":"IF(J3346=\"\",\"\",J3346/$E$2)","v":""},"",null,null,""]
[null,3331,null,null,null,null,null,"",null,null,"","",null,null,""]
[null,3332,null,null,null,null,null,"",null,null,"","",null,null,""]
[null,3333,null,null,null,null,null,"",null,null,"","",null,null,""]
[null,3334,null,null,null,null,null,"",null,null,"","",null,null,""]
[null,3335,null,null,null,null,null,"",null,null,"","",null,null,""]
[null,3336,null,null,null,null,null,"",null,null,"","",null,null,""]
[null,3337,null,null,null,null,null,"",null,null,"","",null,null,""]
[null,3338,null,null,null,null,null,"",null,null,"","",null,null,""]
[null,3339,null,null,null,null,null,"",null,null,"","",null,null,""]
[null,3340,null,null,null,null,null,"",null,null,"","",null,null,""]
[null,3341,null,null,null,null,null,"",null,null,"","",null,null,""]
[null,3342,null,null,null,null,null,"",null,null,"","",null,null,""]
[null,3343,null,null,null,null,null,"",null,null,"","",null,null,""]
[null,3344,null,null,null,null,null,"",null,null,"","",null,null,""]
[null,3345,null,null,null,null,null,"",null,null,"","",null,null,""]
[null,3346,null,null,null,null,null,"",null,null,"","",null,null,""]
[null,3347,null,null,null,null,null,"",null,null,"","",null,null,""]
[null,3348,null,null,null,null,null,"",null,null,"","",null,null,""]
[null,3349,null,null,null,null,null,"",null,null,"","",null,null,""]
[null,3350,null,null,null,null,null,"",null,null,"","",null,null,""]
[null,3351,null,null,null,null,null,"",null,null,"","",null,null,""]
[null,3352,null,null,null,null,null,"",null,null,"","",null,null,""]
[null,3353,null,null,null,null,null,"",null,null,"","",null,null,""]
[null,3354,null,null,null,null,null,"",null,null,"","",null,null,""]
[null,3355,null,null,null,null,null,"",null,null,"","",null,null,""]
[null,3356,null,null,null,null,null,"",null,null,"","",null,null,""]
[null,3357,null,null,null,null,null,"",null,null,"","",null,null,""]
[null,3358,null,null,null,null,null,"",null,null,"","",null,null,""]
[null,3359,null,null,null,null,null,"",null,null,"","",null,null,""]
[null,3360,null,null,null,null,null,"",null,null,"","",null,null,""]
[null,3361,null,null,null,null,null,"",null,null,"","",null,null,""]
[null,3362,null,null,null,null,null,"",null,null,"","",null,null,""]
[null,3363,null,null,null,null,null,"",null,null,"","",null,null,""]
[null,3364,null,null,null,null,null,"",null,null,"","",null,null,""]
[null,3365,null,null,null,null,null,"",null,null,"","",null,null,""]
[null,3366,null,null,null,null,null,"",null,null,"","",null,null,""]
[null,3367,null,null,null,null,null,"",null,null,"","",null,null,""]
[null,3368,null,null,null,null,null,"",null,null,"","",null,null,""]
[null,3369,null,null,null,null,null,"",null,null,"","",null,null,""]
[null,3370,null,null,null,null,null,"",null,null,"","",null,null,""]
[null,3371,null,null,null,null,null,"",null,null,"","",null,null,""]
[null,3372,null,null,null,null,null,"",null,null,"","",null,null,""]
[null,3373,null,null,null,null,null,"",null,null,"","",null,null,""]
[null,3374,null,null,null,null,null,"",null,null,"","",null,null,""]
[null,3375,null,null,null,null,null,"",null,null,"","",null,null,""]
[null,3376,null,null,null,null,null,"",null,null,"","",null,null,""]
[null,3377,null,null,null,null,null,"",null,null,"","",null,null,""]
[null,3378,null,null,null,null,null,"",null,null,"","",null,null,""]
[null,3379,null,null,null,null,null,"",null,null,"","",null,null,""]
[null,3380,null,null,null,null,null,"",null,null,"","",null,null,""]
[null,3381,null,null,null,null,null,"",null,null,"","",null,null,""]
[null,3382,null,null,null,null,null,"",null,null,"","",null,null,""]
[null,3383,null,null,null,null,null,"",null,null,"","",null,null,""]
[null,3384,null,null,null,null,null,"",null,null,"","",null,null,""]
[null,3385,null,null,null,null,null,"",null,null,"",{"$f":"IF(K3401=\"\",\"\",K3401/$E$2)","v":""},null,null,{"$f":"IF(OR(L3401=0,L3401=\"\",G3401=\"\"),\"\",IF(L3401<=14000,\"Poniżej 14 000 EUR\",IF(AND(OR(G3401=\"Dostawy\",G3401=\"Usługi\"),L3401<=$P$2),\"Poniżej progu unijnego\",IF(AND(G3401=\"Roboty budowlane\",L3401<=$R$2),\"Poniżej progu unijnego\",\"Powyżej progu unijnego\"))))","v":""}]
[null,3386,null,null,null,null,null,"",null,null,"","",null,null,""]
[null,3387,null,null,null,null,null,"",null,null,"","",null,null,""]
[null,3388,null,null,null,null,null,"",null,null,"","",null,null,""]
[null,3389,null,null,null,null,null,"",null,null,"","",null,null,""]
[null,3390,null,null,null,null,null,"",null,null,"","",null,null,""]
[null,3391,null,null,null,null,null,"",null,null,"","",null,null,""]
[null,3392,null,null,null,null,null,"",null,null,"","",null,null,""]
[null,3393,null,null,null,null,null,"",null,null,"","",null,null,""]
[null,3394,null,null,null,null,null,{"$f":"IF(F3410=\"\",\"\",IF(AND(F3410=\"Dostawy\",G3410<>\"\"),LEFT(G3410,2)&MID(G3410,4,1),\"\"))","v":""},null,null,{"$f":"IF(J3410=\"\",\"\",J3410/$E$2)","v":""},"",null,null,""]
[null,3395,null,null,null,null,null,"",null,null,"","",null,null,""]
[null,3396,null,null,null,null,null,"",null,null,"","",null,null,""]
[null,3397,null,null,null,null,null,"",null,null,"","",null,null,""]
[null,3398,null,null,null,null,null,"",null,null,"","",null,null,""]
[null,3399,null,null,null,null,null,"",null,null,"","",null,null,""]
[null,3400,null,null,null,null,null,"",null,null,"","",null,null,""]
[null,3401,null,null,null,null,null,"",null,null,"","",null,null,""]
[null,3402,null,null,null,null,null,"",null,null,"","",null,null,""]
[null,3403,null,null,null,null,null,"",null,null,"","",null,null,""]
[null,3404,null,null,null,null,null,"",null,null,"","",null,null,""]
[null,3405,null,null,null,null,null,"",null,null,"","",null,null,""]
[null,3406,null,null,null,null,null,"",null,null,"","",null,null,""]
[null,3407,null,null,null,null,null,"",null,null,"","",null,null,""]
[null,3408,null,null,null,null,null,"",null,null,"","",null,null,""]
[null,3409,null,null,null,null,null,"",null,null,"","",null,null,""]
[null,3410,null,null,null,null,null,"",null,null,"","",null,null,""]
[null,3411,null,null,null,null,null,"",null,null,"","",null,null,""]
[null,3412,null,null,null,null,null,"",null,null,"","",null,null,""]
[null,3413,null,null,null,null,null,"",null,null,"","",null,null,""]
[null,3414,null,null,null,null,null,"",null,null,"","",null,null,""]
[null,3415,null,null,null,null,null,"",null,null,"","",null,null,""]
[null,3416,null,null,null,null,null,"",null,null,"","",null,null,""]
[null,3417,null,null,null,null,null,"",null,null,"","",null,null,""]
[null,3418,null,null,null,null,null,"",null,null,"","",null,null,""]
[null,3419,null,null,null,null,null,"",null,null,"","",null,null,""]
[null,3420,null,null,null,null,null,"",null,null,"","",null,null,""]
[null,3421,null,null,null,null,null,"",null,null,"","",null,null,""]
[null,3422,null,null,null,null,null,"",null,null,"","",null,null,""]
[null,3423,null,null,null,null,null,"",null,null,"","",null,null,""]
[null,3424,null,null,null,null,null,"",null,null,"","",null,null,""]
[null,3425,null,null,null,null,null,"",null,null,"","",null,null,""]
[null,3426,null,null,null,null,null,"",null,null,"","",null,null,""]
[null,3427,null,null,null,null,null,"",null,null,"","",null,null,""]
[null,3428,null,null,null,null,null,"",null,null,"","",null,null,""]
[null,3429,null,null,null,null,null,"",null,null,"","",null,null,""]
[null,3430,null,null,null,null,null,"",null,null,"","",null,null,""]
[null,3431,null,null,null,null,null,"",null,null,"","",null,null,""]
[null,3432,null,null,null,null,null,"",null,null,"","",null,null,""]
[null,3433,null,null,null,null,null,"",null,null,"","",null,null,""]
[null,3434,null,null,null,null,null,"",null,null,"","",null,null,""]
[null,3435,null,null,null,null,null,"",null,null,"","",null,null,""]
[null,3436,null,null,null,null,null,"",null,null,"","",null,null,""]
[null,3437,null,null,null,null,null,"",null,null,"","",null,null,""]
[null,3438,null,null,null,null,null,"",null,null,"","",null,null,""]
[null,3439,null,null,null,null,null,"",null,null,"","",null,null,""]
[null,3440,null,null,null,null,null,"",null,null,"","",null,null,""]
[null,3441,null,null,null,null,null,"",null,null,"","",null,null,""]
[null,3442,null,null,null,null,null,"",null,null,"","",null,null,""]
[null,3443,null,null,null,null,null,"",null,null,"","",null,null,""]
[null,3444,null,null,null,null,null,"",null,null,"","",null,null,""]
[null,3445,null,null,null,null,null,"",null,null,"","",null,null,""]
[null,3446,null,null,null,null,null,"",null,null,"","",null,null,""]
[null,3447,null,null,null,null,null,"",null,null,"","",null,null,""]
[null,3448,null,null,null,null,null,"",null,null,"","",null,null,""]
[null,3449,null,null,null,null,null,"",null,null,"",{"$f":"IF(K3465=\"\",\"\",K3465/$E$2)","v":""},null,null,{"$f":"IF(OR(L3465=0,L3465=\"\",G3465=\"\"),\"\",IF(L3465<=14000,\"Poniżej 14 000 EUR\",IF(AND(OR(G3465=\"Dostawy\",G3465=\"Usługi\"),L3465<=$P$2),\"Poniżej progu unijnego\",IF(AND(G3465=\"Roboty budowlane\",L3465<=$R$2),\"Poniżej progu unijnego\",\"Powyżej progu unijnego\"))))","v":""}]
[null,3450,null,null,null,null,null,"",null,null,"","",null,null,""]
[null,3451,null,null,null,null,null,"",null,null,"","",null,null,""]
[null,3452,null,null,null,null,null,"",null,null,"","",null,null,""]
[null,3453,null,null,null,null,null,"",null,null,"","",null,null,""]
[null,3454,null,null,null,null,null,"",null,null,"","",null,null,""]
[null,3455,null,null,null,null,null,"",null,null,"","",null,null,""]
[null,3456,null,null,null,null,null,"",null,null,"","",null,null,""]
[null,3457,null,null,null,null,null,"",null,null,"","",null,null,""]
[null,3458,null,null,null,null,null,{"$f":"IF(F3474=\"\",\"\",IF(AND(F3474=\"Dostawy\",G3474<>\"\"),LEFT(G3474,2)&MID(G3474,4,1),\"\"))","v":""},null,null,{"$f":"IF(J3474=\"\",\"\",J3474/$E$2)","v":""},"",null,null,""]
[null,3459,null,null,null,null,null,"",null,null,"","",null,null,""]
[null,3460,null,null,null,null,null,"",null,null,"","",null,null,""]
[null,3461,null,null,null,null,null,"",null,null,"","",null,null,""]
[null,3462,null,null,null,null,null,"",null,null,"","",null,null,""]
[null,3463,null,null,null,null,null,"",null,null,"","",null,null,""]
[null,3464,null,null,null,null,null,"",null,null,"","",null,null,""]
[null,3465,null,null,null,null,null,"",null,null,"","",null,null,""]
[null,3466,null,null,null,null,null,"",null,null,"","",null,null,""]
[null,3467,null,null,null,null,null,"",null,null,"","",null,null,""]
[null,3468,null,null,null,null,null,"",null,null,"","",null,null,""]
[null,3469,null,null,null,null,null,"",null,null,"","",null,null,""]
[null,3470,null,null,null,null,null,"",null,null,"","",null,null,""]
[null,3471,null,null,null,null,null,"",null,null,"","",null,null,""]
[null,3472,null,null,null,null,null,"",null,null,"","",null,null,""]
[null,3473,null,null,null,null,null,"",null,null,"","",null,null,""]
[null,3474,null,null,null,null,null,"",null,null,"","",null,null,""]
[null,3475,null,null,null,null,null,"",null,null,"","",null,null,""]
[null,3476,null,null,null,null,null,"",null,null,"","",null,null,""]
[null,3477,null,null,null,null,null,"",null,null,"","",null,null,""]
[null,3478,null,null,null,null,null,"",null,null,"","",null,null,""]
[null,3479,null,null,null,null,null,"",null,null,"","",null,null,""]
[null,3480,null,null,null,null,null,"",null,null,"","",null,null,""]
[null,3481,null,null,null,null,null,"",null,null,"","",null,null,""]
[null,3482,null,null,null,null,null,"",null,null,"","",null,null,""]
[null,3483,null,null,null,null,null,"",null,null,"","",null,null,""]
[null,3484,null,null,null,null,null,"",null,null,"","",null,null,""]
[null,3485,null,null,null,null,null,"",null,null,"","",null,null,""]
[null,3486,null,null,null,null,null,"",null,null,"","",null,null,""]
[null,3487,null,null,null,null,null,"",null,null,"","",null,null,""]
[null,3488,null,null,null,null,null,"",null,null,"","",null,null,""]
[null,3489,null,null,null,null,null,"",null,null,"","",null,null,""]
[null,3490,null,null,null,null,null,"",null,null,"","",null,null,""]
[null,3491,null,null,null,null,null,"",null,null,"","",null,null,""]
[null,3492,null,null,null,null,null,"",null,null,"","",null,null,""]
[null,3493,null,null,null,null,null,"",null,null,"","",null,null,""]
[null,3494,null,null,null,null,null,"",null,null,"","",null,null,""]
[null,3495,null,null,null,null,null,"",null,null,"","",null,null,""]
[null,3496,null,null,null,null,null,"",null,null,"","",null,null,""]
[null,3497,null,null,null,null,null,"",null,null,"","",null,null,""]
[null,3498,null,null,null,null,null,"",null,null,"","",null,null,""]
[null,3499,null,null,null,null,null,"",null,null,"","",null,null,""]
[null,3500,null,null,null,null,null,"",null,null,"","",null,null,""]
[null,3501,null,null,null,null,null,"",null,null,"","",null,null,""]
[null,3502,null,null,null,null,null,"",null,null,"","",null,null,""]
[null,3503,null,null,null,null,null,"",null,null,"","",null,null,""]
[null,3504,null,null,null,null,null,"",null,null,"","",null,null,""]
[null,3505,null,null,null,null,null,"",null,null,"","",null,null,""]
[null,3506,null,null,null,null,null,"",null,null,"","",null,null,""]
[null,3507,null,null,null,null,null,"",null,null,"","",null,null,""]
[null,3508,null,null,null,null,null,"",null,null,"","",null,null,""]
[null,3509,null,null,null,null,null,"",null,null,"","",null,null,""]
[null,3510,null,null,null,null,null,"",null,null,"","",null,null,""]
[null,3511,null,null,null,null,null,"",null,null,"","",null,null,""]
[null,3512,null,null,null,null,null,"",null,null,"","",null,null,""]
[null,3513,null,null,null,null,null,"",null,null,"",{"$f":"IF(K3529=\"\",\"\",K3529/$E$2)","v":""},null,null,{"$f":"IF(OR(L3529=0,L3529=\"\",G3529=\"\"),\"\",IF(L3529<=14000,\"Poniżej 14 000 EUR\",IF(AND(OR(G3529=\"Dostawy\",G3529=\"Usługi\"),L3529<=$P$2),\"Poniżej progu unijnego\",IF(AND(G3529=\"Roboty budowlane\",L3529<=$R$2),\"Poniżej progu unijnego\",\"Powyżej progu unijnego\"))))","v":""}]
[null,3514,null,null,null,null,null,"",null,null,"","",null,null,""]
[null,3515,null,null,null,null,null,"",null,null,"","",null,null,""]
[null,3516,null,null,null,null,null,"",null,null,"","",null,null,""]
[null,3517,null,null,null,null,null,"",null,null,"","",null,null,""]
[null,3518,null,null,null,null,null,"",null,null,"","",null,null,""]
[null,3519,null,null,null,null,null,"",null,null,"","",null,null,""]
[null,3520,null,null,null,null,null,"",null,null,"","",null,null,""]
[null,3521,null,null,null,null,null,"",null,null,"","",null,null,""]
[null,3522,null,null,null,null,null,{"$f":"IF(F3538=\"\",\"\",IF(AND(F3538=\"Dostawy\",G3538<>\"\"),LEFT(G3538,2)&MID(G3538,4,1),\"\"))","v":""},null,null,{"$f":"IF(J3538=\"\",\"\",J3538/$E$2)","v":""},"",null,null,""]
[null,3523,null,null,null,null,null,"",null,null,"","",null,null,""]
[null,3524,null,null,null,null,null,"",null,null,"","",null,null,""]
[null,3525,null,null,null,null,null,"",null,null,"","",null,null,""]
[null,3526,null,null,null,null,null,"",null,null,"","",null,null,""]
[null,3527,null,null,null,null,null,"",null,null,"","",null,null,""]
[null,3528,null,null,null,null,null,"",null,null,"","",null,null,""]
[null,3529,null,null,null,null,null,"",null,null,"","",null,null,""]
[null,3530,null,null,null,null,null,"",null,null,"","",null,null,""]
[null,3531,null,null,null,null,null,"",null,null,"","",null,null,""]
[null,3532,null,null,null,null,null,"",null,null,"","",null,null,""]
[null,3533,null,null,null,null,null,"",null,null,"","",null,null,""]
[null,3534,null,null,null,null,null,"",null,null,"","",null,null,""]
[null,3535,null,null,null,null,null,"",null,null,"","",null,null,""]
[null,3536,null,null,null,null,null,"",null,null,"","",null,null,""]
[null,3537,null,null,null,null,null,"",null,null,"","",null,null,""]
[null,3538,null,null,null,null,null,"",null,null,"","",null,null,""]
[null,3539,null,null,null,null,null,"",null,null,"","",null,null,""]
[null,3540,null,null,null,null,null,"",null,null,"","",null,null,""]
[null,3541,null,null,null,null,null,"",null,null,"","",null,null,""]
[null,3542,null,null,null,null,null,"",null,null,"","",null,null,""]
[null,3543,null,null,null,null,null,"",null,null,"","",null,null,""]
[null,3544,null,null,null,null,null,"",null,null,"","",null,null,""]
[null,3545,null,null,null,null,null,"",null,null,"","",null,null,""]
[null,3546,null,null,null,null,null,"",null,null,"","",null,null,""]
[null,3547,null,null,null,null,null,"",null,null,"","",null,null,""]
[null,3548,null,null,null,null,null,"",null,null,"","",null,null,""]
[null,3549,null,null,null,null,null,"",null,null,"","",null,null,""]
[null,3550,null,null,null,null,null,"",null,null,"","",null,null,""]
[null,3551,null,null,null,null,null,"",null,null,"","",null,null,""]
[null,3552,null,null,null,null,null,"",null,null,"","",null,null,""]
[null,3553,null,null,null,null,null,"",null,null,"","",null,null,""]
[null,3554,null,null,null,null,null,"",null,null,"","",null,null,""]
[null,3555,null,null,null,null,null,"",null,null,"","",null,null,""]
[null,3556,null,null,null,null,null,"",null,null,"","",null,null,""]
[null,3557,null,null,null,null,null,"",null,null,"","",null,null,""]
[null,3558,null,null,null,null,null,"",null,null,"","",null,null,""]
[null,3559,null,null,null,null,null,"",null,null,"","",null,null,""]
[null,3560,null,null,null,null,null,"",null,null,"","",null,null,""]
[null,3561,null,null,null,null,null,"",null,null,"","",null,null,""]
[null,3562,null,null,null,null,null,"",null,null,"","",null,null,""]
[null,3563,null,null,null,null,null,"",null,null,"","",null,null,""]
[null,3564,null,null,null,null,null,"",null,null,"","",null,null,""]
[null,3565,null,null,null,null,null,"",null,null,"","",null,null,""]
[null,3566,null,null,null,null,null,"",null,null,"","",null,null,""]
[null,3567,null,null,null,null,null,"",null,null,"","",null,null,""]
[null,3568,null,null,null,null,null,"",null,null,"","",null,null,""]
[null,3569,null,null,null,null,null,"",null,null,"","",null,null,""]
[null,3570,null,null,null,null,null,"",null,null,"","",null,null,""]
[null,3571,null,null,null,null,null,"",null,null,"","",null,null,""]
[null,3572,null,null,null,null,null,"",null,null,"","",null,null,""]
[null,3573,null,null,null,null,null,"",null,null,"","",null,null,""]
[null,3574,null,null,null,null,null,"",null,null,"","",null,null,""]
[null,3575,null,null,null,null,null,"",null,null,"","",null,null,""]
[null,3576,null,null,null,null,null,"",null,null,"","",null,null,""]
[null,3577,null,null,null,null,null,"",null,null,"",{"$f":"IF(K3593=\"\",\"\",K3593/$E$2)","v":""},null,null,{"$f":"IF(OR(L3593=0,L3593=\"\",G3593=\"\"),\"\",IF(L3593<=14000,\"Poniżej 14 000 EUR\",IF(AND(OR(G3593=\"Dostawy\",G3593=\"Usługi\"),L3593<=$P$2),\"Poniżej progu unijnego\",IF(AND(G3593=\"Roboty budowlane\",L3593<=$R$2),\"Poniżej progu unijnego\",\"Powyżej progu unijnego\"))))","v":""}]
[null,3578,null,null,null,null,null,"",null,null,"","",null,null,""]
[null,3579,null,null,null,null,null,"",null,null,"","",null,null,""]
[null,3580,null,null,null,null,null,"",null,null,"","",null,null,""]
[null,3581,null,null,null,null,null,"",null,null,"","",null,null,""]
[null,3582,null,null,null,null,null,"",null,null,"","",null,null,""]
[null,3583,null,null,null,null,null,"",null,null,"","",null,null,""]
[null,3584,null,null,null,null,null,"",null,null,"","",null,null,""]
[null,3585,null,null,null,null,null,"",null,null,"","",null,null,""]
[null,3586,null,null,null,null,null,{"$f":"IF(F3602=\"\",\"\",IF(AND(F3602=\"Dostawy\",G3602<>\"\"),LEFT(G3602,2)&MID(G3602,4,1),\"\"))","v":""},null,null,{"$f":"IF(J3602=\"\",\"\",J3602/$E$2)","v":""},"",null,null,""]
[null,3587,null,null,null,null,null,"",null,null,"","",null,null,""]
[null,3588,null,null,null,null,null,"",null,null,"","",null,null,""]
[null,3589,null,null,null,null,null,"",null,null,"","",null,null,""]
[null,3590,null,null,null,null,null,"",null,null,"","",null,null,""]
[null,3591,null,null,null,null,null,"",null,null,"","",null,null,""]
[null,3592,null,null,null,null,null,"",null,null,"","",null,null,""]
[null,3593,null,null,null,null,null,"",null,null,"","",null,null,""]
[null,3594,null,null,null,null,null,"",null,null,"","",null,null,""]
[null,3595,null,null,null,null,null,"",null,null,"","",null,null,""]
[null,3596,null,null,null,null,null,"",null,null,"","",null,null,""]
[null,3597,null,null,null,null,null,"",null,null,"","",null,null,""]
[null,3598,null,null,null,null,null,"",null,null,"","",null,null,""]
[null,3599,null,null,null,null,null,"",null,null,"","",null,null,""]
[null,3600,null,null,null,null,null,"",null,null,"","",null,null,""]
[null,3601,null,null,null,null,null,"",null,null,"","",null,null,""]
[null,3602,null,null,null,null,null,"",null,null,"","",null,null,""]
[null,3603,null,null,null,null,null,"",null,null,"","",null,null,""]
[null,3604,null,null,null,null,null,"",null,null,"","",null,null,""]
[null,3605,null,null,null,null,null,"",null,null,"","",null,null,""]
[null,3606,null,null,null,null,null,"",null,null,"","",null,null,""]
[null,3607,null,null,null,null,null,"",null,null,"","",null,null,""]
[null,3608,null,null,null,null,null,"",null,null,"","",null,null,""]
[null,3609,null,null,null,null,null,"",null,null,"","",null,null,""]
[null,3610,null,null,null,null,null,"",null,null,"","",null,null,""]
[null,3611,null,null,null,null,null,"",null,null,"","",null,null,""]
[null,3612,null,null,null,null,null,"",null,null,"","",null,null,""]
[null,3613,null,null,null,null,null,"",null,null,"","",null,null,""]
[null,3614,null,null,null,null,null,"",null,null,"","",null,null,""]
[null,3615,null,null,null,null,null,"",null,null,"","",null,null,""]
[null,3616,null,null,null,null,null,"",null,null,"","",null,null,""]
[null,3617,null,null,null,null,null,"",null,null,"","",null,null,""]
[null,3618,null,null,null,null,null,"",null,null,"","",null,null,""]
[null,3619,null,null,null,null,null,"",null,null,"","",null,null,""]
[null,3620,null,null,null,null,null,"",null,null,"","",null,null,""]
[null,3621,null,null,null,null,null,"",null,null,"","",null,null,""]
[null,3622,null,null,null,null,null,"",null,null,"","",null,null,""]
[null,3623,null,null,null,null,null,"",null,null,"","",null,null,""]
[null,3624,null,null,null,null,null,"",null,null,"","",null,null,""]
[null,3625,null,null,null,null,null,"",null,null,"","",null,null,""]
[null,3626,null,null,null,null,null,"",null,null,"","",null,null,""]
[null,3627,null,null,null,null,null,"",null,null,"","",null,null,""]
[null,3628,null,null,null,null,null,"",null,null,"","",null,null,""]
[null,3629,null,null,null,null,null,"",null,null,"","",null,null,""]
[null,3630,null,null,null,null,null,"",null,null,"","",null,null,""]
[null,3631,null,null,null,null,null,"",null,null,"","",null,null,""]
[null,3632,null,null,null,null,null,"",null,null,"","",null,null,""]
[null,3633,null,null,null,null,null,"",null,null,"","",null,null,""]
[null,3634,null,null,null,null,null,"",null,null,"","",null,null,""]
[null,3635,null,null,null,null,null,"",null,null,"","",null,null,""]
[null,3636,null,null,null,null,null,"",null,null,"","",null,null,""]
[null,3637,null,null,null,null,null,"",null,null,"","",null,null,""]
[null,3638,null,null,null,null,null,"",null,null,"","",null,null,""]
[null,3639,null,null,null,null,null,"",null,null,"","",null,null,""]
[null,3640,null,null,null,null,null,"",null,null,"","",null,null,""]
[null,3641,null,null,null,null,null,"",null,null,"",{"$f":"IF(K3657=\"\",\"\",K3657/$E$2)","v":""},null,null,{"$f":"IF(OR(L3657=0,L3657=\"\",G3657=\"\"),\"\",IF(L3657<=14000,\"Poniżej 14 000 EUR\",IF(AND(OR(G3657=\"Dostawy\",G3657=\"Usługi\"),L3657<=$P$2),\"Poniżej progu unijnego\",IF(AND(G3657=\"Roboty budowlane\",L3657<=$R$2),\"Poniżej progu unijnego\",\"Powyżej progu unijnego\"))))","v":""}]
[null,3642,null,null,null,null,null,"",null,null,"","",null,null,""]
[null,3643,null,null,null,null,null,"",null,null,"","",null,null,""]
[null,3644,null,null,null,null,null,"",null,null,"","",null,null,""]
[null,3645,null,null,null,null,null,"",null,null,"","",null,null,""]
[null,3646,null,null,null,null,null,"",null,null,"","",null,null,""]
[null,3647,null,null,null,null,null,"",null,null,"","",null,null,""]
[null,3648,null,null,null,null,null,"",null,null,"","",null,null,""]
[null,3649,null,null,null,null,null,"",null,null,"","",null,null,""]
[null,3650,null,null,null,null,null,{"$f":"IF(F3666=\"\",\"\",IF(AND(F3666=\"Dostawy\",G3666<>\"\"),LEFT(G3666,2)&MID(G3666,4,1),\"\"))","v":""},null,null,{"$f":"IF(J3666=\"\",\"\",J3666/$E$2)","v":""},"",null,null,""]
[null,3651,null,null,null,null,null,"",null,null,"","",null,null,""]
[null,3652,null,null,null,null,null,"",null,null,"","",null,null,""]
[null,3653,null,null,null,null,null,"",null,null,"","",null,null,""]
[null,3654,null,null,null,null,null,"",null,null,"","",null,null,""]
[null,3655,null,null,null,null,null,"",null,null,"","",null,null,""]
[null,3656,null,null,null,null,null,"",null,null,"","",null,null,""]
[null,3657,null,null,null,null,null,"",null,null,"","",null,null,""]
[null,3658,null,null,null,null,null,"",null,null,"","",null,null,""]
[null,3659,null,null,null,null,null,"",null,null,"","",null,null,""]
[null,3660,null,null,null,null,null,"",null,null,"","",null,null,""]
[null,3661,null,null,null,null,null,"",null,null,"","",null,null,""]
[null,3662,null,null,null,null,null,"",null,null,"","",null,null,""]
[null,3663,null,null,null,null,null,"",null,null,"","",null,null,""]
[null,3664,null,null,null,null,null,"",null,null,"","",null,null,""]
[null,3665,null,null,null,null,null,"",null,null,"","",null,null,""]
[null,3666,null,null,null,null,null,"",null,null,"","",null,null,""]
[null,3667,null,null,null,null,null,"",null,null,"","",null,null,""]
[null,3668,null,null,null,null,null,"",null,null,"","",null,null,""]
[null,3669,null,null,null,null,null,"",null,null,"","",null,null,""]
[null,3670,null,null,null,null,null,"",null,null,"","",null,null,""]
[null,3671,null,null,null,null,null,"",null,null,"","",null,null,""]
[null,3672,null,null,null,null,null,"",null,null,"","",null,null,""]
[null,3673,null,null,null,null,null,"",null,null,"","",null,null,""]
[null,3674,null,null,null,null,null,"",null,null,"","",null,null,""]
[null,3675,null,null,null,null,null,"",null,null,"","",null,null,""]
[null,3676,null,null,null,null,null,"",null,null,"","",null,null,""]
[null,3677,null,null,null,null,null,"",null,null,"","",null,null,""]
[null,3678,null,null,null,null,null,"",null,null,"","",null,null,""]
[null,3679,null,null,null,null,null,"",null,null,"","",null,null,""]
[null,3680,null,null,null,null,null,"",null,null,"","",null,null,""]
[null,3681,null,null,null,null,null,"",null,null,"","",null,null,""]
[null,3682,null,null,null,null,null,"",null,null,"","",null,null,""]
[null,3683,null,null,null,null,null,"",null,null,"","",null,null,""]
[null,3684,null,null,null,null,null,"",null,null,"","",null,null,""]
[null,3685,null,null,null,null,null,"",null,null,"","",null,null,""]
[null,3686,null,null,null,null,null,"",null,null,"","",null,null,""]
[null,3687,null,null,null,null,null,"",null,null,"","",null,null,""]
[null,3688,null,null,null,null,null,"",null,null,"","",null,null,""]
[null,3689,null,null,null,null,null,"",null,null,"","",null,null,""]
[null,3690,null,null,null,null,null,"",null,null,"","",null,null,""]
[null,3691,null,null,null,null,null,"",null,null,"","",null,null,""]
[null,3692,null,null,null,null,null,"",null,null,"","",null,null,""]
[null,3693,null,null,null,null,null,"",null,null,"","",null,null,""]
[null,3694,null,null,null,null,null,"",null,null,"","",null,null,""]
[null,3695,null,null,null,null,null,"",null,null,"","",null,null,""]
[null,3696,null,null,null,null,null,"",null,null,"","",null,null,""]
[null,3697,null,null,null,null,null,"",null,null,"","",null,null,""]
[null,3698,null,null,null,null,null,"",null,null,"","",null,null,""]
[null,3699,null,null,null,null,null,"",null,null,"","",null,null,""]
[null,3700,null,null,null,null,null,"",null,null,"","",null,null,""]
[null,3701,null,null,null,null,null,"",null,null,"","",null,null,""]
[null,3702,null,null,null,null,null,"",null,null,"","",null,null,""]
[null,3703,null,null,null,null,null,"",null,null,"","",null,null,""]
[null,3704,null,null,null,null,null,"",null,null,"","",null,null,""]
[null,3705,null,null,null,null,null,"",null,null,"",{"$f":"IF(K3721=\"\",\"\",K3721/$E$2)","v":""},null,null,{"$f":"IF(OR(L3721=0,L3721=\"\",G3721=\"\"),\"\",IF(L3721<=14000,\"Poniżej 14 000 EUR\",IF(AND(OR(G3721=\"Dostawy\",G3721=\"Usługi\"),L3721<=$P$2),\"Poniżej progu unijnego\",IF(AND(G3721=\"Roboty budowlane\",L3721<=$R$2),\"Poniżej progu unijnego\",\"Powyżej progu unijnego\"))))","v":""}]
[null,3706,null,null,null,null,null,"",null,null,"","",null,null,""]
[null,3707,null,null,null,null,null,"",null,null,"","",null,null,""]
[null,3708,null,null,null,null,null,"",null,null,"","",null,null,""]
[null,3709,null,null,null,null,null,"",null,null,"","",null,null,""]
[null,3710,null,null,null,null,null,"",null,null,"","",null,null,""]
[null,3711,null,null,null,null,null,"",null,null,"","",null,null,""]
[null,3712,null,null,null,null,null,"",null,null,"","",null,null,""]
[null,3713,null,null,null,null,null,"",null,null,"","",null,null,""]
[null,3714,null,null,null,null,null,{"$f":"IF(F3730=\"\",\"\",IF(AND(F3730=\"Dostawy\",G3730<>\"\"),LEFT(G3730,2)&MID(G3730,4,1),\"\"))","v":""},null,null,{"$f":"IF(J3730=\"\",\"\",J3730/$E$2)","v":""},"",null,null,""]
[null,3715,null,null,null,null,null,"",null,null,"","",null,null,""]
[null,3716,null,null,null,null,null,"",null,null,"","",null,null,""]
[null,3717,null,null,null,null,null,"",null,null,"","",null,null,""]
[null,3718,null,null,null,null,null,"",null,null,"","",null,null,""]
[null,3719,null,null,null,null,null,"",null,null,"","",null,null,""]
[null,3720,null,null,null,null,null,"",null,null,"","",null,null,""]
[null,3721,null,null,null,null,null,"",null,null,"","",null,null,""]
[null,3722,null,null,null,null,null,"",null,null,"","",null,null,""]
[null,3723,null,null,null,null,null,"",null,null,"","",null,null,""]
[null,3724,null,null,null,null,null,"",null,null,"","",null,null,""]
[null,3725,null,null,null,null,null,"",null,null,"","",null,null,""]
[null,3726,null,null,null,null,null,"",null,null,"","",null,null,""]
[null,3727,null,null,null,null,null,"",null,null,"","",null,null,""]
[null,3728,null,null,null,null,null,"",null,null,"","",null,null,""]
[null,3729,null,null,null,null,null,"",null,null,"","",null,null,""]
[null,3730,null,null,null,null,null,"",null,null,"","",null,null,""]
[null,3731,null,null,null,null,null,"",null,null,"","",null,null,""]
[null,3732,null,null,null,null,null,"",null,null,"","",null,null,""]
[null,3733,null,null,null,null,null,"",null,null,"","",null,null,""]
[null,3734,null,null,null,null,null,"",null,null,"","",null,null,""]
[null,3735,null,null,null,null,null,"",null,null,"","",null,null,""]
[null,3736,null,null,null,null,null,"",null,null,"","",null,null,""]
[null,3737,null,null,null,null,null,"",null,null,"","",null,null,""]
[null,3738,null,null,null,null,null,"",null,null,"","",null,null,""]
[null,3739,null,null,null,null,null,"",null,null,"","",null,null,""]
[null,3740,null,null,null,null,null,"",null,null,"","",null,null,""]
[null,3741,null,null,null,null,null,"",null,null,"","",null,null,""]
[null,3742,null,null,null,null,null,"",null,null,"","",null,null,""]
[null,3743,null,null,null,null,null,"",null,null,"","",null,null,""]
[null,3744,null,null,null,null,null,"",null,null,"","",null,null,""]
[null,3745,null,null,null,null,null,"",null,null,"","",null,null,""]
[null,3746,null,null,null,null,null,"",null,null,"","",null,null,""]
[null,3747,null,null,null,null,null,"",null,null,"","",null,null,""]
[null,3748,null,null,null,null,null,"",null,null,"","",null,null,""]
[null,3749,null,null,null,null,null,"",null,null,"","",null,null,""]
[null,3750,null,null,null,null,null,"",null,null,"","",null,null,""]
[null,3751,null,null,null,null,null,"",null,null,"","",null,null,""]
[null,3752,null,null,null,null,null,"",null,null,"","",null,null,""]
[null,3753,null,null,null,null,null,"",null,null,"","",null,null,""]
[null,3754,null,null,null,null,null,"",null,null,"","",null,null,""]
[null,3755,null,null,null,null,null,"",null,null,"","",null,null,""]
[null,3756,null,null,null,null,null,"",null,null,"","",null,null,""]
[null,3757,null,null,null,null,null,"",null,null,"","",null,null,""]
[null,3758,null,null,null,null,null,"",null,null,"","",null,null,""]
[null,3759,null,null,null,null,null,"",null,null,"","",null,null,""]
[null,3760,null,null,null,null,null,"",null,null,"","",null,null,""]
[null,3761,null,null,null,null,null,"",null,null,"","",null,null,""]
[null,3762,null,null,null,null,null,"",null,null,"","",null,null,""]
[null,3763,null,null,null,null,null,"",null,null,"","",null,null,""]
[null,3764,null,null,null,null,null,"",null,null,"","",null,null,""]
[null,3765,null,null,null,null,null,"",null,null,"","",null,null,""]
[null,3766,null,null,null,null,null,"",null,null,"","",null,null,""]
[null,3767,null,null,null,null,null,"",null,null,"","",null,null,""]
[null,3768,null,null,null,null,null,"",null,null,"","",null,null,""]
[null,3769,null,null,null,null,null,"",null,null,"",{"$f":"IF(K3785=\"\",\"\",K3785/$E$2)","v":""},null,null,{"$f":"IF(OR(L3785=0,L3785=\"\",G3785=\"\"),\"\",IF(L3785<=14000,\"Poniżej 14 000 EUR\",IF(AND(OR(G3785=\"Dostawy\",G3785=\"Usługi\"),L3785<=$P$2),\"Poniżej progu unijnego\",IF(AND(G3785=\"Roboty budowlane\",L3785<=$R$2),\"Poniżej progu unijnego\",\"Powyżej progu unijnego\"))))","v":""}]
[null,3770,null,null,null,null,null,"",null,null,"","",null,null,""]
[null,3771,null,null,null,null,null,"",null,null,"","",null,null,""]
[null,3772,null,null,null,null,null,"",null,null,"","",null,null,""]
[null,3773,null,null,null,null,null,"",null,null,"","",null,null,""]
[null,3774,null,null,null,null,null,"",null,null,"","",null,null,""]
[null,3775,null,null,null,null,null,"",null,null,"","",null,null,""]
[null,3776,null,null,null,null,null,"",null,null,"","",null,null,""]
[null,3777,null,null,null,null,null,"",null,null,"","",null,null,""]
[null,3778,null,null,null,null,null,{"$f":"IF(F3794=\"\",\"\",IF(AND(F3794=\"Dostawy\",G3794<>\"\"),LEFT(G3794,2)&MID(G3794,4,1),\"\"))","v":""},null,null,{"$f":"IF(J3794=\"\",\"\",J3794/$E$2)","v":""},"",null,null,""]
[null,3779,null,null,null,null,null,"",null,null,"","",null,null,""]
[null,3780,null,null,null,null,null,"",null,null,"","",null,null,""]
[null,3781,null,null,null,null,null,"",null,null,"","",null,null,""]
[null,3782,null,null,null,null,null,"",null,null,"","",null,null,""]
[null,3783,null,null,null,null,null,"",null,null,"","",null,null,""]
[null,3784,null,null,null,null,null,"",null,null,"","",null,null,""]
[null,3785,null,null,null,null,null,"",null,null,"","",null,null,""]
[null,3786,null,null,null,null,null,"",null,null,"","",null,null,""]
[null,3787,null,null,null,null,null,"",null,null,"","",null,null,""]
[null,3788,null,null,null,null,null,"",null,null,"","",null,null,""]
[null,3789,null,null,null,null,null,"",null,null,"","",null,null,""]
[null,3790,null,null,null,null,null,"",null,null,"","",null,null,""]
[null,3791,null,null,null,null,null,"",null,null,"","",null,null,""]
[null,3792,null,null,null,null,null,"",null,null,"","",null,null,""]
[null,3793,null,null,null,null,null,"",null,null,"","",null,null,""]
[null,3794,null,null,null,null,null,"",null,null,"","",null,null,""]
[null,3795,null,null,null,null,null,"",null,null,"","",null,null,""]
[null,3796,null,null,null,null,null,"",null,null,"","",null,null,""]
[null,3797,null,null,null,null,null,"",null,null,"","",null,null,""]
[null,3798,null,null,null,null,null,"",null,null,"","",null,null,""]
[null,3799,null,null,null,null,null,"",null,null,"","",null,null,""]
[null,3800,null,null,null,null,null,"",null,null,"","",null,null,""]
[null,3801,null,null,null,null,null,"",null,null,"","",null,null,""]
[null,3802,null,null,null,null,null,"",null,null,"","",null,null,""]
[null,3803,null,null,null,null,null,"",null,null,"","",null,null,""]
[null,3804,null,null,null,null,null,"",null,null,"","",null,null,""]
[null,3805,null,null,null,null,null,"",null,null,"","",null,null,""]
[null,3806,null,null,null,null,null,"",null,null,"","",null,null,""]
[null,3807,null,null,null,null,null,"",null,null,"","",null,null,""]
[null,3808,null,null,null,null,null,"",null,null,"","",null,null,""]
[null,3809,null,null,null,null,null,"",null,null,"","",null,null,""]
[null,3810,null,null,null,null,null,"",null,null,"","",null,null,""]
[null,3811,null,null,null,null,null,"",null,null,"","",null,null,""]
[null,3812,null,null,null,null,null,"",null,null,"","",null,null,""]
[null,3813,null,null,null,null,null,"",null,null,"","",null,null,""]
[null,3814,null,null,null,null,null,"",null,null,"","",null,null,""]
[null,3815,null,null,null,null,null,"",null,null,"","",null,null,""]
[null,3816,null,null,null,null,null,"",null,null,"","",null,null,""]
[null,3817,null,null,null,null,null,"",null,null,"","",null,null,""]
[null,3818,null,null,null,null,null,"",null,null,"","",null,null,""]
[null,3819,null,null,null,null,null,"",null,null,"","",null,null,""]
[null,3820,null,null,null,null,null,"",null,null,"","",null,null,""]
[null,3821,null,null,null,null,null,"",null,null,"","",null,null,""]
[null,3822,null,null,null,null,null,"",null,null,"","",null,null,""]
[null,3823,null,null,null,null,null,"",null,null,"","",null,null,""]
[null,3824,null,null,null,null,null,"",null,null,"","",null,null,""]
[null,3825,null,null,null,null,null,"",null,null,"","",null,null,""]
[null,3826,null,null,null,null,null,"",null,null,"","",null,null,""]
[null,3827,null,null,null,null,null,"",null,null,"","",null,null,""]
[null,3828,null,null,null,null,null,"",null,null,"","",null,null,""]
[null,3829,null,null,null,null,null,"",null,null,"","",null,null,""]
[null,3830,null,null,null,null,null,"",null,null,"","",null,null,""]
[null,3831,null,null,null,null,null,"",null,null,"","",null,null,""]
[null,3832,null,null,null,null,null,"",null,null,"","",null,null,""]
[null,3833,null,null,null,null,null,"",null,null,"",{"$f":"IF(K3849=\"\",\"\",K3849/$E$2)","v":""},null,null,{"$f":"IF(OR(L3849=0,L3849=\"\",G3849=\"\"),\"\",IF(L3849<=14000,\"Poniżej 14 000 EUR\",IF(AND(OR(G3849=\"Dostawy\",G3849=\"Usługi\"),L3849<=$P$2),\"Poniżej progu unijnego\",IF(AND(G3849=\"Roboty budowlane\",L3849<=$R$2),\"Poniżej progu unijnego\",\"Powyżej progu unijnego\"))))","v":""}]
[null,3834,null,null,null,null,null,"",null,null,"","",null,null,""]
[null,3835,null,null,null,null,null,"",null,null,"","",null,null,""]
[null,3836,null,null,null,null,null,"",null,null,"","",null,null,""]
[null,3837,null,null,null,null,null,"",null,null,"","",null,null,""]
[null,3838,null,null,null,null,null,"",null,null,"","",null,null,""]
[null,3839,null,null,null,null,null,"",null,null,"","",null,null,""]
[null,3840,null,null,null,null,null,"",null,null,"","",null,null,""]
[null,3841,null,null,null,null,null,"",null,null,"","",null,null,""]
[null,3842,null,null,null,null,null,{"$f":"IF(F3858=\"\",\"\",IF(AND(F3858=\"Dostawy\",G3858<>\"\"),LEFT(G3858,2)&MID(G3858,4,1),\"\"))","v":""},null,null,{"$f":"IF(J3858=\"\",\"\",J3858/$E$2)","v":""},"",null,null,""]
[null,3843,null,null,null,null,null,"",null,null,"","",null,null,""]
[null,3844,null,null,null,null,null,"",null,null,"","",null,null,""]
[null,3845,null,null,null,null,null,"",null,null,"","",null,null,""]
[null,3846,null,null,null,null,null,"",null,null,"","",null,null,""]
[null,3847,null,null,null,null,null,"",null,null,"","",null,null,""]
[null,3848,null,null,null,null,null,"",null,null,"","",null,null,""]
[null,3849,null,null,null,null,null,"",null,null,"","",null,null,""]
[null,3850,null,null,null,null,null,"",null,null,"","",null,null,""]
[null,3851,null,null,null,null,null,"",null,null,"","",null,null,""]
[null,3852,null,null,null,null,null,"",null,null,"","",null,null,""]
[null,3853,null,null,null,null,null,"",null,null,"","",null,null,""]
[null,3854,null,null,null,null,null,"",null,null,"","",null,null,""]
[null,3855,null,null,null,null,null,"",null,null,"","",null,null,""]
[null,3856,null,null,null,null,null,"",null,null,"","",null,null,""]
[null,3857,null,null,null,null,null,"",null,null,"","",null,null,""]
[null,3858,null,null,null,null,null,"",null,null,"","",null,null,""]
[null,3859,null,null,null,null,null,"",null,null,"","",null,null,""]
[null,3860,null,null,null,null,null,"",null,null,"","",null,null,""]
[null,3861,null,null,null,null,null,"",null,null,"","",null,null,""]
[null,3862,null,null,null,null,null,"",null,null,"","",null,null,""]
[null,3863,null,null,null,null,null,"",null,null,"","",null,null,""]
[null,3864,null,null,null,null,null,"",null,null,"","",null,null,""]
[null,3865,null,null,null,null,null,"",null,null,"","",null,null,""]
[null,3866,null,null,null,null,null,"",null,null,"","",null,null,""]
[null,3867,null,null,null,null,null,"",null,null,"","",null,null,""]
[null,3868,null,null,null,null,null,"",null,null,"","",null,null,""]
[null,3869,null,null,null,null,null,"",null,null,"","",null,null,""]
[null,3870,null,null,null,null,null,"",null,null,"","",null,null,""]
[null,3871,null,null,null,null,null,"",null,null,"","",null,null,""]
[null,3872,null,null,null,null,null,"",null,null,"","",null,null,""]
[null,3873,null,null,null,null,null,"",null,null,"","",null,null,""]
[null,3874,null,null,null,null,null,"",null,null,"","",null,null,""]
[null,3875,null,null,null,null,null,"",null,null,"","",null,null,""]
[null,3876,null,null,null,null,null,"",null,null,"","",null,null,""]
[null,3877,null,null,null,null,null,"",null,null,"","",null,null,""]
[null,3878,null,null,null,null,null,"",null,null,"","",null,null,""]
[null,3879,null,null,null,null,null,"",null,null,"","",null,null,""]
[null,3880,null,null,null,null,null,"",null,null,"","",null,null,""]
[null,3881,null,null,null,null,null,"",null,null,"","",null,null,""]
[null,3882,null,null,null,null,null,"",null,null,"","",null,null,""]
[null,3883,null,null,null,null,null,"",null,null,"","",null,null,""]
[null,3884,null,null,null,null,null,"",null,null,"","",null,null,""]
[null,3885,null,null,null,null,null,"",null,null,"","",null,null,""]
[null,3886,null,null,null,null,null,"",null,null,"","",null,null,""]
[null,3887,null,null,null,null,null,"",null,null,"","",null,null,""]
[null,3888,null,null,null,null,null,"",null,null,"","",null,null,""]
[null,3889,null,null,null,null,null,"",null,null,"","",null,null,""]
[null,3890,null,null,null,null,null,"",null,null,"","",null,null,""]
[null,3891,null,null,null,null,null,"",null,null,"","",null,null,""]
[null,3892,null,null,null,null,null,"",null,null,"","",null,null,""]
[null,3893,null,null,null,null,null,"",null,null,"","",null,null,""]
[null,3894,null,null,null,null,null,"",null,null,"","",null,null,""]
[null,3895,null,null,null,null,null,"",null,null,"","",null,null,""]
[null,3896,null,null,null,null,null,"",null,null,"","",null,null,""]
[null,3897,null,null,null,null,null,"",null,null,"",{"$f":"IF(K3913=\"\",\"\",K3913/$E$2)","v":""},null,null,{"$f":"IF(OR(L3913=0,L3913=\"\",G3913=\"\"),\"\",IF(L3913<=14000,\"Poniżej 14 000 EUR\",IF(AND(OR(G3913=\"Dostawy\",G3913=\"Usługi\"),L3913<=$P$2),\"Poniżej progu unijnego\",IF(AND(G3913=\"Roboty budowlane\",L3913<=$R$2),\"Poniżej progu unijnego\",\"Powyżej progu unijnego\"))))","v":""}]
[null,3898,null,null,null,null,null,"",null,null,"","",null,null,""]
[null,3899,null,null,null,null,null,"",null,null,"","",null,null,""]
[null,3900,null,null,null,null,null,"",null,null,"","",null,null,""]
[null,3901,null,null,null,null,null,"",null,null,"","",null,null,""]
[null,3902,null,null,null,null,null,"",null,null,"","",null,null,""]
[null,3903,null,null,null,null,null,"",null,null,"","",null,null,""]
[null,3904,null,null,null,null,null,"",null,null,"","",null,null,""]
[null,3905,null,null,null,null,null,"",null,null,"","",null,null,""]
[null,3906,null,null,null,null,null,{"$f":"IF(F3922=\"\",\"\",IF(AND(F3922=\"Dostawy\",G3922<>\"\"),LEFT(G3922,2)&MID(G3922,4,1),\"\"))","v":""},null,null,{"$f":"IF(J3922=\"\",\"\",J3922/$E$2)","v":""},"",null,null,""]
[null,3907,null,null,null,null,null,"",null,null,"","",null,null,""]
[null,3908,null,null,null,null,null,"",null,null,"","",null,null,""]
[null,3909,null,null,null,null,null,"",null,null,"","",null,null,""]
[null,3910,null,null,null,null,null,"",null,null,"","",null,null,""]
[null,3911,null,null,null,null,null,"",null,null,"","",null,null,""]
[null,3912,null,null,null,null,null,"",null,null,"","",null,null,""]
[null,3913,null,null,null,null,null,"",null,null,"","",null,null,""]
[null,3914,null,null,null,null,null,"",null,null,"","",null,null,""]
[null,3915,null,null,null,null,null,"",null,null,"","",null,null,""]
[null,3916,null,null,null,null,null,"",null,null,"","",null,null,""]
[null,3917,null,null,null,null,null,"",null,null,"","",null,null,""]
[null,3918,null,null,null,null,null,"",null,null,"","",null,null,""]
[null,3919,null,null,null,null,null,"",null,null,"","",null,null,""]
[null,3920,null,null,null,null,null,"",null,null,"","",null,null,""]
[null,3921,null,null,null,null,null,"",null,null,"","",null,null,""]
[null,3922,null,null,null,null,null,"",null,null,"","",null,null,""]
[null,3923,null,null,null,null,null,"",null,null,"","",null,null,""]
[null,3924,null,null,null,null,null,"",null,null,"","",null,null,""]
[null,3925,null,null,null,null,null,"",null,null,"","",null,null,""]
[null,3926,null,null,null,null,null,"",null,null,"","",null,null,""]
[null,3927,null,null,null,null,null,"",null,null,"","",null,null,""]
[null,3928,null,null,null,null,null,"",null,null,"","",null,null,""]
[null,3929,null,null,null,null,null,"",null,null,"","",null,null,""]
[null,3930,null,null,null,null,null,"",null,null,"","",null,null,""]
[null,3931,null,null,null,null,null,"",null,null,"","",null,null,""]
[null,3932,null,null,null,null,null,"",null,null,"","",null,null,""]
[null,3933,null,null,null,null,null,"",null,null,"","",null,null,""]
[null,3934,null,null,null,null,null,"",null,null,"","",null,null,""]
[null,3935,null,null,null,null,null,"",null,null,"","",null,null,""]
[null,3936,null,null,null,null,null,"",null,null,"","",null,null,""]
[null,3937,null,null,null,null,null,"",null,null,"","",null,null,""]
[null,3938,null,null,null,null,null,"",null,null,"","",null,null,""]
[null,3939,null,null,null,null,null,"",null,null,"","",null,null,""]
[null,3940,null,null,null,null,null,"",null,null,"","",null,null,""]
[null,3941,null,null,null,null,null,"",null,null,"","",null,null,""]
[null,3942,null,null,null,null,null,"",null,null,"","",null,null,""]
[null,3943,null,null,null,null,null,"",null,null,"","",null,null,""]
[null,3944,null,null,null,null,null,"",null,null,"","",null,null,""]
[null,3945,null,null,null,null,null,"",null,null,"","",null,null,""]
[null,3946,null,null,null,null,null,"",null,null,"","",null,null,""]
[null,3947,null,null,null,null,null,"",null,null,"","",null,null,""]
[null,3948,null,null,null,null,null,"",null,null,"","",null,null,""]
[null,3949,null,null,null,null,null,"",null,null,"","",null,null,""]
[null,3950,null,null,null,null,null,"",null,null,"","",null,null,""]
[null,3951,null,null,null,null,null,"",null,null,"","",null,null,""]
[null,3952,null,null,null,null,null,"",null,null,"","",null,null,""]
[null,3953,null,null,null,null,null,"",null,null,"","",null,null,""]
[null,3954,null,null,null,null,null,"",null,null,"","",null,null,""]
[null,3955,null,null,null,null,null,"",null,null,"","",null,null,""]
[null,3956,null,null,null,null,null,"",null,null,"","",null,null,""]
[null,3957,null,null,null,null,null,"",null,null,"","",null,null,""]
[null,3958,null,null,null,null,null,"",null,null,"","",null,null,""]
[null,3959,null,null,null,null,null,"",null,null,"","",null,null,""]
[null,3960,null,null,null,null,null,"",null,null,"","",null,null,""]
[null,3961,null,null,null,null,null,"",null,null,"",{"$f":"IF(K3977=\"\",\"\",K3977/$E$2)","v":""},null,null,{"$f":"IF(OR(L3977=0,L3977=\"\",G3977=\"\"),\"\",IF(L3977<=14000,\"Poniżej 14 000 EUR\",IF(AND(OR(G3977=\"Dostawy\",G3977=\"Usługi\"),L3977<=$P$2),\"Poniżej progu unijnego\",IF(AND(G3977=\"Roboty budowlane\",L3977<=$R$2),\"Poniżej progu unijnego\",\"Powyżej progu unijnego\"))))","v":""}]
[null,3962,null,null,null,null,null,"",null,null,"","",null,null,""]
[null,3963,null,null,null,null,null,"",null,null,"","",null,null,""]
[null,3964,null,null,null,null,null,"",null,null,"","",null,null,""]
[null,3965,null,null,null,null,null,"",null,null,"","",null,null,""]
[null,3966,null,null,null,null,null,"",null,null,"","",null,null,""]
[null,3967,null,null,null,null,null,"",null,null,"","",null,null,""]
[null,3968,null,null,null,null,null,"",null,null,"","",null,null,""]
[null,3969,null,null,null,null,null,"",null,null,"","",null,null,""]
[null,3970,null,null,null,null,null,{"$f":"IF(F3986=\"\",\"\",IF(AND(F3986=\"Dostawy\",G3986<>\"\"),LEFT(G3986,2)&MID(G3986,4,1),\"\"))","v":""},null,null,{"$f":"IF(J3986=\"\",\"\",J3986/$E$2)","v":""},"",null,null,""]
[null,3971,null,null,null,null,null,"",null,null,"","",null,null,""]
[null,3972,null,null,null,null,null,"",null,null,"","",null,null,""]
[null,3973,null,null,null,null,null,"",null,null,"","",null,null,""]
[null,3974,null,null,null,null,null,"",null,null,"","",null,null,""]
[null,3975,null,null,null,null,null,"",null,null,"","",null,null,""]
[null,3976,null,null,null,null,null,"",null,null,"","",null,null,""]
[null,3977,null,null,null,null,null,"",null,null,"","",null,null,""]
[null,3978,null,null,null,null,null,"",null,null,"","",null,null,""]
[null,3979,null,null,null,null,null,"",null,null,"","",null,null,""]
[null,3980,null,null,null,null,null,"",null,null,"","",null,null,""]
[null,3981,null,null,null,null,null,"",null,null,"","",null,null,""]
[null,3982,null,null,null,null,null,"",null,null,"","",null,null,""]
[null,3983,null,null,null,null,null,"",null,null,"","",null,null,""]
[null,3984,null,null,null,null,null,"",null,null,"","",null,null,""]
[null,3985,null,null,null,null,null,"",null,null,"","",null,null,""]
[null,3986,null,null,null,null,null,"",null,null,"","",null,null,""]
[null,3987,null,null,null,null,null,"",null,null,"","",null,null,""]
[null,3988,null,null,null,null,null,"",null,null,"","",null,null,""]
[null,3989,null,null,null,null,null,"",null,null,"","",null,null,""]
[null,3990,null,null,null,null,null,"",null,null,"","",null,null,""]
[null,3991,null,null,null,null,null,"",null,null,"","",null,null,""]
[null,3992,null,null,null,null,null,"",null,null,"",{"$f":"IF(K4008=\"\",\"\",K4008/$E$2)","v":""},null,null,{"$f":"IF(OR(L4008=0,L4008=\"\",G4008=\"\"),\"\",IF(L4008<=14000,\"Poniżej 14 000 EUR\",IF(AND(OR(G4008=\"Dostawy\",G4008=\"Usługi\"),L4008<=$P$2),\"Poniżej progu unijnego\",IF(AND(G4008=\"Roboty budowlane\",L4008<=$R$2),\"Poniżej progu unijnego\",\"Powyżej progu unijnego\"))))","v":""}]
[null,3993,null,null,null,null,null,"",null,null,"","",null,null,""]
[null,3994,null,null,null,null,null,"",null,null,"","",null,null,""]
[null,3995,null,null,null,null,null,"",null,null,"","",null,null,""]
[null,3996,null,null,null,null,null,"",null,null,"","",null,null,""]
[null,3997,null,null,null,null,null,"",null,null,"","",null,null,""]
[null,3998,null,null,null,null,null,"",null,null,"",{"$f":"IF(K4014=\"\",\"\",K4014/$E$2)","v":""},null,null,{"$f":"IF(OR(L4014=0,L4014=\"\",G4014=\"\"),\"\",IF(L4014<=14000,\"Poniżej 14 000 EUR\",IF(AND(OR(G4014=\"Dostawy\",G4014=\"Usługi\"),L4014<=$P$2),\"Poniżej progu unijnego\",IF(AND(G4014=\"Roboty budowlane\",L4014<=$R$2),\"Poniżej progu unijnego\",\"Powyżej progu unijnego\"))))","v":""}]
[null,3999,null,null,null,null,null,"",null,null,"","",null,null,""]
[null,4000,null,null,null,null,null,"",null,null,"","",null,null,""]
[null,null,null,null,null,null,null,null,null,null,null,"",null,null,""]
[null,null,null,null,null,null,null,null,null,null,null,{"$f":"IF(K4018=\"\",\"\",K4018/$E$2)","v":""},null,null,{"$f":"IF(OR(L4018=0,L4018=\"\",G4018=\"\"),\"\",IF(L4018<=14000,\"Poniżej 14 000 EUR\",IF(AND(OR(G4018=\"Dostawy\",G4018=\"Usługi\"),L4018<=$P$2),\"Poniżej progu unijnego\",IF(AND(G4018=\"Roboty budowlane\",L4018<=$R$2),\"Poniżej progu unijnego\",\"Powyżej progu unijnego\"))))","v":""}]
[null,null,null,null,null,null,null,null,null,null,null,null,null,null,{"$f":"IF(OR(L4019=0,L4019=\"\",G4019=\"\"),\"\",IF(L4019<=30000,\"Poniżej 30 000 EUR\",IF(AND(OR(G4019=\"Dostawy\",G4019=\"Usługi\"),L4019<=$P$2),\"Poniżej progu unijnego\",IF(AND(G4019=\"Roboty budowlane\",L4019<=$R$2),\"Poniżej progu unijnego\",\"Powyżej progu unijnego\"))))","v":""}]
[null,null,null,null,null,null,null,null,null,null,null,null,null,null,""]
[null,null,null,null,null,null,null,null,null,null,null,null,null,null,""]
[null,null,null,null,null,null,null,null,null,null,null,null,null,null,""]
[null,null,null,null,null,null,null,null,null,null,null,null,null,null,""]
[null,null,null,null,null,null,null,null,null,null,null,null,null,null,""]
[null,null,null,null,null,null,null,null,null,null,null,null,null,null,""]
[null,null,null,null,null,null,null,null,null,null,null,null,null,null,""]
[null,null,null,null,null,null,null,null,null,null,null,null,null,null,""]
[null,null,null,null,null,null,null,null,null,null,null,null,null,null,""]
[null,null,null,null,null,null,null,null,null,null,null,null,null,null,""]
[null,null,null,null,null,null,null,null,null,null,null,null,null,null,""]
[null,null,null,null,null,null,null,null,null,null,null,null,null,null,""]
[null,null,null,null,null,null,null,null,null,null,null,null,null,null,""]
[null,null,null,null,null,null,null,null,null,null,null,null,null,null,""]
[null,null,null,null,null,null,null,null,null,null,null,null,null,null,""]
[null,null,null,null,null,null,null,null,null,null,null,null,null,null,""]
[null,null,null,null,null,null,null,null,null,null,null,null,null,null,""]
[null,null,null,null,null,null,null,null,null,null,null,null,null,null,""]
[null,null,null,null,null,null,null,null,null,null,null,null,null,null,""]
[null,null,null,null,null,null,null,null,null,null,null,null,null,null,""]
[null,null,null,null,null,null,null,null,null,null,null,null,null,null,""]
[null,null,null,null,null,null,null,null,null,null,null,null,null,null,""]
[null,null,null,null,null,null,null,null,null,null,null,null,null,null,""]
[null,null,null,null,null,null,null,null,null,null,null,null,null,null,""]
[null,null,null,null,null,null,null,null,null,null,null,null,null,null,""]
[null,null,null,null,null,null,null,null,null,null,null,null,null,null,""]
[null,null,null,null,null,null,null,null,null,null,null,null,null,null,""]
[null,null,null,null,null,null,null,null,null,null,null,null,null,null,""]
[null,null,null,null,null,null,null,null,null,null,null,null,null,null,""]
[null,null,null,null,null,null,null,null,null,null,null,null,null,null,""]
[null,null,null,null,null,null,null,null,null,null,null,null,null,null,""]
[null,null,null,null,null,null,null,null,null,null,null,null,null,null,""]
[null,null,null,null,null,null,null,null,null,null,null,null,null,null,""]
[null,null,null,null,null,null,null,null,null,null,null,null,null,null,""]
[null,null,null,null,null,null,null,null,null,null,null,null,null,null,""]
[null,null,null,null,null,null,null,null,null,null,null,null,null,null,""]
[null,null,null,null,null,null,null,null,null,null,null,null,null,null,""]
[null,null,null,null,null,null,null,null,null,null,null,null,null,null,""]
[null,null,null,null,null,null,null,null,null,null,null,null,null,null,""]
[null,null,null,null,null,null,null,null,null,null,null,null,null,null,""]
[null,null,null,null,null,null,null,null,null,null,null,null,null,null,""]
[null,null,null,null,null,null,null,null,null,null,null,null,null,null,""]
[null,null,null,null,null,null,null,null,null,null,null,null,null,null,""]
[null,null,null,null,null,null,null,null,null,null,null,null,null,null,""]
[null,null,null,null,null,null,null,null,null,null,null,null,null,null,""]
[null,null,null,null,null,null,null,null,null,null,null,null,null,null,""]
[null,null,null,null,null,null,null,null,null,null,null,null,null,null,""]
[null,null,null,null,null,null,null,null,null,null,null,null,null,null,""]
[null,null,null,null,null,null,null,null,null,null,null,null,null,null,""]
[null,null,null,null,null,null,null,null,null,null,null,null,null,null,""]
[null,null,null,null,null,null,null,null,null,null,null,null,null,null,""]
[null,null,null,null,null,null,null,null,null,null,null,null,null,null,""]
[null,null,null,null,null,null,null,null,null,null,null,null,null,null,""]
[null,null,null,null,null,null,null,null,null,null,null,null,null,null,""]
[null,null,null,null,null,null,null,null,null,null,null,null,null,null,""]
[null,null,null,null,null,null,null,null,null,null,null,null,null,null,""]
[null,null,null,null,null,null,null,null,null,null,null,null,null,null,""]
[null,null,null,null,null,null,null,null,null,null,null,null,null,null,""]
[null,null,null,null,null,null,null,null,null,null,null,null,null,null,""]
[null,null,null,null,null,null,null,null,null,null,null,null,null,null,""]
[null,null,null,null,null,null,null,null,null,null,null,null,null,null,""]
[null,null,null,null,null,null,null,null,null,null,null,null,null,null,""]
[null,null,null,null,null,null,null,null,null,null,null,null,null,null,{"$f":"IF(OR(L4082=0,L4082=\"\",G4082=\"\"),\"\",IF(L4082<=30000,\"Poniżej 30 000 EUR\",IF(AND(OR(G4082=\"Dostawy\",G4082=\"Usługi\"),L4082<=$P$2),\"Poniżej progu unijnego\",IF(AND(G4082=\"Roboty budowlane\",L4082<=$R$2),\"Poniżej progu unijnego\",\"Powyżej progu unijnego\"))))","v":""}]
[null,null,null,null,null,null,null,null,null,null,null,null,null,null,""]
[null,null,null,null,null,null,null,null,null,null,null,null,null,null,""]
[null,null,null,null,null,null,null,null,null,null,null,null,null,null,""]
[null,null,null,null,null,null,null,null,null,null,null,null,null,null,""]
[null,null,null,null,null,null,null,null,null,null,null,null,null,null,""]
[null,null,null,null,null,null,null,null,null,null,null,null,null,null,""]
[null,null,null,null,null,null,null,null,null,null,null,null,null,null,""]
[null,null,null,null,null,null,null,null,null,null,null,null,null,null,""]
[null,null,null,null,null,null,null,null,null,null,null,null,null,null,""]
[null,null,null,null,null,null,null,null,null,null,null,null,null,null,""]
[null,null,null,null,null,null,null,null,null,null,null,null,null,null,""]
[null,null,null,null,null,null,null,null,null,null,null,null,null,null,""]
[null,null,null,null,null,null,null,null,null,null,null,null,null,null,""]
[null,null,null,null,null,null,null,null,null,null,null,null,null,null,""]
[null,null,null,null,null,null,null,null,null,null,null,null,null,null,""]
[null,null,null,null,null,null,null,null,null,null,null,null,null,null,""]
[null,null,null,null,null,null,null,null,null,null,null,null,null,null,""]
[null,null,null,null,null,null,null,null,null,null,null,null,null,null,""]
[null,null,null,null,null,null,null,null,null,null,null,null,null,null,""]
[null,null,null,null,null,null,null,null,null,null,null,null,null,null,""]
[null,null,null,null,null,null,null,null,null,null,null,null,null,null,""]
[null,null,null,null,null,null,null,null,null,null,null,null,null,null,""]
[null,null,null,null,null,null,null,null,null,null,null,null,null,null,""]
[null,null,null,null,null,null,null,null,null,null,null,null,null,null,""]
[null,null,null,null,null,null,null,null,null,null,null,null,null,null,""]
[null,null,null,null,null,null,null,null,null,null,null,null,null,null,""]
[null,null,null,null,null,null,null,null,null,null,null,null,null,null,""]
[null,null,null,null,null,null,null,null,null,null,null,null,null,null,""]
[null,null,null,null,null,null,null,null,null,null,null,null,null,null,""]
[null,null,null,null,null,null,null,null,null,null,null,null,null,null,""]
[null,null,null,null,null,null,null,null,null,null,null,null,null,null,""]
[null,null,null,null,null,null,null,null,null,null,null,null,null,null,""]
[null,null,null,null,null,null,null,null,null,null,null,null,null,null,""]
[null,null,null,null,null,null,null,null,null,null,null,null,null,null,""]
[null,null,null,null,null,null,null,null,null,null,null,null,null,null,""]
[null,null,null,null,null,null,null,null,null,null,null,null,null,null,""]
[null,null,null,null,null,null,null,null,null,null,null,null,null,null,""]
[null,null,null,null,null,null,null,null,null,null,null,null,null,null,""]
[null,null,null,null,null,null,null,null,null,null,null,null,null,null,""]
[null,null,null,null,null,null,null,null,null,null,null,null,null,null,""]
[null,null,null,null,null,null,null,null,null,null,null,null,null,null,""]
[null,null,null,null,null,null,null,null,null,null,null,null,null,null,""]
[null,null,null,null,null,null,null,null,null,null,null,null,null,null,""]
[null,null,null,null,null,null,null,null,null,null,null,null,null,null,""]
[null,null,null,null,null,null,null,null,null,null,null,null,null,null,""]
[null,null,null,null,null,null,null,null,null,null,null,null,null,null,""]
[null,null,null,null,null,null,null,null,null,null,null,null,null,null,""]
[null,null,null,null,null,null,null,null,null,null,null,null,null,null,""]
[null,null,null,null,null,null,null,null,null,null,null,null,null,null,""]
[null,null,null,null,null,null,null,null,null,null,null,null,null,null,""]
[null,null,null,null,null,null,null,null,null,null,null,null,null,null,""]
[null,null,null,null,null,null,null,null,null,null,null,null,null,null,""]
[null,null,null,null,null,null,null,null,null,null,null,null,null,null,""]
[null,null,null,null,null,null,null,null,null,null,null,null,null,null,""]
[null,null,null,null,null,null,null,null,null,null,null,null,null,null,""]
[null,null,null,null,null,null,null,null,null,null,null,null,null,null,""]
[null,null,null,null,null,null,null,null,null,null,null,null,null,null,""]
[null,null,null,null,null,null,null,null,null,null,null,null,null,null,""]
[null,null,null,null,null,null,null,null,null,null,null,null,null,null,""]
[null,null,null,null,null,null,null,null,null,null,null,null,null,null,""]
[null,null,null,null,null,null,null,null,null,null,null,null,null,null,""]
[null,null,null,null,null,null,null,null,null,null,null,null,null,null,""]
[null,null,null,null,null,null,null,null,null,null,null,null,null,null,""]
[null,null,null,null,null,null,null,null,null,null,null,null,null,null,{"$f":"IF(OR(L4146=0,L4146=\"\",G4146=\"\"),\"\",IF(L4146<=30000,\"Poniżej 30 000 EUR\",IF(AND(OR(G4146=\"Dostawy\",G4146=\"Usługi\"),L4146<=$P$2),\"Poniżej progu unijnego\",IF(AND(G4146=\"Roboty budowlane\",L4146<=$R$2),\"Poniżej progu unijnego\",\"Powyżej progu unijnego\"))))","v":""}]
[null,null,null,null,null,null,null,null,null,null,null,null,null,null,""]
[null,null,null,null,null,null,null,null,null,null,null,null,null,null,""]
[null,null,null,null,null,null,null,null,null,null,null,null,null,null,""]
[null,null,null,null,null,null,null,null,null,null,null,null,null,null,""]
[null,null,null,null,null,null,null,null,null,null,null,null,null,null,""]
[null,null,null,null,null,null,null,null,null,null,null,null,null,null,""]
[null,null,null,null,null,null,null,null,null,null,null,null,null,null,""]
[null,null,null,null,null,null,null,null,null,null,null,null,null,null,""]
[null,null,null,null,null,null,null,null,null,null,null,null,null,null,""]
[null,null,null,null,null,null,null,null,null,null,null,null,null,null,""]
[null,null,null,null,null,null,null,null,null,null,null,null,null,null,""]
[null,null,null,null,null,null,null,null,null,null,null,null,null,null,""]
[null,null,null,null,null,null,null,null,null,null,null,null,null,null,""]
[null,null,null,null,null,null,null,null,null,null,null,null,null,null,""]
[null,null,null,null,null,null,null,null,null,null,null,null,null,null,""]
[null,null,null,null,null,null,null,null,null,null,null,null,null,null,""]
[null,null,null,null,null,null,null,null,null,null,null,null,null,null,""]
[null,null,null,null,null,null,null,null,null,null,null,null,null,null,""]
[null,null,null,null,null,null,null,null,null,null,null,null,null,null,""]
[null,null,null,null,null,null,null,null,null,null,null,null,null,null,""]
[null,null,null,null,null,null,null,null,null,null,null,null,null,null,""]
[null,null,null,null,null,null,null,null,null,null,null,null,null,null,""]
[null,null,null,null,null,null,null,null,null,null,null,null,null,null,""]
[null,null,null,null,null,null,null,null,null,null,null,null,null,null,""]
[null,null,null,null,null,null,null,null,null,null,null,null,null,null,""]
[null,null,null,null,null,null,null,null,null,null,null,null,null,null,""]
[null,null,null,null,null,null,null,null,null,null,null,null,null,null,""]
[null,null,null,null,null,null,null,null,null,null,null,null,null,null,""]
[null,null,null,null,null,null,null,null,null,null,null,null,null,null,""]
[null,null,null,null,null,null,null,null,null,null,null,null,null,null,""]
[null,null,null,null,null,null,null,null,null,null,null,null,null,null,""]
[null,null,null,null,null,null,null,null,null,null,null,null,null,null,""]
[null,null,null,null,null,null,null,null,null,null,null,null,null,null,""]
[null,null,null,null,null,null,null,null,null,null,null,null,null,null,""]
[null,null,null,null,null,null,null,null,null,null,null,null,null,null,""]
[null,null,null,null,null,null,null,null,null,null,null,null,null,null,""]
[null,null,null,null,null,null,null,null,null,null,null,null,null,null,""]
[null,null,null,null,null,null,null,null,null,null,null,null,null,null,""]
[null,null,null,null,null,null,null,null,null,null,null,null,null,null,""]
[null,null,null,null,null,null,null,null,null,null,null,null,null,null,""]
[null,null,null,null,null,null,null,null,null,null,null,null,null,null,""]

{"sheet":"Przypomnienie","index":3,"n_rows":12,"n_cols":4,"rows_kept":12,"cut":false,"hidden":false,"merged":[[4,1,4,3],[6,1,7,1],[6,2,6,3],[1,1,1,3]]}
[]
[null,"Generator przypomnień"]
[]
[]
[null,"1. Wybierz z rozwijanej listy komórkę zamawiającą oraz planowaną datę wszczęcia postępowania"]
[]
[null,"Komórka zamawiająca","Planowana data wszczęcia postępowania "]
[null,null,"Miesiąc","Rok"]
[]
[]
[]
[null,"2. Kliknij przycisk generujący przypomnienie"]

{"sheet":"Dane do przypomnienia","index":4,"n_rows":4004,"n_cols":14,"rows_kept":4004,"cut":false,"hidden":true,"merged":[]}
[null,{"$f":"Przypomnienie!B9","v":0},null,null,null,null,null,null,null,null,null,{"$f":"Przypomnienie!C9","v":0},{"$f":"Przypomnienie!D9","v":0}]
[]
[{"$f":"IF(AND(B3=$B$1,M3=$M$1,N3<>\"Tak\",G3>14000),IF(L3<=$L$1,1,\"\"))","v":false},{"$f":"IF(Wartosci!D5=\"\",\"\",Wartosci!D5)","v":""},{"$f":"IF(Wartosci!E5=\"\",\"\",Wartosci!E5)","v":""},{"$f":"IF(Wartosci!G5=\"\",\"\",Wartosci!G5)","v":""},{"$f":"IF(Wartosci!K5=\"\",\"\",Wartosci!K5)","v":""},{"$f":"IF(Wartosci!R5=\"\",\"\",Wartosci!R5)","v":"Planowana data wszczęcia postępowania"},{"$f":"IF(Wartosci!L5=\"\",\"\",Wartosci!L5)","v":""},{"$f":"IF(Wartosci!N5=\"\",\"\",Wartosci!N5)","v":""},{"$f":"IF(Wartosci!O5=\"\",\"\",Wartosci!O5)","v":""},{"$f":"IF(Wartosci!P5=\"\",\"\",Wartosci!P5)","v":""},{"$f":"IF(Wartosci!T5=\"\",\"\",Wartosci!T5)","v":""},{"$f":"IF(Wartosci!R5=\"\",\"\",Wartosci!R5)","v":"Planowana data wszczęcia postępowania"},{"$f":"IF(Wartosci!$B$2=\"\",\"\",Wartosci!$B$2)","v":2020},{"$f":"IF(Wartosci!U5=\"\",\"\",Wartosci!U5)","v":""}]
["Sprawdzanie","Komórka zamawiająca","Nazwa zamówienia","Rodzaj zamówienia","Netto PLN","Miesiąc","Netto EUR","Brutto PLN","Próg","Źródło finansowania","Uwagi","Miesiąc","Rok","Realizacja"]
[false,"","","","","","","","","","","",2012,""]
[false,"","","","","","","","","","","",2012,""]
[false,"","","","","","","","","","","",2012,""]
[false,"","","","","","","","","","","",2012,""]
[false,"","","","","","","","","","","",2012,""]
[false,"","","","","","","","","","","",2012,""]
[false,"","","","","","","","","","","",2012,""]
[false,"","","","","","","","","","","",2012,""]
[false,"","","","","","","","","","","",2012,""]
[false,"","","","","","","","","","","",2012,""]
[false,"","","","","","","","","","","",2012,""]
[false,"","","","","","","","","","","",2012,""]
[false,"","","","","","","","","","","",2012,""]
[false,"","","","","","","","","","","",2012,""]
[false,"","","","","","","","","","","",2012,""]
[false,"","","","","","","","","","","",2012,""]
[false,"","","","","","","","","","","",2012,""]
[false,"","","","","","","","","","","",2012,""]
[false,"","","","","","","","","","","",2012,""]
[false,"","","","","","","","","","","",2012,""]
[false,"","","","","","","","","","","",2012,""]
[false,"","","","","","","","","","","",2012,""]
[false,"","","","","","","","","","","",2012,""]
[false,"","","","","","","","","","","",2012,""]
[false,"","","","","","","","","","","",2012,""]
[false,"","","","","","","","","","","",2012,""]
[false,"","","","","","","","","","","",2012,""]
[false,"","","","","","","","","","","",2012,""]
[false,"","","","","","","","","","","",2012,""]
[false,"","","","","","","","","","","",2012,""]
[false,"","","","","","","","","","","",2012,""]
[false,"","","","","","","","","","","",2012,""]
[false,"","","","","","","","","","","",2012,""]
[false,"","","","","","","","","","","",2012,""]
[false,"","","","","","","","","","","",2012,""]
[false,"","","","","","","","","","","",2012,""]
[false,"","","","","","","","","","","",2012,""]
[false,"","","","","","","","","","","",2012,""]
[false,"","","","","","","","","","","",2012,""]
[false,"","","","","","","","","","","",2012,""]
[false,"","","","","","","","","","","",2012,""]
[false,"","","","","","","","","","","",2012,""]
[false,"","","","","","","","","","","",2012,""]
[false,"","","","","","","","","","","",2012,""]
[false,"","","","","","","","","","","",2012,""]
[false,"","","","","","","","","","","",2012,""]
[false,"","","","","","","","","","","",2012,""]
[false,"","","","","","","","","","","",2012,""]
[false,"","","","","","","","","","","",2012,""]
[false,"","","","","","","","","","","",2012,""]
[false,"","","","","","","","","","","",2012,""]
[false,"","","","","","","","","","","",2012,""]
[false,"","","","","","","","","","","",2012,""]
[false,"","","","","","","","","","","",2012,""]
[false,"","","","","","","","","","","",2012,""]
[false,"","","","","","","","","","","",2012,""]
[false,"","","","","","","","","","","",2012,""]
[false,"","","","","","","","","","","",2012,""]
[false,"","","","","","","","","","","",2012,""]
[false,"","","","","","","","","","","",2012,""]
[false,"","","","","","","","","","","",2012,""]
[false,"","","","","","","","","","","",2012,""]
[false,"","","","","","","","","","","",2012,""]
[false,"","","","","","","","","","","",2012,""]
[false,"","","","","","","","","","","",2012,""]
[false,"","","","","","","","","","","",2012,""]
[false,"","","","","","","","","","","",2012,""]
[false,"","","","","","","","","","","",2012,""]
[false,"","","","","","","","","","","",2012,""]
[false,"","","","","","","","","","","",2012,""]
[false,"","","","","","","","","","","",2012,""]
[false,"","","","","","","","","","","",2012,""]
[false,"","","","","","","","","","","",2012,""]
[false,"","","","","","","","","","","",2012,""]
[false,"","","","","","","","","","","",2012,""]
[false,"","","","","","","","","","","",2012,""]
[false,"","","","","","","","","","","",2012,""]
[false,"","","","","","","","","","","",2012,""]
[false,"","","","","","","","","","","",2012,""]
[false,"","","","","","","","","","","",2012,""]
[false,"","","","","","","","","","","",2012,""]
[false,"","","","","","","","","","","",2012,""]
[false,"","","","","","","","","","","",2012,""]
[false,"","","","","","","","","","","",2012,""]
[false,"","","","","","","","","","","",2012,""]
[false,"","","","","","","","","","","",2012,""]
[false,"","","","","","","","","","","",2012,""]
[false,"","","","","","","","","","","",2012,""]
[false,"","","","","","","","","","","",2012,""]
[false,"","","","","","","","","","","",2012,""]
[false,"","","","","","","","","","","",2012,""]
[false,"","","","","","","","","","","",2012,""]
[false,"","","","","","","","","","","",2012,""]
[false,"","","","","","","","","","","",2012,""]
[false,"","","","","","","","","","","",2012,""]
[false,"","","","","","","","","","","",2012,""]
[false,"","","","","","","","","","","",2012,""]
[false,"","","","","","","","","","","",2012,""]
[false,"","","","","","","","","","","",2012,""]
[false,"","","","","","","","","","","",2012,""]
[false,"","","","","","","","","","","",2012,""]
[false,"","","","","","","","","","","",2012,""]
[false,"","","","","","","","","","","",2012,""]
[false,"","","","","","","","","","","",2012,""]
[false,"","","","","","","","","","","",2012,""]
[false,"","","","","","","","","","","",2012,""]
[false,"","","","","","","","","","","",2012,""]
[false,"","","","","","","","","","","",2012,""]
[false,"","","","","","","","","","","",2012,""]
[false,"","","","","","","","","","","",2012,""]
[false,"","","","","","","","","","","",2012,""]
[false,"","","","","","","","","","","",2012,""]
[false,"","","","","","","","","","","",2012,""]
[false,"","","","","","","","","","","",2012,""]
[false,"","","","","","","","","","","",2012,""]
[false,"","","","","","","","","","","",2012,""]
[false,"","","","","","","","","","","",2012,""]
[false,"","","","","","","","","","","",2012,""]
[false,"","","","","","","","","","","",2012,""]
[false,"","","","","","","","","","","",2012,""]
[false,"","","","","","","","","","","",2012,""]
[false,"","","","","","","","","","","",2012,""]
[false,"","","","","","","","","","","",2012,""]
[false,"","","","","","","","","","","",2012,""]
[false,"","","","","","","","","","","",2012,""]
[false,"","","","","","","","","","","",2012,""]
[false,"","","","","","","","","","","",2012,""]
[false,"","","","","","","","","","","",2012,""]
[false,"","","","","","","","","","","",2012,""]
[false,"","","","","","","","","","","",2012,""]
[false,"","","","","","","","","","","",2012,""]
[false,"","","","","","","","","","","",2012,""]
[false,"","","","","","","","","","","",2012,""]
[false,"","","","","","","","","","","",2012,""]
[false,"","","","","","","","","","","",2012,""]
[false,"","","","","","","","","","","",2012,""]
[false,"","","","","","","","","","","",2012,""]
[false,"","","","","","","","","","","",2012,""]
[false,"","","","","","","","","","","",2012,""]
[false,"","","","","","","","","","","",2012,""]
[false,"","","","","","","","","","","",2012,""]
[false,"","","","","","","","","","","",2012,""]
[false,"","","","","","","","","","","",2012,""]
[false,"","","","","","","","","","","",2012,""]
[false,"","","","","","","","","","","",2012,""]
[false,"","","","","","","","","","","",2012,""]
[false,"","","","","","","","","","","",2012,""]
[false,"","","","","","","","","","","",2012,""]
[false,"","","","","","","","","","","",2012,""]
[false,"","","","","","","","","","","",2012,""]
[false,"","","","","","","","","","","",2012,""]
[false,"","","","","","","","","","","",2012,""]
[false,"","","","","","","","","","","",2012,""]
[false,"","","","","","","","","","","",2012,""]
[false,"","","","","","","","","","","",2012,""]
[false,"","","","","","","","","","","",2012,""]
[false,"","","","","","","","","","","",2012,""]
[false,"","","","","","","","","","","",2012,""]
[false,"","","","","","","","","","","",2012,""]
[false,"","","","","","","","","","","",2012,""]
[false,"","","","","","","","","","","",2012,""]
[false,"","","","","","","","","","","",2012,""]
[false,"","","","","","","","","","","",2012,""]
[false,"","","","","","","","","","","",2012,""]
[false,"","","","","","","","","","","",2012,""]
[false,"","","","","","","","","","","",2012,""]
[false,"","","","","","","","","","","",2012,""]
[false,"","","","","","","","","","","",2012,""]
[false,"","","","","","","","","","","",2012,""]
[false,"","","","","","","","","","","",2012,""]
[false,"","","","","","","","","","","",2012,""]
[false,"","","","","","","","","","","",2012,""]
[false,"","","","","","","","","","","",2012,""]
[false,"","","","","","","","","","","",2012,""]
[false,"","","","","","","","","","","",2012,""]
[false,"","","","","","","","","","","",2012,""]
[false,"","","","","","","","","","","",2012,""]
[false,"","","","","","","","","","","",2012,""]
[false,"","","","","","","","","","","",2012,""]
[false,"","","","","","","","","","","",2012,""]
[false,"","","","","","","","","","","",2012,""]
[false,"","","","","","","","","","","",2012,""]
[false,"","","","","","","","","","","",2012,""]
[false,"","","","","","","","","","","",2012,""]
[false,"","","","","","","","","","","",2012,""]
[false,"","","","","","","","","","","",2012,""]
[false,"","","","","","","","","","","",2012,""]
[false,"","","","","","","","","","","",2012,""]
[false,"","","","","","","","","","","",2012,""]
[false,"","","","","","","","","","","",2012,""]
[false,"","","","","","","","","","","",2012,""]
[false,"","","","","","","","","","","",2012,""]
[false,"","","","","","","","","","","",2012,""]
[false,"","","","","","","","","","","",2012,""]
[false,"","","","","","","","","","","",2012,""]
[false,"","","","","","","","","","","",2012,""]
[false,"","","","","","","","","","","",2012,""]
[false,"","","","","","","","","","","",2012,""]
[false,"","","","","","","","","","","",2012,""]
[false,"","","","","","","","","","","",2012,""]
[false,"","","","","","","","","","","",2012,""]
[false,"","","","","","","","","","","",2012,""]
[false,"","","","","","","","","","","",2012,""]
[false,"","","","","","","","","","","",2012,""]
[false,"","","","","","","","","","","",2012,""]
[false,"","","","","","","","","","","",2012,""]
[false,"","","","","","","","","","","",2012,""]
[false,"","","","","","","","","","","",2012,""]
[false,"","","","","","","","","","","",2012,""]
[false,"","","","","","","","","","","",2012,""]
[false,"","","","","","","","","","","",2012,""]
[false,"","","","","","","","","","","",2012,""]
[false,"","","","","","","","","","","",2012,""]
[false,"","","","","","","","","","","",2012,""]
[false,"","","","","","","","","","","",2012,""]
[false,"","","","","","","","","","","",2012,""]
[false,"","","","","","","","","","","",2012,""]
[false,"","","","","","","","","","","",2012,""]
[false,"","","","","","","","","","","",2012,""]
[false,"","","","","","","","","","","",2012,""]
[false,"","","","","","","","","","","",2012,""]
[false,"","","","","","","","","","","",2012,""]
[false,"","","","","","","","","","","",2012,""]
[false,"","","","","","","","","","","",2012,""]
[false,"","","","","","","","","","","",2012,""]
[false,"","","","","","","","","","","",2012,""]
[false,"","","","","","","","","","","",2012,""]
[false,"","","","","","","","","","","",2012,""]
[false,"","","","","","","","","","","",2012,""]
[false,"","","","","","","","","","","",2012,""]
[false,"","","","","","","","","","","",2012,""]
[false,"","","","","","","","","","","",2012,""]
[false,"","","","","","","","","","","",2012,""]
[false,"","","","","","","","","","","",2012,""]
[false,"","","","","","","","","","","",2012,""]
[false,"","","","","","","","","","","",2012,""]
[false,"","","","","","","","","","","",2012,""]
[false,"","","","","","","","","","","",2012,""]
[false,"","","","","","","","","","","",2012,""]
[false,"","","","","","","","","","","",2012,""]
[false,"","","","","","","","","","","",2012,""]
[false,"","","","","","","","","","","",2012,""]
[false,"","","","","","","","","","","",2012,""]
[false,"","","","","","","","","","","",2012,""]
[false,"","","","","","","","","","","",2012,""]
[false,"","","","","","","","","","","",2012,""]
[false,"","","","","","","","","","","",2012,""]
[false,"","","","","","","","","","","",2012,""]
[false,"","","","","","","","","","","",2012,""]
[false,"","","","","","","","","","","",2012,""]
[false,"","","","","","","","","","","",2012,""]
[false,"","","","","","","","","","","",2012,""]
[false,"","","","","","","","","","","",2012,""]
[false,"","","","","","","","","","","",2012,""]
[false,"","","","","","","","","","","",2012,""]
[false,"","","","","","","","","","","",2012,""]
[false,"","","","","","","","","","","",2012,""]
[false,"","","","","","","","","","","",2012,""]
[false,"","","","","","","","","","","",2012,""]
[false,"","","","","","","","","","","",2012,""]
[false,"","","","","","","","","","","",2012,""]
[false,"","","","","","","","","","","",2012,""]
[false,"","","","","","","","","","","",2012,""]
[false,"","","","","","","","","","","",2012,""]
[false,"","","","","","","","","","","",2012,""]
[false,"","","","","","","","","","","",2012,""]
[false,"","","","","","","","","","","",2012,""]
[false,"","","","","","","","","","","",2012,""]
[false,"","","","","","","","","","","",2012,""]
[false,"","","","","","","","","","","",2012,""]
[false,"","","","","","","","","","","",2012,""]
[false,"","","","","","","","","","","",2012,""]
[false,"","","","","","","","","","","",2012,""]
[false,"","","","","","","","","","","",2012,""]
[false,"","","","","","","","","","","",2012,""]
[false,"","","","","","","","","","","",2012,""]
[false,"","","","","","","","","","","",2012,""]
[false,"","","","","","","","","","","",2012,""]
[false,"","","","","","","","","","","",2012,""]
[false,"","","","","","","","","","","",2012,""]
[false,"","","","","","","","","","","",2012,""]
[false,"","","","","","","","","","","",2012,""]
[false,"","","","","","","","","","","",2012,""]
[false,"","","","","","","","","","","",2012,""]
[false,"","","","","","","","","","","",2012,""]
[false,"","","","","","","","","","","",2012,""]
[false,"","","","","","","","","","","",2012,""]
[false,"","","","","","","","","","","",2012,""]
[false,"","","","","","","","","","","",2012,""]
[false,"","","","","","","","","","","",2012,""]
[false,"","","","","","","","","","","",2012,""]
[false,"","","","","","","","","","","",2012,""]
[false,"","","","","","","","","","","",2012,""]
[false,"","","","","","","","","","","",2012,""]
[false,"","","","","","","","","","","",2012,""]
[false,"","","","","","","","","","","",2012,""]
[false,"","","","","","","","","","","",2012,""]
[false,"","","","","","","","","","","",2012,""]
[false,"","","","","","","","","","","",2012,""]
[false,"","","","","","","","","","","",2012,""]
[false,"","","","","","","","","","","",2012,""]
[false,"","","","","","","","","","","",2012,""]
[false,"","","","","","","","","","","",2012,""]
[false,"","","","","","","","","","","",2012,""]
[false,"","","","","","","","","","","",2012,""]
[false,"","","","","","","","","","","",2012,""]
[false,"","","","","","","","","","","",2012,""]
[false,"","","","","","","","","","","",2012,""]
[false,"","","","","","","","","","","",2012,""]
[false,"","","","","","","","","","","",2012,""]
[false,"","","","","","","","","","","",2012,""]
[false,"","","","","","","","","","","",2012,""]
[false,"","","","","","","","","","","",2012,""]
[false,"","","","","","","","","","","",2012,""]
[false,"","","","","","","","","","","",2012,""]
[false,"","","","","","","","","","","",2012,""]
[false,"","","","","","","","","","","",2012,""]
[false,"","","","","","","","","","","",2012,""]
[false,"","","","","","","","","","","",2012,""]
[false,"","","","","","","","","","","",2012,""]
[false,"","","","","","","","","","","",2012,""]
[false,"","","","","","","","","","","",2012,""]
[false,"","","","","","","","","","","",2012,""]
[false,"","","","","","","","","","","",2012,""]
[false,"","","","","","","","","","","",2012,""]
[false,"","","","","","","","","","","",2012,""]
[false,"","","","","","","","","","","",2012,""]
[false,"","","","","","","","","","","",2012,""]
[false,"","","","","","","","","","","",2012,""]
[false,"","","","","","","","","","","",2012,""]
[false,"","","","","","","","","","","",2012,""]
[false,"","","","","","","","","","","",2012,""]
[false,"","","","","","","","","","","",2012,""]
[false,"","","","","","","","","","","",2012,""]
[false,"","","","","","","","","","","",2012,""]
[false,"","","","","","","","","","","",2012,""]
[false,"","","","","","","","","","","",2012,""]
[false,"","","","","","","","","","","",2012,""]
[false,"","","","","","","","","","","",2012,""]
[false,"","","","","","","","","","","",2012,""]
[false,"","","","","","","","","","","",2012,""]
[false,"","","","","","","","","","","",2012,""]
[false,"","","","","","","","","","","",2012,""]
[false,"","","","","","","","","","","",2012,""]
[false,"","","","","","","","","","","",2012,""]
[false,"","","","","","","","","","","",2012,""]
[false,"","","","","","","","","","","",2012,""]
[false,"","","","","","","","","","","",2012,""]
[false,"","","","","","","","","","","",2012,""]
[false,"","","","","","","","","","","",2012,""]
[false,"","","","","","","","","","","",2012,""]
[false,"","","","","","","","","","","",2012,""]
[false,"","","","","","","","","","","",2012,""]
[false,"","","","","","","","","","","",2012,""]
[false,"","","","","","","","","","","",2012,""]
[false,"","","","","","","","","","","",2012,""]
[false,"","","","","","","","","","","",2012,""]
[false,"","","","","","","","","","","",2012,""]
[false,"","","","","","","","","","","",2012,""]
[false,"","","","","","","","","","","",2012,""]
[false,"","","","","","","","","","","",2012,""]
[false,"","","","","","","","","","","",2012,""]
[false,"","","","","","","","","","","",2012,""]
[false,"","","","","","","","","","","",2012,""]
[false,"","","","","","","","","","","",2012,""]
[false,"","","","","","","","","","","",2012,""]
[false,"","","","","","","","","","","",2012,""]
[false,"","","","","","","","","","","",2012,""]
[false,"","","","","","","","","","","",2012,""]
[false,"","","","","","","","","","","",2012,""]
[false,"","","","","","","","","","","",2012,""]
[false,"","","","","","","","","","","",2012,""]
[false,"","","","","","","","","","","",2012,""]
[false,"","","","","","","","","","","",2012,""]
[false,"","","","","","","","","","","",2012,""]
[false,"","","","","","","","","","","",2012,""]
[false,"","","","","","","","","","","",2012,""]
[false,"","","","","","","","","","","",2012,""]
[false,"","","","","","","","","","","",2012,""]
[false,"","","","","","","","","","","",2012,""]
[false,"","","","","","","","","","","",2012,""]
[false,"","","","","","","","","","","",2012,""]
[false,"","","","","","","","","","","",2012,""]
[false,"","","","","","","","","","","",2012,""]
[false,"","","","","","","","","","","",2012,""]
[false,"","","","","","","","","","","",2012,""]
[false,"","","","","","","","","","","",2012,""]
[false,"","","","","","","","","","","",2012,""]
[false,"","","","","","","","","","","",2012,""]
[false,"","","","","","","","","","","",2012,""]
[false,"","","","","","","","","","","",2012,""]
[false,"","","","","","","","","","","",2012,""]
[false,"","","","","","","","","","","",2012,""]
[false,"","","","","","","","","","","",2012,""]
[false,"","","","","","","","","","","",2012,""]
[false,"","","","","","","","","","","",2012,""]
[false,"","","","","","","","","","","",2012,""]
[false,"","","","","","","","","","","",2012,""]
[false,"","","","","","","","","","","",2012,""]
[false,"","","","","","","","","","","",2012,""]
[false,"","","","","","","","","","","",2012,""]
[false,"","","","","","","","","","","",2012,""]
[false,"","","","","","","","","","","",2012,""]
[false,"","","","","","","","","","","",2012,""]
[false,"","","","","","","","","","","",2012,""]
[false,"","","","","","","","","","","",2012,""]
[false,"","","","","","","","","","","",2012,""]
[false,"","","","","","","","","","","",2012,""]
[false,"","","","","","","","","","","",2012,""]
[false,"","","","","","","","","","","",2012,""]
[false,"","","","","","","","","","","",2012,""]
[false,"","","","","","","","","","","",2012,""]
[false,"","","","","","","","","","","",2012,""]
[false,"","","","","","","","","","","",2012,""]
[false,"","","","","","","","","","","",2012,""]
[false,"","","","","","","","","","","",2012,""]
[false,"","","","","","","","","","","",2012,""]
[false,"","","","","","","","","","","",2012,""]
[false,"","","","","","","","","","","",2012,""]
[false,"","","","","","","","","","","",2012,""]
[false,"","","","","","","","","","","",2012,""]
[false,"","","","","","","","","","","",2012,""]
[false,"","","","","","","","","","","",2012,""]
[false,"","","","","","","","","","","",2012,""]
[false,"","","","","","","","","","","",2012,""]
[false,"","","","","","","","","","","",2012,""]
[false,"","","","","","","","","","","",2012,""]
[false,"","","","","","","","","","","",2012,""]
[false,"","","","","","","","","","","",2012,""]
[false,"","","","","","","","","","","",2012,""]
[false,"","","","","","","","","","","",2012,""]
[false,"","","","","","","","","","","",2012,""]
[false,"","","","","","","","","","","",2012,""]
[false,"","","","","","","","","","","",2012,""]
[false,"","","","","","","","","","","",2012,""]
[false,"","","","","","","","","","","",2012,""]
[false,"","","","","","","","","","","",2012,""]
[false,"","","","","","","","","","","",2012,""]
[false,"","","","","","","","","","","",2012,""]
[false,"","","","","","","","","","","",2012,""]
[false,"","","","","","","","","","","",2012,""]
[false,"","","","","","","","","","","",2012,""]
[false,"","","","","","","","","","","",2012,""]
[false,"","","","","","","","","","","",2012,""]
[false,"","","","","","","","","","","",2012,""]
[false,"","","","","","","","","","","",2012,""]
[false,"","","","","","","","","","","",2012,""]
[false,"","","","","","","","","","","",2012,""]
[false,"","","","","","","","","","","",2012,""]
[false,"","","","","","","","","","","",2012,""]
[false,"","","","","","","","","","","",2012,""]
[false,"","","","","","","","","","","",2012,""]
[false,"","","","","","","","","","","",2012,""]
[false,"","","","","","","","","","","",2012,""]
[false,"","","","","","","","","","","",2012,""]
[false,"","","","","","","","","","","",2012,""]
[false,"","","","","","","","","","","",2012,""]
[false,"","","","","","","","","","","",2012,""]
[false,"","","","","","","","","","","",2012,""]
[false,"","","","","","","","","","","",2012,""]
[false,"","","","","","","","","","","",2012,""]
[false,"","","","","","","","","","","",2012,""]
[false,"","","","","","","","","","","",2012,""]
[false,"","","","","","","","","","","",2012,""]
[false,"","","","","","","","","","","",2012,""]
[false,"","","","","","","","","","","",2012,""]
[false,"","","","","","","","","","","",2012,""]
[false,"","","","","","","","","","","",2012,""]
[false,"","","","","","","","","","","",2012,""]
[false,"","","","","","","","","","","",2012,""]
[false,"","","","","","","","","","","",2012,""]
[false,"","","","","","","","","","","",2012,""]
[false,"","","","","","","","","","","",2012,""]
[false,"","","","","","","","","","","",2012,""]
[false,"","","","","","","","","","","",2012,""]
[false,"","","","","","","","","","","",2012,""]
[false,"","","","","","","","","","","",2012,""]
[false,"","","","","","","","","","","",2012,""]
[false,"","","","","","","","","","","",2012,""]
[false,"","","","","","","","","","","",2012,""]
[false,"","","","","","","","","","","",2012,""]
[false,"","","","","","","","","","","",2012,""]
[false,"","","","","","","","","","","",2012,""]
[false,"","","","","","","","","","","",2012,""]
[false,"","","","","","","","","","","",2012,""]
[false,"","","","","","","","","","","",2012,""]
[false,"","","","","","","","","","","",2012,""]
[false,"","","","","","","","","","","",2012,""]
[false,"","","","","","","","","","","",2012,""]
[false,"","","","","","","","","","","",2012,""]
[false,"","","","","","","","","","","",2012,""]
[false,"","","","","","","","","","","",2012,""]
[false,"","","","","","","","","","","",2012,""]
[false,"","","","","","","","","","","",2012,""]
[false,"","","","","","","","","","","",2012,""]
[false,"","","","","","","","","","","",2012,""]
[false,"","","","","","","","","","","",2012,""]
[false,"","","","","","","","","","","",2012,""]
[false,"","","","","","","","","","","",2012,""]
[false,"","","","","","","","","","","",2012,""]
[false,"","","","","","","","","","","",2012,""]
[false,"","","","","","","","","","","",2012,""]
[false,"","","","","","","","","","","",2012,""]
[false,"","","","","","","","","","","",2012,""]
[false,"","","","","","","","","","","",2012,""]
[false,"","","","","","","","","","","",2012,""]
[false,"","","","","","","","","","","",2012,""]
[false,"","","","","","","","","","","",2012,""]
[false,"","","","","","","","","","","",2012,""]
[false,"","","","","","","","","","","",2012,""]
[false,"","","","","","","","","","","",2012,""]
[false,"","","","","","","","","","","",2012,""]
[false,"","","","","","","","","","","",2012,""]
[false,"","","","","","","","","","","",2012,""]
[false,"","","","","","","","","","","",2012,""]
[false,"","","","","","","","","","","",2012,""]
[false,"","","","","","","","","","","",2012,""]
[false,"","","","","","","","","","","",2012,""]
[false,"","","","","","","","","","","",2012,""]
[false,"","","","","","","","","","","",2012,""]
[false,"","","","","","","","","","","",2012,""]
[false,"","","","","","","","","","","",2012,""]
[false,"","","","","","","","","","","",2012,""]
[false,"","","","","","","","","","","",2012,""]
[false,"","","","","","","","","","","",2012,""]
[false,"","","","","","","","","","","",2012,""]
[false,"","","","","","","","","","","",2012,""]
[false,"","","","","","","","","","","",2012,""]
[false,"","","","","","","","","","","",2012,""]
[false,"","","","","","","","","","","",2012,""]
[false,"","","","","","","","","","","",2012,""]
[false,"","","","","","","","","","","",2012,""]
[false,"","","","","","","","","","","",2012,""]
[false,"","","","","","","","","","","",2012,""]
[false,"","","","","","","","","","","",2012,""]
[false,"","","","","","","","","","","",2012,""]
[false,"","","","","","","","","","","",2012,""]
[false,"","","","","","","","","","","",2012,""]
[false,"","","","","","","","","","","",2012,""]
[false,"","","","","","","","","","","",2012,""]
[false,"","","","","","","","","","","",2012,""]
[false,"","","","","","","","","","","",2012,""]
[false,"","","","","","","","","","","",2012,""]
[false,"","","","","","","","","","","",2012,""]
[false,"","","","","","","","","","","",2012,""]
[false,"","","","","","","","","","","",2012,""]
[false,"","","","","","","","","","","",2012,""]
[false,"","","","","","","","","","","",2012,""]
[false,"","","","","","","","","","","",2012,""]
[false,"","","","","","","","","","","",2012,""]
[false,"","","","","","","","","","","",2012,""]
[false,"","","","","","","","","","","",2012,""]
[false,"","","","","","","","","","","",2012,""]
[false,"","","","","","","","","","","",2012,""]
[false,"","","","","","","","","","","",2012,""]
[false,"","","","","","","","","","","",2012,""]
[false,"","","","","","","","","","","",2012,""]
[false,"","","","","","","","","","","",2012,""]
[false,"","","","","","","","","","","",2012,""]
[false,"","","","","","","","","","","",2012,""]
[false,"","","","","","","","","","","",2012,""]
[false,"","","","","","","","","","","",2012,""]
[false,"","","","","","","","","","","",2012,""]
[false,"","","","","","","","","","","",2012,""]
[false,"","","","","","","","","","","",2012,""]
[false,"","","","","","","","","","","",2012,""]
[false,"","","","","","","","","","","",2012,""]
[false,"","","","","","","","","","","",2012,""]
[false,"","","","","","","","","","","",2012,""]
[false,"","","","","","","","","","","",2012,""]
[false,"","","","","","","","","","","",2012,""]
[false,"","","","","","","","","","","",2012,""]
[false,"","","","","","","","","","","",2012,""]
[false,"","","","","","","","","","","",2012,""]
[false,"","","","","","","","","","","",2012,""]
[false,"","","","","","","","","","","",2012,""]
[false,"","","","","","","","","","","",2012,""]
[false,"","","","","","","","","","","",2012,""]
[false,"","","","","","","","","","","",2012,""]
[false,"","","","","","","","","","","",2012,""]
[false,"","","","","","","","","","","",2012,""]
[false,"","","","","","","","","","","",2012,""]
[false,"","","","","","","","","","","",2012,""]
[false,"","","","","","","","","","","",2012,""]
[false,"","","","","","","","","","","",2012,""]
[false,"","","","","","","","","","","",2012,""]
[false,"","","","","","","","","","","",2012,""]
[false,"","","","","","","","","","","",2012,""]
[false,"","","","","","","","","","","",2012,""]
[false,"","","","","","","","","","","",2012,""]
[false,"","","","","","","","","","","",2012,""]
[false,"","","","","","","","","","","",2012,""]
[false,"","","","","","","","","","","",2012,""]
[false,"","","","","","","","","","","",2012,""]
[false,"","","","","","","","","","","",2012,""]
[false,"","","","","","","","","","","",2012,""]
[false,"","","","","","","","","","","",2012,""]
[false,"","","","","","","","","","","",2012,""]
[false,"","","","","","","","","","","",2012,""]
[false,"","","","","","","","","","","",2012,""]
[false,"","","","","","","","","","","",2012,""]
[false,"","","","","","","","","","","",2012,""]
[false,"","","","","","","","","","","",2012,""]
[false,"","","","","","","","","","","",2012,""]
[false,"","","","","","","","","","","",2012,""]
[false,"","","","","","","","","","","",2012,""]
[false,"","","","","","","","","","","",2012,""]
[false,"","","","","","","","","","","",2012,""]
[false,"","","","","","","","","","","",2012,""]
[false,"","","","","","","","","","","",2012,""]
[false,"","","","","","","","","","","",2012,""]
[false,"","","","","","","","","","","",2012,""]
[false,"","","","","","","","","","","",2012,""]
[false,"","","","","","","","","","","",2012,""]
[false,"","","","","","","","","","","",2012,""]
[false,"","","","","","","","","","","",2012,""]
[false,"","","","","","","","","","","",2012,""]
[false,"","","","","","","","","","","",2012,""]
[false,"","","","","","","","","","","",2012,""]
[false,"","","","","","","","","","","",2012,""]
[false,"","","","","","","","","","","",2012,""]
[false,"","","","","","","","","","","",2012,""]
[false,"","","","","","","","","","","",2012,""]
[false,"","","","","","","","","","","",2012,""]
[false,"","","","","","","","","","","",2012,""]
[false,"","","","","","","","","","","",2012,""]
[false,"","","","","","","","","","","",2012,""]
[false,"","","","","","","","","","","",2012,""]
[false,"","","","","","","","","","","",2012,""]
[false,"","","","","","","","","","","",2012,""]
[false,"","","","","","","","","","","",2012,""]
[false,"","","","","","","","","","","",2012,""]
[false,"","","","","","","","","","","",2012,""]
[false,"","","","","","","","","","","",2012,""]
[false,"","","","","","","","","","","",2012,""]
[false,"","","","","","","","","","","",2012,""]
[false,"","","","","","","","","","","",2012,""]
[false,"","","","","","","","","","","",2012,""]
[false,"","","","","","","","","","","",2012,""]
[false,"","","","","","","","","","","",2012,""]
[false,"","","","","","","","","","","",2012,""]
[false,"","","","","","","","","","","",2012,""]
[false,"","","","","","","","","","","",2012,""]
[false,"","","","","","","","","","","",2012,""]
[false,"","","","","","","","","","","",2012,""]
[false,"","","","","","","","","","","",2012,""]
[false,"","","","","","","","","","","",2012,""]
[false,"","","","","","","","","","","",2012,""]
[false,"","","","","","","","","","","",2012,""]
[false,"","","","","","","","","","","",2012,""]
[false,"","","","","","","","","","","",2012,""]
[false,"","","","","","","","","","","",2012,""]
[false,"","","","","","","","","","","",2012,""]
[false,"","","","","","","","","","","",2012,""]
[false,"","","","","","","","","","","",2012,""]
[false,"","","","","","","","","","","",2012,""]
[false,"","","","","","","","","","","",2012,""]
[false,"","","","","","","","","","","",2012,""]
[false,"","","","","","","","","","","",2012,""]
[false,"","","","","","","","","","","",2012,""]
[false,"","","","","","","","","","","",2012,""]
[false,"","","","","","","","","","","",2012,""]
[false,"","","","","","","","","","","",2012,""]
[false,"","","","","","","","","","","",2012,""]
[false,"","","","","","","","","","","",2012,""]
[false,"","","","","","","","","","","",2012,""]
[false,"","","","","","","","","","","",2012,""]
[false,"","","","","","","","","","","",2012,""]
[false,"","","","","","","","","","","",2012,""]
[false,"","","","","","","","","","","",2012,""]
[false,"","","","","","","","","","","",2012,""]
[false,"","","","","","","","","","","",2012,""]
[false,"","","","","","","","","","","",2012,""]
[false,"","","","","","","","","","","",2012,""]
[false,"","","","","","","","","","","",2012,""]
[false,"","","","","","","","","","","",2012,""]
[false,"","","","","","","","","","","",2012,""]
[false,"","","","","","","","","","","",2012,""]
[false,"","","","","","","","","","","",2012,""]
[false,"","","","","","","","","","","",2012,""]
[false,"","","","","","","","","","","",2012,""]
[false,"","","","","","","","","","","",2012,""]
[false,"","","","","","","","","","","",2012,""]
[false,"","","","","","","","","","","",2012,""]
[false,"","","","","","","","","","","",2012,""]
[false,"","","","","","","","","","","",2012,""]
[false,"","","","","","","","","","","",2012,""]
[false,"","","","","","","","","","","",2012,""]
[false,"","","","","","","","","","","",2012,""]
[false,"","","","","","","","","","","",2012,""]
[false,"","","","","","","","","","","",2012,""]
[false,"","","","","","","","","","","",2012,""]
[false,"","","","","","","","","","","",2012,""]
[false,"","","","","","","","","","","",2012,""]
[false,"","","","","","","","","","","",2012,""]
[false,"","","","","","","","","","","",2012,""]
[false,"","","","","","","","","","","",2012,""]
[false,"","","","","","","","","","","",2012,""]
[false,"","","","","","","","","","","",2012,""]
[false,"","","","","","","","","","","",2012,""]
[false,"","","","","","","","","","","",2012,""]
[false,"","","","","","","","","","","",2012,""]
[false,"","","","","","","","","","","",2012,""]
[false,"","","","","","","","","","","",2012,""]
[false,"","","","","","","","","","","",2012,""]
[false,"","","","","","","","","","","",2012,""]
[false,"","","","","","","","","","","",2012,""]
[false,"","","","","","","","","","","",2012,""]
[false,"","","","","","","","","","","",2012,""]
[false,"","","","","","","","","","","",2012,""]
[false,"","","","","","","","","","","",2012,""]
[false,"","","","","","","","","","","",2012,""]
[false,"","","","","","","","","","","",2012,""]
[false,"","","","","","","","","","","",2012,""]
[false,"","","","","","","","","","","",2012,""]
[false,"","","","","","","","","","","",2012,""]
[false,"","","","","","","","","","","",2012,""]
[false,"","","","","","","","","","","",2012,""]
[false,"","","","","","","","","","","",2012,""]
[false,"","","","","","","","","","","",2012,""]
[false,"","","","","","","","","","","",2012,""]
[false,"","","","","","","","","","","",2012,""]
[false,"","","","","","","","","","","",2012,""]
[false,"","","","","","","","","","","",2012,""]
[false,"","","","","","","","","","","",2012,""]
[false,"","","","","","","","","","","",2012,""]
[false,"","","","","","","","","","","",2012,""]
[false,"","","","","","","","","","","",2012,""]
[false,"","","","","","","","","","","",2012,""]
[false,"","","","","","","","","","","",2012,""]
[false,"","","","","","","","","","","",2012,""]
[false,"","","","","","","","","","","",2012,""]
[false,"","","","","","","","","","","",2012,""]
[false,"","","","","","","","","","","",2012,""]
[false,"","","","","","","","","","","",2012,""]
[false,"","","","","","","","","","","",2012,""]
[false,"","","","","","","","","","","",2012,""]
[false,"","","","","","","","","","","",2012,""]
[false,"","","","","","","","","","","",2012,""]
[false,"","","","","","","","","","","",2012,""]
[false,"","","","","","","","","","","",2012,""]
[false,"","","","","","","","","","","",2012,""]
[false,"","","","","","","","","","","",2012,""]
[false,"","","","","","","","","","","",2012,""]
[false,"","","","","","","","","","","",2012,""]
[false,"","","","","","","","","","","",2012,""]
[false,"","","","","","","","","","","",2012,""]
[false,"","","","","","","","","","","",2012,""]
[false,"","","","","","","","","","","",2012,""]
[false,"","","","","","","","","","","",2012,""]
[false,"","","","","","","","","","","",2012,""]
[false,"","","","","","","","","","","",2012,""]
[false,"","","","","","","","","","","",2012,""]
[false,"","","","","","","","","","","",2012,""]
[false,"","","","","","","","","","","",2012,""]
[false,"","","","","","","","","","","",2012,""]
[false,"","","","","","","","","","","",2012,""]
[false,"","","","","","","","","","","",2012,""]
[false,"","","","","","","","","","","",2012,""]
[false,"","","","","","","","","","","",2012,""]
[false,"","","","","","","","","","","",2012,""]
[false,"","","","","","","","","","","",2012,""]
[false,"","","","","","","","","","","",2012,""]
[false,"","","","","","","","","","","",2012,""]
[false,"","","","","","","","","","","",2012,""]
[false,"","","","","","","","","","","",2012,""]
[false,"","","","","","","","","","","",2012,""]
[false,"","","","","","","","","","","",2012,""]
[false,"","","","","","","","","","","",2012,""]
[false,"","","","","","","","","","","",2012,""]
[false,"","","","","","","","","","","",2012,""]
[false,"","","","","","","","","","","",2012,""]
[false,"","","","","","","","","","","",2012,""]
[false,"","","","","","","","","","","",2012,""]
[false,"","","","","","","","","","","",2012,""]
[false,"","","","","","","","","","","",2012,""]
[false,"","","","","","","","","","","",2012,""]
[false,"","","","","","","","","","","",2012,""]
[false,"","","","","","","","","","","",2012,""]
[false,"","","","","","","","","","","",2012,""]
[false,"","","","","","","","","","","",2012,""]
[false,"","","","","","","","","","","",2012,""]
[false,"","","","","","","","","","","",2012,""]
[false,"","","","","","","","","","","",2012,""]
[false,"","","","","","","","","","","",2012,""]
[false,"","","","","","","","","","","",2012,""]
[false,"","","","","","","","","","","",2012,""]
[false,"","","","","","","","","","","",2012,""]
[false,"","","","","","","","","","","",2012,""]
[false,"","","","","","","","","","","",2012,""]
[false,"","","","","","","","","","","",2012,""]
[false,"","","","","","","","","","","",2012,""]
[false,"","","","","","","","","","","",2012,""]
[false,"","","","","","","","","","","",2012,""]
[false,"","","","","","","","","","","",2012,""]
[false,"","","","","","","","","","","",2012,""]
[false,"","","","","","","","","","","",2012,""]
[false,"","","","","","","","","","","",2012,""]
[false,"","","","","","","","","","","",2012,""]
[false,"","","","","","","","","","","",2012,""]
[false,"","","","","","","","","","","",2012,""]
[false,"","","","","","","","","","","",2012,""]
[false,"","","","","","","","","","","",2012,""]
[false,"","","","","","","","","","","",2012,""]
[false,"","","","","","","","","","","",2012,""]
[false,"","","","","","","","","","","",2012,""]
[false,"","","","","","","","","","","",2012,""]
[false,"","","","","","","","","","","",2012,""]
[false,"","","","","","","","","","","",2012,""]
[false,"","","","","","","","","","","",2012,""]
[false,"","","","","","","","","","","",2012,""]
[false,"","","","","","","","","","","",2012,""]
[false,"","","","","","","","","","","",2012,""]
[false,"","","","","","","","","","","",2012,""]
[false,"","","","","","","","","","","",2012,""]
[false,"","","","","","","","","","","",2012,""]
[false,"","","","","","","","","","","",2012,""]
[false,"","","","","","","","","","","",2012,""]
[false,"","","","","","","","","","","",2012,""]
[false,"","","","","","","","","","","",2012,""]
[false,"","","","","","","","","","","",2012,""]
[false,"","","","","","","","","","","",2012,""]
[false,"","","","","","","","","","","",2012,""]
[false,"","","","","","","","","","","",2012,""]
[false,"","","","","","","","","","","",2012,""]
[false,"","","","","","","","","","","",2012,""]
[false,"","","","","","","","","","","",2012,""]
[false,"","","","","","","","","","","",2012,""]
[false,"","","","","","","","","","","",2012,""]
[false,"","","","","","","","","","","",2012,""]
[false,"","","","","","","","","","","",2012,""]
[false,"","","","","","","","","","","",2012,""]
[false,"","","","","","","","","","","",2012,""]
[false,"","","","","","","","","","","",2012,""]
[false,"","","","","","","","","","","",2012,""]
[false,"","","","","","","","","","","",2012,""]
[false,"","","","","","","","","","","",2012,""]
[false,"","","","","","","","","","","",2012,""]
[false,"","","","","","","","","","","",2012,""]
[false,"","","","","","","","","","","",2012,""]
[false,"","","","","","","","","","","",2012,""]
[false,"","","","","","","","","","","",2012,""]
[false,"","","","","","","","","","","",2012,""]
[false,"","","","","","","","","","","",2012,""]
[false,"","","","","","","","","","","",2012,""]
[false,"","","","","","","","","","","",2012,""]
[false,"","","","","","","","","","","",2012,""]
[false,"","","","","","","","","","","",2012,""]
[false,"","","","","","","","","","","",2012,""]
[false,"","","","","","","","","","","",2012,""]
[false,"","","","","","","","","","","",2012,""]
[false,"","","","","","","","","","","",2012,""]
[false,"","","","","","","","","","","",2012,""]
[false,"","","","","","","","","","","",2012,""]
[false,"","","","","","","","","","","",2012,""]
[false,"","","","","","","","","","","",2012,""]
[false,"","","","","","","","","","","",2012,""]
[false,"","","","","","","","","","","",2012,""]
[false,"","","","","","","","","","","",2012,""]
[false,"","","","","","","","","","","",2012,""]
[false,"","","","","","","","","","","",2012,""]
[false,"","","","","","","","","","","",2012,""]
[false,"","","","","","","","","","","",2012,""]
[false,"","","","","","","","","","","",2012,""]
[false,"","","","","","","","","","","",2012,""]
[false,"","","","","","","","","","","",2012,""]
[false,"","","","","","","","","","","",2012,""]
[false,"","","","","","","","","","","",2012,""]
[false,"","","","","","","","","","","",2012,""]
[false,"","","","","","","","","","","",2012,""]
[false,"","","","","","","","","","","",2012,""]
[false,"","","","","","","","","","","",2012,""]
[false,"","","","","","","","","","","",2012,""]
[false,"","","","","","","","","","","",2012,""]
[false,"","","","","","","","","","","",2012,""]
[false,"","","","","","","","","","","",2012,""]
[false,"","","","","","","","","","","",2012,""]
[false,"","","","","","","","","","","",2012,""]
[false,"","","","","","","","","","","",2012,""]
[false,"","","","","","","","","","","",2012,""]
[false,"","","","","","","","","","","",2012,""]
[false,"","","","","","","","","","","",2012,""]
[false,"","","","","","","","","","","",2012,""]
[false,"","","","","","","","","","","",2012,""]
[false,"","","","","","","","","","","",2012,""]
[false,"","","","","","","","","","","",2012,""]
[false,"","","","","","","","","","","",2012,""]
[false,"","","","","","","","","","","",2012,""]
[false,"","","","","","","","","","","",2012,""]
[false,"","","","","","","","","","","",2012,""]
[false,"","","","","","","","","","","",2012,""]
[false,"","","","","","","","","","","",2012,""]
[false,"","","","","","","","","","","",2012,""]
[false,"","","","","","","","","","","",2012,""]
[false,"","","","","","","","","","","",2012,""]
[false,"","","","","","","","","","","",2012,""]
[false,"","","","","","","","","","","",2012,""]
[false,"","","","","","","","","","","",2012,""]
[false,"","","","","","","","","","","",2012,""]
[false,"","","","","","","","","","","",2012,""]
[false,"","","","","","","","","","","",2012,""]
[false,"","","","","","","","","","","",2012,""]
[false,"","","","","","","","","","","",2012,""]
[false,"","","","","","","","","","","",2012,""]
[false,"","","","","","","","","","","",2012,""]
[false,"","","","","","","","","","","",2012,""]
[false,"","","","","","","","","","","",2012,""]
[false,"","","","","","","","","","","",2012,""]
[false,"","","","","","","","","","","",2012,""]
[false,"","","","","","","","","","","",2012,""]
[false,"","","","","","","","","","","",2012,""]
[false,"","","","","","","","","","","",2012,""]
[false,"","","","","","","","","","","",2012,""]
[false,"","","","","","","","","","","",2012,""]
[false,"","","","","","","","","","","",2012,""]
[false,"","","","","","","","","","","",2012,""]
[false,"","","","","","","","","","","",2012,""]
[false,"","","","","","","","","","","",2012,""]
[false,"","","","","","","","","","","",2012,""]
[false,"","","","","","","","","","","",2012,""]
[false,"","","","","","","","","","","",2012,""]
[false,"","","","","","","","","","","",2012,""]
[false,"","","","","","","","","","","",2012,""]
[false,"","","","","","","","","","","",2012,""]
[false,"","","","","","","","","","","",2012,""]
[false,"","","","","","","","","","","",2012,""]
[false,"","","","","","","","","","","",2012,""]
[false,"","","","","","","","","","","",2012,""]
[false,"","","","","","","","","","","",2012,""]
[false,"","","","","","","","","","","",2012,""]
[false,"","","","","","","","","","","",2012,""]
[false,"","","","","","","","","","","",2012,""]
[false,"","","","","","","","","","","",2012,""]
[false,"","","","","","","","","","","",2012,""]
[false,"","","","","","","","","","","",2012,""]
[false,"","","","","","","","","","","",2012,""]
[false,"","","","","","","","","","","",2012,""]
[false,"","","","","","","","","","","",2012,""]
[false,"","","","","","","","","","","",2012,""]
[false,"","","","","","","","","","","",2012,""]
[false,"","","","","","","","","","","",2012,""]
[false,"","","","","","","","","","","",2012,""]
[false,"","","","","","","","","","","",2012,""]
[false,"","","","","","","","","","","",2012,""]
[false,"","","","","","","","","","","",2012,""]
[false,"","","","","","","","","","","",2012,""]
[false,"","","","","","","","","","","",2012,""]
[false,"","","","","","","","","","","",2012,""]
[false,"","","","","","","","","","","",2012,""]
[false,"","","","","","","","","","","",2012,""]
[false,"","","","","","","","","","","",2012,""]
[false,"","","","","","","","","","","",2012,""]
[false,"","","","","","","","","","","",2012,""]
[false,"","","","","","","","","","","",2012,""]
[false,"","","","","","","","","","","",2012,""]
[false,"","","","","","","","","","","",2012,""]
[false,"","","","","","","","","","","",2012,""]
[false,"","","","","","","","","","","",2012,""]
[false,"","","","","","","","","","","",2012,""]
[false,"","","","","","","","","","","",2012,""]
[false,"","","","","","","","","","","",2012,""]
[false,"","","","","","","","","","","",2012,""]
[false,"","","","","","","","","","","",2012,""]
[false,"","","","","","","","","","","",2012,""]
[false,"","","","","","","","","","","",2012,""]
[false,"","","","","","","","","","","",2012,""]
[false,"","","","","","","","","","","",2012,""]
[false,"","","","","","","","","","","",2012,""]
[false,"","","","","","","","","","","",2012,""]
[false,"","","","","","","","","","","",2012,""]
[false,"","","","","","","","","","","",2012,""]
[false,"","","","","","","","","","","",2012,""]
[false,"","","","","","","","","","","",2012,""]
[false,"","","","","","","","","","","",2012,""]
[false,"","","","","","","","","","","",2012,""]
[false,"","","","","","","","","","","",2012,""]
[false,"","","","","","","","","","","",2012,""]
[false,"","","","","","","","","","","",2012,""]
[false,"","","","","","","","","","","",2012,""]
[false,"","","","","","","","","","","",2012,""]
[false,"","","","","","","","","","","",2012,""]
[false,"","","","","","","","","","","",2012,""]
[false,"","","","","","","","","","","",2012,""]
[false,"","","","","","","","","","","",2012,""]
[false,"","","","","","","","","","","",2012,""]
[false,"","","","","","","","","","","",2012,""]
[false,"","","","","","","","","","","",2012,""]
[false,"","","","","","","","","","","",2012,""]
[false,"","","","","","","","","","","",2012,""]
[false,"","","","","","","","","","","",2012,""]
[false,"","","","","","","","","","","",2012,""]
[false,"","","","","","","","","","","",2012,""]
[false,"","","","","","","","","","","",2012,""]
[false,"","","","","","","","","","","",2012,""]
[false,"","","","","","","","","","","",2012,""]
[false,"","","","","","","","","","","",2012,""]
[false,"","","","","","","","","","","",2012,""]
[false,"","","","","","","","","","","",2012,""]
[false,"","","","","","","","","","","",2012,""]
[false,"","","","","","","","","","","",2012,""]
[false,"","","","","","","","","","","",2012,""]
[false,"","","","","","","","","","","",2012,""]
[false,"","","","","","","","","","","",2012,""]
[false,"","","","","","","","","","","",2012,""]
[false,"","","","","","","","","","","",2012,""]
[false,"","","","","","","","","","","",2012,""]
[false,"","","","","","","","","","","",2012,""]
[false,"","","","","","","","","","","",2012,""]
[false,"","","","","","","","","","","",2012,""]
[false,"","","","","","","","","","","",2012,""]
[false,"","","","","","","","","","","",2012,""]
[false,"","","","","","","","","","","",2012,""]
[false,"","","","","","","","","","","",2012,""]
[false,"","","","","","","","","","","",2012,""]
[false,"","","","","","","","","","","",2012,""]
[false,"","","","","","","","","","","",2012,""]
[false,"","","","","","","","","","","",2012,""]
[false,"","","","","","","","","","","",2012,""]
[false,"","","","","","","","","","","",2012,""]
[false,"","","","","","","","","","","",2012,""]
[false,"","","","","","","","","","","",2012,""]
[false,"","","","","","","","","","","",2012,""]
[false,"","","","","","","","","","","",2012,""]
[false,"","","","","","","","","","","",2012,""]
[false,"","","","","","","","","","","",2012,""]
[false,"","","","","","","","","","","",2012,""]
[false,"","","","","","","","","","","",2012,""]
[false,"","","","","","","","","","","",2012,""]
[false,"","","","","","","","","","","",2012,""]
[false,"","","","","","","","","","","",2012,""]
[false,"","","","","","","","","","","",2012,""]
[false,"","","","","","","","","","","",2012,""]
[false,"","","","","","","","","","","",2012,""]
[false,"","","","","","","","","","","",2012,""]
[false,"","","","","","","","","","","",2012,""]
[false,"","","","","","","","","","","",2012,""]
[false,"","","","","","","","","","","",2012,""]
[false,"","","","","","","","","","","",2012,""]
[false,"","","","","","","","","","","",2012,""]
[false,"","","","","","","","","","","",2012,""]
[false,"","","","","","","","","","","",2012,""]
[false,"","","","","","","","","","","",2012,""]
[false,"","","","","","","","","","","",2012,""]
[false,"","","","","","","","","","","",2012,""]
[false,"","","","","","","","","","","",2012,""]
[false,"","","","","","","","","","","",2012,""]
[false,"","","","","","","","","","","",2012,""]
[false,"","","","","","","","","","","",2012,""]
[false,"","","","","","","","","","","",2012,""]
[false,"","","","","","","","","","","",2012,""]
[false,"","","","","","","","","","","",2012,""]
[false,"","","","","","","","","","","",2012,""]
[false,"","","","","","","","","","","",2012,""]
[false,"","","","","","","","","","","",2012,""]
[false,"","","","","","","","","","","",2012,""]
[false,"","","","","","","","","","","",2012,""]
[false,"","","","","","","","","","","",2012,""]
[false,"","","","","","","","","","","",2012,""]
[false,"","","","","","","","","","","",2012,""]
[false,"","","","","","","","","","","",2012,""]
[false,"","","","","","","","","","","",2012,""]
[false,"","","","","","","","","","","",2012,""]
[false,"","","","","","","","","","","",2012,""]
[false,"","","","","","","","","","","",2012,""]
[false,"","","","","","","","","","","",2012,""]
[false,"","","","","","","","","","","",2012,""]
[false,"","","","","","","","","","","",2012,""]
[false,"","","","","","","","","","","",2012,""]
[false,"","","","","","","","","","","",2012,""]
[false,"","","","","","","","","","","",2012,""]
[false,"","","","","","","","","","","",2012,""]
[false,"","","","","","","","","","","",2012,""]
[false,"","","","","","","","","","","",2012,""]
[false,"","","","","","","","","","","",2012,""]
[false,"","","","","","","","","","","",2012,""]
[false,"","","","","","","","","","","",2012,""]
[false,"","","","","","","","","","","",2012,""]
[false,"","","","","","","","","","","",2012,""]
[false,"","","","","","","","","","","",2012,""]
[false,"","","","","","","","","","","",2012,""]
[false,"","","","","","","","","","","",2012,""]
[false,"","","","","","","","","","","",2012,""]
[false,"","","","","","","","","","","",2012,""]
[false,"","","","","","","","","","","",2012,""]
[false,"","","","","","","","","","","",2012,""]
[false,"","","","","","","","","","","",2012,""]
[false,"","","","","","","","","","","",2012,""]
[false,"","","","","","","","","","","",2012,""]
[false,"","","","","","","","","","","",2012,""]
[false,"","","","","","","","","","","",2012,""]
[false,"","","","","","","","","","","",2012,""]
[false,"","","","","","","","","","","",2012,""]
[false,"","","","","","","","","","","",2012,""]
[false,"","","","","","","","","","","",2012,""]
[false,"","","","","","","","","","","",2012,""]
[false,"","","","","","","","","","","",2012,""]
[false,"","","","","","","","","","","",2012,""]
[false,"","","","","","","","","","","",2012,""]
[false,"","","","","","","","","","","",2012,""]
[false,"","","","","","","","","","","",2012,""]
[false,"","","","","","","","","","","",2012,""]
[false,"","","","","","","","","","","",2012,""]
[false,"","","","","","","","","","","",2012,""]
[false,"","","","","","","","","","","",2012,""]
[false,"","","","","","","","","","","",2012,""]
[false,"","","","","","","","","","","",2012,""]
[false,"","","","","","","","","","","",2012,""]
[false,"","","","","","","","","","","",2012,""]
[false,"","","","","","","","","","","",2012,""]
[false,"","","","","","","","","","","",2012,""]
[false,"","","","","","","","","","","",2012,""]
[false,"","","","","","","","","","","",2012,""]
[false,"","","","","","","","","","","",2012,""]
[false,"","","","","","","","","","","",2012,""]
[false,"","","","","","","","","","","",2012,""]
[false,"","","","","","","","","","","",2012,""]
[false,"","","","","","","","","","","",2012,""]
[false,"","","","","","","","","","","",2012,""]
[false,"","","","","","","","","","","",2012,""]
[false,"","","","","","","","","","","",2012,""]
[false,"","","","","","","","","","","",2012,""]
[false,"","","","","","","","","","","",2012,""]
[false,"","","","","","","","","","","",2012,""]
[false,"","","","","","","","","","","",2012,""]
[false,"","","","","","","","","","","",2012,""]
[false,"","","","","","","","","","","",2012,""]
[false,"","","","","","","","","","","",2012,""]
[false,"","","","","","","","","","","",2012,""]
[false,"","","","","","","","","","","",2012,""]
[false,"","","","","","","","","","","",2012,""]
[false,"","","","","","","","","","","",2012,""]
[false,"","","","","","","","","","","",2012,""]
[false,"","","","","","","","","","","",2012,""]
[false,"","","","","","","","","","","",2012,""]
[false,"","","","","","","","","","","",2012,""]
[false,"","","","","","","","","","","",2012,""]
[false,"","","","","","","","","","","",2012,""]
[false,"","","","","","","","","","","",2012,""]
[false,"","","","","","","","","","","",2012,""]
[false,"","","","","","","","","","","",2012,""]
[false,"","","","","","","","","","","",2012,""]
[false,"","","","","","","","","","","",2012,""]
[false,"","","","","","","","","","","",2012,""]
[false,"","","","","","","","","","","",2012,""]
[false,"","","","","","","","","","","",2012,""]
[false,"","","","","","","","","","","",2012,""]
[false,"","","","","","","","","","","",2012,""]
[false,"","","","","","","","","","","",2012,""]
[false,"","","","","","","","","","","",2012,""]
[false,"","","","","","","","","","","",2012,""]
[false,"","","","","","","","","","","",2012,""]
[false,"","","","","","","","","","","",2012,""]
[false,"","","","","","","","","","","",2012,""]
[false,"","","","","","","","","","","",2012,""]
[false,"","","","","","","","","","","",2012,""]
[false,"","","","","","","","","","","",2012,""]
[false,"","","","","","","","","","","",2012,""]
[false,"","","","","","","","","","","",2012,""]
[false,"","","","","","","","","","","",2012,""]
[false,"","","","","","","","","","","",2012,""]
[false,"","","","","","","","","","","",2012,""]
[false,"","","","","","","","","","","",2012,""]
[false,"","","","","","","","","","","",2012,""]
[false,"","","","","","","","","","","",2012,""]
[false,"","","","","","","","","","","",2012,""]
[false,"","","","","","","","","","","",2012,""]
[false,"","","","","","","","","","","",2012,""]
[false,"","","","","","","","","","","",2012,""]
[false,"","","","","","","","","","","",2012,""]
[false,"","","","","","","","","","","",2012,""]
[false,"","","","","","","","","","","",2012,""]
[false,"","","","","","","","","","","",2012,""]
[false,"","","","","","","","","","","",2012,""]
[false,"","","","","","","","","","","",2012,""]
[false,"","","","","","","","","","","",2012,""]
[false,"","","","","","","","","","","",2012,""]
[false,"","","","","","","","","","","",2012,""]
[false,"","","","","","","","","","","",2012,""]
[false,"","","","","","","","","","","",2012,""]
[false,"","","","","","","","","","","",2012,""]
[false,"","","","","","","","","","","",2012,""]
[false,"","","","","","","","","","","",2012,""]
[false,"","","","","","","","","","","",2012,""]
[false,"","","","","","","","","","","",2012,""]
[false,"","","","","","","","","","","",2012,""]
[false,"","","","","","","","","","","",2012,""]
[false,"","","","","","","","","","","",2012,""]
[false,"","","","","","","","","","","",2012,""]
[false,"","","","","","","","","","","",2012,""]
[false,"","","","","","","","","","","",2012,""]
[false,"","","","","","","","","","","",2012,""]
[false,"","","","","","","","","","","",2012,""]
[false,"","","","","","","","","","","",2012,""]
[false,"","","","","","","","","","","",2012,""]
[false,"","","","","","","","","","","",2012,""]
[false,"","","","","","","","","","","",2012,""]
[false,"","","","","","","","","","","",2012,""]
[false,"","","","","","","","","","","",2012,""]
[false,"","","","","","","","","","","",2012,""]
[false,"","","","","","","","","","","",2012,""]
[false,"","","","","","","","","","","",2012,""]
[false,"","","","","","","","","","","",2012,""]
[false,"","","","","","","","","","","",2012,""]
[false,"","","","","","","","","","","",2012,""]
[false,"","","","","","","","","","","",2012,""]
[false,"","","","","","","","","","","",2012,""]
[false,"","","","","","","","","","","",2012,""]
[false,"","","","","","","","","","","",2012,""]
[false,"","","","","","","","","","","",2012,""]
[false,"","","","","","","","","","","",2012,""]
[false,"","","","","","","","","","","",2012,""]
[false,"","","","","","","","","","","",2012,""]
[false,"","","","","","","","","","","",2012,""]
[false,"","","","","","","","","","","",2012,""]
[false,"","","","","","","","","","","",2012,""]
[false,"","","","","","","","","","","",2012,""]
[false,"","","","","","","","","","","",2012,""]
[false,"","","","","","","","","","","",2012,""]
[false,"","","","","","","","","","","",2012,""]
[false,"","","","","","","","","","","",2012,""]
[false,"","","","","","","","","","","",2012,""]
[false,"","","","","","","","","","","",2012,""]
[false,"","","","","","","","","","","",2012,""]
[false,"","","","","","","","","","","",2012,""]
[false,"","","","","","","","","","","",2012,""]
[false,"","","","","","","","","","","",2012,""]
[false,"","","","","","","","","","","",2012,""]
[false,"","","","","","","","","","","",2012,""]
[false,"","","","","","","","","","","",2012,""]
[false,"","","","","","","","","","","",2012,""]
[false,"","","","","","","","","","","",2012,""]
[false,"","","","","","","","","","","",2012,""]
[false,"","","","","","","","","","","",2012,""]
[false,"","","","","","","","","","","",2012,""]
[false,"","","","","","","","","","","",2012,""]
[false,"","","","","","","","","","","",2012,""]
[false,"","","","","","","","","","","",2012,""]
[false,"","","","","","","","","","","",2012,""]
[false,"","","","","","","","","","","",2012,""]
[false,"","","","","","","","","","","",2012,""]
[false,"","","","","","","","","","","",2012,""]
[false,"","","","","","","","","","","",2012,""]
[false,"","","","","","","","","","","",2012,""]
[false,"","","","","","","","","","","",2012,""]
[false,"","","","","","","","","","","",2012,""]
[false,"","","","","","","","","","","",2012,""]
[false,"","","","","","","","","","","",2012,""]
[false,"","","","","","","","","","","",2012,""]
[false,"","","","","","","","","","","",2012,""]
[false,"","","","","","","","","","","",2012,""]
[false,"","","","","","","","","","","",2012,""]
[false,"","","","","","","","","","","",2012,""]
[false,"","","","","","","","","","","",2012,""]
[false,"","","","","","","","","","","",2012,""]
[false,"","","","","","","","","","","",2012,""]
[false,"","","","","","","","","","","",2012,""]
[false,"","","","","","","","","","","",2012,""]
[false,"","","","","","","","","","","",2012,""]
[false,"","","","","","","","","","","",2012,""]
[false,"","","","","","","","","","","",2012,""]
[false,"","","","","","","","","","","",2012,""]
[false,"","","","","","","","","","","",2012,""]
[false,"","","","","","","","","","","",2012,""]
[false,"","","","","","","","","","","",2012,""]
[false,"","","","","","","","","","","",2012,""]
[false,"","","","","","","","","","","",2012,""]
[false,"","","","","","","","","","","",2012,""]
[false,"","","","","","","","","","","",2012,""]
[false,"","","","","","","","","","","",2012,""]
[false,"","","","","","","","","","","",2012,""]
[false,"","","","","","","","","","","",2012,""]
[false,"","","","","","","","","","","",2012,""]
[false,"","","","","","","","","","","",2012,""]
[false,"","","","","","","","","","","",2012,""]
[false,"","","","","","","","","","","",2012,""]
[false,"","","","","","","","","","","",2012,""]
[false,"","","","","","","","","","","",2012,""]
[false,"","","","","","","","","","","",2012,""]
[false,"","","","","","","","","","","",2012,""]
[false,"","","","","","","","","","","",2012,""]
[false,"","","","","","","","","","","",2012,""]
[false,"","","","","","","","","","","",2012,""]
[false,"","","","","","","","","","","",2012,""]
[false,"","","","","","","","","","","",2012,""]
[false,"","","","","","","","","","","",2012,""]
[false,"","","","","","","","","","","",2012,""]
[false,"","","","","","","","","","","",2012,""]
[false,"","","","","","","","","","","",2012,""]
[false,"","","","","","","","","","","",2012,""]
[false,"","","","","","","","","","","",2012,""]
[false,"","","","","","","","","","","",2012,""]
[false,"","","","","","","","","","","",2012,""]
[false,"","","","","","","","","","","",2012,""]
[false,"","","","","","","","","","","",2012,""]
[false,"","","","","","","","","","","",2012,""]
[false,"","","","","","","","","","","",2012,""]
[false,"","","","","","","","","","","",2012,""]
[false,"","","","","","","","","","","",2012,""]
[false,"","","","","","","","","","","",2012,""]
[false,"","","","","","","","","","","",2012,""]
[false,"","","","","","","","","","","",2012,""]
[false,"","","","","","","","","","","",2012,""]
[false,"","","","","","","","","","","",2012,""]
[false,"","","","","","","","","","","",2012,""]
[false,"","","","","","","","","","","",2012,""]
[false,"","","","","","","","","","","",2012,""]
[false,"","","","","","","","","","","",2012,""]
[false,"","","","","","","","","","","",2012,""]
[false,"","","","","","","","","","","",2012,""]
[false,"","","","","","","","","","","",2012,""]
[false,"","","","","","","","","","","",2012,""]
[false,"","","","","","","","","","","",2012,""]
[false,"","","","","","","","","","","",2012,""]
[false,"","","","","","","","","","","",2012,""]
[false,"","","","","","","","","","","",2012,""]
[false,"","","","","","","","","","","",2012,""]
[false,"","","","","","","","","","","",2012,""]
[false,"","","","","","","","","","","",2012,""]
[false,"","","","","","","","","","","",2012,""]
[false,"","","","","","","","","","","",2012,""]
[false,"","","","","","","","","","","",2012,""]
[false,"","","","","","","","","","","",2012,""]
[false,"","","","","","","","","","","",2012,""]
[false,"","","","","","","","","","","",2012,""]
[false,"","","","","","","","","","","",2012,""]
[false,"","","","","","","","","","","",2012,""]
[false,"","","","","","","","","","","",2012,""]
[false,"","","","","","","","","","","",2012,""]
[false,"","","","","","","","","","","",2012,""]
[false,"","","","","","","","","","","",2012,""]
[false,"","","","","","","","","","","",2012,""]
[false,"","","","","","","","","","","",2012,""]
[false,"","","","","","","","","","","",2012,""]
[false,"","","","","","","","","","","",2012,""]
[false,"","","","","","","","","","","",2012,""]
[false,"","","","","","","","","","","",2012,""]
[false,"","","","","","","","","","","",2012,""]
[false,"","","","","","","","","","","",2012,""]
[false,"","","","","","","","","","","",2012,""]
[false,"","","","","","","","","","","",2012,""]
[false,"","","","","","","","","","","",2012,""]
[false,"","","","","","","","","","","",2012,""]
[false,"","","","","","","","","","","",2012,""]
[false,"","","","","","","","","","","",2012,""]
[false,"","","","","","","","","","","",2012,""]
[false,"","","","","","","","","","","",2012,""]
[false,"","","","","","","","","","","",2012,""]
[false,"","","","","","","","","","","",2012,""]
[false,"","","","","","","","","","","",2012,""]
[false,"","","","","","","","","","","",2012,""]
[false,"","","","","","","","","","","",2012,""]
[false,"","","","","","","","","","","",2012,""]
[false,"","","","","","","","","","","",2012,""]
[false,"","","","","","","","","","","",2012,""]
[false,"","","","","","","","","","","",2012,""]
[false,"","","","","","","","","","","",2012,""]
[false,"","","","","","","","","","","",2012,""]
[false,"","","","","","","","","","","",2012,""]
[false,"","","","","","","","","","","",2012,""]
[false,"","","","","","","","","","","",2012,""]
[false,"","","","","","","","","","","",2012,""]
[false,"","","","","","","","","","","",2012,""]
[false,"","","","","","","","","","","",2012,""]
[false,"","","","","","","","","","","",2012,""]
[false,"","","","","","","","","","","",2012,""]
[false,"","","","","","","","","","","",2012,""]
[false,"","","","","","","","","","","",2012,""]
[false,"","","","","","","","","","","",2012,""]
[false,"","","","","","","","","","","",2012,""]
[false,"","","","","","","","","","","",2012,""]
[false,"","","","","","","","","","","",2012,""]
[false,"","","","","","","","","","","",2012,""]
[false,"","","","","","","","","","","",2012,""]
[false,"","","","","","","","","","","",2012,""]
[false,"","","","","","","","","","","",2012,""]
[false,"","","","","","","","","","","",2012,""]
[false,"","","","","","","","","","","",2012,""]
[false,"","","","","","","","","","","",2012,""]
[false,"","","","","","","","","","","",2012,""]
[false,"","","","","","","","","","","",2012,""]
[false,"","","","","","","","","","","",2012,""]
[false,"","","","","","","","","","","",2012,""]
[false,"","","","","","","","","","","",2012,""]
[false,"","","","","","","","","","","",2012,""]
[false,"","","","","","","","","","","",2012,""]
[false,"","","","","","","","","","","",2012,""]
[false,"","","","","","","","","","","",2012,""]
[false,"","","","","","","","","","","",2012,""]
[false,"","","","","","","","","","","",2012,""]
[false,"","","","","","","","","","","",2012,""]
[false,"","","","","","","","","","","",2012,""]
[false,"","","","","","","","","","","",2012,""]
[false,"","","","","","","","","","","",2012,""]
[false,"","","","","","","","","","","",2012,""]
[false,"","","","","","","","","","","",2012,""]
[false,"","","","","","","","","","","",2012,""]
[false,"","","","","","","","","","","",2012,""]
[false,"","","","","","","","","","","",2012,""]
[false,"","","","","","","","","","","",2012,""]
[false,"","","","","","","","","","","",2012,""]
[false,"","","","","","","","","","","",2012,""]
[false,"","","","","","","","","","","",2012,""]
[false,"","","","","","","","","","","",2012,""]
[false,"","","","","","","","","","","",2012,""]
[false,"","","","","","","","","","","",2012,""]
[false,"","","","","","","","","","","",2012,""]
[false,"","","","","","","","","","","",2012,""]
[false,"","","","","","","","","","","",2012,""]
[false,"","","","","","","","","","","",2012,""]
[false,"","","","","","","","","","","",2012,""]
[false,"","","","","","","","","","","",2012,""]
[false,"","","","","","","","","","","",2012,""]
[false,"","","","","","","","","","","",2012,""]
[false,"","","","","","","","","","","",2012,""]
[false,"","","","","","","","","","","",2012,""]
[false,"","","","","","","","","","","",2012,""]
[false,"","","","","","","","","","","",2012,""]
[false,"","","","","","","","","","","",2012,""]
[false,"","","","","","","","","","","",2012,""]
[false,"","","","","","","","","","","",2012,""]
[false,"","","","","","","","","","","",2012,""]
[false,"","","","","","","","","","","",2012,""]
[false,"","","","","","","","","","","",2012,""]
[false,"","","","","","","","","","","",2012,""]
[false,"","","","","","","","","","","",2012,""]
[false,"","","","","","","","","","","",2012,""]
[false,"","","","","","","","","","","",2012,""]
[false,"","","","","","","","","","","",2012,""]
[false,"","","","","","","","","","","",2012,""]
[false,"","","","","","","","","","","",2012,""]
[false,"","","","","","","","","","","",2012,""]
[false,"","","","","","","","","","","",2012,""]
[false,"","","","","","","","","","","",2012,""]
[false,"","","","","","","","","","","",2012,""]
[false,"","","","","","","","","","","",2012,""]
[false,"","","","","","","","","","","",2012,""]
[false,"","","","","","","","","","","",2012,""]
[false,"","","","","","","","","","","",2012,""]
[false,"","","","","","","","","","","",2012,""]
[false,"","","","","","","","","","","",2012,""]
[false,"","","","","","","","","","","",2012,""]
[false,"","","","","","","","","","","",2012,""]
[false,"","","","","","","","","","","",2012,""]
[false,"","","","","","","","","","","",2012,""]
[false,"","","","","","","","","","","",2012,""]
[false,"","","","","","","","","","","",2012,""]
[false,"","","","","","","","","","","",2012,""]
[false,"","","","","","","","","","","",2012,""]
[false,"","","","","","","","","","","",2012,""]
[false,"","","","","","","","","","","",2012,""]
[false,"","","","","","","","","","","",2012,""]
[false,"","","","","","","","","","","",2012,""]
[false,"","","","","","","","","","","",2012,""]
[false,"","","","","","","","","","","",2012,""]
[false,"","","","","","","","","","","",2012,""]
[false,"","","","","","","","","","","",2012,""]
[false,"","","","","","","","","","","",2012,""]
[false,"","","","","","","","","","","",2012,""]
[false,"","","","","","","","","","","",2012,""]
[false,"","","","","","","","","","","",2012,""]
[false,"","","","","","","","","","","",2012,""]
[false,"","","","","","","","","","","",2012,""]
[false,"","","","","","","","","","","",2012,""]
[false,"","","","","","","","","","","",2012,""]
[false,"","","","","","","","","","","",2012,""]
[false,"","","","","","","","","","","",2012,""]
[false,"","","","","","","","","","","",2012,""]
[false,"","","","","","","","","","","",2012,""]
[false,"","","","","","","","","","","",2012,""]
[false,"","","","","","","","","","","",2012,""]
[false,"","","","","","","","","","","",2012,""]
[false,"","","","","","","","","","","",2012,""]
[false,"","","","","","","","","","","",2012,""]
[false,"","","","","","","","","","","",2012,""]
[false,"","","","","","","","","","","",2012,""]
[false,"","","","","","","","","","","",2012,""]
[false,"","","","","","","","","","","",2012,""]
[false,"","","","","","","","","","","",2012,""]
[false,"","","","","","","","","","","",2012,""]
[false,"","","","","","","","","","","",2012,""]
[false,"","","","","","","","","","","",2012,""]
[false,"","","","","","","","","","","",2012,""]
[false,"","","","","","","","","","","",2012,""]
[false,"","","","","","","","","","","",2012,""]
[false,"","","","","","","","","","","",2012,""]
[false,"","","","","","","","","","","",2012,""]
[false,"","","","","","","","","","","",2012,""]
[false,"","","","","","","","","","","",2012,""]
[false,"","","","","","","","","","","",2012,""]
[false,"","","","","","","","","","","",2012,""]
[false,"","","","","","","","","","","",2012,""]
[false,"","","","","","","","","","","",2012,""]
[false,"","","","","","","","","","","",2012,""]
[false,"","","","","","","","","","","",2012,""]
[false,"","","","","","","","","","","",2012,""]
[false,"","","","","","","","","","","",2012,""]
[false,"","","","","","","","","","","",2012,""]
[false,"","","","","","","","","","","",2012,""]
[false,"","","","","","","","","","","",2012,""]
[false,"","","","","","","","","","","",2012,""]
[false,"","","","","","","","","","","",2012,""]
[false,"","","","","","","","","","","",2012,""]
[false,"","","","","","","","","","","",2012,""]
[false,"","","","","","","","","","","",2012,""]
[false,"","","","","","","","","","","",2012,""]
[false,"","","","","","","","","","","",2012,""]
[false,"","","","","","","","","","","",2012,""]
[false,"","","","","","","","","","","",2012,""]
[false,"","","","","","","","","","","",2012,""]
[false,"","","","","","","","","","","",2012,""]
[false,"","","","","","","","","","","",2012,""]
[false,"","","","","","","","","","","",2012,""]
[false,"","","","","","","","","","","",2012,""]
[false,"","","","","","","","","","","",2012,""]
[false,"","","","","","","","","","","",2012,""]
[false,"","","","","","","","","","","",2012,""]
[false,"","","","","","","","","","","",2012,""]
[false,"","","","","","","","","","","",2012,""]
[false,"","","","","","","","","","","",2012,""]
[false,"","","","","","","","","","","",2012,""]
[false,"","","","","","","","","","","",2012,""]
[false,"","","","","","","","","","","",2012,""]
[false,"","","","","","","","","","","",2012,""]
[false,"","","","","","","","","","","",2012,""]
[false,"","","","","","","","","","","",2012,""]
[false,"","","","","","","","","","","",2012,""]
[false,"","","","","","","","","","","",2012,""]
[false,"","","","","","","","","","","",2012,""]
[false,"","","","","","","","","","","",2012,""]
[false,"","","","","","","","","","","",2012,""]
[false,"","","","","","","","","","","",2012,""]
[false,"","","","","","","","","","","",2012,""]
[false,"","","","","","","","","","","",2012,""]
[false,"","","","","","","","","","","",2012,""]
[false,"","","","","","","","","","","",2012,""]
[false,"","","","","","","","","","","",2012,""]
[false,"","","","","","","","","","","",2012,""]
[false,"","","","","","","","","","","",2012,""]
[false,"","","","","","","","","","","",2012,""]
[false,"","","","","","","","","","","",2012,""]
[false,"","","","","","","","","","","",2012,""]
[false,"","","","","","","","","","","",2012,""]
[false,"","","","","","","","","","","",2012,""]
[false,"","","","","","","","","","","",2012,""]
[false,"","","","","","","","","","","",2012,""]
[false,"","","","","","","","","","","",2012,""]
[false,"","","","","","","","","","","",2012,""]
[false,"","","","","","","","","","","",2012,""]
[false,"","","","","","","","","","","",2012,""]
[false,"","","","","","","","","","","",2012,""]
[false,"","","","","","","","","","","",2012,""]
[false,"","","","","","","","","","","",2012,""]
[false,"","","","","","","","","","","",2012,""]
[false,"","","","","","","","","","","",2012,""]
[false,"","","","","","","","","","","",2012,""]
[false,"","","","","","","","","","","",2012,""]
[false,"","","","","","","","","","","",2012,""]
[false,"","","","","","","","","","","",2012,""]
[false,"","","","","","","","","","","",2012,""]
[false,"","","","","","","","","","","",2012,""]
[false,"","","","","","","","","","","",2012,""]
[false,"","","","","","","","","","","",2012,""]
[false,"","","","","","","","","","","",2012,""]
[false,"","","","","","","","","","","",2012,""]
[false,"","","","","","","","","","","",2012,""]
[false,"","","","","","","","","","","",2012,""]
[false,"","","","","","","","","","","",2012,""]
[false,"","","","","","","","","","","",2012,""]
[false,"","","","","","","","","","","",2012,""]
[false,"","","","","","","","","","","",2012,""]
[false,"","","","","","","","","","","",2012,""]
[false,"","","","","","","","","","","",2012,""]
[false,"","","","","","","","","","","",2012,""]
[false,"","","","","","","","","","","",2012,""]
[false,"","","","","","","","","","","",2012,""]
[false,"","","","","","","","","","","",2012,""]
[false,"","","","","","","","","","","",2012,""]
[false,"","","","","","","","","","","",2012,""]
[false,"","","","","","","","","","","",2012,""]
[false,"","","","","","","","","","","",2012,""]
[false,"","","","","","","","","","","",2012,""]
[false,"","","","","","","","","","","",2012,""]
[false,"","","","","","","","","","","",2012,""]
[false,"","","","","","","","","","","",2012,""]
[false,"","","","","","","","","","","",2012,""]
[false,"","","","","","","","","","","",2012,""]
[false,"","","","","","","","","","","",2012,""]
[false,"","","","","","","","","","","",2012,""]
[false,"","","","","","","","","","","",2012,""]
[false,"","","","","","","","","","","",2012,""]
[false,"","","","","","","","","","","",2012,""]
[false,"","","","","","","","","","","",2012,""]
[false,"","","","","","","","","","","",2012,""]
[false,"","","","","","","","","","","",2012,""]
[false,"","","","","","","","","","","",2012,""]
[false,"","","","","","","","","","","",2012,""]
[false,"","","","","","","","","","","",2012,""]
[false,"","","","","","","","","","","",2012,""]
[false,"","","","","","","","","","","",2012,""]
[false,"","","","","","","","","","","",2012,""]
[false,"","","","","","","","","","","",2012,""]
[false,"","","","","","","","","","","",2012,""]
[false,"","","","","","","","","","","",2012,""]
[false,"","","","","","","","","","","",2012,""]
[false,"","","","","","","","","","","",2012,""]
[false,"","","","","","","","","","","",2012,""]
[false,"","","","","","","","","","","",2012,""]
[false,"","","","","","","","","","","",2012,""]
[false,"","","","","","","","","","","",2012,""]
[false,"","","","","","","","","","","",2012,""]
[false,"","","","","","","","","","","",2012,""]
[false,"","","","","","","","","","","",2012,""]
[false,"","","","","","","","","","","",2012,""]
[false,"","","","","","","","","","","",2012,""]
[false,"","","","","","","","","","","",2012,""]
[false,"","","","","","","","","","","",2012,""]
[false,"","","","","","","","","","","",2012,""]
[false,"","","","","","","","","","","",2012,""]
[false,"","","","","","","","","","","",2012,""]
[false,"","","","","","","","","","","",2012,""]
[false,"","","","","","","","","","","",2012,""]
[false,"","","","","","","","","","","",2012,""]
[false,"","","","","","","","","","","",2012,""]
[false,"","","","","","","","","","","",2012,""]
[false,"","","","","","","","","","","",2012,""]
[false,"","","","","","","","","","","",2012,""]
[false,"","","","","","","","","","","",2012,""]
[false,"","","","","","","","","","","",2012,""]
[false,"","","","","","","","","","","",2012,""]
[false,"","","","","","","","","","","",2012,""]
[false,"","","","","","","","","","","",2012,""]
[false,"","","","","","","","","","","",2012,""]
[false,"","","","","","","","","","","",2012,""]
[false,"","","","","","","","","","","",2012,""]
[false,"","","","","","","","","","","",2012,""]
[false,"","","","","","","","","","","",2012,""]
[false,"","","","","","","","","","","",2012,""]
[false,"","","","","","","","","","","",2012,""]
[false,"","","","","","","","","","","",2012,""]
[false,"","","","","","","","","","","",2012,""]
[false,"","","","","","","","","","","",2012,""]
[false,"","","","","","","","","","","",2012,""]
[false,"","","","","","","","","","","",2012,""]
[false,"","","","","","","","","","","",2012,""]
[false,"","","","","","","","","","","",2012,""]
[false,"","","","","","","","","","","",2012,""]
[false,"","","","","","","","","","","",2012,""]
[false,"","","","","","","","","","","",2012,""]
[false,"","","","","","","","","","","",2012,""]
[false,"","","","","","","","","","","",2012,""]
[false,"","","","","","","","","","","",2012,""]
[false,"","","","","","","","","","","",2012,""]
[false,"","","","","","","","","","","",2012,""]
[false,"","","","","","","","","","","",2012,""]
[false,"","","","","","","","","","","",2012,""]
[false,"","","","","","","","","","","",2012,""]
[false,"","","","","","","","","","","",2012,""]
[false,"","","","","","","","","","","",2012,""]
[false,"","","","","","","","","","","",2012,""]
[false,"","","","","","","","","","","",2012,""]
[false,"","","","","","","","","","","",2012,""]
[false,"","","","","","","","","","","",2012,""]
[false,"","","","","","","","","","","",2012,""]
[false,"","","","","","","","","","","",2012,""]
[false,"","","","","","","","","","","",2012,""]
[false,"","","","","","","","","","","",2012,""]
[false,"","","","","","","","","","","",2012,""]
[false,"","","","","","","","","","","",2012,""]
[false,"","","","","","","","","","","",2012,""]
[false,"","","","","","","","","","","",2012,""]
[false,"","","","","","","","","","","",2012,""]
[false,"","","","","","","","","","","",2012,""]
[false,"","","","","","","","","","","",2012,""]
[false,"","","","","","","","","","","",2012,""]
[false,"","","","","","","","","","","",2012,""]
[false,"","","","","","","","","","","",2012,""]
[false,"","","","","","","","","","","",2012,""]
[false,"","","","","","","","","","","",2012,""]
[false,"","","","","","","","","","","",2012,""]
[false,"","","","","","","","","","","",2012,""]
[false,"","","","","","","","","","","",2012,""]
[false,"","","","","","","","","","","",2012,""]
[false,"","","","","","","","","","","",2012,""]
[false,"","","","","","","","","","","",2012,""]
[false,"","","","","","","","","","","",2012,""]
[false,"","","","","","","","","","","",2012,""]
[false,"","","","","","","","","","","",2012,""]
[false,"","","","","","","","","","","",2012,""]
[false,"","","","","","","","","","","",2012,""]
[false,"","","","","","","","","","","",2012,""]
[false,"","","","","","","","","","","",2012,""]
[false,"","","","","","","","","","","",2012,""]
[false,"","","","","","","","","","","",2012,""]
[false,"","","","","","","","","","","",2012,""]
[false,"","","","","","","","","","","",2012,""]
[false,"","","","","","","","","","","",2012,""]
[false,"","","","","","","","","","","",2012,""]
[false,"","","","","","","","","","","",2012,""]
[false,"","","","","","","","","","","",2012,""]
[false,"","","","","","","","","","","",2012,""]
[false,"","","","","","","","","","","",2012,""]
[false,"","","","","","","","","","","",2012,""]
[false,"","","","","","","","","","","",2012,""]
[false,"","","","","","","","","","","",2012,""]
[false,"","","","","","","","","","","",2012,""]
[false,"","","","","","","","","","","",2012,""]
[false,"","","","","","","","","","","",2012,""]
[false,"","","","","","","","","","","",2012,""]
[false,"","","","","","","","","","","",2012,""]
[false,"","","","","","","","","","","",2012,""]
[false,"","","","","","","","","","","",2012,""]
[false,"","","","","","","","","","","",2012,""]
[false,"","","","","","","","","","","",2012,""]
[false,"","","","","","","","","","","",2012,""]
[false,"","","","","","","","","","","",2012,""]
[false,"","","","","","","","","","","",2012,""]
[false,"","","","","","","","","","","",2012,""]
[false,"","","","","","","","","","","",2012,""]
[false,"","","","","","","","","","","",2012,""]
[false,"","","","","","","","","","","",2012,""]
[false,"","","","","","","","","","","",2012,""]
[false,"","","","","","","","","","","",2012,""]
[false,"","","","","","","","","","","",2012,""]
[false,"","","","","","","","","","","",2012,""]
[false,"","","","","","","","","","","",2012,""]
[false,"","","","","","","","","","","",2012,""]
[false,"","","","","","","","","","","",2012,""]
[false,"","","","","","","","","","","",2012,""]
[false,"","","","","","","","","","","",2012,""]
[false,"","","","","","","","","","","",2012,""]
[false,"","","","","","","","","","","",2012,""]
[false,"","","","","","","","","","","",2012,""]
[false,"","","","","","","","","","","",2012,""]
[false,"","","","","","","","","","","",2012,""]
[false,"","","","","","","","","","","",2012,""]
[false,"","","","","","","","","","","",2012,""]
[false,"","","","","","","","","","","",2012,""]
[false,"","","","","","","","","","","",2012,""]
[false,"","","","","","","","","","","",2012,""]
[false,"","","","","","","","","","","",2012,""]
[false,"","","","","","","","","","","",2012,""]
[false,"","","","","","","","","","","",2012,""]
[false,"","","","","","","","","","","",2012,""]
[false,"","","","","","","","","","","",2012,""]
[false,"","","","","","","","","","","",2012,""]
[false,"","","","","","","","","","","",2012,""]
[false,"","","","","","","","","","","",2012,""]
[false,"","","","","","","","","","","",2012,""]
[false,"","","","","","","","","","","",2012,""]
[false,"","","","","","","","","","","",2012,""]
[false,"","","","","","","","","","","",2012,""]
[false,"","","","","","","","","","","",2012,""]
[false,"","","","","","","","","","","",2012,""]
[false,"","","","","","","","","","","",2012,""]
[false,"","","","","","","","","","","",2012,""]
[false,"","","","","","","","","","","",2012,""]
[false,"","","","","","","","","","","",2012,""]
[false,"","","","","","","","","","","",2012,""]
[false,"","","","","","","","","","","",2012,""]
[false,"","","","","","","","","","","",2012,""]
[false,"","","","","","","","","","","",2012,""]
[false,"","","","","","","","","","","",2012,""]
[false,"","","","","","","","","","","",2012,""]
[false,"","","","","","","","","","","",2012,""]
[false,"","","","","","","","","","","",2012,""]
[false,"","","","","","","","","","","",2012,""]
[false,"","","","","","","","","","","",2012,""]
[false,"","","","","","","","","","","",2012,""]
[false,"","","","","","","","","","","",2012,""]
[false,"","","","","","","","","","","",2012,""]
[false,"","","","","","","","","","","",2012,""]
[false,"","","","","","","","","","","",2012,""]
[false,"","","","","","","","","","","",2012,""]
[false,"","","","","","","","","","","",2012,""]
[false,"","","","","","","","","","","",2012,""]
[false,"","","","","","","","","","","",2012,""]
[false,"","","","","","","","","","","",2012,""]
[false,"","","","","","","","","","","",2012,""]
[false,"","","","","","","","","","","",2012,""]
[false,"","","","","","","","","","","",2012,""]
[false,"","","","","","","","","","","",2012,""]
[false,"","","","","","","","","","","",2012,""]
[false,"","","","","","","","","","","",2012,""]
[false,"","","","","","","","","","","",2012,""]
[false,"","","","","","","","","","","",2012,""]
[false,"","","","","","","","","","","",2012,""]
[false,"","","","","","","","","","","",2012,""]
[false,"","","","","","","","","","","",2012,""]
[false,"","","","","","","","","","","",2012,""]
[false,"","","","","","","","","","","",2012,""]
[false,"","","","","","","","","","","",2012,""]
[false,"","","","","","","","","","","",2012,""]
[false,"","","","","","","","","","","",2012,""]
[false,"","","","","","","","","","","",2012,""]
[false,"","","","","","","","","","","",2012,""]
[false,"","","","","","","","","","","",2012,""]
[false,"","","","","","","","","","","",2012,""]
[false,"","","","","","","","","","","",2012,""]
[false,"","","","","","","","","","","",2012,""]
[false,"","","","","","","","","","","",2012,""]
[false,"","","","","","","","","","","",2012,""]
[false,"","","","","","","","","","","",2012,""]
[false,"","","","","","","","","","","",2012,""]
[false,"","","","","","","","","","","",2012,""]
[false,"","","","","","","","","","","",2012,""]
[false,"","","","","","","","","","","",2012,""]
[false,"","","","","","","","","","","",2012,""]
[false,"","","","","","","","","","","",2012,""]
[false,"","","","","","","","","","","",2012,""]
[false,"","","","","","","","","","","",2012,""]
[false,"","","","","","","","","","","",2012,""]
[false,"","","","","","","","","","","",2012,""]
[false,"","","","","","","","","","","",2012,""]
[false,"","","","","","","","","","","",2012,""]
[false,"","","","","","","","","","","",2012,""]
[false,"","","","","","","","","","","",2012,""]
[false,"","","","","","","","","","","",2012,""]
[false,"","","","","","","","","","","",2012,""]
[false,"","","","","","","","","","","",2012,""]
[false,"","","","","","","","","","","",2012,""]
[false,"","","","","","","","","","","",2012,""]
[false,"","","","","","","","","","","",2012,""]
[false,"","","","","","","","","","","",2012,""]
[false,"","","","","","","","","","","",2012,""]
[false,"","","","","","","","","","","",2012,""]
[false,"","","","","","","","","","","",2012,""]
[false,"","","","","","","","","","","",2012,""]
[false,"","","","","","","","","","","",2012,""]
[false,"","","","","","","","","","","",2012,""]
[false,"","","","","","","","","","","",2012,""]
[false,"","","","","","","","","","","",2012,""]
[false,"","","","","","","","","","","",2012,""]
[false,"","","","","","","","","","","",2012,""]
[false,"","","","","","","","","","","",2012,""]
[false,"","","","","","","","","","","",2012,""]
[false,"","","","","","","","","","","",2012,""]
[false,"","","","","","","","","","","",2012,""]
[false,"","","","","","","","","","","",2012,""]
[false,"","","","","","","","","","","",2012,""]
[false,"","","","","","","","","","","",2012,""]
[false,"","","","","","","","","","","",2012,""]
[false,"","","","","","","","","","","",2012,""]
[false,"","","","","","","","","","","",2012,""]
[false,"","","","","","","","","","","",2012,""]
[false,"","","","","","","","","","","",2012,""]
[false,"","","","","","","","","","","",2012,""]
[false,"","","","","","","","","","","",2012,""]
[false,"","","","","","","","","","","",2012,""]
[false,"","","","","","","","","","","",2012,""]
[false,"","","","","","","","","","","",2012,""]
[false,"","","","","","","","","","","",2012,""]
[false,"","","","","","","","","","","",2012,""]
[false,"","","","","","","","","","","",2012,""]
[false,"","","","","","","","","","","",2012,""]
[false,"","","","","","","","","","","",2012,""]
[false,"","","","","","","","","","","",2012,""]
[false,"","","","","","","","","","","",2012,""]
[false,"","","","","","","","","","","",2012,""]
[false,"","","","","","","","","","","",2012,""]
[false,"","","","","","","","","","","",2012,""]
[false,"","","","","","","","","","","",2012,""]
[false,"","","","","","","","","","","",2012,""]
[false,"","","","","","","","","","","",2012,""]
[false,"","","","","","","","","","","",2012,""]
[false,"","","","","","","","","","","",2012,""]
[false,"","","","","","","","","","","",2012,""]
[false,"","","","","","","","","","","",2012,""]
[false,"","","","","","","","","","","",2012,""]
[false,"","","","","","","","","","","",2012,""]
[false,"","","","","","","","","","","",2012,""]
[false,"","","","","","","","","","","",2012,""]
[false,"","","","","","","","","","","",2012,""]
[false,"","","","","","","","","","","",2012,""]
[false,"","","","","","","","","","","",2012,""]
[false,"","","","","","","","","","","",2012,""]
[false,"","","","","","","","","","","",2012,""]
[false,"","","","","","","","","","","",2012,""]
[false,"","","","","","","","","","","",2012,""]
[false,"","","","","","","","","","","",2012,""]
[false,"","","","","","","","","","","",2012,""]
[false,"","","","","","","","","","","",2012,""]
[false,"","","","","","","","","","","",2012,""]
[false,"","","","","","","","","","","",2012,""]
[false,"","","","","","","","","","","",2012,""]
[false,"","","","","","","","","","","",2012,""]
[false,"","","","","","","","","","","",2012,""]
[false,"","","","","","","","","","","",2012,""]
[false,"","","","","","","","","","","",2012,""]
[false,"","","","","","","","","","","",2012,""]
[false,"","","","","","","","","","","",2012,""]
[false,"","","","","","","","","","","",2012,""]
[false,"","","","","","","","","","","",2012,""]
[false,"","","","","","","","","","","",2012,""]
[false,"","","","","","","","","","","",2012,""]
[false,"","","","","","","","","","","",2012,""]
[false,"","","","","","","","","","","",2012,""]
[false,"","","","","","","","","","","",2012,""]
[false,"","","","","","","","","","","",2012,""]
[false,"","","","","","","","","","","",2012,""]
[false,"","","","","","","","","","","",2012,""]
[false,"","","","","","","","","","","",2012,""]
[false,"","","","","","","","","","","",2012,""]
[false,"","","","","","","","","","","",2012,""]
[false,"","","","","","","","","","","",2012,""]
[false,"","","","","","","","","","","",2012,""]
[false,"","","","","","","","","","","",2012,""]
[false,"","","","","","","","","","","",2012,""]
[false,"","","","","","","","","","","",2012,""]
[false,"","","","","","","","","","","",2012,""]
[false,"","","","","","","","","","","",2012,""]
[false,"","","","","","","","","","","",2012,""]
[false,"","","","","","","","","","","",2012,""]
[false,"","","","","","","","","","","",2012,""]
[false,"","","","","","","","","","","",2012,""]
[false,"","","","","","","","","","","",2012,""]
[false,"","","","","","","","","","","",2012,""]
[false,"","","","","","","","","","","",2012,""]
[false,"","","","","","","","","","","",2012,""]
[false,"","","","","","","","","","","",2012,""]
[false,"","","","","","","","","","","",2012,""]
[false,"","","","","","","","","","","",2012,""]
[false,"","","","","","","","","","","",2012,""]
[false,"","","","","","","","","","","",2012,""]
[false,"","","","","","","","","","","",2012,""]
[false,"","","","","","","","","","","",2012,""]
[false,"","","","","","","","","","","",2012,""]
[false,"","","","","","","","","","","",2012,""]
[false,"","","","","","","","","","","",2012,""]
[false,"","","","","","","","","","","",2012,""]
[false,"","","","","","","","","","","",2012,""]
[false,"","","","","","","","","","","",2012,""]
[false,"","","","","","","","","","","",2012,""]
[false,"","","","","","","","","","","",2012,""]
[false,"","","","","","","","","","","",2012,""]
[false,"","","","","","","","","","","",2012,""]
[false,"","","","","","","","","","","",2012,""]
[false,"","","","","","","","","","","",2012,""]
[false,"","","","","","","","","","","",2012,""]
[false,"","","","","","","","","","","",2012,""]
[false,"","","","","","","","","","","",2012,""]
[false,"","","","","","","","","","","",2012,""]
[false,"","","","","","","","","","","",2012,""]
[false,"","","","","","","","","","","",2012,""]
[false,"","","","","","","","","","","",2012,""]
[false,"","","","","","","","","","","",2012,""]
[false,"","","","","","","","","","","",2012,""]
[false,"","","","","","","","","","","",2012,""]
[false,"","","","","","","","","","","",2012,""]
[false,"","","","","","","","","","","",2012,""]
[false,"","","","","","","","","","","",2012,""]
[false,"","","","","","","","","","","",2012,""]
[false,"","","","","","","","","","","",2012,""]
[false,"","","","","","","","","","","",2012,""]
[false,"","","","","","","","","","","",2012,""]
[false,"","","","","","","","","","","",2012,""]
[false,"","","","","","","","","","","",2012,""]
[false,"","","","","","","","","","","",2012,""]
[false,"","","","","","","","","","","",2012,""]
[false,"","","","","","","","","","","",2012,""]
[false,"","","","","","","","","","","",2012,""]
[false,"","","","","","","","","","","",2012,""]
[false,"","","","","","","","","","","",2012,""]
[false,"","","","","","","","","","","",2012,""]
[false,"","","","","","","","","","","",2012,""]
[false,"","","","","","","","","","","",2012,""]
[false,"","","","","","","","","","","",2012,""]
[false,"","","","","","","","","","","",2012,""]
[false,"","","","","","","","","","","",2012,""]
[false,"","","","","","","","","","","",2012,""]
[false,"","","","","","","","","","","",2012,""]
[false,"","","","","","","","","","","",2012,""]
[false,"","","","","","","","","","","",2012,""]
[false,"","","","","","","","","","","",2012,""]
[false,"","","","","","","","","","","",2012,""]
[false,"","","","","","","","","","","",2012,""]
[false,"","","","","","","","","","","",2012,""]
[false,"","","","","","","","","","","",2012,""]
[false,"","","","","","","","","","","",2012,""]
[false,"","","","","","","","","","","",2012,""]
[false,"","","","","","","","","","","",2012,""]
[false,"","","","","","","","","","","",2012,""]
[false,"","","","","","","","","","","",2012,""]
[false,"","","","","","","","","","","",2012,""]
[false,"","","","","","","","","","","",2012,""]
[false,"","","","","","","","","","","",2012,""]
[false,"","","","","","","","","","","",2012,""]
[false,"","","","","","","","","","","",2012,""]
[false,"","","","","","","","","","","",2012,""]
[false,"","","","","","","","","","","",2012,""]
[false,"","","","","","","","","","","",2012,""]
[false,"","","","","","","","","","","",2012,""]
[false,"","","","","","","","","","","",2012,""]
[false,"","","","","","","","","","","",2012,""]
[false,"","","","","","","","","","","",2012,""]
[false,"","","","","","","","","","","",2012,""]
[false,"","","","","","","","","","","",2012,""]
[false,"","","","","","","","","","","",2012,""]
[false,"","","","","","","","","","","",2012,""]
[false,"","","","","","","","","","","",2012,""]
[false,"","","","","","","","","","","",2012,""]
[false,"","","","","","","","","","","",2012,""]
[false,"","","","","","","","","","","",2012,""]
[false,"","","","","","","","","","","",2012,""]
[false,"","","","","","","","","","","",2012,""]
[false,"","","","","","","","","","","",2012,""]
[false,"","","","","","","","","","","",2012,""]
[false,"","","","","","","","","","","",2012,""]
[false,"","","","","","","","","","","",2012,""]
[false,"","","","","","","","","","","",2012,""]
[false,"","","","","","","","","","","",2012,""]
[false,"","","","","","","","","","","",2012,""]
[false,"","","","","","","","","","","",2012,""]
[false,"","","","","","","","","","","",2012,""]
[false,"","","","","","","","","","","",2012,""]
[false,"","","","","","","","","","","",2012,""]
[false,"","","","","","","","","","","",2012,""]
[false,"","","","","","","","","","","",2012,""]
[false,"","","","","","","","","","","",2012,""]
[false,"","","","","","","","","","","",2012,""]
[false,"","","","","","","","","","","",2012,""]
[false,"","","","","","","","","","","",2012,""]
[false,"","","","","","","","","","","",2012,""]
[false,"","","","","","","","","","","",2012,""]
[false,"","","","","","","","","","","",2012,""]
[false,"","","","","","","","","","","",2012,""]
[false,"","","","","","","","","","","",2012,""]
[false,"","","","","","","","","","","",2012,""]
[false,"","","","","","","","","","","",2012,""]
[false,"","","","","","","","","","","",2012,""]
[false,"","","","","","","","","","","",2012,""]
[false,"","","","","","","","","","","",2012,""]
[false,"","","","","","","","","","","",2012,""]
[false,"","","","","","","","","","","",2012,""]
[false,"","","","","","","","","","","",2012,""]
[false,"","","","","","","","","","","",2012,""]
[false,"","","","","","","","","","","",2012,""]
[false,"","","","","","","","","","","",2012,""]
[false,"","","","","","","","","","","",2012,""]
[false,"","","","","","","","","","","",2012,""]
[false,"","","","","","","","","","","",2012,""]
[false,"","","","","","","","","","","",2012,""]
[false,"","","","","","","","","","","",2012,""]
[false,"","","","","","","","","","","",2012,""]
[false,"","","","","","","","","","","",2012,""]
[false,"","","","","","","","","","","",2012,""]
[false,"","","","","","","","","","","",2012,""]
[false,"","","","","","","","","","","",2012,""]
[false,"","","","","","","","","","","",2012,""]
[false,"","","","","","","","","","","",2012,""]
[false,"","","","","","","","","","","",2012,""]
[false,"","","","","","","","","","","",2012,""]
[false,"","","","","","","","","","","",2012,""]
[false,"","","","","","","","","","","",2012,""]
[false,"","","","","","","","","","","",2012,""]
[false,"","","","","","","","","","","",2012,""]
[false,"","","","","","","","","","","",2012,""]
[false,"","","","","","","","","","","",2012,""]
[false,"","","","","","","","","","","",2012,""]
[false,"","","","","","","","","","","",2012,""]
[false,"","","","","","","","","","","",2012,""]
[false,"","","","","","","","","","","",2012,""]
[false,"","","","","","","","","","","",2012,""]
[false,"","","","","","","","","","","",2012,""]
[false,"","","","","","","","","","","",2012,""]
[false,"","","","","","","","","","","",2012,""]
[false,"","","","","","","","","","","",2012,""]
[false,"","","","","","","","","","","",2012,""]
[false,"","","","","","","","","","","",2012,""]
[false,"","","","","","","","","","","",2012,""]
[false,"","","","","","","","","","","",2012,""]
[false,"","","","","","","","","","","",2012,""]
[false,"","","","","","","","","","","",2012,""]
[false,"","","","","","","","","","","",2012,""]
[false,"","","","","","","","","","","",2012,""]
[false,"","","","","","","","","","","",2012,""]
[false,"","","","","","","","","","","",2012,""]
[false,"","","","","","","","","","","",2012,""]
[false,"","","","","","","","","","","",2012,""]
[false,"","","","","","","","","","","",2012,""]
[false,"","","","","","","","","","","",2012,""]
[false,"","","","","","","","","","","",2012,""]
[false,"","","","","","","","","","","",2012,""]
[false,"","","","","","","","","","","",2012,""]
[false,"","","","","","","","","","","",2012,""]
[false,"","","","","","","","","","","",2012,""]
[false,"","","","","","","","","","","",2012,""]
[false,"","","","","","","","","","","",2012,""]
[false,"","","","","","","","","","","",2012,""]
[false,"","","","","","","","","","","",2012,""]
[false,"","","","","","","","","","","",2012,""]
[false,"","","","","","","","","","","",2012,""]
[false,"","","","","","","","","","","",2012,""]
[false,"","","","","","","","","","","",2012,""]
[false,"","","","","","","","","","","",2012,""]
[false,"","","","","","","","","","","",2012,""]
[false,"","","","","","","","","","","",2012,""]
[false,"","","","","","","","","","","",2012,""]
[false,"","","","","","","","","","","",2012,""]
[false,"","","","","","","","","","","",2012,""]
[false,"","","","","","","","","","","",2012,""]
[false,"","","","","","","","","","","",2012,""]
[false,"","","","","","","","","","","",2012,""]
[false,"","","","","","","","","","","",2012,""]
[false,"","","","","","","","","","","",2012,""]
[false,"","","","","","","","","","","",2012,""]
[false,"","","","","","","","","","","",2012,""]
[false,"","","","","","","","","","","",2012,""]
[false,"","","","","","","","","","","",2012,""]
[false,"","","","","","","","","","","",2012,""]
[false,"","","","","","","","","","","",2012,""]
[false,"","","","","","","","","","","",2012,""]
[false,"","","","","","","","","","","",2012,""]
[false,"","","","","","","","","","","",2012,""]
[false,"","","","","","","","","","","",2012,""]
[false,"","","","","","","","","","","",2012,""]
[false,"","","","","","","","","","","",2012,""]
[false,"","","","","","","","","","","",2012,""]
[false,"","","","","","","","","","","",2012,""]
[false,"","","","","","","","","","","",2012,""]
[false,"","","","","","","","","","","",2012,""]
[false,"","","","","","","","","","","",2012,""]
[false,"","","","","","","","","","","",2012,""]
[false,"","","","","","","","","","","",2012,""]
[false,"","","","","","","","","","","",2012,""]
[false,"","","","","","","","","","","",2012,""]
[false,"","","","","","","","","","","",2012,""]
[false,"","","","","","","","","","","",2012,""]
[false,"","","","","","","","","","","",2012,""]
[false,"","","","","","","","","","","",2012,""]
[false,"","","","","","","","","","","",2012,""]
[false,"","","","","","","","","","","",2012,""]
[false,"","","","","","","","","","","",2012,""]
[false,"","","","","","","","","","","",2012,""]
[false,"","","","","","","","","","","",2012,""]
[false,"","","","","","","","","","","",2012,""]
[false,"","","","","","","","","","","",2012,""]
[false,"","","","","","","","","","","",2012,""]
[false,"","","","","","","","","","","",2012,""]
[false,"","","","","","","","","","","",2012,""]
[false,"","","","","","","","","","","",2012,""]
[false,"","","","","","","","","","","",2012,""]
[false,"","","","","","","","","","","",2012,""]
[false,"","","","","","","","","","","",2012,""]
[false,"","","","","","","","","","","",2012,""]
[false,"","","","","","","","","","","",2012,""]
[false,"","","","","","","","","","","",2012,""]
[false,"","","","","","","","","","","",2012,""]
[false,"","","","","","","","","","","",2012,""]
[false,"","","","","","","","","","","",2012,""]
[false,"","","","","","","","","","","",2012,""]
[false,"","","","","","","","","","","",2012,""]
[false,"","","","","","","","","","","",2012,""]
[false,"","","","","","","","","","","",2012,""]
[false,"","","","","","","","","","","",2012,""]
[false,"","","","","","","","","","","",2012,""]
[false,"","","","","","","","","","","",2012,""]
[false,"","","","","","","","","","","",2012,""]
[false,"","","","","","","","","","","",2012,""]
[false,"","","","","","","","","","","",2012,""]
[false,"","","","","","","","","","","",2012,""]
[false,"","","","","","","","","","","",2012,""]
[false,"","","","","","","","","","","",2012,""]
[false,"","","","","","","","","","","",2012,""]
[false,"","","","","","","","","","","",2012,""]
[false,"","","","","","","","","","","",2012,""]
[false,"","","","","","","","","","","",2012,""]
[false,"","","","","","","","","","","",2012,""]
[false,"","","","","","","","","","","",2012,""]
[false,"","","","","","","","","","","",2012,""]
[false,"","","","","","","","","","","",2012,""]
[false,"","","","","","","","","","","",2012,""]
[false,"","","","","","","","","","","",2012,""]
[false,"","","","","","","","","","","",2012,""]
[false,"","","","","","","","","","","",2012,""]
[false,"","","","","","","","","","","",2012,""]
[false,"","","","","","","","","","","",2012,""]
[false,"","","","","","","","","","","",2012,""]
[false,"","","","","","","","","","","",2012,""]
[false,"","","","","","","","","","","",2012,""]
[false,"","","","","","","","","","","",2012,""]
[false,"","","","","","","","","","","",2012,""]
[false,"","","","","","","","","","","",2012,""]
[false,"","","","","","","","","","","",2012,""]
[false,"","","","","","","","","","","",2012,""]
[false,"","","","","","","","","","","",2012,""]
[false,"","","","","","","","","","","",2012,""]
[false,"","","","","","","","","","","",2012,""]
[false,"","","","","","","","","","","",2012,""]
[false,"","","","","","","","","","","",2012,""]
[false,"","","","","","","","","","","",2012,""]
[false,"","","","","","","","","","","",2012,""]
[false,"","","","","","","","","","","",2012,""]
[false,"","","","","","","","","","","",2012,""]
[false,"","","","","","","","","","","",2012,""]
[false,"","","","","","","","","","","",2012,""]
[false,"","","","","","","","","","","",2012,""]
[false,"","","","","","","","","","","",2012,""]
[false,"","","","","","","","","","","",2012,""]
[false,"","","","","","","","","","","",2012,""]
[false,"","","","","","","","","","","",2012,""]
[false,"","","","","","","","","","","",2012,""]
[false,"","","","","","","","","","","",2012,""]
[false,"","","","","","","","","","","",2012,""]
[false,"","","","","","","","","","","",2012,""]
[false,"","","","","","","","","","","",2012,""]
[false,"","","","","","","","","","","",2012,""]
[false,"","","","","","","","","","","",2012,""]
[false,"","","","","","","","","","","",2012,""]
[false,"","","","","","","","","","","",2012,""]
[false,"","","","","","","","","","","",2012,""]
[false,"","","","","","","","","","","",2012,""]
[false,"","","","","","","","","","","",2012,""]
[false,"","","","","","","","","","","",2012,""]
[false,"","","","","","","","","","","",2012,""]
[false,"","","","","","","","","","","",2012,""]
[false,"","","","","","","","","","","",2012,""]
[false,"","","","","","","","","","","",2012,""]
[false,"","","","","","","","","","","",2012,""]
[false,"","","","","","","","","","","",2012,""]
[false,"","","","","","","","","","","",2012,""]
[false,"","","","","","","","","","","",2012,""]
[false,"","","","","","","","","","","",2012,""]
[false,"","","","","","","","","","","",2012,""]
[false,"","","","","","","","","","","",2012,""]
[false,"","","","","","","","","","","",2012,""]
[false,"","","","","","","","","","","",2012,""]
[false,"","","","","","","","","","","",2012,""]
[false,"","","","","","","","","","","",2012,""]
[false,"","","","","","","","","","","",2012,""]
[false,"","","","","","","","","","","",2012,""]
[false,"","","","","","","","","","","",2012,""]
[false,"","","","","","","","","","","",2012,""]
[false,"","","","","","","","","","","",2012,""]
[false,"","","","","","","","","","","",2012,""]
[false,"","","","","","","","","","","",2012,""]
[false,"","","","","","","","","","","",2012,""]
[false,"","","","","","","","","","","",2012,""]
[false,"","","","","","","","","","","",2012,""]
[false,"","","","","","","","","","","",2012,""]
[false,"","","","","","","","","","","",2012,""]
[false,"","","","","","","","","","","",2012,""]
[false,"","","","","","","","","","","",2012,""]
[false,"","","","","","","","","","","",2012,""]
[false,"","","","","","","","","","","",2012,""]
[false,"","","","","","","","","","","",2012,""]
[false,"","","","","","","","","","","",2012,""]
[false,"","","","","","","","","","","",2012,""]
[false,"","","","","","","","","","","",2012,""]
[false,"","","","","","","","","","","",2012,""]
[false,"","","","","","","","","","","",2012,""]
[false,"","","","","","","","","","","",2012,""]
[false,"","","","","","","","","","","",2012,""]
[false,"","","","","","","","","","","",2012,""]
[false,"","","","","","","","","","","",2012,""]
[false,"","","","","","","","","","","",2012,""]
[false,"","","","","","","","","","","",2012,""]
[false,"","","","","","","","","","","",2012,""]
[false,"","","","","","","","","","","",2012,""]
[false,"","","","","","","","","","","",2012,""]
[false,"","","","","","","","","","","",2012,""]
[false,"","","","","","","","","","","",2012,""]
[false,"","","","","","","","","","","",2012,""]
[false,"","","","","","","","","","","",2012,""]
[false,"","","","","","","","","","","",2012,""]
[false,"","","","","","","","","","","",2012,""]
[false,"","","","","","","","","","","",2012,""]
[false,"","","","","","","","","","","",2012,""]
[false,"","","","","","","","","","","",2012,""]
[false,"","","","","","","","","","","",2012,""]
[false,"","","","","","","","","","","",2012,""]
[false,"","","","","","","","","","","",2012,""]
[false,"","","","","","","","","","","",2012,""]
[false,"","","","","","","","","","","",2012,""]
[false,"","","","","","","","","","","",2012,""]
[false,"","","","","","","","","","","",2012,""]
[false,"","","","","","","","","","","",2012,""]
[false,"","","","","","","","","","","",2012,""]
[false,"","","","","","","","","","","",2012,""]
[false,"","","","","","","","","","","",2012,""]
[false,"","","","","","","","","","","",2012,""]
[false,"","","","","","","","","","","",2012,""]
[false,"","","","","","","","","","","",2012,""]
[false,"","","","","","","","","","","",2012,""]
[false,"","","","","","","","","","","",2012,""]
[false,"","","","","","","","","","","",2012,""]
[false,"","","","","","","","","","","",2012,""]
[false,"","","","","","","","","","","",2012,""]
[false,"","","","","","","","","","","",2012,""]
[false,"","","","","","","","","","","",2012,""]
[false,"","","","","","","","","","","",2012,""]
[false,"","","","","","","","","","","",2012,""]
[false,"","","","","","","","","","","",2012,""]
[false,"","","","","","","","","","","",2012,""]
[false,"","","","","","","","","","","",2012,""]
[false,"","","","","","","","","","","",2012,""]
[false,"","","","","","","","","","","",2012,""]
[false,"","","","","","","","","","","",2012,""]
[false,"","","","","","","","","","","",2012,""]
[false,"","","","","","","","","","","",2012,""]
[false,"","","","","","","","","","","",2012,""]
[false,"","","","","","","","","","","",2012,""]
[false,"","","","","","","","","","","",2012,""]
[false,"","","","","","","","","","","",2012,""]
[false,"","","","","","","","","","","",2012,""]
[false,"","","","","","","","","","","",2012,""]
[false,"","","","","","","","","","","",2012,""]
[false,"","","","","","","","","","","",2012,""]
[false,"","","","","","","","","","","",2012,""]
[false,"","","","","","","","","","","",2012,""]
[false,"","","","","","","","","","","",2012,""]
[false,"","","","","","","","","","","",2012,""]
[false,"","","","","","","","","","","",2012,""]
[false,"","","","","","","","","","","",2012,""]
[false,"","","","","","","","","","","",2012,""]
[false,"","","","","","","","","","","",2012,""]
[false,"","","","","","","","","","","",2012,""]
[false,"","","","","","","","","","","",2012,""]
[false,"","","","","","","","","","","",2012,""]
[false,"","","","","","","","","","","",2012,""]
[false,"","","","","","","","","","","",2012,""]
[false,"","","","","","","","","","","",2012,""]
[false,"","","","","","","","","","","",2012,""]
[false,"","","","","","","","","","","",2012,""]
[false,"","","","","","","","","","","",2012,""]
[false,"","","","","","","","","","","",2012,""]
[false,"","","","","","","","","","","",2012,""]
[false,"","","","","","","","","","","",2012,""]
[false,"","","","","","","","","","","",2012,""]
[false,"","","","","","","","","","","",2012,""]
[false,"","","","","","","","","","","",2012,""]
[false,"","","","","","","","","","","",2012,""]
[false,"","","","","","","","","","","",2012,""]
[false,"","","","","","","","","","","",2012,""]
[false,"","","","","","","","","","","",2012,""]
[false,"","","","","","","","","","","",2012,""]
[false,"","","","","","","","","","","",2012,""]
[false,"","","","","","","","","","","",2012,""]
[false,"","","","","","","","","","","",2012,""]
[false,"","","","","","","","","","","",2012,""]
[false,"","","","","","","","","","","",2012,""]
[false,"","","","","","","","","","","",2012,""]
[false,"","","","","","","","","","","",2012,""]
[false,"","","","","","","","","","","",2012,""]
[false,"","","","","","","","","","","",2012,""]
[false,"","","","","","","","","","","",2012,""]
[false,"","","","","","","","","","","",2012,""]
[false,"","","","","","","","","","","",2012,""]
[false,"","","","","","","","","","","",2012,""]
[false,"","","","","","","","","","","",2012,""]
[false,"","","","","","","","","","","",2012,""]
[false,"","","","","","","","","","","",2012,""]
[false,"","","","","","","","","","","",2012,""]
[false,"","","","","","","","","","","",2012,""]
[false,"","","","","","","","","","","",2012,""]
[false,"","","","","","","","","","","",2012,""]
[false,"","","","","","","","","","","",2012,""]
[false,"","","","","","","","","","","",2012,""]
[false,"","","","","","","","","","","",2012,""]
[false,"","","","","","","","","","","",2012,""]
[false,"","","","","","","","","","","",2012,""]
[false,"","","","","","","","","","","",2012,""]
[false,"","","","","","","","","","","",2012,""]
[false,"","","","","","","","","","","",2012,""]
[false,"","","","","","","","","","","",2012,""]
[false,"","","","","","","","","","","",2012,""]
[false,"","","","","","","","","","","",2012,""]
[false,"","","","","","","","","","","",2012,""]
[false,"","","","","","","","","","","",2012,""]
[false,"","","","","","","","","","","",2012,""]
[false,"","","","","","","","","","","",2012,""]
[false,"","","","","","","","","","","",2012,""]
[false,"","","","","","","","","","","",2012,""]
[false,"","","","","","","","","","","",2012,""]
[false,"","","","","","","","","","","",2012,""]
[false,"","","","","","","","","","","",2012,""]
[false,"","","","","","","","","","","",2012,""]
[false,"","","","","","","","","","","",2012,""]
[false,"","","","","","","","","","","",2012,""]
[false,"","","","","","","","","","","",2012,""]
[false,"","","","","","","","","","","",2012,""]
[false,"","","","","","","","","","","",2012,""]
[false,"","","","","","","","","","","",2012,""]
[false,"","","","","","","","","","","",2012,""]
[false,"","","","","","","","","","","",2012,""]
[false,"","","","","","","","","","","",2012,""]
[false,"","","","","","","","","","","",2012,""]
[false,"","","","","","","","","","","",2012,""]
[false,"","","","","","","","","","","",2012,""]
[false,"","","","","","","","","","","",2012,""]
[false,"","","","","","","","","","","",2012,""]
[false,"","","","","","","","","","","",2012,""]
[false,"","","","","","","","","","","",2012,""]
[false,"","","","","","","","","","","",2012,""]
[false,"","","","","","","","","","","",2012,""]
[false,"","","","","","","","","","","",2012,""]
[false,"","","","","","","","","","","",2012,""]
[false,"","","","","","","","","","","",2012,""]
[false,"","","","","","","","","","","",2012,""]
[false,"","","","","","","","","","","",2012,""]
[false,"","","","","","","","","","","",2012,""]
[false,"","","","","","","","","","","",2012,""]
[false,"","","","","","","","","","","",2012,""]
[false,"","","","","","","","","","","",2012,""]
[false,"","","","","","","","","","","",2012,""]
[false,"","","","","","","","","","","",2012,""]
[false,"","","","","","","","","","","",2012,""]
[false,"","","","","","","","","","","",2012,""]
[false,"","","","","","","","","","","",2012,""]
[false,"","","","","","","","","","","",2012,""]
[false,"","","","","","","","","","","",2012,""]
[false,"","","","","","","","","","","",2012,""]
[false,"","","","","","","","","","","",2012,""]
[false,"","","","","","","","","","","",2012,""]
[false,"","","","","","","","","","","",2012,""]
[false,"","","","","","","","","","","",2012,""]
[false,"","","","","","","","","","","",2012,""]
[false,"","","","","","","","","","","",2012,""]
[false,"","","","","","","","","","","",2012,""]
[false,"","","","","","","","","","","",2012,""]
[false,"","","","","","","","","","","",2012,""]
[false,"","","","","","","","","","","",2012,""]
[false,"","","","","","","","","","","",2012,""]
[false,"","","","","","","","","","","",2012,""]
[false,"","","","","","","","","","","",2012,""]
[false,"","","","","","","","","","","",2012,""]
[false,"","","","","","","","","","","",2012,""]
[false,"","","","","","","","","","","",2012,""]
[false,"","","","","","","","","","","",2012,""]
[false,"","","","","","","","","","","",2012,""]
[false,"","","","","","","","","","","",2012,""]
[false,"","","","","","","","","","","",2012,""]
[false,"","","","","","","","","","","",2012,""]
[false,"","","","","","","","","","","",2012,""]
[false,"","","","","","","","","","","",2012,""]
[false,"","","","","","","","","","","",2012,""]
[false,"","","","","","","","","","","",2012,""]
[false,"","","","","","","","","","","",2012,""]
[false,"","","","","","","","","","","",2012,""]
[false,"","","","","","","","","","","",2012,""]
[false,"","","","","","","","","","","",2012,""]
[false,"","","","","","","","","","","",2012,""]
[false,"","","","","","","","","","","",2012,""]
[false,"","","","","","","","","","","",2012,""]
[false,"","","","","","","","","","","",2012,""]
[false,"","","","","","","","","","","",2012,""]
[false,"","","","","","","","","","","",2012,""]
[false,"","","","","","","","","","","",2012,""]
[false,"","","","","","","","","","","",2012,""]
[false,"","","","","","","","","","","",2012,""]
[false,"","","","","","","","","","","",2012,""]
[false,"","","","","","","","","","","",2012,""]
[false,"","","","","","","","","","","",2012,""]
[false,"","","","","","","","","","","",2012,""]
[false,"","","","","","","","","","","",2012,""]
[false,"","","","","","","","","","","",2012,""]
[false,"","","","","","","","","","","",2012,""]
[false,"","","","","","","","","","","",2012,""]
[false,"","","","","","","","","","","",2012,""]
[false,"","","","","","","","","","","",2012,""]
[false,"","","","","","","","","","","",2012,""]
[false,"","","","","","","","","","","",2012,""]
[false,"","","","","","","","","","","",2012,""]
[false,"","","","","","","","","","","",2012,""]
[false,"","","","","","","","","","","",2012,""]
[false,"","","","","","","","","","","",2012,""]
[false,"","","","","","","","","","","",2012,""]
[false,"","","","","","","","","","","",2012,""]
[false,"","","","","","","","","","","",2012,""]
[false,"","","","","","","","","","","",2012,""]
[false,"","","","","","","","","","","",2012,""]
[false,"","","","","","","","","","","",2012,""]
[false,"","","","","","","","","","","",2012,""]
[false,"","","","","","","","","","","",2012,""]
[false,"","","","","","","","","","","",2012,""]
[false,"","","","","","","","","","","",2012,""]
[false,"","","","","","","","","","","",2012,""]
[false,"","","","","","","","","","","",2012,""]
[false,"","","","","","","","","","","",2012,""]
[false,"","","","","","","","","","","",2012,""]
[false,"","","","","","","","","","","",2012,""]
[false,"","","","","","","","","","","",2012,""]
[false,"","","","","","","","","","","",2012,""]
[false,"","","","","","","","","","","",2012,""]
[false,"","","","","","","","","","","",2012,""]
[false,"","","","","","","","","","","",2012,""]
[false,"","","","","","","","","","","",2012,""]
[false,"","","","","","","","","","","",2012,""]
[false,"","","","","","","","","","","",2012,""]
[false,"","","","","","","","","","","",2012,""]
[false,"","","","","","","","","","","",2012,""]
[false,"","","","","","","","","","","",2012,""]
[false,"","","","","","","","","","","",2012,""]
[false,"","","","","","","","","","","",2012,""]
[false,"","","","","","","","","","","",2012,""]
[false,"","","","","","","","","","","",2012,""]
[false,"","","","","","","","","","","",2012,""]
[false,"","","","","","","","","","","",2012,""]
[false,"","","","","","","","","","","",2012,""]
[false,"","","","","","","","","","","",2012,""]
[false,"","","","","","","","","","","",2012,""]
[false,"","","","","","","","","","","",2012,""]
[false,"","","","","","","","","","","",2012,""]
[false,"","","","","","","","","","","",2012,""]
[false,"","","","","","","","","","","",2012,""]
[false,"","","","","","","","","","","",2012,""]
[false,"","","","","","","","","","","",2012,""]
[false,"","","","","","","","","","","",2012,""]
[false,"","","","","","","","","","","",2012,""]
[false,"","","","","","","","","","","",2012,""]
[false,"","","","","","","","","","","",2012,""]
[false,"","","","","","","","","","","",2012,""]
[false,"","","","","","","","","","","",2012,""]
[false,"","","","","","","","","","","",2012,""]
[false,"","","","","","","","","","","",2012,""]
[false,"","","","","","","","","","","",2012,""]
[false,"","","","","","","","","","","",2012,""]
[false,"","","","","","","","","","","",2012,""]
[false,"","","","","","","","","","","",2012,""]
[false,"","","","","","","","","","","",2012,""]
[false,"","","","","","","","","","","",2012,""]
[false,"","","","","","","","","","","",2012,""]
[false,"","","","","","","","","","","",2012,""]
[false,"","","","","","","","","","","",2012,""]
[false,"","","","","","","","","","","",2012,""]
[false,"","","","","","","","","","","",2012,""]
[false,"","","","","","","","","","","",2012,""]
[false,"","","","","","","","","","","",2012,""]
[false,"","","","","","","","","","","",2012,""]
[false,"","","","","","","","","","","",2012,""]
[false,"","","","","","","","","","","",2012,""]
[false,"","","","","","","","","","","",2012,""]
[false,"","","","","","","","","","","",2012,""]
[false,"","","","","","","","","","","",2012,""]
[false,"","","","","","","","","","","",2012,""]
[false,"","","","","","","","","","","",2012,""]
[false,"","","","","","","","","","","",2012,""]
[false,"","","","","","","","","","","",2012,""]
[false,"","","","","","","","","","","",2012,""]
[false,"","","","","","","","","","","",2012,""]
[false,"","","","","","","","","","","",2012,""]
[false,"","","","","","","","","","","",2012,""]
[false,"","","","","","","","","","","",2012,""]
[false,"","","","","","","","","","","",2012,""]
[false,"","","","","","","","","","","",2012,""]
[false,"","","","","","","","","","","",2012,""]
[false,"","","","","","","","","","","",2012,""]
[false,"","","","","","","","","","","",2012,""]
[false,"","","","","","","","","","","",2012,""]
[false,"","","","","","","","","","","",2012,""]
[false,"","","","","","","","","","","",2012,""]
[false,"","","","","","","","","","","",2012,""]
[false,"","","","","","","","","","","",2012,""]
[false,"","","","","","","","","","","",2012,""]
[false,"","","","","","","","","","","",2012,""]
[false,"","","","","","","","","","","",2012,""]
[false,"","","","","","","","","","","",2012,""]
[false,"","","","","","","","","","","",2012,""]
[false,"","","","","","","","","","","",2012,""]
[false,"","","","","","","","","","","",2012,""]
[false,"","","","","","","","","","","",2012,""]
[false,"","","","","","","","","","","",2012,""]
[false,"","","","","","","","","","","",2012,""]
[false,"","","","","","","","","","","",2012,""]
[false,"","","","","","","","","","","",2012,""]
[false,"","","","","","","","","","","",2012,""]
[false,"","","","","","","","","","","",2012,""]
[false,"","","","","","","","","","","",2012,""]
[false,"","","","","","","","","","","",2012,""]
[false,"","","","","","","","","","","",2012,""]
[false,"","","","","","","","","","","",2012,""]
[false,"","","","","","","","","","","",2012,""]
[false,"","","","","","","","","","","",2012,""]
[false,"","","","","","","","","","","",2012,""]
[false,"","","","","","","","","","","",2012,""]
[false,"","","","","","","","","","","",2012,""]
[false,"","","","","","","","","","","",2012,""]
[false,"","","","","","","","","","","",2012,""]
[false,"","","","","","","","","","","",2012,""]
[false,"","","","","","","","","","","",2012,""]
[false,"","","","","","","","","","","",2012,""]
[false,"","","","","","","","","","","",2012,""]
[false,"","","","","","","","","","","",2012,""]
[false,"","","","","","","","","","","",2012,""]
[false,"","","","","","","","","","","",2012,""]
[false,"","","","","","","","","","","",2012,""]
[false,"","","","","","","","","","","",2012,""]
[false,"","","","","","","","","","","",2012,""]
[false,"","","","","","","","","","","",2012,""]
[false,"","","","","","","","","","","",2012,""]
[false,"","","","","","","","","","","",2012,""]
[false,"","","","","","","","","","","",2012,""]
[false,"","","","","","","","","","","",2012,""]
[false,"","","","","","","","","","","",2012,""]
[false,"","","","","","","","","","","",2012,""]
[false,"","","","","","","","","","","",2012,""]
[false,"","","","","","","","","","","",2012,""]
[false,"","","","","","","","","","","",2012,""]
[false,"","","","","","","","","","","",2012,""]
[false,"","","","","","","","","","","",2012,""]
[false,"","","","","","","","","","","",2012,""]
[false,"","","","","","","","","","","",2012,""]
[false,"","","","","","","","","","","",2012,""]
[false,"","","","","","","","","","","",2012,""]
[false,"","","","","","","","","","","",2012,""]
[false,"","","","","","","","","","","",2012,""]
[false,"","","","","","","","","","","",2012,""]
[false,"","","","","","","","","","","",2012,""]
[false,"","","","","","","","","","","",2012,""]
[false,"","","","","","","","","","","",2012,""]
[false,"","","","","","","","","","","",2012,""]
[false,"","","","","","","","","","","",2012,""]
[false,"","","","","","","","","","","",2012,""]
[false,"","","","","","","","","","","",2012,""]
[false,"","","","","","","","","","","",2012,""]
[false,"","","","","","","","","","","",2012,""]
[false,"","","","","","","","","","","",2012,""]
[false,"","","","","","","","","","","",2012,""]
[false,"","","","","","","","","","","",2012,""]
[false,"","","","","","","","","","","",2012,""]
[false,"","","","","","","","","","","",2012,""]
[false,"","","","","","","","","","","",2012,""]
[false,"","","","","","","","","","","",2012,""]
[false,"","","","","","","","","","","",2012,""]
[false,"","","","","","","","","","","",2012,""]
[false,"","","","","","","","","","","",2012,""]
[false,"","","","","","","","","","","",2012,""]
[false,"","","","","","","","","","","",2012,""]
[false,"","","","","","","","","","","",2012,""]
[false,"","","","","","","","","","","",2012,""]
[false,"","","","","","","","","","","",2012,""]
[false,"","","","","","","","","","","",2012,""]
[false,"","","","","","","","","","","",2012,""]
[false,"","","","","","","","","","","",2012,""]
[false,"","","","","","","","","","","",2012,""]
[false,"","","","","","","","","","","",2012,""]
[false,"","","","","","","","","","","",2012,""]
[false,"","","","","","","","","","","",2012,""]
[false,"","","","","","","","","","","",2012,""]
[false,"","","","","","","","","","","",2012,""]
[false,"","","","","","","","","","","",2012,""]
[false,"","","","","","","","","","","",2012,""]
[false,"","","","","","","","","","","",2012,""]
[false,"","","","","","","","","","","",2012,""]
[false,"","","","","","","","","","","",2012,""]
[false,"","","","","","","","","","","",2012,""]
[false,"","","","","","","","","","","",2012,""]
[false,"","","","","","","","","","","",2012,""]
[false,"","","","","","","","","","","",2012,""]
[false,"","","","","","","","","","","",2012,""]
[false,"","","","","","","","","","","",2012,""]
[false,"","","","","","","","","","","",2012,""]
[false,"","","","","","","","","","","",2012,""]
[false,"","","","","","","","","","","",2012,""]
[false,"","","","","","","","","","","",2012,""]
[false,"","","","","","","","","","","",2012,""]
[false,"","","","","","","","","","","",2012,""]
[false,"","","","","","","","","","","",2012,""]
[false,"","","","","","","","","","","",2012,""]
[false,"","","","","","","","","","","",2012,""]
[false,"","","","","","","","","","","",2012,""]
[false,"","","","","","","","","","","",2012,""]
[false,"","","","","","","","","","","",2012,""]
[false,"","","","","","","","","","","",2012,""]
[false,"","","","","","","","","","","",2012,""]
[false,"","","","","","","","","","","",2012,""]
[false,"","","","","","","","","","","",2012,""]
[false,"","","","","","","","","","","",2012,""]
[false,"","","","","","","","","","","",2012,""]
[false,"","","","","","","","","","","",2012,""]
[false,"","","","","","","","","","","",2012,""]
[false,"","","","","","","","","","","",2012,""]
[false,"","","","","","","","","","","",2012,""]
[false,"","","","","","","","","","","",2012,""]
[false,"","","","","","","","","","","",2012,""]
[false,"","","","","","","","","","","",2012,""]
[false,"","","","","","","","","","","",2012,""]
[false,"","","","","","","","","","","",2012,""]
[false,"","","","","","","","","","","",2012,""]
[false,"","","","","","","","","","","",2012,""]
[false,"","","","","","","","","","","",2012,""]
[false,"","","","","","","","","","","",2012,""]
[false,"","","","","","","","","","","",2012,""]
[false,"","","","","","","","","","","",2012,""]
[false,"","","","","","","","","","","",2012,""]
[false,"","","","","","","","","","","",2012,""]
[false,"","","","","","","","","","","",2012,""]
[false,"","","","","","","","","","","",2012,""]
[false,"","","","","","","","","","","",2012,""]
[false,"","","","","","","","","","","",2012,""]
[false,"","","","","","","","","","","",2012,""]
[false,"","","","","","","","","","","",2012,""]
[false,"","","","","","","","","","","",2012,""]
[false,"","","","","","","","","","","",2012,""]
[false,"","","","","","","","","","","",2012,""]
[false,"","","","","","","","","","","",2012,""]
[false,"","","","","","","","","","","",2012,""]
[false,"","","","","","","","","","","",2012,""]
[false,"","","","","","","","","","","",2012,""]
[false,"","","","","","","","","","","",2012,""]
[false,"","","","","","","","","","","",2012,""]
[false,"","","","","","","","","","","",2012,""]
[false,"","","","","","","","","","","",2012,""]
[false,"","","","","","","","","","","",2012,""]
[false,"","","","","","","","","","","",2012,""]
[false,"","","","","","","","","","","",2012,""]
[false,"","","","","","","","","","","",2012,""]
[false,"","","","","","","","","","","",2012,""]
[false,"","","","","","","","","","","",2012,""]
[false,"","","","","","","","","","","",2012,""]
[false,"","","","","","","","","","","",2012,""]
[false,"","","","","","","","","","","",2012,""]
[false,"","","","","","","","","","","",2012,""]
[false,"","","","","","","","","","","",2012,""]
[false,"","","","","","","","","","","",2012,""]
[false,"","","","","","","","","","","",2012,""]
[false,"","","","","","","","","","","",2012,""]
[false,"","","","","","","","","","","",2012,""]
[false,"","","","","","","","","","","",2012,""]
[false,"","","","","","","","","","","",2012,""]
[false,"","","","","","","","","","","",2012,""]
[false,"","","","","","","","","","","",2012,""]
[false,"","","","","","","","","","","",2012,""]
[false,"","","","","","","","","","","",2012,""]
[false,"","","","","","","","","","","",2012,""]
[false,"","","","","","","","","","","",2012,""]
[false,"","","","","","","","","","","",2012,""]
[false,"","","","","","","","","","","",2012,""]
[false,"","","","","","","","","","","",2012,""]
[false,"","","","","","","","","","","",2012,""]
[false,"","","","","","","","","","","",2012,""]
[false,"","","","","","","","","","","",2012,""]
[false,"","","","","","","","","","","",2012,""]
[false,"","","","","","","","","","","",2012,""]
[false,"","","","","","","","","","","",2012,""]
[false,"","","","","","","","","","","",2012,""]
[false,"","","","","","","","","","","",2012,""]
[false,"","","","","","","","","","","",2012,""]
[false,"","","","","","","","","","","",2012,""]
[false,"","","","","","","","","","","",2012,""]
[false,"","","","","","","","","","","",2012,""]
[false,"","","","","","","","","","","",2012,""]
[false,"","","","","","","","","","","",2012,""]
[false,"","","","","","","","","","","",2012,""]
[false,"","","","","","","","","","","",2012,""]
[false,"","","","","","","","","","","",2012,""]
[false,"","","","","","","","","","","",2012,""]
[false,"","","","","","","","","","","",2012,""]
[false,"","","","","","","","","","","",2012,""]
[false,"","","","","","","","","","","",2012,""]
[false,"","","","","","","","","","","",2012,""]
[false,"","","","","","","","","","","",2012,""]
[false,"","","","","","","","","","","",2012,""]
[false,"","","","","","","","","","","",2012,""]
[false,"","","","","","","","","","","",2012,""]
[false,"","","","","","","","","","","",2012,""]
[false,"","","","","","","","","","","",2012,""]
[false,"","","","","","","","","","","",2012,""]
[false,"","","","","","","","","","","",2012,""]
[false,"","","","","","","","","","","",2012,""]
[false,"","","","","","","","","","","",2012,""]
[false,"","","","","","","","","","","",2012,""]
[false,"","","","","","","","","","","",2012,""]
[false,"","","","","","","","","","","",2012,""]
[false,"","","","","","","","","","","",2012,""]
[false,"","","","","","","","","","","",2012,""]
[false,"","","","","","","","","","","",2012,""]
[false,"","","","","","","","","","","",2012,""]
[false,"","","","","","","","","","","",2012,""]
[false,"","","","","","","","","","","",2012,""]
[false,"","","","","","","","","","","",2012,""]
[false,"","","","","","","","","","","",2012,""]
[false,"","","","","","","","","","","",2012,""]
[false,"","","","","","","","","","","",2012,""]
[false,"","","","","","","","","","","",2012,""]
[false,"","","","","","","","","","","",2012,""]
[false,"","","","","","","","","","","",2012,""]
[false,"","","","","","","","","","","",2012,""]
[false,"","","","","","","","","","","",2012,""]
[false,"","","","","","","","","","","",2012,""]
[false,"","","","","","","","","","","",2012,""]
[false,"","","","","","","","","","","",2012,""]
[false,"","","","","","","","","","","",2012,""]
[false,"","","","","","","","","","","",2012,""]
[false,"","","","","","","","","","","",2012,""]
[false,"","","","","","","","","","","",2012,""]
[false,"","","","","","","","","","","",2012,""]
[false,"","","","","","","","","","","",2012,""]
[false,"","","","","","","","","","","",2012,""]
[false,"","","","","","","","","","","",2012,""]
[false,"","","","","","","","","","","",2012,""]
[false,"","","","","","","","","","","",2012,""]
[false,"","","","","","","","","","","",2012,""]
[false,"","","","","","","","","","","",2012,""]
[false,"","","","","","","","","","","",2012,""]
[false,"","","","","","","","","","","",2012,""]
[false,"","","","","","","","","","","",2012,""]
[false,"","","","","","","","","","","",2012,""]
[false,"","","","","","","","","","","",2012,""]
[false,"","","","","","","","","","","",2012,""]
[false,"","","","","","","","","","","",2012,""]
[false,"","","","","","","","","","","",2012,""]
[false,"","","","","","","","","","","",2012,""]
[false,"","","","","","","","","","","",2012,""]
[false,"","","","","","","","","","","",2012,""]
[false,"","","","","","","","","","","",2012,""]
[false,"","","","","","","","","","","",2012,""]
[false,"","","","","","","","","","","",2012,""]
[false,"","","","","","","","","","","",2012,""]
[false,"","","","","","","","","","","",2012,""]
[false,"","","","","","","","","","","",2012,""]
[false,"","","","","","","","","","","",2012,""]
[false,"","","","","","","","","","","",2012,""]
[false,"","","","","","","","","","","",2012,""]
[false,"","","","","","","","","","","",2012,""]
[false,"","","","","","","","","","","",2012,""]
[false,"","","","","","","","","","","",2012,""]
[false,"","","","","","","","","","","",2012,""]
[false,"","","","","","","","","","","",2012,""]
[false,"","","","","","","","","","","",2012,""]
[false,"","","","","","","","","","","",2012,""]
[false,"","","","","","","","","","","",2012,""]
[false,"","","","","","","","","","","",2012,""]
[false,"","","","","","","","","","","",2012,""]
[false,"","","","","","","","","","","",2012,""]
[false,"","","","","","","","","","","",2012,""]
[false,"","","","","","","","","","","",2012,""]
[false,"","","","","","","","","","","",2012,""]
[false,"","","","","","","","","","","",2012,""]
[false,"","","","","","","","","","","",2012,""]
[false,"","","","","","","","","","","",2012,""]
[false,"","","","","","","","","","","",2012,""]
[false,"","","","","","","","","","","",2012,""]
[false,"","","","","","","","","","","",2012,""]
[false,"","","","","","","","","","","",2012,""]
[false,"","","","","","","","","","","",2012,""]
[false,"","","","","","","","","","","",2012,""]
[false,"","","","","","","","","","","",2012,""]
[false,"","","","","","","","","","","",2012,""]
[false,"","","","","","","","","","","",2012,""]
[false,"","","","","","","","","","","",2012,""]
[false,"","","","","","","","","","","",2012,""]
[false,"","","","","","","","","","","",2012,""]
[false,"","","","","","","","","","","",2012,""]
[false,"","","","","","","","","","","",2012,""]
[false,"","","","","","","","","","","",2012,""]
[false,"","","","","","","","","","","",2012,""]
[false,"","","","","","","","","","","",2012,""]
[false,"","","","","","","","","","","",2012,""]
[false,"","","","","","","","","","","",2012,""]
[false,"","","","","","","","","","","",2012,""]
[false,"","","","","","","","","","","",2012,""]
[false,"","","","","","","","","","","",2012,""]
[false,"","","","","","","","","","","",2012,""]
[false,"","","","","","","","","","","",2012,""]
[false,"","","","","","","","","","","",2012,""]
[false,"","","","","","","","","","","",2012,""]
[false,"","","","","","","","","","","",2012,""]
[false,"","","","","","","","","","","",2012,""]
[false,"","","","","","","","","","","",2012,""]
[false,"","","","","","","","","","","",2012,""]
[false,"","","","","","","","","","","",2012,""]
[false,"","","","","","","","","","","",2012,""]
[false,"","","","","","","","","","","",2012,""]
[false,"","","","","","","","","","","",2012,""]
[false,"","","","","","","","","","","",2012,""]
[false,"","","","","","","","","","","",2012,""]
[false,"","","","","","","","","","","",2012,""]
[false,"","","","","","","","","","","",2012,""]
[false,"","","","","","","","","","","",2012,""]
[false,"","","","","","","","","","","",2012,""]
[false,"","","","","","","","","","","",2012,""]
[false,"","","","","","","","","","","",2012,""]
[false,"","","","","","","","","","","",2012,""]
[false,"","","","","","","","","","","",2012,""]
[false,"","","","","","","","","","","",2012,""]
[false,"","","","","","","","","","","",2012,""]
[false,"","","","","","","","","","","",2012,""]
[false,"","","","","","","","","","","",2012,""]
[false,"","","","","","","","","","","",2012,""]
[false,"","","","","","","","","","","",2012,""]
[false,"","","","","","","","","","","",2012,""]
[false,"","","","","","","","","","","",2012,""]
[false,"","","","","","","","","","","",2012,""]
[false,"","","","","","","","","","","",2012,""]
[false,"","","","","","","","","","","",2012,""]
[false,"","","","","","","","","","","",2012,""]
[false,"","","","","","","","","","","",2012,""]
[false,"","","","","","","","","","","",2012,""]
[false,"","","","","","","","","","","",2012,""]
[false,"","","","","","","","","","","",2012,""]
[false,"","","","","","","","","","","",2012,""]
[false,"","","","","","","","","","","",2012,""]
[false,"","","","","","","","","","","",2012,""]
[false,"","","","","","","","","","","",2012,""]
[false,"","","","","","","","","","","",2012,""]
[false,"","","","","","","","","","","",2012,""]
[false,"","","","","","","","","","","",2012,""]
[false,"","","","","","","","","","","",2012,""]
[false,"","","","","","","","","","","",2012,""]
[false,"","","","","","","","","","","",2012,""]
[false,"","","","","","","","","","","",2012,""]
[false,"","","","","","","","","","","",2012,""]
[false,"","","","","","","","","","","",2012,""]
[false,"","","","","","","","","","","",2012,""]
[false,"","","","","","","","","","","",2012,""]
[false,"","","","","","","","","","","",2012,""]
[false,"","","","","","","","","","","",2012,""]
[false,"","","","","","","","","","","",2012,""]
[false,"","","","","","","","","","","",2012,""]
[false,"","","","","","","","","","","",2012,""]
[false,"","","","","","","","","","","",2012,""]
[false,"","","","","","","","","","","",2012,""]
[false,"","","","","","","","","","","",2012,""]
[false,"","","","","","","","","","","",2012,""]
[false,"","","","","","","","","","","",2012,""]
[false,"","","","","","","","","","","",2012,""]
[false,"","","","","","","","","","","",2012,""]
[false,"","","","","","","","","","","",2012,""]
[false,"","","","","","","","","","","",2012,""]
[false,"","","","","","","","","","","",2012,""]
[false,"","","","","","","","","","","",2012,""]
[false,"","","","","","","","","","","",2012,""]
[false,"","","","","","","","","","","",2012,""]
[false,"","","","","","","","","","","",2012,""]
[false,"","","","","","","","","","","",2012,""]
[false,"","","","","","","","","","","",2012,""]
[false,"","","","","","","","","","","",2012,""]
[false,"","","","","","","","","","","",2012,""]
[false,"","","","","","","","","","","",2012,""]
[false,"","","","","","","","","","","",2012,""]
[false,"","","","","","","","","","","",2012,""]
[false,"","","","","","","","","","","",2012,""]
[false,"","","","","","","","","","","",2012,""]
[false,"","","","","","","","","","","",2012,""]
[false,"","","","","","","","","","","",2012,""]
[false,"","","","","","","","","","","",2012,""]
[false,"","","","","","","","","","","",2012,""]
[false,"","","","","","","","","","","",2012,""]
[false,"","","","","","","","","","","",2012,""]
[false,"","","","","","","","","","","",2012,""]
[false,"","","","","","","","","","","",2012,""]
[false,"","","","","","","","","","","",2012,""]
[false,"","","","","","","","","","","",2012,""]
[false,"","","","","","","","","","","",2012,""]
[false,"","","","","","","","","","","",2012,""]
[false,"","","","","","","","","","","",2012,""]
[false,"","","","","","","","","","","",2012,""]
[false,"","","","","","","","","","","",2012,""]
[false,"","","","","","","","","","","",2012,""]
[false,"","","","","","","","","","","",2012,""]
[false,"","","","","","","","","","","",2012,""]
[false,"","","","","","","","","","","",2012,""]
[false,"","","","","","","","","","","",2012,""]
[false,"","","","","","","","","","","",2012,""]
[false,"","","","","","","","","","","",2012,""]
[false,"","","","","","","","","","","",2012,""]
[false,"","","","","","","","","","","",2012,""]
[false,"","","","","","","","","","","",2012,""]
[false,"","","","","","","","","","","",2012,""]
[false,"","","","","","","","","","","",2012,""]
[false,"","","","","","","","","","","",2012,""]
[false,"","","","","","","","","","","",2012,""]
[false,"","","","","","","","","","","",2012,""]
[false,"","","","","","","","","","","",2012,""]
[false,"","","","","","","","","","","",2012,""]
[false,"","","","","","","","","","","",2012,""]
[false,"","","","","","","","","","","",2012,""]
[false,"","","","","","","","","","","",2012,""]
[false,"","","","","","","","","","","",2012,""]
[false,"","","","","","","","","","","",2012,""]
[false,"","","","","","","","","","","",2012,""]
[false,"","","","","","","","","","","",2012,""]
[false,"","","","","","","","","","","",2012,""]
[false,"","","","","","","","","","","",2012,""]
[false,"","","","","","","","","","","",2012,""]
[false,"","","","","","","","","","","",2012,""]
[false,"","","","","","","","","","","",2012,""]
[false,"","","","","","","","","","","",2012,""]
[false,"","","","","","","","","","","",2012,""]
[false,"","","","","","","","","","","",2012,""]
[false,"","","","","","","","","","","",2012,""]
[false,"","","","","","","","","","","",2012,""]
[false,"","","","","","","","","","","",2012,""]
[false,"","","","","","","","","","","",2012,""]
[false,"","","","","","","","","","","",2012,""]
[false,"","","","","","","","","","","",2012,""]
[false,"","","","","","","","","","","",2012,""]
[false,"","","","","","","","","","","",2012,""]
[false,"","","","","","","","","","","",2012,""]
[false,"","","","","","","","","","","",2012,""]
[false,"","","","","","","","","","","",2012,""]
[false,"","","","","","","","","","","",2012,""]
[false,"","","","","","","","","","","",2012,""]
[false,"","","","","","","","","","","",2012,""]
[false,"","","","","","","","","","","",2012,""]
[false,"","","","","","","","","","","",2012,""]
[false,"","","","","","","","","","","",2012,""]
[false,"","","","","","","","","","","",2012,""]
[false,"","","","","","","","","","","",2012,""]
[false,"","","","","","","","","","","",2012,""]
[false,"","","","","","","","","","","",2012,""]
[false,"","","","","","","","","","","",2012,""]
[false,"","","","","","","","","","","",2012,""]
[false,"","","","","","","","","","","",2012,""]
[false,"","","","","","","","","","","",2012,""]
[false,"","","","","","","","","","","",2012,""]
[false,"","","","","","","","","","","",2012,""]
[false,"","","","","","","","","","","",2012,""]
[false,"","","","","","","","","","","",2012,""]
[false,"","","","","","","","","","","",2012,""]
[false,"","","","","","","","","","","",2012,""]
[false,"","","","","","","","","","","",2012,""]
[false,"","","","","","","","","","","",2012,""]
[false,"","","","","","","","","","","",2012,""]
[false,"","","","","","","","","","","",2012,""]
[false,"","","","","","","","","","","",2012,""]
[false,"","","","","","","","","","","",2012,""]
[false,"","","","","","","","","","","",2012,""]
[false,"","","","","","","","","","","",2012,""]
[false,"","","","","","","","","","","",2012,""]
[false,"","","","","","","","","","","",2012,""]
[false,"","","","","","","","","","","",2012,""]
[false,"","","","","","","","","","","",2012,""]
[false,"","","","","","","","","","","",2012,""]
[false,"","","","","","","","","","","",2012,""]
[false,"","","","","","","","","","","",2012,""]
[false,"","","","","","","","","","","",2012,""]
[false,"","","","","","","","","","","",2012,""]
[false,"","","","","","","","","","","",2012,""]
[false,"","","","","","","","","","","",2012,""]
[false,"","","","","","","","","","","",2012,""]
[false,"","","","","","","","","","","",2012,""]
[false,"","","","","","","","","","","",2012,""]
[false,"","","","","","","","","","","",2012,""]
[false,"","","","","","","","","","","",2012,""]
[false,"","","","","","","","","","","",2012,""]
[false,"","","","","","","","","","","",2012,""]
[false,"","","","","","","","","","","",2012,""]
[false,"","","","","","","","","","","",2012,""]
[false,"","","","","","","","","","","",2012,""]
[false,"","","","","","","","","","","",2012,""]
[false,"","","","","","","","","","","",2012,""]
[false,"","","","","","","","","","","",2012,""]
[false,"","","","","","","","","","","",2012,""]
[false,"","","","","","","","","","","",2012,""]
[false,"","","","","","","","","","","",2012,""]
[false,"","","","","","","","","","","",2012,""]
[false,"","","","","","","","","","","",2012,""]
[false,"","","","","","","","","","","",2012,""]
[false,"","","","","","","","","","","",2012,""]
[false,"","","","","","","","","","","",2012,""]
[false,"","","","","","","","","","","",2012,""]
[false,"","","","","","","","","","","",2012,""]
[false,"","","","","","","","","","","",2012,""]
[false,"","","","","","","","","","","",2012,""]
[false,"","","","","","","","","","","",2012,""]
[false,"","","","","","","","","","","",2012,""]
[false,"","","","","","","","","","","",2012,""]
[false,"","","","","","","","","","","",2012,""]
[false,"","","","","","","","","","","",2012,""]
[false,"","","","","","","","","","","",2012,""]
[false,"","","","","","","","","","","",2012,""]
[false,"","","","","","","","","","","",2012,""]
[false,"","","","","","","","","","","",2012,""]
[false,"","","","","","","","","","","",2012,""]
[false,"","","","","","","","","","","",2012,""]
[false,"","","","","","","","","","","",2012,""]
[false,"","","","","","","","","","","",2012,""]
[false,"","","","","","","","","","","",2012,""]
[false,"","","","","","","","","","","",2012,""]
[false,"","","","","","","","","","","",2012,""]
[false,"","","","","","","","","","","",2012,""]
[false,"","","","","","","","","","","",2012,""]
[false,"","","","","","","","","","","",2012,""]
[false,"","","","","","","","","","","",2012,""]
[false,"","","","","","","","","","","",2012,""]
[false,"","","","","","","","","","","",2012,""]
[false,"","","","","","","","","","","",2012,""]
[false,"","","","","","","","","","","",2012,""]
[false,"","","","","","","","","","","",2012,""]
[false,"","","","","","","","","","","",2012,""]
[false,"","","","","","","","","","","",2012,""]
[false,"","","","","","","","","","","",2012,""]
[false,"","","","","","","","","","","",2012,""]
[false,"","","","","","","","","","","",2012,""]
[false,"","","","","","","","","","","",2012,""]
[false,"","","","","","","","","","","",2012,""]
[false,"","","","","","","","","","","",2012,""]
[false,"","","","","","","","","","","",2012,""]
[false,"","","","","","","","","","","",2012,""]
[false,"","","","","","","","","","","",2012,""]
[false,"","","","","","","","","","","",2012,""]
[false,"","","","","","","","","","","",2012,""]
[false,"","","","","","","","","","","",2012,""]
[false,"","","","","","","","","","","",2012,""]
[false,"","","","","","","","","","","",2012,""]
[false,"","","","","","","","","","","",2012,""]
[false,"","","","","","","","","","","",2012,""]
[false,"","","","","","","","","","","",2012,""]
[false,"","","","","","","","","","","",2012,""]
[false,"","","","","","","","","","","",2012,""]
[false,"","","","","","","","","","","",2012,""]
[false,"","","","","","","","","","","",2012,""]
[false,"","","","","","","","","","","",2012,""]
[false,"","","","","","","","","","","",2012,""]
[false,"","","","","","","","","","","",2012,""]
[false,"","","","","","","","","","","",2012,""]
[false,"","","","","","","","","","","",2012,""]
[false,"","","","","","","","","","","",2012,""]
[false,"","","","","","","","","","","",2012,""]
[false,"","","","","","","","","","","",2012,""]
[false,"","","","","","","","","","","",2012,""]
[false,"","","","","","","","","","","",2012,""]
[false,"","","","","","","","","","","",2012,""]
[false,"","","","","","","","","","","",2012,""]
[false,"","","","","","","","","","","",2012,""]
[false,"","","","","","","","","","","",2012,""]
[false,"","","","","","","","","","","",2012,""]
[false,"","","","","","","","","","","",2012,""]
[false,"","","","","","","","","","","",2012,""]
[false,"","","","","","","","","","","",2012,""]
[false,"","","","","","","","","","","",2012,""]
[false,"","","","","","","","","","","",2012,""]
[false,"","","","","","","","","","","",2012,""]
[false,"","","","","","","","","","","",2012,""]
[false,"","","","","","","","","","","",2012,""]
[false,"","","","","","","","","","","",2012,""]
[false,"","","","","","","","","","","",2012,""]
[false,"","","","","","","","","","","",2012,""]
[false,"","","","","","","","","","","",2012,""]
[false,"","","","","","","","","","","",2012,""]
[false,"","","","","","","","","","","",2012,""]
[false,"","","","","","","","","","","",2012,""]
[false,"","","","","","","","","","","",2012,""]
[false,"","","","","","","","","","","",2012,""]
[false,"","","","","","","","","","","",2012,""]
[false,"","","","","","","","","","","",2012,""]
[false,"","","","","","","","","","","",2012,""]
[false,"","","","","","","","","","","",2012,""]
[false,"","","","","","","","","","","",2012,""]
[false,"","","","","","","","","","","",2012,""]
[false,"","","","","","","","","","","",2012,""]
[false,"","","","","","","","","","","",2012,""]
[false,"","","","","","","","","","","",2012,""]
[false,"","","","","","","","","","","",2012,""]
[false,"","","","","","","","","","","",2012,""]
[false,"","","","","","","","","","","",2012,""]
[false,"","","","","","","","","","","",2012,""]
[false,"","","","","","","","","","","",2012,""]
[false,"","","","","","","","","","","",2012,""]
[false,"","","","","","","","","","","",2012,""]
[false,"","","","","","","","","","","",2012,""]
[false,"","","","","","","","","","","",2012,""]
[false,"","","","","","","","","","","",2012,""]
[false,"","","","","","","","","","","",2012,""]
[false,"","","","","","","","","","","",2012,""]
[false,"","","","","","","","","","","",2012,""]
[false,"","","","","","","","","","","",2012,""]
[false,"","","","","","","","","","","",2012,""]
[false,"","","","","","","","","","","",2012,""]
[false,"","","","","","","","","","","",2012,""]
[false,"","","","","","","","","","","",2012,""]
[false,"","","","","","","","","","","",2012,""]
[false,"","","","","","","","","","","",2012,""]
[false,"","","","","","","","","","","",2012,""]
[false,"","","","","","","","","","","",2012,""]
[false,"","","","","","","","","","","",2012,""]
[false,"","","","","","","","","","","",2012,""]
[false,"","","","","","","","","","","",2012,""]
[false,"","","","","","","","","","","",2012,""]
[false,"","","","","","","","","","","",2012,""]
[false,"","","","","","","","","","","",2012,""]
[false,"","","","","","","","","","","",2012,""]
[false,"","","","","","","","","","","",2012,""]
[false,"","","","","","","","","","","",2012,""]
[false,"","","","","","","","","","","",2012,""]
[false,"","","","","","","","","","","",2012,""]
[false,"","","","","","","","","","","",2012,""]
[false,"","","","","","","","","","","",2012,""]
[false,"","","","","","","","","","","",2012,""]
[false,"","","","","","","","","","","",2012,""]
[false,"","","","","","","","","","","",2012,""]
[false,"","","","","","","","","","","",2012,""]
[false,"","","","","","","","","","","",2012,""]
[false,"","","","","","","","","","","",2012,""]
[false,"","","","","","","","","","","",2012,""]
[false,"","","","","","","","","","","",2012,""]
[false,"","","","","","","","","","","",2012,""]
[false,"","","","","","","","","","","",2012,""]
[false,"","","","","","","","","","","",2012,""]
[false,"","","","","","","","","","","",2012,""]
[false,"","","","","","","","","","","",2012,""]
[false,"","","","","","","","","","","",2012,""]
[false,"","","","","","","","","","","",2012,""]
[false,"","","","","","","","","","","",2012,""]
[false,"","","","","","","","","","","",2012,""]
[false,"","","","","","","","","","","",2012,""]
[false,"","","","","","","","","","","",2012,""]
[false,"","","","","","","","","","","",2012,""]
[false,"","","","","","","","","","","",2012,""]
[false,"","","","","","","","","","","",2012,""]
[false,"","","","","","","","","","","",2012,""]
[false,"","","","","","","","","","","",2012,""]
[false,"","","","","","","","","","","",2012,""]
[false,"","","","","","","","","","","",2012,""]
[false,"","","","","","","","","","","",2012,""]
[false,"","","","","","","","","","","",2012,""]
[false,"","","","","","","","","","","",2012,""]
[false,"","","","","","","","","","","",2012,""]
[false,"","","","","","","","","","","",2012,""]
[false,"","","","","","","","","","","",2012,""]
[false,"","","","","","","","","","","",2012,""]
[false,"","","","","","","","","","","",2012,""]
[false,"","","","","","","","","","","",2012,""]
[false,"","","","","","","","","","","",2012,""]
[false,"","","","","","","","","","","",2012,""]
[false,"","","","","","","","","","","",2012,""]
[false,"","","","","","","","","","","",2012,""]
[false,"","","","","","","","","","","",2012,""]
[false,"","","","","","","","","","","",2012,""]
[false,"","","","","","","","","","","",2012,""]
[false,"","","","","","","","","","","",2012,""]
[false,"","","","","","","","","","","",2012,""]
[false,"","","","","","","","","","","",2012,""]
[false,"","","","","","","","","","","",2012,""]
[false,"","","","","","","","","","","",2012,""]
[false,"","","","","","","","","","","",2012,""]
[false,"","","","","","","","","","","",2012,""]
[false,"","","","","","","","","","","",2012,""]
[false,"","","","","","","","","","","",2012,""]
[false,"","","","","","","","","","","",2012,""]
[false,"","","","","","","","","","","",2012,""]
[false,"","","","","","","","","","","",2012,""]
[false,"","","","","","","","","","","",2012,""]
[false,"","","","","","","","","","","",2012,""]
[false,"","","","","","","","","","","",2012,""]
[false,"","","","","","","","","","","",2012,""]
[false,"","","","","","","","","","","",2012,""]
[false,"","","","","","","","","","","",2012,""]
[false,"","","","","","","","","","","",2012,""]
[false,"","","","","","","","","","","",2012,""]
[false,"","","","","","","","","","","",2012,""]
[false,"","","","","","","","","","","",2012,""]
[false,"","","","","","","","","","","",2012,""]
[false,"","","","","","","","","","","",2012,""]
[false,"","","","","","","","","","","",2012,""]
[false,"","","","","","","","","","","",2012,""]
[false,"","","","","","","","","","","",2012,""]
[false,"","","","","","","","","","","",2012,""]
[false,"","","","","","","","","","","",2012,""]
[false,"","","","","","","","","","","",2012,""]
[false,"","","","","","","","","","","",2012,""]
[false,"","","","","","","","","","","",2012,""]
[false,"","","","","","","","","","","",2012,""]
[false,"","","","","","","","","","","",2012,""]
[false,"","","","","","","","","","","",2012,""]
[false,"","","","","","","","","","","",2012,""]
[false,"","","","","","","","","","","",2012,""]
[false,"","","","","","","","","","","",2012,""]
[false,"","","","","","","","","","","",2012,""]
[false,"","","","","","","","","","","",2012,""]
[false,"","","","","","","","","","","",2012,""]
[false,"","","","","","","","","","","",2012,""]
[false,"","","","","","","","","","","",2012,""]
[false,"","","","","","","","","","","",2012,""]
[false,"","","","","","","","","","","",2012,""]
[false,"","","","","","","","","","","",2012,""]
[false,"","","","","","","","","","","",2012,""]
[false,"","","","","","","","","","","",2012,""]
[false,"","","","","","","","","","","",2012,""]
[false,"","","","","","","","","","","",2012,""]
[false,"","","","","","","","","","","",2012,""]
[false,"","","","","","","","","","","",2012,""]
[false,"","","","","","","","","","","",2012,""]
[false,"","","","","","","","","","","",2012,""]
[false,"","","","","","","","","","","",2012,""]
[false,"","","","","","","","","","","",2012,""]
[false,"","","","","","","","","","","",2012,""]
[false,"","","","","","","","","","","",2012,""]
[false,"","","","","","","","","","","",2012,""]
[false,"","","","","","","","","","","",2012,""]
[false,"","","","","","","","","","","",2012,""]
[false,"","","","","","","","","","","",2012,""]
[false,"","","","","","","","","","","",2012,""]
[false,"","","","","","","","","","","",2012,""]
[false,"","","","","","","","","","","",2012,""]
[false,"","","","","","","","","","","",2012,""]
[false,"","","","","","","","","","","",2012,""]
[false,"","","","","","","","","","","",2012,""]
[false,"","","","","","","","","","","",2012,""]
[false,"","","","","","","","","","","",2012,""]
[false,"","","","","","","","","","","",2012,""]
[false,"","","","","","","","","","","",2012,""]
[false,"","","","","","","","","","","",2012,""]
[false,"","","","","","","","","","","",2012,""]
[false,"","","","","","","","","","","",2012,""]
[false,"","","","","","","","","","","",2012,""]
[false,"","","","","","","","","","","",2012,""]
[false,"","","","","","","","","","","",2012,""]
[false,"","","","","","","","","","","",2012,""]
[false,"","","","","","","","","","","",2012,""]
[false,"","","","","","","","","","","",2012,""]
[false,"","","","","","","","","","","",2012,""]
[false,"","","","","","","","","","","",2012,""]
[false,"","","","","","","","","","","",2012,""]
[false,"","","","","","","","","","","",2012,""]
[false,"","","","","","","","","","","",2012,""]
[false,"","","","","","","","","","","",2012,""]
[false,"","","","","","","","","","","",2012,""]
[false,"","","","","","","","","","","",2012,""]
[false,"","","","","","","","","","","",2012,""]
[false,"","","","","","","","","","","",2012,""]
[false,"","","","","","","","","","","",2012,""]
[false,"","","","","","","","","","","",2012,""]
[false,"","","","","","","","","","","",2012,""]
[false,"","","","","","","","","","","",2012,""]
[false,"","","","","","","","","","","",2012,""]
[false,"","","","","","","","","","","",2012,""]
[false,"","","","","","","","","","","",2012,""]
[false,"","","","","","","","","","","",2012,""]
[false,"","","","","","","","","","","",2012,""]
[false,"","","","","","","","","","","",2012,""]
[false,"","","","","","","","","","","",2012,""]
[false,"","","","","","","","","","","",2012,""]
[false,"","","","","","","","","","","",2012,""]
[false,"","","","","","","","","","","",2012,""]
[false,"","","","","","","","","","","",2012,""]
[false,"","","","","","","","","","","",2012,""]
[false,"","","","","","","","","","","",2012,""]
[false,"","","","","","","","","","","",2012,""]
[false,"","","","","","","","","","","",2012,""]
[false,"","","","","","","","","","","",2012,""]
[false,"","","","","","","","","","","",2012,""]
[false,"","","","","","","","","","","",2012,""]
[false,"","","","","","","","","","","",2012,""]
[false,"","","","","","","","","","","",2012,""]
[false,"","","","","","","","","","","",2012,""]
[false,"","","","","","","","","","","",2012,""]
[false,"","","","","","","","","","","",2012,""]
[false,"","","","","","","","","","","",2012,""]
[false,"","","","","","","","","","","",2012,""]
[false,"","","","","","","","","","","",2012,""]
[false,"","","","","","","","","","","",2012,""]
[false,"","","","","","","","","","","",2012,""]
[false,"","","","","","","","","","","",2012,""]
[false,"","","","","","","","","","","",2012,""]
[false,"","","","","","","","","","","",2012,""]
[false,"","","","","","","","","","","",2012,""]
[false,"","","","","","","","","","","",2012,""]
[false,"","","","","","","","","","","",2012,""]
[false,"","","","","","","","","","","",2012,""]
[false,"","","","","","","","","","","",2012,""]
[false,"","","","","","","","","","","",2012,""]
[false,"","","","","","","","","","","",2012,""]
[false,"","","","","","","","","","","",2012,""]
[false,"","","","","","","","","","","",2012,""]
[false,"","","","","","","","","","","",2012,""]
[false,"","","","","","","","","","","",2012,""]
[false,"","","","","","","","","","","",2012,""]
[false,"","","","","","","","","","","",2012,""]
[false,"","","","","","","","","","","",2012,""]
[false,"","","","","","","","","","","",2012,""]
[false,"","","","","","","","","","","",2012,""]
[false,"","","","","","","","","","","",2012,""]
[false,"","","","","","","","","","","",2012,""]
[false,"","","","","","","","","","","",2012,""]
[false,"","","","","","","","","","","",2012,""]
[false,"","","","","","","","","","","",2012,""]
[false,"","","","","","","","","","","",2012,""]
[false,"","","","","","","","","","","",2012,""]
[false,"","","","","","","","","","","",2012,""]
[false,"","","","","","","","","","","",2012,""]
[false,"","","","","","","","","","","",2012,""]
[false,"","","","","","","","","","","",2012,""]
[false,"","","","","","","","","","","",2012,""]
[false,"","","","","","","","","","","",2012,""]
[false,"","","","","","","","","","","",2012,""]
[false,"","","","","","","","","","","",2012,""]
[false,"","","","","","","","","","","",2012,""]
[false,"","","","","","","","","","","",2012,""]
[false,"","","","","","","","","","","",2012,""]
[false,"","","","","","","","","","","",2012,""]
[false,"","","","","","","","","","","",2012,""]
[false,"","","","","","","","","","","",2012,""]
[false,"","","","","","","","","","","",2012,""]
[false,"","","","","","","","","","","",2012,""]
[false,"","","","","","","","","","","",2012,""]
[false,"","","","","","","","","","","",2012,""]
[false,"","","","","","","","","","","",2012,""]
[false,"","","","","","","","","","","",2012,""]
[false,"","","","","","","","","","","",2012,""]
[false,"","","","","","","","","","","",2012,""]
[false,"","","","","","","","","","","",2012,""]
[false,"","","","","","","","","","","",2012,""]
[false,"","","","","","","","","","","",2012,""]
[false,"","","","","","","","","","","",2012,""]
[false,"","","","","","","","","","","",2012,""]
[false,"","","","","","","","","","","",2012,""]
[false,"","","","","","","","","","","",2012,""]
[false,"","","","","","","","","","","",2012,""]
[false,"","","","","","","","","","","",2012,""]
[false,"","","","","","","","","","","",2012,""]
[false,"","","","","","","","","","","",2012,""]
[false,"","","","","","","","","","","",2012,""]
[false,"","","","","","","","","","","",2012,""]
[false,"","","","","","","","","","","",2012,""]
[false,"","","","","","","","","","","",2012,""]
[false,"","","","","","","","","","","",2012,""]
[false,"","","","","","","","","","","",2012,""]
[false,"","","","","","","","","","","",2012,""]
[false,"","","","","","","","","","","",2012,""]
[false,"","","","","","","","","","","",2012,""]
[false,"","","","","","","","","","","",2012,""]
[false,"","","","","","","","","","","",2012,""]
[false,"","","","","","","","","","","",2012,""]
[false,"","","","","","","","","","","",2012,""]
[false,"","","","","","","","","","","",2012,""]
[false,"","","","","","","","","","","",2012,""]
[false,"","","","","","","","","","","",2012,""]
[false,"","","","","","","","","","","",2012,""]
[false,"","","","","","","","","","","",2012,""]
[false,"","","","","","","","","","","",2012,""]
[false,"","","","","","","","","","","",2012,""]
[false,"","","","","","","","","","","",2012,""]
[false,"","","","","","","","","","","",2012,""]
[false,"","","","","","","","","","","",2012,""]
[false,"","","","","","","","","","","",2012,""]
[false,"","","","","","","","","","","",2012,""]
[false,"","","","","","","","","","","",2012,""]
[false,"","","","","","","","","","","",2012,""]
[false,"","","","","","","","","","","",2012,""]
[false,"","","","","","","","","","","",2012,""]
[false,"","","","","","","","","","","",2012,""]
[false,"","","","","","","","","","","",2012,""]
[false,"","","","","","","","","","","",2012,""]
[false,"","","","","","","","","","","",2012,""]
[false,"","","","","","","","","","","",2012,""]
[false,"","","","","","","","","","","",2012,""]
[false,"","","","","","","","","","","",2012,""]
[false,"","","","","","","","","","","",2012,""]
[false,"","","","","","","","","","","",2012,""]
[false,"","","","","","","","","","","",2012,""]
[false,"","","","","","","","","","","",2012,""]
[false,"","","","","","","","","","","",2012,""]
[false,"","","","","","","","","","","",2012,""]
[false,"","","","","","","","","","","",2012,""]
[false,"","","","","","","","","","","",2012,""]
[false,"","","","","","","","","","","",2012,""]
[false,"","","","","","","","","","","",2012,""]
[false,"","","","","","","","","","","",2012,""]
[false,"","","","","","","","","","","",2012,""]
[false,"","","","","","","","","","","",2012,""]
[false,"","","","","","","","","","","",2012,""]
[false,"","","","","","","","","","","",2012,""]
[false,"","","","","","","","","","","",2012,""]
[false,"","","","","","","","","","","",2012,""]
[false,"","","","","","","","","","","",2012,""]
[false,"","","","","","","","","","","",2012,""]
[false,"","","","","","","","","","","",2012,""]
[false,"","","","","","","","","","","",2012,""]
[false,"","","","","","","","","","","",2012,""]
[false,"","","","","","","","","","","",2012,""]
[false,"","","","","","","","","","","",2012,""]
[false,"","","","","","","","","","","",2012,""]
[false,"","","","","","","","","","","",2012,""]
[false,"","","","","","","","","","","",2012,""]
[false,"","","","","","","","","","","",2012,""]
[false,"","","","","","","","","","","",2012,""]
[false,"","","","","","","","","","","",2012,""]
[false,"","","","","","","","","","","",2012,""]
[false,"","","","","","","","","","","",2012,""]
[false,"","","","","","","","","","","",2012,""]
[false,"","","","","","","","","","","",2012,""]
[false,"","","","","","","","","","","",2012,""]
[false,"","","","","","","","","","","",2012,""]
[false,"","","","","","","","","","","",2012,""]
[false,"","","","","","","","","","","",2012,""]
[false,"","","","","","","","","","","",2012,""]
[false,"","","","","","","","","","","",2012,""]
[false,"","","","","","","","","","","",2012,""]
[false,"","","","","","","","","","","",2012,""]
[false,"","","","","","","","","","","",2012,""]
[false,"","","","","","","","","","","",2012,""]
[false,"","","","","","","","","","","",2012,""]
[false,"","","","","","","","","","","",2012,""]
[false,"","","","","","","","","","","",2012,""]
[false,"","","","","","","","","","","",2012,""]
[false,"","","","","","","","","","","",2012,""]
[false,"","","","","","","","","","","",2012,""]
[false,"","","","","","","","","","","",2012,""]
[false,"","","","","","","","","","","",2012,""]
[false,"","","","","","","","","","","",2012,""]
[false,"","","","","","","","","","","",2012,""]
[false,"","","","","","","","","","","",2012,""]
[false,"","","","","","","","","","","",2012,""]
[false,"","","","","","","","","","","",2012,""]
[false,"","","","","","","","","","","",2012,""]
[false,"","","","","","","","","","","",2012,""]
[false,"","","","","","","","","","","",2012,""]
[false,"","","","","","","","","","","",2012,""]
[false,"","","","","","","","","","","",2012,""]
[false,"","","","","","","","","","","",2012,""]
[false,"","","","","","","","","","","",2012,""]
[false,"","","","","","","","","","","",2012,""]
[false,"","","","","","","","","","","",2012,""]
[false,"","","","","","","","","","","",2012,""]
[false,"","","","","","","","","","","",2012,""]
[false,"","","","","","","","","","","",2012,""]
[false,"","","","","","","","","","","",2012,""]
[false,"","","","","","","","","","","",2012,""]
[false,"","","","","","","","","","","",2012,""]
[false,"","","","","","","","","","","",2012,""]
[false,"","","","","","","","","","","",2012,""]
[false,"","","","","","","","","","","",2012,""]
[false,"","","","","","","","","","","",2012,""]
[false,"","","","","","","","","","","",2012,""]
[false,"","","","","","","","","","","",2012,""]
[false,"","","","","","","","","","","",2012,""]
[false,"","","","","","","","","","","",2012,""]
[false,"","","","","","","","","","","",2012,""]
[false,"","","","","","","","","","","",2012,""]
[false,"","","","","","","","","","","",2012,""]
[false,"","","","","","","","","","","",2012,""]
[false,"","","","","","","","","","","",2012,""]
[false,"","","","","","","","","","","",2012,""]
[false,"","","","","","","","","","","",2012,""]
[false,"","","","","","","","","","","",2012,""]
[false,"","","","","","","","","","","",2012,""]
[false,"","","","","","","","","","","",2012,""]
[false,"","","","","","","","","","","",2012,""]
[false,"","","","","","","","","","","",2012,""]
[false,"","","","","","","","","","","",2012,""]
[false,"","","","","","","","","","","",2012,""]
[false,"","","","","","","","","","","",2012,""]
[false,"","","","","","","","","","","",2012,""]
[false,"","","","","","","","","","","",2012,""]
[false,"","","","","","","","","","","",2012,""]
[false,"","","","","","","","","","","",2012,""]
[false,"","","","","","","","","","","",2012,""]
[false,"","","","","","","","","","","",2012,""]
[false,"","","","","","","","","","","",2012,""]
[false,"","","","","","","","","","","",2012,""]
[false,"","","","","","","","","","","",2012,""]
[false,"","","","","","","","","","","",2012,""]
[false,"","","","","","","","","","","",2012,""]
[false,"","","","","","","","","","","",2012,""]
[false,"","","","","","","","","","","",2012,""]
[false,"","","","","","","","","","","",2012,""]
[false,"","","","","","","","","","","",2012,""]
[false,"","","","","","","","","","","",2012,""]
[false,"","","","","","","","","","","",2012,""]
[false,"","","","","","","","","","","",2012,""]
[false,"","","","","","","","","","","",2012,""]
[false,"","","","","","","","","","","",2012,""]
[false,"","","","","","","","","","","",2012,""]
[false,"","","","","","","","","","","",2012,""]
[false,"","","","","","","","","","","",2012,""]
[false,"","","","","","","","","","","",2012,""]
[false,"","","","","","","","","","","",2012,""]
[false,"","","","","","","","","","","",2012,""]
[false,"","","","","","","","","","","",2012,""]
[false,"","","","","","","","","","","",2012,""]
[false,"","","","","","","","","","","",2012,""]
[false,"","","","","","","","","","","",2012,""]
[false,"","","","","","","","","","","",2012,""]
[false,"","","","","","","","","","","",2012,""]
[false,"","","","","","","","","","","",2012,""]
[false,"","","","","","","","","","","",2012,""]
[false,"","","","","","","","","","","",2012,""]
[false,"","","","","","","","","","","",2012,""]
[false,"","","","","","","","","","","",2012,""]
[false,"","","","","","","","","","","",2012,""]
[false,"","","","","","","","","","","",2012,""]
[false,"","","","","","","","","","","",2012,""]
[false,"","","","","","","","","","","",2012,""]
[false,"","","","","","","","","","","",2012,""]
[false,"","","","","","","","","","","",2012,""]
[false,"","","","","","","","","","","",2012,""]
[false,"","","","","","","","","","","",2012,""]
[false,"","","","","","","","","","","",2012,""]
[false,"","","","","","","","","","","",2012,""]
[false,"","","","","","","","","","","",2012,""]
[false,"","","","","","","","","","","",2012,""]
[false,"","","","","","","","","","","",2012,""]
[false,"","","","","","","","","","","",2012,""]
[false,"","","","","","","","","","","",2012,""]
[false,"","","","","","","","","","","",2012,""]
[false,"","","","","","","","","","","",2012,""]
[false,"","","","","","","","","","","",2012,""]
[false,"","","","","","","","","","","",2012,""]
[false,"","","","","","","","","","","",2012,""]
[false,"","","","","","","","","","","",2012,""]
[false,"","","","","","","","","","","",2012,""]
[false,"","","","","","","","","","","",2012,""]
[false,"","","","","","","","","","","",2012,""]
[false,"","","","","","","","","","","",2012,""]
[false,"","","","","","","","","","","",2012,""]
[false,"","","","","","","","","","","",2012,""]
[false,"","","","","","","","","","","",2012,""]
[false,"","","","","","","","","","","",2012,""]
[false,"","","","","","","","","","","",2012,""]
[false,"","","","","","","","","","","",2012,""]
[false,"","","","","","","","","","","",2012,""]
[false,"","","","","","","","","","","",2012,""]
[false,"","","","","","","","","","","",2012,""]
[false,"","","","","","","","","","","",2012,""]
[false,"","","","","","","","","","","",2012,""]
[false,"","","","","","","","","","","",2012,""]
[false,"","","","","","","","","","","",2012,""]
[false,"","","","","","","","","","","",2012,""]
[false,"","","","","","","","","","","",2012,""]
[false,"","","","","","","","","","","",2012,""]
[false,"","","","","","","","","","","",2012,""]
[false,"","","","","","","","","","","",2012,""]
[false,"","","","","","","","","","","",2012,""]
[false,"","","","","","","","","","","",2012,""]
[false,"","","","","","","","","","","",2012,""]
[false,"","","","","","","","","","","",2012,""]
[false,"","","","","","","","","","","",2012,""]
[false,"","","","","","","","","","","",2012,""]
[false,"","","","","","","","","","","",2012,""]
[false,"","","","","","","","","","","",2012,""]
[false,"","","","","","","","","","","",2012,""]
[false,"","","","","","","","","","","",2012,""]
[false,"","","","","","","","","","","",2012,""]
[false,"","","","","","","","","","","",2012,""]
[false,"","","","","","","","","","","",2012,""]
[false,"","","","","","","","","","","",2012,""]
[false,"","","","","","","","","","","",2012,""]
[false,"","","","","","","","","","","",2012,""]
[false,"","","","","","","","","","","",2012,""]
[false,"","","","","","","","","","","",2012,""]
[false,"","","","","","","","","","","",2012,""]
[false,"","","","","","","","","","","",2012,""]
[false,"","","","","","","","","","","",2012,""]
[false,"","","","","","","","","","","",2012,""]
[false,"","","","","","","","","","","",2012,""]
[false,"","","","","","","","","","","",2012,""]
[false,"","","","","","","","","","","",2012,""]
[false,"","","","","","","","","","","",2012,""]
[false,"","","","","","","","","","","",2012,""]
[false,"","","","","","","","","","","",2012,""]
[false,"","","","","","","","","","","",2012,""]
[false,"","","","","","","","","","","",2012,""]
[false,"","","","","","","","","","","",2012,""]
[false,"","","","","","","","","","","",2012,""]
[false,"","","","","","","","","","","",2012,""]
[false,"","","","","","","","","","","",2012,""]
[false,"","","","","","","","","","","",2012,""]
[false,"","","","","","","","","","","",2012,""]
[false,"","","","","","","","","","","",2012,""]
[false,"","","","","","","","","","","",2012,""]
[false,"","","","","","","","","","","",2012,""]
[false,"","","","","","","","","","","",2012,""]
[false,"","","","","","","","","","","",2012,""]
[false,"","","","","","","","","","","",2012,""]
[false,"","","","","","","","","","","",2012,""]
[false,"","","","","","","","","","","",2012,""]
[false,"","","","","","","","","","","",2012,""]
[false,"","","","","","","","","","","",2012,""]
[false,"","","","","","","","","","","",2012,""]
[false,"","","","","","","","","","","",2012,""]
[false,"","","","","","","","","","","",2012,""]
[false,"","","","","","","","","","","",2012,""]
[false,"","","","","","","","","","","",2012,""]
[false,"","","","","","","","","","","",2012,""]
[false,"","","","","","","","","","","",2012,""]
[false,"","","","","","","","","","","",2012,""]
[false,"","","","","","","","","","","",2012,""]
[false,"","","","","","","","","","","",2012,""]
[false,"","","","","","","","","","","",2012,""]
[false,"","","","","","","","","","","",2012,""]
[false,"","","","","","","","","","","",2012,""]
[false,"","","","","","","","","","","",2012,""]
[false,"","","","","","","","","","","",2012,""]
[false,"","","","","","","","","","","",2012,""]
[false,"","","","","","","","","","","",2012,""]
[false,"","","","","","","","","","","",2012,""]
[false,"","","","","","","","","","","",2012,""]
[false,"","","","","","","","","","","",2012,""]
[false,"","","","","","","","","","","",2012,""]
[false,"","","","","","","","","","","",2012,""]
[false,"","","","","","","","","","","",2012,""]
[false,"","","","","","","","","","","",2012,""]
[false,"","","","","","","","","","","",2012,""]
[false,"","","","","","","","","","","",2012,""]
[false,"","","","","","","","","","","",2012,""]
[false,"","","","","","","","","","","",2012,""]
[false,"","","","","","","","","","","",2012,""]
[false,"","","","","","","","","","","",2012,""]
[false,"","","","","","","","","","","",2012,""]
[false,"","","","","","","","","","","",2012,""]
[false,"","","","","","","","","","","",2012,""]
[false,"","","","","","","","","","","",2012,""]
[false,"","","","","","","","","","","",2012,""]
[false,"","","","","","","","","","","",2012,""]
[false,"","","","","","","","","","","",2012,""]
[false,"","","","","","","","","","","",2012,""]
[false,"","","","","","","","","","","",2012,""]
[false,"","","","","","","","","","","",2012,""]
[false,"","","","","","","","","","","",2012,""]
[false,"","","","","","","","","","","",2012,""]
[false,"","","","","","","","","","","",2012,""]
[false,"","","","","","","","","","","",2012,""]
[false,"","","","","","","","","","","",2012,""]
[false,"","","","","","","","","","","",2012,""]
[false,"","","","","","","","","","","",2012,""]
[false,"","","","","","","","","","","",2012,""]
[false,"","","","","","","","","","","",2012,""]
[false,"","","","","","","","","","","",2012,""]
[false,"","","","","","","","","","","",2012,""]
[false,"","","","","","","","","","","",2012,""]
[false,"","","","","","","","","","","",2012,""]
[false,"","","","","","","","","","","",2012,""]
[false,"","","","","","","","","","","",2012,""]
[false,"","","","","","","","","","","",2012,""]
[false,"","","","","","","","","","","",2012,""]
[false,"","","","","","","","","","","",2012,""]
[false,"","","","","","","","","","","",2012,""]
[false,"","","","","","","","","","","",2012,""]
[false,"","","","","","","","","","","",2012,""]
[false,"","","","","","","","","","","",2012,""]
[false,"","","","","","","","","","","",2012,""]
[false,"","","","","","","","","","","",2012,""]
[false,"","","","","","","","","","","",2012,""]
[false,"","","","","","","","","","","",2012,""]
[false,"","","","","","","","","","","",2012,""]
[false,"","","","","","","","","","","",2012,""]
[false,"","","","","","","","","","","",2012,""]
[false,"","","","","","","","","","","",2012,""]
[false,"","","","","","","","","","","",2012,""]
[false,"","","","","","","","","","","",2012,""]
[false,"","","","","","","","","","","",2012,""]
[false,"","","","","","","","","","","",2012,""]
[false,"","","","","","","","","","","",2012,""]
[false,"","","","","","","","","","","",2012,""]
[false,"","","","","","","","","","","",2012,""]
[false,"","","","","","","","","","","",2012,""]
[false,"","","","","","","","","","","",2012,""]
[false,"","","","","","","","","","","",2012,""]
[false,"","","","","","","","","","","",2012,""]
[false,"","","","","","","","","","","",2012,""]
[false,"","","","","","","","","","","",2012,""]
[false,"","","","","","","","","","","",2012,""]
[false,"","","","","","","","","","","",2012,""]
[false,"","","","","","","","","","","",2012,""]
[false,"","","","","","","","","","","",2012,""]
[false,"","","","","","","","","","","",2012,""]
[false,"","","","","","","","","","","",2012,""]
[false,"","","","","","","","","","","",2012,""]
[false,"","","","","","","","","","","",2012,""]
[false,"","","","","","","","","","","",2012,""]
[false,"","","","","","","","","","","",2012,""]
[false,"","","","","","","","","","","",2012,""]
[false,"","","","","","","","","","","",2012,""]
[false,"","","","","","","","","","","",2012,""]
[false,"","","","","","","","","","","",2012,""]
[false,"","","","","","","","","","","",2012,""]
[false,"","","","","","","","","","","",2012,""]
[false,"","","","","","","","","","","",2012,""]
[false,"","","","","","","","","","","",2012,""]
[false,"","","","","","","","","","","",2012,""]
[false,"","","","","","","","","","","",2012,""]
[false,"","","","","","","","","","","",2012,""]
[false,"","","","","","","","","","","",2012,""]
[false,"","","","","","","","","","","",2012,""]
[false,"","","","","","","","","","","",2012,""]
[false,"","","","","","","","","","","",2012,""]
[false,"","","","","","","","","","","",2012,""]
[false,"","","","","","","","","","","",2012,""]
[false,"","","","","","","","","","","",2012,""]
[false,"","","","","","","","","","","",2012,""]
[false,"","","","","","","","","","","",2012,""]
[false,"","","","","","","","","","","",2012,""]
[false,"","","","","","","","","","","",2012,""]
[false,"","","","","","","","","","","",2012,""]
[false,"","","","","","","","","","","",2012,""]
[false,"","","","","","","","","","","",2012,""]
[false,"","","","","","","","","","","",2012,""]
[false,"","","","","","","","","","","",2012,""]
[false,"","","","","","","","","","","",2012,""]
[false,"","","","","","","","","","","",2012,""]
[false,"","","","","","","","","","","",2012,""]
[false,"","","","","","","","","","","",2012,""]
[false,"","","","","","","","","","","",2012,""]
[false,"","","","","","","","","","","",2012,""]
[false,"","","","","","","","","","","",2012,""]
[false,"","","","","","","","","","","",2012,""]
[false,"","","","","","","","","","","",2012,""]
[false,"","","","","","","","","","","",2012,""]
[false,"","","","","","","","","","","",2012,""]
[false,"","","","","","","","","","","",2012,""]
[false,"","","","","","","","","","","",2012,""]
[false,"","","","","","","","","","","",2012,""]
[false,"","","","","","","","","","","",2012,""]
[false,"","","","","","","","","","","",2012,""]
[false,"","","","","","","","","","","",2012,""]
[false,"","","","","","","","","","","",2012,""]
[false,"","","","","","","","","","","",2012,""]
[false,"","","","","","","","","","","",2012,""]
[false,"","","","","","","","","","","",2012,""]
[false,"","","","","","","","","","","",2012,""]
[false,"","","","","","","","","","","",2012,""]
[false,"","","","","","","","","","","",2012,""]
[false,"","","","","","","","","","","",2012,""]
[false,"","","","","","","","","","","",2012,""]
[false,"","","","","","","","","","","",2012,""]
[false,"","","","","","","","","","","",2012,""]
[false,"","","","","","","","","","","",2012,""]
[false,"","","","","","","","","","","",2012,""]
[false,"","","","","","","","","","","",2012,""]
[false,"","","","","","","","","","","",2012,""]
[false,"","","","","","","","","","","",2012,""]
[false,"","","","","","","","","","","",2012,""]
[false,"","","","","","","","","","","",2012,""]
[false,"","","","","","","","","","","",2012,""]
[false,"","","","","","","","","","","",2012,""]
[false,"","","","","","","","","","","",2012,""]
[false,"","","","","","","","","","","",2012,""]
[false,"","","","","","","","","","","",2012,""]
[false,"","","","","","","","","","","",2012,""]
[false,"","","","","","","","","","","",2012,""]
[false,"","","","","","","","","","","",2012,""]
[false,"","","","","","","","","","","",2012,""]
[false,"","","","","","","","","","","",2012,""]
[false,"","","","","","","","","","","",2012,""]
[false,"","","","","","","","","","","",2012,""]
[false,"","","","","","","","","","","",2012,""]
[false,"","","","","","","","","","","",2012,""]
[false,"","","","","","","","","","","",2012,""]
[false,"","","","","","","","","","","",2012,""]
[false,"","","","","","","","","","","",2012,""]
[false,"","","","","","","","","","","",2012,""]
[false,"","","","","","","","","","","",2012,""]
[false,"","","","","","","","","","","",2012,""]
[false,"","","","","","","","","","","",2012,""]
[false,"","","","","","","","","","","",2012,""]
[false,"","","","","","","","","","","",2012,""]
[false,"","","","","","","","","","","",2012,""]
[false,"","","","","","","","","","","",2012,""]
[false,"","","","","","","","","","","",2012,""]
[false,"","","","","","","","","","","",2012,""]
[false,"","","","","","","","","","","",2012,""]
[false,"","","","","","","","","","","",2012,""]
[false,"","","","","","","","","","","",2012,""]
[false,"","","","","","","","","","","",2012,""]
[false,"","","","","","","","","","","",2012,""]
[false,"","","","","","","","","","","",2012,""]
[false,"","","","","","","","","","","",2012,""]
[false,"","","","","","","","","","","",2012,""]
[false,"","","","","","","","","","","",2012,""]
[false,"","","","","","","","","","","",2012,""]
[false,"","","","","","","","","","","",2012,""]
[false,"","","","","","","","","","","",2012,""]
[false,"","","","","","","","","","","",2012,""]
[false,"","","","","","","","","","","",2012,""]
[false,"","","","","","","","","","","",2012,""]
[false,"","","","","","","","","","","",2012,""]
[false,"","","","","","","","","","","",2012,""]
[false,"","","","","","","","","","","",2012,""]
[false,"","","","","","","","","","","",2012,""]
[false,"","","","","","","","","","","",2012,""]
[false,"","","","","","","","","","","",2012,""]
[false,"","","","","","","","","","","",2012,""]
[false,"","","","","","","","","","","",2012,""]
[false,"","","","","","","","","","","",2012,""]
[false,"","","","","","","","","","","",2012,""]
[false,"","","","","","","","","","","",2012,""]
[false,"","","","","","","","","","","",2012,""]
[false,"","","","","","","","","","","",2012,""]
[false,"","","","","","","","","","","",2012,""]
[false,"","","","","","","","","","","",2012,""]
[false,"","","","","","","","","","","",2012,""]
[false,"","","","","","","","","","","",2012,""]
[false,"","","","","","","","","","","",2012,""]
[false,"","","","","","","","","","","",2012,""]
[false,"","","","","","","","","","","",2012,""]
[false,"","","","","","","","","","","",2012,""]
[false,"","","","","","","","","","","",2012,""]
[false,"","","","","","","","","","","",2012,""]
[false,"","","","","","","","","","","",2012,""]
[false,"","","","","","","","","","","",2012,""]
[false,"","","","","","","","","","","",2012,""]
[false,"","","","","","","","","","","",2012,""]
[false,"","","","","","","","","","","",2012,""]
[false,"","","","","","","","","","","",2012,""]
[false,"","","","","","","","","","","",2012,""]
[false,"","","","","","","","","","","",2012,""]
[false,"","","","","","","","","","","",2012,""]
[false,"","","","","","","","","","","",2012,""]
[false,"","","","","","","","","","","",2012,""]
[false,"","","","","","","","","","","",2012,""]
[false,"","","","","","","","","","","",2012,""]
[false,"","","","","","","","","","","",2012,""]
[false,"","","","","","","","","","","",2012,""]
[false,"","","","","","","","","","","",2012,""]
[false,"","","","","","","","","","","",2012,""]
[false,"","","","","","","","","","","",2012,""]
[false,"","","","","","","","","","","",2012,""]
[false,"","","","","","","","","","","",2012,""]
[false,"","","","","","","","","","","",2012,""]
[false,"","","","","","","","","","","",2012,""]
[false,"","","","","","","","","","","",2012,""]
[false,"","","","","","","","","","","",2012,""]
[false,"","","","","","","","","","","",2012,""]
[false,"","","","","","","","","","","",2012,""]
[false,"","","","","","","","","","","",2012,""]
[false,"","","","","","","","","","","",2012,""]
[false,"","","","","","","","","","","",2012,""]
[false,"","","","","","","","","","","",2012,""]
[false,"","","","","","","","","","","",2012,""]
[false,"","","","","","","","","","","",2012,""]
[false,"","","","","","","","","","","",2012,""]
[false,"","","","","","","","","","","",2012,""]
[false,"","","","","","","","","","","",2012,""]
[false,"","","","","","","","","","","",2012,""]
[false,"","","","","","","","","","","",2012,""]
[false,"","","","","","","","","","","",2012,""]
[false,"","","","","","","","","","","",2012,""]
[false,"","","","","","","","","","","",2012,""]
[false,"","","","","","","","","","","",2012,""]
[false,"","","","","","","","","","","",2012,""]
[false,"","","","","","","","","","","",2012,""]
[false,"","","","","","","","","","","",2012,""]
[false,"","","","","","","","","","","",2012,""]
[false,"","","","","","","","","","","",2012,""]
[false,"","","","","","","","","","","",2012,""]
[false,"","","","","","","","","","","",2012,""]
[false,"","","","","","","","","","","",2012,""]
[false,"","","","","","","","","","","",2012,""]
[false,"","","","","","","","","","","",2012,""]
[false,"","","","","","","","","","","",2012,""]
[false,"","","","","","","","","","","",2012,""]
[false,"","","","","","","","","","","",2012,""]
[false,"","","","","","","","","","","",2012,""]
[false,"","","","","","","","","","","",2012,""]
[false,"","","","","","","","","","","",2012,""]
[false,"","","","","","","","","","","",2012,""]
[false,"","","","","","","","","","","",2012,""]
[false,"","","","","","","","","","","",2012,""]
[false,"","","","","","","","","","","",2012,""]
[false,"","","","","","","","","","","",2012,""]
[false,"","","","","","","","","","","",2012,""]
[false,"","","","","","","","","","","",2012,""]
[false,"","","","","","","","","","","",2012,""]
[false,"","","","","","","","","","","",2012,""]
[false,"","","","","","","","","","","",2012,""]
[false,"","","","","","","","","","","",2012,""]
[false,"","","","","","","","","","","",2012,""]
[false,"","","","","","","","","","","",2012,""]
[false,"","","","","","","","","","","",2012,""]
[false,"","","","","","","","","","","",2012,""]
[false,"","","","","","","","","","","",2012,""]
[false,"","","","","","","","","","","",2012,""]
[false,"","","","","","","","","","","",2012,""]
[false,"","","","","","","","","","","",2012,""]
[false,"","","","","","","","","","","",2012,""]
[false,"","","","","","","","","","","",2012,""]
[false,"","","","","","","","","","","",2012,""]
[false,"","","","","","","","","","","",2012,""]
[false,"","","","","","","","","","","",2012,""]
[false,"","","","","","","","","","","",2012,""]
[false,"","","","","","","","","","","",2012,""]
[false,"","","","","","","","","","","",2012,""]
[false,"","","","","","","","","","","",2012,""]
[false,"","","","","","","","","","","",2012,""]
[false,"","","","","","","","","","","",2012,""]
[false,"","","","","","","","","","","",2012,""]
[false,"","","","","","","","","","","",2012,""]
[false,"","","","","","","","","","","",2012,""]
[false,"","","","","","","","","","","",2012,""]
[false,"","","","","","","","","","","",2012,""]
[false,"","","","","","","","","","","",2012,""]
[false,"","","","","","","","","","","",2012,""]
[false,"","","","","","","","","","","",2012,""]
[false,"","","","","","","","","","","",2012,""]
[false,"","","","","","","","","","","",2012,""]
[false,"","","","","","","","","","","",2012,""]
[false,"","","","","","","","","","","",2012,""]
[false,"","","","","","","","","","","",2012,""]
[false,"","","","","","","","","","","",2012,""]
[false,"","","","","","","","","","","",2012,""]
[false,"","","","","","","","","","","",2012,""]
[false,"","","","","","","","","","","",2012,""]
[false,"","","","","","","","","","","",2012,""]
[false,"","","","","","","","","","","",2012,""]
[false,"","","","","","","","","","","",2012,""]
[false,"","","","","","","","","","","",2012,""]
[false,"","","","","","","","","","","",2012,""]
[false,"","","","","","","","","","","",2012,""]
[false,"","","","","","","","","","","",2012,""]
[false,"","","","","","","","","","","",2012,""]
[false,"","","","","","","","","","","",2012,""]
[false,"","","","","","","","","","","",2012,""]
[false,"","","","","","","","","","","",2012,""]
[false,"","","","","","","","","","","",2012,""]
[false,"","","","","","","","","","","",2012,""]
[false,"","","","","","","","","","","",2012,""]
[false,"","","","","","","","","","","",2012,""]
[false,"","","","","","","","","","","",2012,""]

{"sheet":"Formularz","index":5,"n_rows":114,"n_cols":9,"rows_kept":114,"cut":false,"hidden":false,"merged":[[3,0,3,1],[8,0,8,4],[10,0,10,4],[12,0,13,0],[12,8,13,8],[12,1,13,1],[12,2,13,2],[12,6,13,6],[12,7,13,7],[12,4,13,4]]}
[]
[]
[]
["Warszawa, dnia ",null,{"$f":"NOW()","v":"2020-04-30T11:55:11.500"}]
[]
["Do komórki:",null,{"$f":"Przypomnienie!B9","v":0}]
["Dotyczy: Przypomnienie o wszczęciu postępowań w okresie: ",null,{"$f":"IF(Przypomnienie!C9=\"\",\"\",\"Do końca \"&Przypomnienie!C9&\" miesiąca\"&\" roku \"&IF(Przypomnienie!D9=\"\",\"\",Przypomnienie!D9))","v":""}]
[]
[{"$f":"\"Zgodnie z planem zamówień publicznych obowiązującym w roku \"&Przypomnienie!D9&\" przypominam, iż w od początku roku do obecnego miesiąca w planie zamówień publicznych znajdują się następujące niezrealizowane pozycje o wartości powyżej 14000 EUR netto:\"","v":"Zgodnie z planem zamówień publicznych obowiązującym w roku  przypominam, iż w od początku roku do obecnego miesiąca w planie zamówień publicznych znajdują się następujące niezrealizowane pozycje o wartości powyżej 14000 EUR netto:"}]
[]
["Jednocześnie informuję, iż plan podlega aktualizacji (zmiana danych zawartych w planie lub dodanie nowych pozycji do planu lub rezygnacja z pozycji zawartych w planie) w okresach kwartalnych. Jeśli chcą Państwo wprowadzić zmianę do planu, po uzyskaniu odpowiedniego zatwierdzenia od kierownika jednostki, prosimy o jej zgłoszenie do Biura Dyrektora Generalnego do 15-tego dnia pierwszego miesiąca obecnego kwartału."]
["Z poważaniem,"]
["Lp.","Nazwa zamówienia","Rodzaj zamówienia","Wartość planowana","Miesiąc",null,"Próg","Źródło finansowania","Uwagi"]
[null,null,null,"Netto PLN",null,"Brutto PLN"]
[{"$f":"IF(B15<>\"\",1,\"\")","v":""}]
[{"$f":"IF(AND(A15<>\"\",B16<>\"\"),A15+1,\"\")","v":""}]
[{"$f":"IF(AND(A16<>\"\",B17<>\"\"),A16+1,\"\")","v":""}]
[""]
[""]
[""]
[""]
[""]
[""]
[""]
[""]
[""]
[""]
[""]
[""]
[""]
[""]
[""]
[""]
[""]
[""]
[""]
[""]
[""]
[""]
[""]
[""]
[""]
[""]
[""]
[""]
[""]
[""]
[""]
[""]
[""]
[""]
[""]
[""]
[""]
[""]
[""]
[""]
[""]
[""]
[""]
[""]
[""]
[""]
[""]
[""]
[""]
[""]
[""]
[""]
[""]
[""]
[""]
[""]
[""]
[""]
[""]
[""]
[""]
[""]
[""]
[{"$f":"IF(AND(A80<>\"\",B81<>\"\"),A80+1,\"\")","v":""}]
[""]
[""]
[""]
[""]
[""]
[""]
[""]
[""]
[""]
[""]
[""]
[""]
[""]
[""]
[""]
[""]
[""]
[""]
[""]
[""]
[""]
[""]
[""]
[""]
[""]
[""]
[""]
[""]
[""]
[""]
[""]
[""]
[""]

{"sheet":"KomZam","index":6,"n_rows":2,"n_cols":2,"rows_kept":2,"cut":false,"hidden":true,"merged":[]}
["Komórka zamawiająca po filtrowaniu bez dubli",{"$f":"IF(Wartosci!E6=\"\",\"\",Wartosci!E6)","v":"Przedmiot zamówienia"}]
[{"$f":"IF(Wartosci!D7=\"\",\"\",Wartosci!D7)","v":"BDG"}]

{"sheet":"Lista","index":7,"n_rows":4001,"n_cols":28,"rows_kept":4001,"cut":false,"hidden":true,"merged":[]}
[null,null,null,null,null,null,null,null,"Lp.",null,"Komórka wnioskująca","Przedmiot zamówienia",null,"Rodzaj zamówienia","Kod CPV",null,null,"Wartość planowana netto PLN","Wartość planowana netto EUR",null,"Wartość planowana brutto PLN","Próg","Źródło finansowania","Proponowany tryb","Miesiąc",null,"Uwagi","Realizacja"]
["Dostawy","Środki budżetowe","Przetarg nieograniczony",1,2012,"Poniżej 14 000 EUR","Tak","Zrealizowane",1,null,{"$f":"IF(ISERROR(VLOOKUP($I$2,dane_do_wniosku,3,0)),\"\",VLOOKUP($I$2,dane_do_wniosku,3,0))","v":"BDG"},{"$f":"IF(ISERROR(VLOOKUP($I$2,dane_do_wniosku,4,0)),\"\",VLOOKUP($I$2,dane_do_wniosku,4,0))","v":"Zakup akcesoriów do telefonii mobilnej (np. ładowarki, ładowarki samochodowe, przewody, etui itp.)"},null,{"$f":"IF(ISERROR(VLOOKUP($I$2,dane_do_wniosku,6,0)),\"\",VLOOKUP($I$2,dane_do_wniosku,6,0))","v":"Dostawy"},{"$f":"IF(ISERROR(VLOOKUP($I$2,dane_do_wniosku,7,0)),\"\",VLOOKUP($I$2,dane_do_wniosku,7,0))","v":0},null,null,{"$f":"IF(ISERROR(VLOOKUP($I$2,dane_do_wniosku,10,0)),\"\",VLOOKUP($I$2,dane_do_wniosku,10,0))","v":4065.040650406504},{"$f":"IF(ISERROR(VLOOKUP($I$2,dane_do_wniosku,11,0)),\"\",VLOOKUP($I$2,dane_do_wniosku,11,0))","v":952.15624350748453},null,{"$f":"IF(ISERROR(VLOOKUP($I$2,dane_do_wniosku,13,0)),\"\",VLOOKUP($I$2,dane_do_wniosku,13,0))","v":5000},{"$f":"IF(ISERROR(VLOOKUP($I$2,dane_do_wniosku,14,0)),\"\",VLOOKUP($I$2,dane_do_wniosku,14,0))","v":"Poniżej 30 000 EUR"},{"$f":"IF(ISERROR(VLOOKUP($I$2,dane_do_wniosku,15,0)),\"\",VLOOKUP($I$2,dane_do_wniosku,15,0))","v":"Środki budżetowe"},{"$f":"IF(ISERROR(VLOOKUP($I$2,dane_do_wniosku,16,0)),\"\",VLOOKUP($I$2,dane_do_wniosku,16,0))","v":0},{"$f":"IF(ISERROR(VLOOKUP($I$2,dane_do_wniosku,17,0)),\"\",VLOOKUP($I$2,dane_do_wniosku,17,0))","v":1},null,{"$f":"IF(ISERROR(VLOOKUP($I$2,dane_do_wniosku,19,0)),\"\",VLOOKUP($I$2,dane_do_wniosku,19,0))","v":"poza ustawą\nart. 4 pkt 8\nzakupy dokonywane sukcesywnie, w ciągu całego roku, w zależności od potrzeb"}]
["Usługi","Środki z NFOSiGW","Przetarg ograniczony",2,2013,"Poniżej progu unijnego","Nie","Niezrealizowane"]
["Roboty budowlane","Środki UE","Negocjacje z ogłoszeniem",3,2014,"Powyżej progu unijnego"]
[null,"Rezerwa celowa","Negocjacje bez ogłoszenia",4,2015]
[null,"Inne","Dialog konkurecyjny",5,2016]
[null,null,"Zamówienie z wolnej ręki",6,2017]
[null,null,"Zapytanie o cenę",7,2018]
[null,null,"Licytacja elektroniczna",8,2019]
[null,null,null,9,2020]
[null,null,null,10]
[1,null,null,11]
[2,null,null,12]
[3]
[4]
[5]
[6]
[7]
[8]
[9]
[10,null,null,null,null,{"$f":"IF(Wartosci!D25=\"\",\"\",Wartosci!D25)","v":"BDG"}]
[11,null,null,null,null,{"$f":"IF(Wartosci!D26=\"\",\"\",Wartosci!D26)","v":"BDG"}]
[12,null,null,null,null,{"$f":"IF(Wartosci!D27=\"\",\"\",Wartosci!D27)","v":"BDG"}]
[13,null,null,null,null,{"$f":"IF(Wartosci!D28=\"\",\"\",Wartosci!D28)","v":"BDG"}]
[14,null,null,null,null,{"$f":"IF(Wartosci!D29=\"\",\"\",Wartosci!D29)","v":"BDG"}]
[15,null,null,null,null,{"$f":"IF(Wartosci!D30=\"\",\"\",Wartosci!D30)","v":"BDG"}]
[16,null,null,null,null,{"$f":"IF(Wartosci!D31=\"\",\"\",Wartosci!D31)","v":"BDG"}]
[17,null,null,null,null,{"$f":"IF(Wartosci!D32=\"\",\"\",Wartosci!D32)","v":"BDG"}]
[18,null,null,null,null,{"$f":"IF(Wartosci!D33=\"\",\"\",Wartosci!D33)","v":"BDG"}]
[19,null,null,null,null,{"$f":"IF(Wartosci!D34=\"\",\"\",Wartosci!D34)","v":"BDG"}]
[20,null,null,null,null,{"$f":"IF(Wartosci!D35=\"\",\"\",Wartosci!D35)","v":"BDG"}]
[21,null,null,null,null,{"$f":"IF(Wartosci!D36=\"\",\"\",Wartosci!D36)","v":"BDG"}]
[22,null,null,null,null,{"$f":"IF(Wartosci!D37=\"\",\"\",Wartosci!D37)","v":"BDG"}]
[23,null,null,null,null,{"$f":"IF(Wartosci!D38=\"\",\"\",Wartosci!D38)","v":"BDG"}]
[24,null,null,null,null,{"$f":"IF(Wartosci!D39=\"\",\"\",Wartosci!D39)","v":"BDG"}]
[25,null,null,null,null,{"$f":"IF(Wartosci!D40=\"\",\"\",Wartosci!D40)","v":"BDG"}]
[26,null,null,null,null,{"$f":"IF(Wartosci!D41=\"\",\"\",Wartosci!D41)","v":"BDG"}]
[27,null,null,null,null,{"$f":"IF(Wartosci!D44=\"\",\"\",Wartosci!D44)","v":"BDG"}]
[null,null,null,null,null,{"$f":"IF(Wartosci!D45=\"\",\"\",Wartosci!D45)","v":"BDG"}]
[null,null,null,null,null,{"$f":"IF(Wartosci!D46=\"\",\"\",Wartosci!D46)","v":"BDG"}]
[null,null,null,null,null,{"$f":"IF(Wartosci!D47=\"\",\"\",Wartosci!D47)","v":"BDG"}]
[null,null,null,null,null,{"$f":"IF(Wartosci!D48=\"\",\"\",Wartosci!D48)","v":"BDG"}]
[null,null,null,null,null,{"$f":"IF(Wartosci!D49=\"\",\"\",Wartosci!D49)","v":"BDG"}]
[null,null,null,null,null,{"$f":"IF(Wartosci!D50=\"\",\"\",Wartosci!D50)","v":"BDG"}]
[null,null,null,null,null,{"$f":"IF(Wartosci!D51=\"\",\"\",Wartosci!D51)","v":"BDG"}]
[null,null,null,null,null,{"$f":"IF(Wartosci!D52=\"\",\"\",Wartosci!D52)","v":"BDG"}]
[null,null,null,null,null,{"$f":"IF(Wartosci!D53=\"\",\"\",Wartosci!D53)","v":"BDG"}]
[null,null,null,null,null,{"$f":"IF(Wartosci!D54=\"\",\"\",Wartosci!D54)","v":"BDG"}]
[null,null,null,null,null,{"$f":"IF(Wartosci!D55=\"\",\"\",Wartosci!D55)","v":"BDG"}]
[null,null,null,null,null,{"$f":"IF(Wartosci!D56=\"\",\"\",Wartosci!D56)","v":"BDG"}]
[null,null,null,null,null,{"$f":"IF(Wartosci!D57=\"\",\"\",Wartosci!D57)","v":"BDG"}]
[null,null,null,null,null,{"$f":"IF(Wartosci!D58=\"\",\"\",Wartosci!D58)","v":"BDG"}]
[null,null,null,null,null,{"$f":"IF(Wartosci!D59=\"\",\"\",Wartosci!D59)","v":"BDG"}]
[null,null,null,null,null,{"$f":"IF(Wartosci!D60=\"\",\"\",Wartosci!D60)","v":"BDG"}]
[null,null,null,null,null,{"$f":"IF(Wartosci!D61=\"\",\"\",Wartosci!D61)","v":"BDG"}]
[null,null,null,null,null,{"$f":"IF(Wartosci!D62=\"\",\"\",Wartosci!D62)","v":"BDG"}]
[null,null,null,null,null,{"$f":"IF(Wartosci!D64=\"\",\"\",Wartosci!D64)","v":"BDG"}]
[null,null,null,null,null,{"$f":"IF(Wartosci!D65=\"\",\"\",Wartosci!D65)","v":"BDG"}]
[null,null,null,null,null,{"$f":"IF(Wartosci!D66=\"\",\"\",Wartosci!D66)","v":"BDG"}]
[null,null,null,null,null,{"$f":"IF(Wartosci!D67=\"\",\"\",Wartosci!D67)","v":"BDG"}]
[null,null,null,null,null,{"$f":"IF(Wartosci!D68=\"\",\"\",Wartosci!D68)","v":"BDG"}]
[null,null,null,null,null,{"$f":"IF(Wartosci!D69=\"\",\"\",Wartosci!D69)","v":"BDG"}]
[null,null,null,null,null,{"$f":"IF(Wartosci!D70=\"\",\"\",Wartosci!D70)","v":"BDG"}]
[null,null,null,null,null,{"$f":"IF(Wartosci!D71=\"\",\"\",Wartosci!D71)","v":"BDG"}]
[null,null,null,null,null,{"$f":"IF(Wartosci!D72=\"\",\"\",Wartosci!D72)","v":"BDG"}]
[null,null,null,null,null,{"$f":"IF(Wartosci!D73=\"\",\"\",Wartosci!D73)","v":"BDG"}]
[null,null,null,null,null,{"$f":"IF(Wartosci!D74=\"\",\"\",Wartosci!D74)","v":"BDG"}]
[null,null,null,null,null,{"$f":"IF(Wartosci!D75=\"\",\"\",Wartosci!D75)","v":"BDG"}]
[null,null,null,null,null,{"$f":"IF(Wartosci!D76=\"\",\"\",Wartosci!D76)","v":"BDG"}]
[null,null,null,null,null,{"$f":"IF(Wartosci!D87=\"\",\"\",Wartosci!D87)","v":"BDG"}]
[null,null,null,null,null,{"$f":"IF(Wartosci!D88=\"\",\"\",Wartosci!D88)","v":"BDG"}]
[null,null,null,null,null,{"$f":"IF(Wartosci!D89=\"\",\"\",Wartosci!D89)","v":"BDG"}]
[null,null,null,null,null,{"$f":"IF(Wartosci!D90=\"\",\"\",Wartosci!D90)","v":"BDG"}]
[null,null,null,null,null,{"$f":"IF(Wartosci!D91=\"\",\"\",Wartosci!D91)","v":"BDG"}]
[null,null,null,null,null,{"$f":"IF(Wartosci!D92=\"\",\"\",Wartosci!D92)","v":"BDG"}]
[null,null,null,null,null,{"$f":"IF(Wartosci!D93=\"\",\"\",Wartosci!D93)","v":"BDG"}]
[null,null,null,null,null,{"$f":"IF(Wartosci!D94=\"\",\"\",Wartosci!D94)","v":"BDG"}]
[null,null,null,null,null,{"$f":"IF(Wartosci!D95=\"\",\"\",Wartosci!D95)","v":"BDG"}]
[null,null,null,null,null,{"$f":"IF(Wartosci!D96=\"\",\"\",Wartosci!D96)","v":"BDG"}]
[null,null,null,null,null,{"$f":"IF(Wartosci!D97=\"\",\"\",Wartosci!D97)","v":"BDG"}]
[null,null,null,null,null,{"$f":"IF(Wartosci!D98=\"\",\"\",Wartosci!D98)","v":"BDG"}]
[null,null,null,null,null,{"$f":"IF(Wartosci!D99=\"\",\"\",Wartosci!D99)","v":"BDG"}]
[null,null,null,null,null,{"$f":"IF(Wartosci!D100=\"\",\"\",Wartosci!D100)","v":"BDG"}]
[null,null,null,null,null,{"$f":"IF(Wartosci!D101=\"\",\"\",Wartosci!D101)","v":"BDG"}]
[null,null,null,null,null,{"$f":"IF(Wartosci!D102=\"\",\"\",Wartosci!D102)","v":"BDG"}]
[null,null,null,null,null,{"$f":"IF(Wartosci!D103=\"\",\"\",Wartosci!D103)","v":"BDG"}]
[null,null,null,null,null,{"$f":"IF(Wartosci!D104=\"\",\"\",Wartosci!D104)","v":"BDG"}]
[null,null,null,null,null,{"$f":"IF(Wartosci!D105=\"\",\"\",Wartosci!D105)","v":"BDG"}]
[null,null,null,null,null,{"$f":"IF(Wartosci!D106=\"\",\"\",Wartosci!D106)","v":"BDG"}]
[null,null,null,null,null,{"$f":"IF(Wartosci!D107=\"\",\"\",Wartosci!D107)","v":"BDG"}]
[null,null,null,null,null,{"$f":"IF(Wartosci!D108=\"\",\"\",Wartosci!D108)","v":"BDG"}]
[null,null,null,null,null,{"$f":"IF(Wartosci!D109=\"\",\"\",Wartosci!D109)","v":"BDG"}]
[null,null,null,null,null,{"$f":"IF(Wartosci!D110=\"\",\"\",Wartosci!D110)","v":"BDG"}]
[null,null,null,null,null,{"$f":"IF(Wartosci!D111=\"\",\"\",Wartosci!D111)","v":"BDG"}]
[null,null,null,null,null,{"$f":"IF(Wartosci!D112=\"\",\"\",Wartosci!D112)","v":"BDG"}]
[null,null,null,null,null,{"$f":"IF(Wartosci!D113=\"\",\"\",Wartosci!D113)","v":"BDG"}]
[null,null,null,null,null,{"$f":"IF(Wartosci!D114=\"\",\"\",Wartosci!D114)","v":"BDG"}]
[null,null,null,null,null,{"$f":"IF(Wartosci!D115=\"\",\"\",Wartosci!D115)","v":"BDG"}]
[null,null,null,null,null,{"$f":"IF(Wartosci!D116=\"\",\"\",Wartosci!D116)","v":"DEK"}]
[null,null,null,null,null,{"$f":"IF(Wartosci!D117=\"\",\"\",Wartosci!D117)","v":"DEK"}]
[null,null,null,null,null,{"$f":"IF(Wartosci!D118=\"\",\"\",Wartosci!D118)","v":"DEK"}]
[null,null,null,null,null,{"$f":"IF(Wartosci!D119=\"\",\"\",Wartosci!D119)","v":"DEK"}]
[null,null,null,null,null,{"$f":"IF(Wartosci!D120=\"\",\"\",Wartosci!D120)","v":"DEK"}]
[null,null,null,null,null,{"$f":"IF(Wartosci!#REF!=\"\",\"\",Wartosci!#REF!)","v":{"$error":"#REF!"}}]
[null,null,null,null,null,{"$f":"IF(Wartosci!#REF!=\"\",\"\",Wartosci!#REF!)","v":{"$error":"#REF!"}}]
[null,null,null,null,null,{"$f":"IF(Wartosci!D121=\"\",\"\",Wartosci!D121)","v":"DEK"}]
[null,null,null,null,null,{"$f":"IF(Wartosci!D122=\"\",\"\",Wartosci!D122)","v":"DEK"}]
[null,null,null,null,null,{"$f":"IF(Wartosci!D123=\"\",\"\",Wartosci!D123)","v":"DEK"}]
[null,null,null,null,null,{"$f":"IF(Wartosci!D124=\"\",\"\",Wartosci!D124)","v":"DEK"}]
[null,null,null,null,null,{"$f":"IF(Wartosci!D125=\"\",\"\",Wartosci!D125)","v":"DEK"}]
[null,null,null,null,null,{"$f":"IF(Wartosci!D126=\"\",\"\",Wartosci!D126)","v":"DEK"}]
[null,null,null,null,null,{"$f":"IF(Wartosci!D127=\"\",\"\",Wartosci!D127)","v":"DEK"}]
[null,null,null,null,null,{"$f":"IF(Wartosci!D128=\"\",\"\",Wartosci!D128)","v":"DEK"}]
[null,null,null,null,null,{"$f":"IF(Wartosci!D129=\"\",\"\",Wartosci!D129)","v":"DEK"}]
[null,null,null,null,null,{"$f":"IF(Wartosci!D130=\"\",\"\",Wartosci!D130)","v":"DEK"}]
[null,null,null,null,null,{"$f":"IF(Wartosci!D131=\"\",\"\",Wartosci!D131)","v":"DEK"}]
[null,null,null,null,null,{"$f":"IF(Wartosci!D132=\"\",\"\",Wartosci!D132)","v":"DEK"}]
[null,null,null,null,null,{"$f":"IF(Wartosci!D133=\"\",\"\",Wartosci!D133)","v":"DEK"}]
[null,null,null,null,null,{"$f":"IF(Wartosci!D134=\"\",\"\",Wartosci!D134)","v":"DEK"}]
[null,null,null,null,null,{"$f":"IF(Wartosci!D135=\"\",\"\",Wartosci!D135)","v":"DEK"}]
[null,null,null,null,null,{"$f":"IF(Wartosci!D136=\"\",\"\",Wartosci!D136)","v":"DEK"}]
[null,null,null,null,null,{"$f":"IF(Wartosci!D137=\"\",\"\",Wartosci!D137)","v":"DEK"}]
[null,null,null,null,null,{"$f":"IF(Wartosci!D138=\"\",\"\",Wartosci!D138)","v":"DFE"}]
[null,null,null,null,null,{"$f":"IF(Wartosci!D139=\"\",\"\",Wartosci!D139)","v":"DFE"}]
[null,null,null,null,null,{"$f":"IF(Wartosci!D140=\"\",\"\",Wartosci!D140)","v":"DFE"}]
[null,null,null,null,null,{"$f":"IF(Wartosci!D141=\"\",\"\",Wartosci!D141)","v":"DFE"}]
[null,null,null,null,null,{"$f":"IF(Wartosci!D142=\"\",\"\",Wartosci!D142)","v":"DFE"}]
[null,null,null,null,null,{"$f":"IF(Wartosci!D143=\"\",\"\",Wartosci!D143)","v":"DFE"}]
[null,null,null,null,null,{"$f":"IF(Wartosci!D144=\"\",\"\",Wartosci!D144)","v":"DFE"}]
[null,null,null,null,null,{"$f":"IF(Wartosci!D145=\"\",\"\",Wartosci!D145)","v":"DFE"}]
[null,null,null,null,null,{"$f":"IF(Wartosci!D146=\"\",\"\",Wartosci!D146)","v":"DFE"}]
[null,null,null,null,null,{"$f":"IF(Wartosci!D147=\"\",\"\",Wartosci!D147)","v":"DFE"}]
[null,null,null,null,null,{"$f":"IF(Wartosci!D148=\"\",\"\",Wartosci!D148)","v":"DFE"}]
[null,null,null,null,null,{"$f":"IF(Wartosci!D149=\"\",\"\",Wartosci!D149)","v":"DFE"}]
[null,null,null,null,null,{"$f":"IF(Wartosci!D150=\"\",\"\",Wartosci!D150)","v":"DFE"}]
[null,null,null,null,null,{"$f":"IF(Wartosci!#REF!=\"\",\"\",Wartosci!#REF!)","v":{"$error":"#REF!"}}]
[null,null,null,null,null,{"$f":"IF(Wartosci!D151=\"\",\"\",Wartosci!D151)","v":"DFE"}]
[null,null,null,null,null,{"$f":"IF(Wartosci!D152=\"\",\"\",Wartosci!D152)","v":"DFE"}]
[null,null,null,null,null,{"$f":"IF(Wartosci!D154=\"\",\"\",Wartosci!D154)","v":"DFE"}]
[null,null,null,null,null,{"$f":"IF(Wartosci!D155=\"\",\"\",Wartosci!D155)","v":"DFE"}]
[null,null,null,null,null,{"$f":"IF(Wartosci!D156=\"\",\"\",Wartosci!D156)","v":"DFE"}]
[null,null,null,null,null,{"$f":"IF(Wartosci!D157=\"\",\"\",Wartosci!D157)","v":"DFE"}]
[null,null,null,null,null,{"$f":"IF(Wartosci!D158=\"\",\"\",Wartosci!D158)","v":"DFE"}]
[null,null,null,null,null,{"$f":"IF(Wartosci!#REF!=\"\",\"\",Wartosci!#REF!)","v":{"$error":"#REF!"}}]
[null,null,null,null,null,{"$f":"IF(Wartosci!D159=\"\",\"\",Wartosci!D159)","v":"DFE"}]
[null,null,null,null,null,{"$f":"IF(Wartosci!#REF!=\"\",\"\",Wartosci!#REF!)","v":{"$error":"#REF!"}}]
[null,null,null,null,null,{"$f":"IF(Wartosci!D160=\"\",\"\",Wartosci!D160)","v":"DFE"}]
[null,null,null,null,null,{"$f":"IF(Wartosci!D161=\"\",\"\",Wartosci!D161)","v":"DFE"}]
[null,null,null,null,null,{"$f":"IF(Wartosci!D162=\"\",\"\",Wartosci!D162)","v":"DFE"}]
[null,null,null,null,null,{"$f":"IF(Wartosci!D163=\"\",\"\",Wartosci!D163)","v":"DFE"}]
[null,null,null,null,null,{"$f":"IF(Wartosci!D164=\"\",\"\",Wartosci!D164)","v":"DPK"}]
[null,null,null,null,null,{"$f":"IF(Wartosci!D165=\"\",\"\",Wartosci!D165)","v":"DPK"}]
[null,null,null,null,null,{"$f":"IF(Wartosci!D166=\"\",\"\",Wartosci!D166)","v":"DPK"}]
[null,null,null,null,null,{"$f":"IF(Wartosci!D167=\"\",\"\",Wartosci!D167)","v":"DPK"}]
[null,null,null,null,null,{"$f":"IF(Wartosci!D168=\"\",\"\",Wartosci!D168)","v":"Departament Ropy i Gazu"}]
[null,null,null,null,null,{"$f":"IF(Wartosci!D169=\"\",\"\",Wartosci!D169)","v":"Departament Ropy i Gazu"}]
[null,null,null,null,null,{"$f":"IF(Wartosci!D171=\"\",\"\",Wartosci!D171)","v":"DZM"}]
[null,null,null,null,null,{"$f":"IF(Wartosci!D172=\"\",\"\",Wartosci!D172)","v":"DZM"}]
[null,null,null,null,null,{"$f":"IF(Wartosci!D173=\"\",\"\",Wartosci!D173)","v":"DZM"}]
[null,null,null,null,null,{"$f":"IF(Wartosci!D174=\"\",\"\",Wartosci!D174)","v":"DZM"}]
[null,null,null,null,null,{"$f":"IF(Wartosci!D175=\"\",\"\",Wartosci!D175)","v":"DZM"}]
[null,null,null,null,null,{"$f":"IF(Wartosci!D176=\"\",\"\",Wartosci!D176)","v":"DZM"}]
[null,null,null,null,null,{"$f":"IF(Wartosci!D177=\"\",\"\",Wartosci!D177)","v":"DZŚ"}]
[null,null,null,null,null,{"$f":"IF(Wartosci!D178=\"\",\"\",Wartosci!D178)","v":"DZŚ"}]
[null,null,null,null,null,{"$f":"IF(Wartosci!D179=\"\",\"\",Wartosci!D179)","v":"DZŚ"}]
[null,null,null,null,null,{"$f":"IF(Wartosci!D180=\"\",\"\",Wartosci!D180)","v":"DZŚ"}]
[null,null,null,null,null,{"$f":"IF(Wartosci!D181=\"\",\"\",Wartosci!D181)","v":"DZŚ"}]
[null,null,null,null,null,{"$f":"IF(Wartosci!D182=\"\",\"\",Wartosci!D182)","v":"DZŚ"}]
[null,null,null,null,null,{"$f":"IF(Wartosci!D183=\"\",\"\",Wartosci!D183)","v":"DZŚ"}]
[null,null,null,null,null,{"$f":"IF(Wartosci!D184=\"\",\"\",Wartosci!D184)","v":""}]
[null,null,null,null,null,{"$f":"IF(Wartosci!D185=\"\",\"\",Wartosci!D185)","v":""}]
[null,null,null,null,null,{"$f":"IF(Wartosci!D186=\"\",\"\",Wartosci!D186)","v":""}]
[null,null,null,null,null,{"$f":"IF(Wartosci!D187=\"\",\"\",Wartosci!D187)","v":""}]
[null,null,null,null,null,{"$f":"IF(Wartosci!D188=\"\",\"\",Wartosci!D188)","v":""}]
[null,null,null,null,null,{"$f":"IF(Wartosci!D189=\"\",\"\",Wartosci!D189)","v":""}]
[null,null,null,null,null,{"$f":"IF(Wartosci!D190=\"\",\"\",Wartosci!D190)","v":""}]
[null,null,null,null,null,{"$f":"IF(Wartosci!D191=\"\",\"\",Wartosci!D191)","v":""}]
[null,null,null,null,null,{"$f":"IF(Wartosci!D192=\"\",\"\",Wartosci!D192)","v":""}]
[null,null,null,null,null,{"$f":"IF(Wartosci!D193=\"\",\"\",Wartosci!D193)","v":""}]
[null,null,null,null,null,{"$f":"IF(Wartosci!D194=\"\",\"\",Wartosci!D194)","v":""}]
[null,null,null,null,null,{"$f":"IF(Wartosci!D195=\"\",\"\",Wartosci!D195)","v":""}]
[null,null,null,null,null,{"$f":"IF(Wartosci!D196=\"\",\"\",Wartosci!D196)","v":""}]
[null,null,null,null,null,{"$f":"IF(Wartosci!D198=\"\",\"\",Wartosci!D198)","v":""}]
[null,null,null,null,null,{"$f":"IF(Wartosci!D199=\"\",\"\",Wartosci!D199)","v":""}]
[null,null,null,null,null,{"$f":"IF(Wartosci!D200=\"\",\"\",Wartosci!D200)","v":""}]
[null,null,null,null,null,{"$f":"IF(Wartosci!D201=\"\",\"\",Wartosci!D201)","v":""}]
[null,null,null,null,null,{"$f":"IF(Wartosci!D202=\"\",\"\",Wartosci!D202)","v":""}]
[null,null,null,null,null,{"$f":"IF(Wartosci!D203=\"\",\"\",Wartosci!D203)","v":""}]
[null,null,null,null,null,{"$f":"IF(Wartosci!D204=\"\",\"\",Wartosci!D204)","v":""}]
[null,null,null,null,null,{"$f":"IF(Wartosci!D205=\"\",\"\",Wartosci!D205)","v":""}]
[null,null,null,null,null,{"$f":"IF(Wartosci!D206=\"\",\"\",Wartosci!D206)","v":""}]
[null,null,null,null,null,{"$f":"IF(Wartosci!D207=\"\",\"\",Wartosci!D207)","v":""}]
[null,null,null,null,null,{"$f":"IF(Wartosci!D208=\"\",\"\",Wartosci!D208)","v":""}]
[null,null,null,null,null,{"$f":"IF(Wartosci!D209=\"\",\"\",Wartosci!D209)","v":""}]
[null,null,null,null,null,{"$f":"IF(Wartosci!D210=\"\",\"\",Wartosci!D210)","v":""}]
[null,null,null,null,null,{"$f":"IF(Wartosci!D211=\"\",\"\",Wartosci!D211)","v":""}]
[null,null,null,null,null,{"$f":"IF(Wartosci!D212=\"\",\"\",Wartosci!D212)","v":""}]
[null,null,null,null,null,{"$f":"IF(Wartosci!D213=\"\",\"\",Wartosci!D213)","v":""}]
[null,null,null,null,null,{"$f":"IF(Wartosci!D214=\"\",\"\",Wartosci!D214)","v":""}]
[null,null,null,null,null,{"$f":"IF(Wartosci!D215=\"\",\"\",Wartosci!D215)","v":""}]
[null,null,null,null,null,{"$f":"IF(Wartosci!D216=\"\",\"\",Wartosci!D216)","v":""}]
[null,null,null,null,null,{"$f":"IF(Wartosci!D217=\"\",\"\",Wartosci!D217)","v":""}]
[null,null,null,null,null,{"$f":"IF(Wartosci!D218=\"\",\"\",Wartosci!D218)","v":""}]
[null,null,null,null,null,{"$f":"IF(Wartosci!D219=\"\",\"\",Wartosci!D219)","v":""}]
[null,null,null,null,null,{"$f":"IF(Wartosci!D220=\"\",\"\",Wartosci!D220)","v":""}]
[null,null,null,null,null,{"$f":"IF(Wartosci!D221=\"\",\"\",Wartosci!D221)","v":""}]
[null,null,null,null,null,{"$f":"IF(Wartosci!D222=\"\",\"\",Wartosci!D222)","v":""}]
[null,null,null,null,null,{"$f":"IF(Wartosci!D223=\"\",\"\",Wartosci!D223)","v":""}]
[null,null,null,null,null,{"$f":"IF(Wartosci!D224=\"\",\"\",Wartosci!D224)","v":""}]
[null,null,null,null,null,{"$f":"IF(Wartosci!D225=\"\",\"\",Wartosci!D225)","v":""}]
[null,null,null,null,null,{"$f":"IF(Wartosci!D226=\"\",\"\",Wartosci!D226)","v":""}]
[null,null,null,null,null,{"$f":"IF(Wartosci!D227=\"\",\"\",Wartosci!D227)","v":""}]
[null,null,null,null,null,{"$f":"IF(Wartosci!D228=\"\",\"\",Wartosci!D228)","v":""}]
[null,null,null,null,null,{"$f":"IF(Wartosci!D229=\"\",\"\",Wartosci!D229)","v":""}]
[null,null,null,null,null,{"$f":"IF(Wartosci!D230=\"\",\"\",Wartosci!D230)","v":""}]
[null,null,null,null,null,{"$f":"IF(Wartosci!D231=\"\",\"\",Wartosci!D231)","v":""}]
[null,null,null,null,null,{"$f":"IF(Wartosci!D232=\"\",\"\",Wartosci!D232)","v":""}]
[null,null,null,null,null,{"$f":"IF(Wartosci!D233=\"\",\"\",Wartosci!D233)","v":""}]
[null,null,null,null,null,{"$f":"IF(Wartosci!D234=\"\",\"\",Wartosci!D234)","v":""}]
[null,null,null,null,null,{"$f":"IF(Wartosci!D235=\"\",\"\",Wartosci!D235)","v":""}]
[null,null,null,null,null,{"$f":"IF(Wartosci!D236=\"\",\"\",Wartosci!D236)","v":""}]
[null,null,null,null,null,{"$f":"IF(Wartosci!D237=\"\",\"\",Wartosci!D237)","v":""}]
[null,null,null,null,null,{"$f":"IF(Wartosci!D238=\"\",\"\",Wartosci!D238)","v":""}]
[null,null,null,null,null,{"$f":"IF(Wartosci!D239=\"\",\"\",Wartosci!D239)","v":""}]
[null,null,null,null,null,{"$f":"IF(Wartosci!D240=\"\",\"\",Wartosci!D240)","v":""}]
[null,null,null,null,null,{"$f":"IF(Wartosci!D241=\"\",\"\",Wartosci!D241)","v":""}]
[null,null,null,null,null,{"$f":"IF(Wartosci!D242=\"\",\"\",Wartosci!D242)","v":""}]
[null,null,null,null,null,{"$f":"IF(Wartosci!D243=\"\",\"\",Wartosci!D243)","v":""}]
[null,null,null,null,null,{"$f":"IF(Wartosci!D244=\"\",\"\",Wartosci!D244)","v":""}]
[null,null,null,null,null,{"$f":"IF(Wartosci!D245=\"\",\"\",Wartosci!D245)","v":""}]
[null,null,null,null,null,{"$f":"IF(Wartosci!D246=\"\",\"\",Wartosci!D246)","v":""}]
[null,null,null,null,null,{"$f":"IF(Wartosci!D247=\"\",\"\",Wartosci!D247)","v":""}]
[null,null,null,null,null,{"$f":"IF(Wartosci!D248=\"\",\"\",Wartosci!D248)","v":""}]
[null,null,null,null,null,{"$f":"IF(Wartosci!D249=\"\",\"\",Wartosci!D249)","v":""}]
[null,null,null,null,null,{"$f":"IF(Wartosci!D250=\"\",\"\",Wartosci!D250)","v":""}]
[null,null,null,null,null,{"$f":"IF(Wartosci!D251=\"\",\"\",Wartosci!D251)","v":""}]
[null,null,null,null,null,{"$f":"IF(Wartosci!D252=\"\",\"\",Wartosci!D252)","v":""}]
[null,null,null,null,null,{"$f":"IF(Wartosci!D253=\"\",\"\",Wartosci!D253)","v":""}]
[null,null,null,null,null,{"$f":"IF(Wartosci!D254=\"\",\"\",Wartosci!D254)","v":""}]
[null,null,null,null,null,{"$f":"IF(Wartosci!D255=\"\",\"\",Wartosci!D255)","v":""}]
[null,null,null,null,null,{"$f":"IF(Wartosci!D256=\"\",\"\",Wartosci!D256)","v":""}]
[null,null,null,null,null,{"$f":"IF(Wartosci!D257=\"\",\"\",Wartosci!D257)","v":""}]
[null,null,null,null,null,{"$f":"IF(Wartosci!D258=\"\",\"\",Wartosci!D258)","v":""}]
[null,null,null,null,null,{"$f":"IF(Wartosci!D259=\"\",\"\",Wartosci!D259)","v":""}]
[null,null,null,null,null,{"$f":"IF(Wartosci!D260=\"\",\"\",Wartosci!D260)","v":""}]
[null,null,null,null,null,{"$f":"IF(Wartosci!D261=\"\",\"\",Wartosci!D261)","v":""}]
[null,null,null,null,null,{"$f":"IF(Wartosci!D262=\"\",\"\",Wartosci!D262)","v":""}]
[null,null,null,null,null,{"$f":"IF(Wartosci!D263=\"\",\"\",Wartosci!D263)","v":""}]
[null,null,null,null,null,{"$f":"IF(Wartosci!D264=\"\",\"\",Wartosci!D264)","v":""}]
[null,null,null,null,null,{"$f":"IF(Wartosci!D265=\"\",\"\",Wartosci!D265)","v":""}]
[null,null,null,null,null,{"$f":"IF(Wartosci!D266=\"\",\"\",Wartosci!D266)","v":""}]
[null,null,null,null,null,{"$f":"IF(Wartosci!D267=\"\",\"\",Wartosci!D267)","v":""}]
[null,null,null,null,null,{"$f":"IF(Wartosci!D268=\"\",\"\",Wartosci!D268)","v":""}]
[null,null,null,null,null,{"$f":"IF(Wartosci!D269=\"\",\"\",Wartosci!D269)","v":""}]
[null,null,null,null,null,{"$f":"IF(Wartosci!D270=\"\",\"\",Wartosci!D270)","v":""}]
[null,null,null,null,null,{"$f":"IF(Wartosci!D271=\"\",\"\",Wartosci!D271)","v":""}]
[null,null,null,null,null,{"$f":"IF(Wartosci!D272=\"\",\"\",Wartosci!D272)","v":""}]
[null,null,null,null,null,{"$f":"IF(Wartosci!D273=\"\",\"\",Wartosci!D273)","v":""}]
[null,null,null,null,null,{"$f":"IF(Wartosci!D274=\"\",\"\",Wartosci!D274)","v":""}]
[null,null,null,null,null,{"$f":"IF(Wartosci!D275=\"\",\"\",Wartosci!D275)","v":""}]
[null,null,null,null,null,{"$f":"IF(Wartosci!D276=\"\",\"\",Wartosci!D276)","v":""}]
[null,null,null,null,null,{"$f":"IF(Wartosci!D277=\"\",\"\",Wartosci!D277)","v":""}]
[null,null,null,null,null,{"$f":"IF(Wartosci!D278=\"\",\"\",Wartosci!D278)","v":""}]
[null,null,null,null,null,{"$f":"IF(Wartosci!D279=\"\",\"\",Wartosci!D279)","v":""}]
[null,null,null,null,null,{"$f":"IF(Wartosci!D280=\"\",\"\",Wartosci!D280)","v":""}]
[null,null,null,null,null,{"$f":"IF(Wartosci!D281=\"\",\"\",Wartosci!D281)","v":""}]
[null,null,null,null,null,{"$f":"IF(Wartosci!D282=\"\",\"\",Wartosci!D282)","v":""}]
[null,null,null,null,null,{"$f":"IF(Wartosci!D283=\"\",\"\",Wartosci!D283)","v":""}]
[null,null,null,null,null,{"$f":"IF(Wartosci!D284=\"\",\"\",Wartosci!D284)","v":""}]
[null,null,null,null,null,{"$f":"IF(Wartosci!D285=\"\",\"\",Wartosci!D285)","v":""}]
[null,null,null,null,null,{"$f":"IF(Wartosci!D286=\"\",\"\",Wartosci!D286)","v":""}]
[null,null,null,null,null,{"$f":"IF(Wartosci!D287=\"\",\"\",Wartosci!D287)","v":""}]
[null,null,null,null,null,{"$f":"IF(Wartosci!D288=\"\",\"\",Wartosci!D288)","v":""}]
[null,null,null,null,null,{"$f":"IF(Wartosci!D289=\"\",\"\",Wartosci!D289)","v":""}]
[null,null,null,null,null,{"$f":"IF(Wartosci!D290=\"\",\"\",Wartosci!D290)","v":""}]
[null,null,null,null,null,{"$f":"IF(Wartosci!D291=\"\",\"\",Wartosci!D291)","v":""}]
[null,null,null,null,null,{"$f":"IF(Wartosci!D292=\"\",\"\",Wartosci!D292)","v":""}]
[null,null,null,null,null,{"$f":"IF(Wartosci!D293=\"\",\"\",Wartosci!D293)","v":""}]
[null,null,null,null,null,{"$f":"IF(Wartosci!D294=\"\",\"\",Wartosci!D294)","v":""}]
[null,null,null,null,null,{"$f":"IF(Wartosci!D295=\"\",\"\",Wartosci!D295)","v":""}]
[null,null,null,null,null,{"$f":"IF(Wartosci!D296=\"\",\"\",Wartosci!D296)","v":""}]
[null,null,null,null,null,{"$f":"IF(Wartosci!D297=\"\",\"\",Wartosci!D297)","v":""}]
[null,null,null,null,null,{"$f":"IF(Wartosci!D298=\"\",\"\",Wartosci!D298)","v":""}]
[null,null,null,null,null,{"$f":"IF(Wartosci!D299=\"\",\"\",Wartosci!D299)","v":""}]
[null,null,null,null,null,{"$f":"IF(Wartosci!D300=\"\",\"\",Wartosci!D300)","v":""}]
[null,null,null,null,null,{"$f":"IF(Wartosci!D301=\"\",\"\",Wartosci!D301)","v":""}]
[null,null,null,null,null,{"$f":"IF(Wartosci!D302=\"\",\"\",Wartosci!D302)","v":""}]
[null,null,null,null,null,{"$f":"IF(Wartosci!D303=\"\",\"\",Wartosci!D303)","v":""}]
[null,null,null,null,null,{"$f":"IF(Wartosci!D304=\"\",\"\",Wartosci!D304)","v":""}]
[null,null,null,null,null,{"$f":"IF(Wartosci!D305=\"\",\"\",Wartosci!D305)","v":""}]
[null,null,null,null,null,{"$f":"IF(Wartosci!D306=\"\",\"\",Wartosci!D306)","v":""}]
[null,null,null,null,null,{"$f":"IF(Wartosci!D307=\"\",\"\",Wartosci!D307)","v":""}]
[null,null,null,null,null,{"$f":"IF(Wartosci!D308=\"\",\"\",Wartosci!D308)","v":""}]
[null,null,null,null,null,{"$f":"IF(Wartosci!D309=\"\",\"\",Wartosci!D309)","v":""}]
[null,null,null,null,null,{"$f":"IF(Wartosci!D310=\"\",\"\",Wartosci!D310)","v":""}]
[null,null,null,null,null,{"$f":"IF(Wartosci!D311=\"\",\"\",Wartosci!D311)","v":""}]
[null,null,null,null,null,{"$f":"IF(Wartosci!D312=\"\",\"\",Wartosci!D312)","v":""}]
[null,null,null,null,null,{"$f":"IF(Wartosci!D313=\"\",\"\",Wartosci!D313)","v":""}]
[null,null,null,null,null,{"$f":"IF(Wartosci!D314=\"\",\"\",Wartosci!D314)","v":""}]
[null,null,null,null,null,{"$f":"IF(Wartosci!D315=\"\",\"\",Wartosci!D315)","v":""}]
[null,null,null,null,null,{"$f":"IF(Wartosci!D316=\"\",\"\",Wartosci!D316)","v":""}]
[null,null,null,null,null,{"$f":"IF(Wartosci!D317=\"\",\"\",Wartosci!D317)","v":""}]
[null,null,null,null,null,{"$f":"IF(Wartosci!D318=\"\",\"\",Wartosci!D318)","v":""}]
[null,null,null,null,null,{"$f":"IF(Wartosci!D319=\"\",\"\",Wartosci!D319)","v":""}]
[null,null,null,null,null,{"$f":"IF(Wartosci!D320=\"\",\"\",Wartosci!D320)","v":""}]
[null,null,null,null,null,{"$f":"IF(Wartosci!D321=\"\",\"\",Wartosci!D321)","v":""}]
[null,null,null,null,null,{"$f":"IF(Wartosci!D322=\"\",\"\",Wartosci!D322)","v":""}]
[null,null,null,null,null,{"$f":"IF(Wartosci!D323=\"\",\"\",Wartosci!D323)","v":""}]
[null,null,null,null,null,{"$f":"IF(Wartosci!D324=\"\",\"\",Wartosci!D324)","v":""}]
[null,null,null,null,null,{"$f":"IF(Wartosci!D325=\"\",\"\",Wartosci!D325)","v":""}]
[null,null,null,null,null,{"$f":"IF(Wartosci!D326=\"\",\"\",Wartosci!D326)","v":""}]
[null,null,null,null,null,{"$f":"IF(Wartosci!D327=\"\",\"\",Wartosci!D327)","v":""}]
[null,null,null,null,null,{"$f":"IF(Wartosci!D328=\"\",\"\",Wartosci!D328)","v":""}]
[null,null,null,null,null,{"$f":"IF(Wartosci!D329=\"\",\"\",Wartosci!D329)","v":""}]
[null,null,null,null,null,{"$f":"IF(Wartosci!D330=\"\",\"\",Wartosci!D330)","v":""}]
[null,null,null,null,null,{"$f":"IF(Wartosci!D331=\"\",\"\",Wartosci!D331)","v":""}]
[null,null,null,null,null,{"$f":"IF(Wartosci!D332=\"\",\"\",Wartosci!D332)","v":""}]
[null,null,null,null,null,{"$f":"IF(Wartosci!D333=\"\",\"\",Wartosci!D333)","v":""}]
[null,null,null,null,null,{"$f":"IF(Wartosci!D334=\"\",\"\",Wartosci!D334)","v":""}]
[null,null,null,null,null,{"$f":"IF(Wartosci!D335=\"\",\"\",Wartosci!D335)","v":""}]
[null,null,null,null,null,{"$f":"IF(Wartosci!D336=\"\",\"\",Wartosci!D336)","v":""}]
[null,null,null,null,null,{"$f":"IF(Wartosci!D337=\"\",\"\",Wartosci!D337)","v":""}]
[null,null,null,null,null,{"$f":"IF(Wartosci!D338=\"\",\"\",Wartosci!D338)","v":""}]
[null,null,null,null,null,{"$f":"IF(Wartosci!D339=\"\",\"\",Wartosci!D339)","v":""}]
[null,null,null,null,null,{"$f":"IF(Wartosci!D340=\"\",\"\",Wartosci!D340)","v":""}]
[null,null,null,null,null,{"$f":"IF(Wartosci!D341=\"\",\"\",Wartosci!D341)","v":""}]
[null,null,null,null,null,{"$f":"IF(Wartosci!D342=\"\",\"\",Wartosci!D342)","v":""}]
[null,null,null,null,null,{"$f":"IF(Wartosci!D343=\"\",\"\",Wartosci!D343)","v":""}]
[null,null,null,null,null,{"$f":"IF(Wartosci!D344=\"\",\"\",Wartosci!D344)","v":""}]
[null,null,null,null,null,{"$f":"IF(Wartosci!D345=\"\",\"\",Wartosci!D345)","v":""}]
[null,null,null,null,null,{"$f":"IF(Wartosci!D346=\"\",\"\",Wartosci!D346)","v":""}]
[null,null,null,null,null,{"$f":"IF(Wartosci!D347=\"\",\"\",Wartosci!D347)","v":""}]
[null,null,null,null,null,{"$f":"IF(Wartosci!D348=\"\",\"\",Wartosci!D348)","v":""}]
[null,null,null,null,null,{"$f":"IF(Wartosci!D349=\"\",\"\",Wartosci!D349)","v":""}]
[null,null,null,null,null,{"$f":"IF(Wartosci!D350=\"\",\"\",Wartosci!D350)","v":""}]
[null,null,null,null,null,{"$f":"IF(Wartosci!D351=\"\",\"\",Wartosci!D351)","v":""}]
[null,null,null,null,null,{"$f":"IF(Wartosci!D352=\"\",\"\",Wartosci!D352)","v":""}]
[null,null,null,null,null,{"$f":"IF(Wartosci!D353=\"\",\"\",Wartosci!D353)","v":""}]
[null,null,null,null,null,{"$f":"IF(Wartosci!D354=\"\",\"\",Wartosci!D354)","v":""}]
[null,null,null,null,null,{"$f":"IF(Wartosci!D355=\"\",\"\",Wartosci!D355)","v":""}]
[null,null,null,null,null,{"$f":"IF(Wartosci!D356=\"\",\"\",Wartosci!D356)","v":""}]
[null,null,null,null,null,{"$f":"IF(Wartosci!D357=\"\",\"\",Wartosci!D357)","v":""}]
[null,null,null,null,null,{"$f":"IF(Wartosci!D358=\"\",\"\",Wartosci!D358)","v":""}]
[null,null,null,null,null,{"$f":"IF(Wartosci!D359=\"\",\"\",Wartosci!D359)","v":""}]
[null,null,null,null,null,{"$f":"IF(Wartosci!D360=\"\",\"\",Wartosci!D360)","v":""}]
[null,null,null,null,null,{"$f":"IF(Wartosci!D361=\"\",\"\",Wartosci!D361)","v":""}]
[null,null,null,null,null,{"$f":"IF(Wartosci!D362=\"\",\"\",Wartosci!D362)","v":""}]
[null,null,null,null,null,{"$f":"IF(Wartosci!D363=\"\",\"\",Wartosci!D363)","v":""}]
[null,null,null,null,null,{"$f":"IF(Wartosci!D364=\"\",\"\",Wartosci!D364)","v":""}]
[null,null,null,null,null,{"$f":"IF(Wartosci!D365=\"\",\"\",Wartosci!D365)","v":""}]
[null,null,null,null,null,{"$f":"IF(Wartosci!D366=\"\",\"\",Wartosci!D366)","v":""}]
[null,null,null,null,null,{"$f":"IF(Wartosci!D367=\"\",\"\",Wartosci!D367)","v":""}]
[null,null,null,null,null,{"$f":"IF(Wartosci!D368=\"\",\"\",Wartosci!D368)","v":""}]
[null,null,null,null,null,{"$f":"IF(Wartosci!D369=\"\",\"\",Wartosci!D369)","v":""}]
[null,null,null,null,null,{"$f":"IF(Wartosci!D370=\"\",\"\",Wartosci!D370)","v":""}]
[null,null,null,null,null,{"$f":"IF(Wartosci!D371=\"\",\"\",Wartosci!D371)","v":""}]
[null,null,null,null,null,{"$f":"IF(Wartosci!D372=\"\",\"\",Wartosci!D372)","v":""}]
[null,null,null,null,null,{"$f":"IF(Wartosci!D373=\"\",\"\",Wartosci!D373)","v":""}]
[null,null,null,null,null,{"$f":"IF(Wartosci!D374=\"\",\"\",Wartosci!D374)","v":""}]
[null,null,null,null,null,{"$f":"IF(Wartosci!D375=\"\",\"\",Wartosci!D375)","v":""}]
[null,null,null,null,null,{"$f":"IF(Wartosci!D376=\"\",\"\",Wartosci!D376)","v":""}]
[null,null,null,null,null,{"$f":"IF(Wartosci!D377=\"\",\"\",Wartosci!D377)","v":""}]
[null,null,null,null,null,{"$f":"IF(Wartosci!D378=\"\",\"\",Wartosci!D378)","v":""}]
[null,null,null,null,null,{"$f":"IF(Wartosci!D379=\"\",\"\",Wartosci!D379)","v":""}]
[null,null,null,null,null,{"$f":"IF(Wartosci!D380=\"\",\"\",Wartosci!D380)","v":""}]
[null,null,null,null,null,{"$f":"IF(Wartosci!D381=\"\",\"\",Wartosci!D381)","v":""}]
[null,null,null,null,null,{"$f":"IF(Wartosci!D382=\"\",\"\",Wartosci!D382)","v":""}]
[null,null,null,null,null,{"$f":"IF(Wartosci!D383=\"\",\"\",Wartosci!D383)","v":""}]
[null,null,null,null,null,{"$f":"IF(Wartosci!D384=\"\",\"\",Wartosci!D384)","v":""}]
[null,null,null,null,null,{"$f":"IF(Wartosci!D385=\"\",\"\",Wartosci!D385)","v":""}]
[null,null,null,null,null,{"$f":"IF(Wartosci!D386=\"\",\"\",Wartosci!D386)","v":""}]
[null,null,null,null,null,{"$f":"IF(Wartosci!D387=\"\",\"\",Wartosci!D387)","v":""}]
[null,null,null,null,null,{"$f":"IF(Wartosci!D388=\"\",\"\",Wartosci!D388)","v":""}]
[null,null,null,null,null,{"$f":"IF(Wartosci!D389=\"\",\"\",Wartosci!D389)","v":""}]
[null,null,null,null,null,{"$f":"IF(Wartosci!D390=\"\",\"\",Wartosci!D390)","v":""}]
[null,null,null,null,null,{"$f":"IF(Wartosci!D391=\"\",\"\",Wartosci!D391)","v":""}]
[null,null,null,null,null,{"$f":"IF(Wartosci!D392=\"\",\"\",Wartosci!D392)","v":""}]
[null,null,null,null,null,{"$f":"IF(Wartosci!D393=\"\",\"\",Wartosci!D393)","v":""}]
[null,null,null,null,null,{"$f":"IF(Wartosci!D394=\"\",\"\",Wartosci!D394)","v":""}]
[null,null,null,null,null,{"$f":"IF(Wartosci!D395=\"\",\"\",Wartosci!D395)","v":""}]
[null,null,null,null,null,{"$f":"IF(Wartosci!D396=\"\",\"\",Wartosci!D396)","v":""}]
[null,null,null,null,null,{"$f":"IF(Wartosci!D397=\"\",\"\",Wartosci!D397)","v":""}]
[null,null,null,null,null,{"$f":"IF(Wartosci!D398=\"\",\"\",Wartosci!D398)","v":""}]
[null,null,null,null,null,{"$f":"IF(Wartosci!D399=\"\",\"\",Wartosci!D399)","v":""}]
[null,null,null,null,null,{"$f":"IF(Wartosci!D400=\"\",\"\",Wartosci!D400)","v":""}]
[null,null,null,null,null,{"$f":"IF(Wartosci!D401=\"\",\"\",Wartosci!D401)","v":""}]
[null,null,null,null,null,{"$f":"IF(Wartosci!D402=\"\",\"\",Wartosci!D402)","v":""}]
[null,null,null,null,null,{"$f":"IF(Wartosci!D403=\"\",\"\",Wartosci!D403)","v":""}]
[null,null,null,null,null,{"$f":"IF(Wartosci!D404=\"\",\"\",Wartosci!D404)","v":""}]
[null,null,null,null,null,{"$f":"IF(Wartosci!D405=\"\",\"\",Wartosci!D405)","v":""}]
[null,null,null,null,null,{"$f":"IF(Wartosci!D406=\"\",\"\",Wartosci!D406)","v":""}]
[null,null,null,null,null,{"$f":"IF(Wartosci!D407=\"\",\"\",Wartosci!D407)","v":""}]
[null,null,null,null,null,{"$f":"IF(Wartosci!D408=\"\",\"\",Wartosci!D408)","v":""}]
[null,null,null,null,null,{"$f":"IF(Wartosci!D409=\"\",\"\",Wartosci!D409)","v":""}]
[null,null,null,null,null,{"$f":"IF(Wartosci!D410=\"\",\"\",Wartosci!D410)","v":""}]
[null,null,null,null,null,{"$f":"IF(Wartosci!D411=\"\",\"\",Wartosci!D411)","v":""}]
[null,null,null,null,null,{"$f":"IF(Wartosci!D412=\"\",\"\",Wartosci!D412)","v":""}]
[null,null,null,null,null,{"$f":"IF(Wartosci!D413=\"\",\"\",Wartosci!D413)","v":""}]
[null,null,null,null,null,{"$f":"IF(Wartosci!D414=\"\",\"\",Wartosci!D414)","v":""}]
[null,null,null,null,null,{"$f":"IF(Wartosci!D415=\"\",\"\",Wartosci!D415)","v":""}]
[null,null,null,null,null,{"$f":"IF(Wartosci!D416=\"\",\"\",Wartosci!D416)","v":""}]
[null,null,null,null,null,{"$f":"IF(Wartosci!D417=\"\",\"\",Wartosci!D417)","v":""}]
[null,null,null,null,null,{"$f":"IF(Wartosci!D418=\"\",\"\",Wartosci!D418)","v":""}]
[null,null,null,null,null,{"$f":"IF(Wartosci!D419=\"\",\"\",Wartosci!D419)","v":""}]
[null,null,null,null,null,{"$f":"IF(Wartosci!D420=\"\",\"\",Wartosci!D420)","v":""}]
[null,null,null,null,null,{"$f":"IF(Wartosci!D421=\"\",\"\",Wartosci!D421)","v":""}]
[null,null,null,null,null,{"$f":"IF(Wartosci!D422=\"\",\"\",Wartosci!D422)","v":""}]
[null,null,null,null,null,{"$f":"IF(Wartosci!D423=\"\",\"\",Wartosci!D423)","v":""}]
[null,null,null,null,null,{"$f":"IF(Wartosci!D424=\"\",\"\",Wartosci!D424)","v":""}]
[null,null,null,null,null,{"$f":"IF(Wartosci!D425=\"\",\"\",Wartosci!D425)","v":""}]
[null,null,null,null,null,{"$f":"IF(Wartosci!D426=\"\",\"\",Wartosci!D426)","v":""}]
[null,null,null,null,null,{"$f":"IF(Wartosci!D427=\"\",\"\",Wartosci!D427)","v":""}]
[null,null,null,null,null,{"$f":"IF(Wartosci!D428=\"\",\"\",Wartosci!D428)","v":""}]
[null,null,null,null,null,{"$f":"IF(Wartosci!D429=\"\",\"\",Wartosci!D429)","v":""}]
[null,null,null,null,null,{"$f":"IF(Wartosci!D430=\"\",\"\",Wartosci!D430)","v":""}]
[null,null,null,null,null,{"$f":"IF(Wartosci!D431=\"\",\"\",Wartosci!D431)","v":""}]
[null,null,null,null,null,{"$f":"IF(Wartosci!D432=\"\",\"\",Wartosci!D432)","v":""}]
[null,null,null,null,null,{"$f":"IF(Wartosci!D433=\"\",\"\",Wartosci!D433)","v":""}]
[null,null,null,null,null,{"$f":"IF(Wartosci!D434=\"\",\"\",Wartosci!D434)","v":""}]
[null,null,null,null,null,{"$f":"IF(Wartosci!D435=\"\",\"\",Wartosci!D435)","v":""}]
[null,null,null,null,null,{"$f":"IF(Wartosci!D436=\"\",\"\",Wartosci!D436)","v":""}]
[null,null,null,null,null,{"$f":"IF(Wartosci!D437=\"\",\"\",Wartosci!D437)","v":""}]
[null,null,null,null,null,{"$f":"IF(Wartosci!D438=\"\",\"\",Wartosci!D438)","v":""}]
[null,null,null,null,null,{"$f":"IF(Wartosci!D439=\"\",\"\",Wartosci!D439)","v":""}]
[null,null,null,null,null,{"$f":"IF(Wartosci!D440=\"\",\"\",Wartosci!D440)","v":""}]
[null,null,null,null,null,{"$f":"IF(Wartosci!D441=\"\",\"\",Wartosci!D441)","v":""}]
[null,null,null,null,null,{"$f":"IF(Wartosci!D442=\"\",\"\",Wartosci!D442)","v":""}]
[null,null,null,null,null,{"$f":"IF(Wartosci!D443=\"\",\"\",Wartosci!D443)","v":""}]
[null,null,null,null,null,{"$f":"IF(Wartosci!D444=\"\",\"\",Wartosci!D444)","v":""}]
[null,null,null,null,null,{"$f":"IF(Wartosci!D445=\"\",\"\",Wartosci!D445)","v":""}]
[null,null,null,null,null,{"$f":"IF(Wartosci!D446=\"\",\"\",Wartosci!D446)","v":""}]
[null,null,null,null,null,{"$f":"IF(Wartosci!D447=\"\",\"\",Wartosci!D447)","v":""}]
[null,null,null,null,null,{"$f":"IF(Wartosci!D448=\"\",\"\",Wartosci!D448)","v":""}]
[null,null,null,null,null,{"$f":"IF(Wartosci!D449=\"\",\"\",Wartosci!D449)","v":""}]
[null,null,null,null,null,{"$f":"IF(Wartosci!D450=\"\",\"\",Wartosci!D450)","v":""}]
[null,null,null,null,null,{"$f":"IF(Wartosci!D451=\"\",\"\",Wartosci!D451)","v":""}]
[null,null,null,null,null,{"$f":"IF(Wartosci!D452=\"\",\"\",Wartosci!D452)","v":""}]
[null,null,null,null,null,{"$f":"IF(Wartosci!D453=\"\",\"\",Wartosci!D453)","v":""}]
[null,null,null,null,null,{"$f":"IF(Wartosci!D454=\"\",\"\",Wartosci!D454)","v":""}]
[null,null,null,null,null,{"$f":"IF(Wartosci!D455=\"\",\"\",Wartosci!D455)","v":""}]
[null,null,null,null,null,{"$f":"IF(Wartosci!D456=\"\",\"\",Wartosci!D456)","v":""}]
[null,null,null,null,null,{"$f":"IF(Wartosci!D457=\"\",\"\",Wartosci!D457)","v":""}]
[null,null,null,null,null,{"$f":"IF(Wartosci!D458=\"\",\"\",Wartosci!D458)","v":""}]
[null,null,null,null,null,{"$f":"IF(Wartosci!D459=\"\",\"\",Wartosci!D459)","v":""}]
[null,null,null,null,null,{"$f":"IF(Wartosci!D460=\"\",\"\",Wartosci!D460)","v":""}]
[null,null,null,null,null,{"$f":"IF(Wartosci!D461=\"\",\"\",Wartosci!D461)","v":""}]
[null,null,null,null,null,{"$f":"IF(Wartosci!D462=\"\",\"\",Wartosci!D462)","v":""}]
[null,null,null,null,null,{"$f":"IF(Wartosci!D463=\"\",\"\",Wartosci!D463)","v":""}]
[null,null,null,null,null,{"$f":"IF(Wartosci!D464=\"\",\"\",Wartosci!D464)","v":""}]
[null,null,null,null,null,{"$f":"IF(Wartosci!D465=\"\",\"\",Wartosci!D465)","v":""}]
[null,null,null,null,null,{"$f":"IF(Wartosci!D466=\"\",\"\",Wartosci!D466)","v":""}]
[null,null,null,null,null,{"$f":"IF(Wartosci!D467=\"\",\"\",Wartosci!D467)","v":""}]
[null,null,null,null,null,{"$f":"IF(Wartosci!D468=\"\",\"\",Wartosci!D468)","v":""}]
[null,null,null,null,null,{"$f":"IF(Wartosci!D469=\"\",\"\",Wartosci!D469)","v":""}]
[null,null,null,null,null,{"$f":"IF(Wartosci!D470=\"\",\"\",Wartosci!D470)","v":""}]
[null,null,null,null,null,{"$f":"IF(Wartosci!D471=\"\",\"\",Wartosci!D471)","v":""}]
[null,null,null,null,null,{"$f":"IF(Wartosci!D472=\"\",\"\",Wartosci!D472)","v":""}]
[null,null,null,null,null,{"$f":"IF(Wartosci!D473=\"\",\"\",Wartosci!D473)","v":""}]
[null,null,null,null,null,{"$f":"IF(Wartosci!D474=\"\",\"\",Wartosci!D474)","v":""}]
[null,null,null,null,null,{"$f":"IF(Wartosci!D475=\"\",\"\",Wartosci!D475)","v":""}]
[null,null,null,null,null,{"$f":"IF(Wartosci!D476=\"\",\"\",Wartosci!D476)","v":""}]
[null,null,null,null,null,{"$f":"IF(Wartosci!D477=\"\",\"\",Wartosci!D477)","v":""}]
[null,null,null,null,null,{"$f":"IF(Wartosci!D478=\"\",\"\",Wartosci!D478)","v":""}]
[null,null,null,null,null,{"$f":"IF(Wartosci!D479=\"\",\"\",Wartosci!D479)","v":""}]
[null,null,null,null,null,{"$f":"IF(Wartosci!D480=\"\",\"\",Wartosci!D480)","v":""}]
[null,null,null,null,null,{"$f":"IF(Wartosci!D481=\"\",\"\",Wartosci!D481)","v":""}]
[null,null,null,null,null,{"$f":"IF(Wartosci!D482=\"\",\"\",Wartosci!D482)","v":""}]
[null,null,null,null,null,{"$f":"IF(Wartosci!D483=\"\",\"\",Wartosci!D483)","v":""}]
[null,null,null,null,null,{"$f":"IF(Wartosci!D484=\"\",\"\",Wartosci!D484)","v":""}]
[null,null,null,null,null,{"$f":"IF(Wartosci!D485=\"\",\"\",Wartosci!D485)","v":""}]
[null,null,null,null,null,{"$f":"IF(Wartosci!D486=\"\",\"\",Wartosci!D486)","v":""}]
[null,null,null,null,null,{"$f":"IF(Wartosci!D487=\"\",\"\",Wartosci!D487)","v":""}]
[null,null,null,null,null,{"$f":"IF(Wartosci!D488=\"\",\"\",Wartosci!D488)","v":""}]
[null,null,null,null,null,{"$f":"IF(Wartosci!D489=\"\",\"\",Wartosci!D489)","v":""}]
[null,null,null,null,null,{"$f":"IF(Wartosci!D490=\"\",\"\",Wartosci!D490)","v":""}]
[null,null,null,null,null,{"$f":"IF(Wartosci!D491=\"\",\"\",Wartosci!D491)","v":""}]
[null,null,null,null,null,{"$f":"IF(Wartosci!D492=\"\",\"\",Wartosci!D492)","v":""}]
[null,null,null,null,null,{"$f":"IF(Wartosci!D493=\"\",\"\",Wartosci!D493)","v":""}]
[null,null,null,null,null,{"$f":"IF(Wartosci!D494=\"\",\"\",Wartosci!D494)","v":""}]
[null,null,null,null,null,{"$f":"IF(Wartosci!D495=\"\",\"\",Wartosci!D495)","v":""}]
[null,null,null,null,null,{"$f":"IF(Wartosci!D496=\"\",\"\",Wartosci!D496)","v":""}]
[null,null,null,null,null,{"$f":"IF(Wartosci!D497=\"\",\"\",Wartosci!D497)","v":""}]
[null,null,null,null,null,{"$f":"IF(Wartosci!D498=\"\",\"\",Wartosci!D498)","v":""}]
[null,null,null,null,null,{"$f":"IF(Wartosci!D499=\"\",\"\",Wartosci!D499)","v":""}]
[null,null,null,null,null,{"$f":"IF(Wartosci!D500=\"\",\"\",Wartosci!D500)","v":""}]
[null,null,null,null,null,{"$f":"IF(Wartosci!D501=\"\",\"\",Wartosci!D501)","v":""}]
[null,null,null,null,null,{"$f":"IF(Wartosci!D502=\"\",\"\",Wartosci!D502)","v":""}]
[null,null,null,null,null,{"$f":"IF(Wartosci!D503=\"\",\"\",Wartosci!D503)","v":""}]
[null,null,null,null,null,{"$f":"IF(Wartosci!D504=\"\",\"\",Wartosci!D504)","v":""}]
[null,null,null,null,null,{"$f":"IF(Wartosci!D505=\"\",\"\",Wartosci!D505)","v":""}]
[null,null,null,null,null,{"$f":"IF(Wartosci!D506=\"\",\"\",Wartosci!D506)","v":""}]
[null,null,null,null,null,{"$f":"IF(Wartosci!D507=\"\",\"\",Wartosci!D507)","v":""}]
[null,null,null,null,null,{"$f":"IF(Wartosci!D508=\"\",\"\",Wartosci!D508)","v":""}]
[null,null,null,null,null,{"$f":"IF(Wartosci!D509=\"\",\"\",Wartosci!D509)","v":""}]
[null,null,null,null,null,{"$f":"IF(Wartosci!D510=\"\",\"\",Wartosci!D510)","v":""}]
[null,null,null,null,null,{"$f":"IF(Wartosci!D511=\"\",\"\",Wartosci!D511)","v":""}]
[null,null,null,null,null,{"$f":"IF(Wartosci!D512=\"\",\"\",Wartosci!D512)","v":""}]
[null,null,null,null,null,{"$f":"IF(Wartosci!D513=\"\",\"\",Wartosci!D513)","v":""}]
[null,null,null,null,null,{"$f":"IF(Wartosci!D514=\"\",\"\",Wartosci!D514)","v":""}]
[null,null,null,null,null,{"$f":"IF(Wartosci!D515=\"\",\"\",Wartosci!D515)","v":""}]
[null,null,null,null,null,{"$f":"IF(Wartosci!D516=\"\",\"\",Wartosci!D516)","v":""}]
[null,null,null,null,null,{"$f":"IF(Wartosci!D517=\"\",\"\",Wartosci!D517)","v":""}]
[null,null,null,null,null,{"$f":"IF(Wartosci!D518=\"\",\"\",Wartosci!D518)","v":""}]
[null,null,null,null,null,{"$f":"IF(Wartosci!D519=\"\",\"\",Wartosci!D519)","v":""}]
[null,null,null,null,null,{"$f":"IF(Wartosci!D520=\"\",\"\",Wartosci!D520)","v":""}]
[null,null,null,null,null,{"$f":"IF(Wartosci!D521=\"\",\"\",Wartosci!D521)","v":""}]
[null,null,null,null,null,{"$f":"IF(Wartosci!D522=\"\",\"\",Wartosci!D522)","v":""}]
[null,null,null,null,null,{"$f":"IF(Wartosci!D523=\"\",\"\",Wartosci!D523)","v":""}]
[null,null,null,null,null,{"$f":"IF(Wartosci!D524=\"\",\"\",Wartosci!D524)","v":""}]
[null,null,null,null,null,{"$f":"IF(Wartosci!D525=\"\",\"\",Wartosci!D525)","v":""}]
[null,null,null,null,null,{"$f":"IF(Wartosci!D526=\"\",\"\",Wartosci!D526)","v":""}]
[null,null,null,null,null,{"$f":"IF(Wartosci!D527=\"\",\"\",Wartosci!D527)","v":""}]
[null,null,null,null,null,{"$f":"IF(Wartosci!D528=\"\",\"\",Wartosci!D528)","v":""}]
[null,null,null,null,null,{"$f":"IF(Wartosci!D529=\"\",\"\",Wartosci!D529)","v":""}]
[null,null,null,null,null,{"$f":"IF(Wartosci!D530=\"\",\"\",Wartosci!D530)","v":""}]
[null,null,null,null,null,{"$f":"IF(Wartosci!D531=\"\",\"\",Wartosci!D531)","v":""}]
[null,null,null,null,null,{"$f":"IF(Wartosci!D532=\"\",\"\",Wartosci!D532)","v":""}]
[null,null,null,null,null,{"$f":"IF(Wartosci!D533=\"\",\"\",Wartosci!D533)","v":""}]
[null,null,null,null,null,{"$f":"IF(Wartosci!D534=\"\",\"\",Wartosci!D534)","v":""}]
[null,null,null,null,null,{"$f":"IF(Wartosci!D535=\"\",\"\",Wartosci!D535)","v":""}]
[null,null,null,null,null,{"$f":"IF(Wartosci!D536=\"\",\"\",Wartosci!D536)","v":""}]
[null,null,null,null,null,{"$f":"IF(Wartosci!D537=\"\",\"\",Wartosci!D537)","v":""}]
[null,null,null,null,null,{"$f":"IF(Wartosci!D538=\"\",\"\",Wartosci!D538)","v":""}]
[null,null,null,null,null,{"$f":"IF(Wartosci!D539=\"\",\"\",Wartosci!D539)","v":""}]
[null,null,null,null,null,{"$f":"IF(Wartosci!D540=\"\",\"\",Wartosci!D540)","v":""}]
[null,null,null,null,null,{"$f":"IF(Wartosci!D541=\"\",\"\",Wartosci!D541)","v":""}]
[null,null,null,null,null,{"$f":"IF(Wartosci!D542=\"\",\"\",Wartosci!D542)","v":""}]
[null,null,null,null,null,{"$f":"IF(Wartosci!D543=\"\",\"\",Wartosci!D543)","v":""}]
[null,null,null,null,null,{"$f":"IF(Wartosci!D544=\"\",\"\",Wartosci!D544)","v":""}]
[null,null,null,null,null,{"$f":"IF(Wartosci!D545=\"\",\"\",Wartosci!D545)","v":""}]
[null,null,null,null,null,{"$f":"IF(Wartosci!D546=\"\",\"\",Wartosci!D546)","v":""}]
[null,null,null,null,null,{"$f":"IF(Wartosci!D547=\"\",\"\",Wartosci!D547)","v":""}]
[null,null,null,null,null,{"$f":"IF(Wartosci!D548=\"\",\"\",Wartosci!D548)","v":""}]
[null,null,null,null,null,{"$f":"IF(Wartosci!D549=\"\",\"\",Wartosci!D549)","v":""}]
[null,null,null,null,null,{"$f":"IF(Wartosci!D550=\"\",\"\",Wartosci!D550)","v":""}]
[null,null,null,null,null,{"$f":"IF(Wartosci!D551=\"\",\"\",Wartosci!D551)","v":""}]
[null,null,null,null,null,{"$f":"IF(Wartosci!D552=\"\",\"\",Wartosci!D552)","v":""}]
[null,null,null,null,null,{"$f":"IF(Wartosci!D553=\"\",\"\",Wartosci!D553)","v":""}]
[null,null,null,null,null,{"$f":"IF(Wartosci!D554=\"\",\"\",Wartosci!D554)","v":""}]
[null,null,null,null,null,{"$f":"IF(Wartosci!D555=\"\",\"\",Wartosci!D555)","v":""}]
[null,null,null,null,null,{"$f":"IF(Wartosci!D556=\"\",\"\",Wartosci!D556)","v":""}]
[null,null,null,null,null,{"$f":"IF(Wartosci!D557=\"\",\"\",Wartosci!D557)","v":""}]
[null,null,null,null,null,{"$f":"IF(Wartosci!D558=\"\",\"\",Wartosci!D558)","v":""}]
[null,null,null,null,null,{"$f":"IF(Wartosci!D559=\"\",\"\",Wartosci!D559)","v":""}]
[null,null,null,null,null,{"$f":"IF(Wartosci!D560=\"\",\"\",Wartosci!D560)","v":""}]
[null,null,null,null,null,{"$f":"IF(Wartosci!D561=\"\",\"\",Wartosci!D561)","v":""}]
[null,null,null,null,null,{"$f":"IF(Wartosci!D562=\"\",\"\",Wartosci!D562)","v":""}]
[null,null,null,null,null,{"$f":"IF(Wartosci!D563=\"\",\"\",Wartosci!D563)","v":""}]
[null,null,null,null,null,{"$f":"IF(Wartosci!D564=\"\",\"\",Wartosci!D564)","v":""}]
[null,null,null,null,null,{"$f":"IF(Wartosci!D565=\"\",\"\",Wartosci!D565)","v":""}]
[null,null,null,null,null,{"$f":"IF(Wartosci!D566=\"\",\"\",Wartosci!D566)","v":""}]
[null,null,null,null,null,{"$f":"IF(Wartosci!D567=\"\",\"\",Wartosci!D567)","v":""}]
[null,null,null,null,null,{"$f":"IF(Wartosci!D568=\"\",\"\",Wartosci!D568)","v":""}]
[null,null,null,null,null,{"$f":"IF(Wartosci!D569=\"\",\"\",Wartosci!D569)","v":""}]
[null,null,null,null,null,{"$f":"IF(Wartosci!D570=\"\",\"\",Wartosci!D570)","v":""}]
[null,null,null,null,null,{"$f":"IF(Wartosci!D571=\"\",\"\",Wartosci!D571)","v":""}]
[null,null,null,null,null,{"$f":"IF(Wartosci!D572=\"\",\"\",Wartosci!D572)","v":""}]
[null,null,null,null,null,{"$f":"IF(Wartosci!D573=\"\",\"\",Wartosci!D573)","v":""}]
[null,null,null,null,null,{"$f":"IF(Wartosci!D574=\"\",\"\",Wartosci!D574)","v":""}]
[null,null,null,null,null,{"$f":"IF(Wartosci!D575=\"\",\"\",Wartosci!D575)","v":""}]
[null,null,null,null,null,{"$f":"IF(Wartosci!D576=\"\",\"\",Wartosci!D576)","v":""}]
[null,null,null,null,null,{"$f":"IF(Wartosci!D577=\"\",\"\",Wartosci!D577)","v":""}]
[null,null,null,null,null,{"$f":"IF(Wartosci!D578=\"\",\"\",Wartosci!D578)","v":""}]
[null,null,null,null,null,{"$f":"IF(Wartosci!D579=\"\",\"\",Wartosci!D579)","v":""}]
[null,null,null,null,null,{"$f":"IF(Wartosci!D580=\"\",\"\",Wartosci!D580)","v":""}]
[null,null,null,null,null,{"$f":"IF(Wartosci!D581=\"\",\"\",Wartosci!D581)","v":""}]
[null,null,null,null,null,{"$f":"IF(Wartosci!D582=\"\",\"\",Wartosci!D582)","v":""}]
[null,null,null,null,null,{"$f":"IF(Wartosci!D583=\"\",\"\",Wartosci!D583)","v":""}]
[null,null,null,null,null,{"$f":"IF(Wartosci!D584=\"\",\"\",Wartosci!D584)","v":""}]
[null,null,null,null,null,{"$f":"IF(Wartosci!D585=\"\",\"\",Wartosci!D585)","v":""}]
[null,null,null,null,null,{"$f":"IF(Wartosci!D586=\"\",\"\",Wartosci!D586)","v":""}]
[null,null,null,null,null,{"$f":"IF(Wartosci!D587=\"\",\"\",Wartosci!D587)","v":""}]
[null,null,null,null,null,{"$f":"IF(Wartosci!D588=\"\",\"\",Wartosci!D588)","v":""}]
[null,null,null,null,null,{"$f":"IF(Wartosci!D589=\"\",\"\",Wartosci!D589)","v":""}]
[null,null,null,null,null,{"$f":"IF(Wartosci!D590=\"\",\"\",Wartosci!D590)","v":""}]
[null,null,null,null,null,{"$f":"IF(Wartosci!D591=\"\",\"\",Wartosci!D591)","v":""}]
[null,null,null,null,null,{"$f":"IF(Wartosci!D592=\"\",\"\",Wartosci!D592)","v":""}]
[null,null,null,null,null,{"$f":"IF(Wartosci!D593=\"\",\"\",Wartosci!D593)","v":""}]
[null,null,null,null,null,{"$f":"IF(Wartosci!D594=\"\",\"\",Wartosci!D594)","v":""}]
[null,null,null,null,null,{"$f":"IF(Wartosci!D595=\"\",\"\",Wartosci!D595)","v":""}]
[null,null,null,null,null,{"$f":"IF(Wartosci!D596=\"\",\"\",Wartosci!D596)","v":""}]
[null,null,null,null,null,{"$f":"IF(Wartosci!D597=\"\",\"\",Wartosci!D597)","v":""}]
[null,null,null,null,null,{"$f":"IF(Wartosci!D598=\"\",\"\",Wartosci!D598)","v":""}]
[null,null,null,null,null,{"$f":"IF(Wartosci!D599=\"\",\"\",Wartosci!D599)","v":""}]
[null,null,null,null,null,{"$f":"IF(Wartosci!D600=\"\",\"\",Wartosci!D600)","v":""}]
[null,null,null,null,null,{"$f":"IF(Wartosci!D601=\"\",\"\",Wartosci!D601)","v":""}]
[null,null,null,null,null,{"$f":"IF(Wartosci!D602=\"\",\"\",Wartosci!D602)","v":""}]
[null,null,null,null,null,{"$f":"IF(Wartosci!D603=\"\",\"\",Wartosci!D603)","v":""}]
[null,null,null,null,null,{"$f":"IF(Wartosci!D604=\"\",\"\",Wartosci!D604)","v":""}]
[null,null,null,null,null,{"$f":"IF(Wartosci!D605=\"\",\"\",Wartosci!D605)","v":""}]
[null,null,null,null,null,{"$f":"IF(Wartosci!D606=\"\",\"\",Wartosci!D606)","v":""}]
[null,null,null,null,null,{"$f":"IF(Wartosci!D607=\"\",\"\",Wartosci!D607)","v":""}]
[null,null,null,null,null,{"$f":"IF(Wartosci!D608=\"\",\"\",Wartosci!D608)","v":""}]
[null,null,null,null,null,{"$f":"IF(Wartosci!D609=\"\",\"\",Wartosci!D609)","v":""}]
[null,null,null,null,null,{"$f":"IF(Wartosci!D610=\"\",\"\",Wartosci!D610)","v":""}]
[null,null,null,null,null,{"$f":"IF(Wartosci!D611=\"\",\"\",Wartosci!D611)","v":""}]
[null,null,null,null,null,{"$f":"IF(Wartosci!D612=\"\",\"\",Wartosci!D612)","v":""}]
[null,null,null,null,null,{"$f":"IF(Wartosci!D613=\"\",\"\",Wartosci!D613)","v":""}]
[null,null,null,null,null,{"$f":"IF(Wartosci!D614=\"\",\"\",Wartosci!D614)","v":""}]
[null,null,null,null,null,{"$f":"IF(Wartosci!D615=\"\",\"\",Wartosci!D615)","v":""}]
[null,null,null,null,null,{"$f":"IF(Wartosci!D616=\"\",\"\",Wartosci!D616)","v":""}]
[null,null,null,null,null,{"$f":"IF(Wartosci!D617=\"\",\"\",Wartosci!D617)","v":""}]
[null,null,null,null,null,{"$f":"IF(Wartosci!D618=\"\",\"\",Wartosci!D618)","v":""}]
[null,null,null,null,null,{"$f":"IF(Wartosci!D619=\"\",\"\",Wartosci!D619)","v":""}]
[null,null,null,null,null,{"$f":"IF(Wartosci!D620=\"\",\"\",Wartosci!D620)","v":""}]
[null,null,null,null,null,{"$f":"IF(Wartosci!D621=\"\",\"\",Wartosci!D621)","v":""}]
[null,null,null,null,null,{"$f":"IF(Wartosci!D622=\"\",\"\",Wartosci!D622)","v":""}]
[null,null,null,null,null,{"$f":"IF(Wartosci!D623=\"\",\"\",Wartosci!D623)","v":""}]
[null,null,null,null,null,{"$f":"IF(Wartosci!D624=\"\",\"\",Wartosci!D624)","v":""}]
[null,null,null,null,null,{"$f":"IF(Wartosci!D625=\"\",\"\",Wartosci!D625)","v":""}]
[null,null,null,null,null,{"$f":"IF(Wartosci!D626=\"\",\"\",Wartosci!D626)","v":""}]
[null,null,null,null,null,{"$f":"IF(Wartosci!D627=\"\",\"\",Wartosci!D627)","v":""}]
[null,null,null,null,null,{"$f":"IF(Wartosci!D628=\"\",\"\",Wartosci!D628)","v":""}]
[null,null,null,null,null,{"$f":"IF(Wartosci!D629=\"\",\"\",Wartosci!D629)","v":""}]
[null,null,null,null,null,{"$f":"IF(Wartosci!D630=\"\",\"\",Wartosci!D630)","v":""}]
[null,null,null,null,null,{"$f":"IF(Wartosci!D631=\"\",\"\",Wartosci!D631)","v":""}]
[null,null,null,null,null,{"$f":"IF(Wartosci!D632=\"\",\"\",Wartosci!D632)","v":""}]
[null,null,null,null,null,{"$f":"IF(Wartosci!D633=\"\",\"\",Wartosci!D633)","v":""}]
[null,null,null,null,null,{"$f":"IF(Wartosci!D634=\"\",\"\",Wartosci!D634)","v":""}]
[null,null,null,null,null,{"$f":"IF(Wartosci!D635=\"\",\"\",Wartosci!D635)","v":""}]
[null,null,null,null,null,{"$f":"IF(Wartosci!D636=\"\",\"\",Wartosci!D636)","v":""}]
[null,null,null,null,null,{"$f":"IF(Wartosci!D637=\"\",\"\",Wartosci!D637)","v":""}]
[null,null,null,null,null,{"$f":"IF(Wartosci!D638=\"\",\"\",Wartosci!D638)","v":""}]
[null,null,null,null,null,{"$f":"IF(Wartosci!D639=\"\",\"\",Wartosci!D639)","v":""}]
[null,null,null,null,null,{"$f":"IF(Wartosci!D640=\"\",\"\",Wartosci!D640)","v":""}]
[null,null,null,null,null,{"$f":"IF(Wartosci!D641=\"\",\"\",Wartosci!D641)","v":""}]
[null,null,null,null,null,{"$f":"IF(Wartosci!D642=\"\",\"\",Wartosci!D642)","v":""}]
[null,null,null,null,null,{"$f":"IF(Wartosci!D643=\"\",\"\",Wartosci!D643)","v":""}]
[null,null,null,null,null,{"$f":"IF(Wartosci!D644=\"\",\"\",Wartosci!D644)","v":""}]
[null,null,null,null,null,{"$f":"IF(Wartosci!D645=\"\",\"\",Wartosci!D645)","v":""}]
[null,null,null,null,null,{"$f":"IF(Wartosci!D646=\"\",\"\",Wartosci!D646)","v":""}]
[null,null,null,null,null,{"$f":"IF(Wartosci!D647=\"\",\"\",Wartosci!D647)","v":""}]
[null,null,null,null,null,{"$f":"IF(Wartosci!D648=\"\",\"\",Wartosci!D648)","v":""}]
[null,null,null,null,null,{"$f":"IF(Wartosci!D649=\"\",\"\",Wartosci!D649)","v":""}]
[null,null,null,null,null,{"$f":"IF(Wartosci!D650=\"\",\"\",Wartosci!D650)","v":""}]
[null,null,null,null,null,{"$f":"IF(Wartosci!D651=\"\",\"\",Wartosci!D651)","v":""}]
[null,null,null,null,null,{"$f":"IF(Wartosci!D652=\"\",\"\",Wartosci!D652)","v":""}]
[null,null,null,null,null,{"$f":"IF(Wartosci!D653=\"\",\"\",Wartosci!D653)","v":""}]
[null,null,null,null,null,{"$f":"IF(Wartosci!D654=\"\",\"\",Wartosci!D654)","v":""}]
[null,null,null,null,null,{"$f":"IF(Wartosci!D655=\"\",\"\",Wartosci!D655)","v":""}]
[null,null,null,null,null,{"$f":"IF(Wartosci!D656=\"\",\"\",Wartosci!D656)","v":""}]
[null,null,null,null,null,{"$f":"IF(Wartosci!D657=\"\",\"\",Wartosci!D657)","v":""}]
[null,null,null,null,null,{"$f":"IF(Wartosci!D658=\"\",\"\",Wartosci!D658)","v":""}]
[null,null,null,null,null,{"$f":"IF(Wartosci!D659=\"\",\"\",Wartosci!D659)","v":""}]
[null,null,null,null,null,{"$f":"IF(Wartosci!D660=\"\",\"\",Wartosci!D660)","v":""}]
[null,null,null,null,null,{"$f":"IF(Wartosci!D661=\"\",\"\",Wartosci!D661)","v":""}]
[null,null,null,null,null,{"$f":"IF(Wartosci!D662=\"\",\"\",Wartosci!D662)","v":""}]
[null,null,null,null,null,{"$f":"IF(Wartosci!D663=\"\",\"\",Wartosci!D663)","v":""}]
[null,null,null,null,null,{"$f":"IF(Wartosci!D664=\"\",\"\",Wartosci!D664)","v":""}]
[null,null,null,null,null,{"$f":"IF(Wartosci!D665=\"\",\"\",Wartosci!D665)","v":""}]
[null,null,null,null,null,{"$f":"IF(Wartosci!D666=\"\",\"\",Wartosci!D666)","v":""}]
[null,null,null,null,null,{"$f":"IF(Wartosci!D667=\"\",\"\",Wartosci!D667)","v":""}]
[null,null,null,null,null,{"$f":"IF(Wartosci!D668=\"\",\"\",Wartosci!D668)","v":""}]
[null,null,null,null,null,{"$f":"IF(Wartosci!D669=\"\",\"\",Wartosci!D669)","v":""}]
[null,null,null,null,null,{"$f":"IF(Wartosci!D670=\"\",\"\",Wartosci!D670)","v":""}]
[null,null,null,null,null,{"$f":"IF(Wartosci!D671=\"\",\"\",Wartosci!D671)","v":""}]
[null,null,null,null,null,{"$f":"IF(Wartosci!D672=\"\",\"\",Wartosci!D672)","v":""}]
[null,null,null,null,null,{"$f":"IF(Wartosci!D673=\"\",\"\",Wartosci!D673)","v":""}]
[null,null,null,null,null,{"$f":"IF(Wartosci!D674=\"\",\"\",Wartosci!D674)","v":""}]
[null,null,null,null,null,{"$f":"IF(Wartosci!D675=\"\",\"\",Wartosci!D675)","v":""}]
[null,null,null,null,null,{"$f":"IF(Wartosci!D676=\"\",\"\",Wartosci!D676)","v":""}]
[null,null,null,null,null,{"$f":"IF(Wartosci!D677=\"\",\"\",Wartosci!D677)","v":""}]
[null,null,null,null,null,{"$f":"IF(Wartosci!D678=\"\",\"\",Wartosci!D678)","v":""}]
[null,null,null,null,null,{"$f":"IF(Wartosci!D679=\"\",\"\",Wartosci!D679)","v":""}]
[null,null,null,null,null,{"$f":"IF(Wartosci!D680=\"\",\"\",Wartosci!D680)","v":""}]
[null,null,null,null,null,{"$f":"IF(Wartosci!D681=\"\",\"\",Wartosci!D681)","v":""}]
[null,null,null,null,null,{"$f":"IF(Wartosci!D682=\"\",\"\",Wartosci!D682)","v":""}]
[null,null,null,null,null,{"$f":"IF(Wartosci!D683=\"\",\"\",Wartosci!D683)","v":""}]
[null,null,null,null,null,{"$f":"IF(Wartosci!D684=\"\",\"\",Wartosci!D684)","v":""}]
[null,null,null,null,null,{"$f":"IF(Wartosci!D685=\"\",\"\",Wartosci!D685)","v":""}]
[null,null,null,null,null,{"$f":"IF(Wartosci!D686=\"\",\"\",Wartosci!D686)","v":""}]
[null,null,null,null,null,{"$f":"IF(Wartosci!D687=\"\",\"\",Wartosci!D687)","v":""}]
[null,null,null,null,null,{"$f":"IF(Wartosci!D688=\"\",\"\",Wartosci!D688)","v":""}]
[null,null,null,null,null,{"$f":"IF(Wartosci!D689=\"\",\"\",Wartosci!D689)","v":""}]
[null,null,null,null,null,{"$f":"IF(Wartosci!D690=\"\",\"\",Wartosci!D690)","v":""}]
[null,null,null,null,null,{"$f":"IF(Wartosci!D691=\"\",\"\",Wartosci!D691)","v":""}]
[null,null,null,null,null,{"$f":"IF(Wartosci!D692=\"\",\"\",Wartosci!D692)","v":""}]
[null,null,null,null,null,{"$f":"IF(Wartosci!D693=\"\",\"\",Wartosci!D693)","v":""}]
[null,null,null,null,null,{"$f":"IF(Wartosci!D694=\"\",\"\",Wartosci!D694)","v":""}]
[null,null,null,null,null,{"$f":"IF(Wartosci!D695=\"\",\"\",Wartosci!D695)","v":""}]
[null,null,null,null,null,{"$f":"IF(Wartosci!D696=\"\",\"\",Wartosci!D696)","v":""}]
[null,null,null,null,null,{"$f":"IF(Wartosci!D697=\"\",\"\",Wartosci!D697)","v":""}]
[null,null,null,null,null,{"$f":"IF(Wartosci!D698=\"\",\"\",Wartosci!D698)","v":""}]
[null,null,null,null,null,{"$f":"IF(Wartosci!D699=\"\",\"\",Wartosci!D699)","v":""}]
[null,null,null,null,null,{"$f":"IF(Wartosci!D700=\"\",\"\",Wartosci!D700)","v":""}]
[null,null,null,null,null,{"$f":"IF(Wartosci!D701=\"\",\"\",Wartosci!D701)","v":""}]
[null,null,null,null,null,{"$f":"IF(Wartosci!D702=\"\",\"\",Wartosci!D702)","v":""}]
[null,null,null,null,null,{"$f":"IF(Wartosci!D703=\"\",\"\",Wartosci!D703)","v":""}]
[null,null,null,null,null,{"$f":"IF(Wartosci!D704=\"\",\"\",Wartosci!D704)","v":""}]
[null,null,null,null,null,{"$f":"IF(Wartosci!D705=\"\",\"\",Wartosci!D705)","v":""}]
[null,null,null,null,null,{"$f":"IF(Wartosci!D706=\"\",\"\",Wartosci!D706)","v":""}]
[null,null,null,null,null,{"$f":"IF(Wartosci!D707=\"\",\"\",Wartosci!D707)","v":""}]
[null,null,null,null,null,{"$f":"IF(Wartosci!D708=\"\",\"\",Wartosci!D708)","v":""}]
[null,null,null,null,null,{"$f":"IF(Wartosci!D709=\"\",\"\",Wartosci!D709)","v":""}]
[null,null,null,null,null,{"$f":"IF(Wartosci!D710=\"\",\"\",Wartosci!D710)","v":""}]
[null,null,null,null,null,{"$f":"IF(Wartosci!D711=\"\",\"\",Wartosci!D711)","v":""}]
[null,null,null,null,null,{"$f":"IF(Wartosci!D712=\"\",\"\",Wartosci!D712)","v":""}]
[null,null,null,null,null,{"$f":"IF(Wartosci!D713=\"\",\"\",Wartosci!D713)","v":""}]
[null,null,null,null,null,{"$f":"IF(Wartosci!D714=\"\",\"\",Wartosci!D714)","v":""}]
[null,null,null,null,null,{"$f":"IF(Wartosci!D715=\"\",\"\",Wartosci!D715)","v":""}]
[null,null,null,null,null,{"$f":"IF(Wartosci!D716=\"\",\"\",Wartosci!D716)","v":""}]
[null,null,null,null,null,{"$f":"IF(Wartosci!D717=\"\",\"\",Wartosci!D717)","v":""}]
[null,null,null,null,null,{"$f":"IF(Wartosci!D718=\"\",\"\",Wartosci!D718)","v":""}]
[null,null,null,null,null,{"$f":"IF(Wartosci!D719=\"\",\"\",Wartosci!D719)","v":""}]
[null,null,null,null,null,{"$f":"IF(Wartosci!D720=\"\",\"\",Wartosci!D720)","v":""}]
[null,null,null,null,null,{"$f":"IF(Wartosci!D721=\"\",\"\",Wartosci!D721)","v":""}]
[null,null,null,null,null,{"$f":"IF(Wartosci!D722=\"\",\"\",Wartosci!D722)","v":""}]
[null,null,null,null,null,{"$f":"IF(Wartosci!D723=\"\",\"\",Wartosci!D723)","v":""}]
[null,null,null,null,null,{"$f":"IF(Wartosci!D724=\"\",\"\",Wartosci!D724)","v":""}]
[null,null,null,null,null,{"$f":"IF(Wartosci!D725=\"\",\"\",Wartosci!D725)","v":""}]
[null,null,null,null,null,{"$f":"IF(Wartosci!D726=\"\",\"\",Wartosci!D726)","v":""}]
[null,null,null,null,null,{"$f":"IF(Wartosci!D727=\"\",\"\",Wartosci!D727)","v":""}]
[null,null,null,null,null,{"$f":"IF(Wartosci!D728=\"\",\"\",Wartosci!D728)","v":""}]
[null,null,null,null,null,{"$f":"IF(Wartosci!D729=\"\",\"\",Wartosci!D729)","v":""}]
[null,null,null,null,null,{"$f":"IF(Wartosci!D730=\"\",\"\",Wartosci!D730)","v":""}]
[null,null,null,null,null,{"$f":"IF(Wartosci!D731=\"\",\"\",Wartosci!D731)","v":""}]
[null,null,null,null,null,{"$f":"IF(Wartosci!D732=\"\",\"\",Wartosci!D732)","v":""}]
[null,null,null,null,null,{"$f":"IF(Wartosci!D733=\"\",\"\",Wartosci!D733)","v":""}]
[null,null,null,null,null,{"$f":"IF(Wartosci!D734=\"\",\"\",Wartosci!D734)","v":""}]
[null,null,null,null,null,{"$f":"IF(Wartosci!D735=\"\",\"\",Wartosci!D735)","v":""}]
[null,null,null,null,null,{"$f":"IF(Wartosci!D736=\"\",\"\",Wartosci!D736)","v":""}]
[null,null,null,null,null,{"$f":"IF(Wartosci!D737=\"\",\"\",Wartosci!D737)","v":""}]
[null,null,null,null,null,{"$f":"IF(Wartosci!D738=\"\",\"\",Wartosci!D738)","v":""}]
[null,null,null,null,null,{"$f":"IF(Wartosci!D739=\"\",\"\",Wartosci!D739)","v":""}]
[null,null,null,null,null,{"$f":"IF(Wartosci!D740=\"\",\"\",Wartosci!D740)","v":""}]
[null,null,null,null,null,{"$f":"IF(Wartosci!D741=\"\",\"\",Wartosci!D741)","v":""}]
[null,null,null,null,null,{"$f":"IF(Wartosci!D742=\"\",\"\",Wartosci!D742)","v":""}]
[null,null,null,null,null,{"$f":"IF(Wartosci!D743=\"\",\"\",Wartosci!D743)","v":""}]
[null,null,null,null,null,{"$f":"IF(Wartosci!D744=\"\",\"\",Wartosci!D744)","v":""}]
[null,null,null,null,null,{"$f":"IF(Wartosci!D745=\"\",\"\",Wartosci!D745)","v":""}]
[null,null,null,null,null,{"$f":"IF(Wartosci!D746=\"\",\"\",Wartosci!D746)","v":""}]
[null,null,null,null,null,{"$f":"IF(Wartosci!D747=\"\",\"\",Wartosci!D747)","v":""}]
[null,null,null,null,null,{"$f":"IF(Wartosci!D748=\"\",\"\",Wartosci!D748)","v":""}]
[null,null,null,null,null,{"$f":"IF(Wartosci!D749=\"\",\"\",Wartosci!D749)","v":""}]
[null,null,null,null,null,{"$f":"IF(Wartosci!D750=\"\",\"\",Wartosci!D750)","v":""}]
[null,null,null,null,null,{"$f":"IF(Wartosci!D751=\"\",\"\",Wartosci!D751)","v":""}]
[null,null,null,null,null,{"$f":"IF(Wartosci!D752=\"\",\"\",Wartosci!D752)","v":""}]
[null,null,null,null,null,{"$f":"IF(Wartosci!D753=\"\",\"\",Wartosci!D753)","v":""}]
[null,null,null,null,null,{"$f":"IF(Wartosci!D754=\"\",\"\",Wartosci!D754)","v":""}]
[null,null,null,null,null,{"$f":"IF(Wartosci!D755=\"\",\"\",Wartosci!D755)","v":""}]
[null,null,null,null,null,{"$f":"IF(Wartosci!D756=\"\",\"\",Wartosci!D756)","v":""}]
[null,null,null,null,null,{"$f":"IF(Wartosci!D757=\"\",\"\",Wartosci!D757)","v":""}]
[null,null,null,null,null,{"$f":"IF(Wartosci!D758=\"\",\"\",Wartosci!D758)","v":""}]
[null,null,null,null,null,{"$f":"IF(Wartosci!D759=\"\",\"\",Wartosci!D759)","v":""}]
[null,null,null,null,null,{"$f":"IF(Wartosci!D760=\"\",\"\",Wartosci!D760)","v":""}]
[null,null,null,null,null,{"$f":"IF(Wartosci!D761=\"\",\"\",Wartosci!D761)","v":""}]
[null,null,null,null,null,{"$f":"IF(Wartosci!D762=\"\",\"\",Wartosci!D762)","v":""}]
[null,null,null,null,null,{"$f":"IF(Wartosci!D763=\"\",\"\",Wartosci!D763)","v":""}]
[null,null,null,null,null,{"$f":"IF(Wartosci!D764=\"\",\"\",Wartosci!D764)","v":""}]
[null,null,null,null,null,{"$f":"IF(Wartosci!D765=\"\",\"\",Wartosci!D765)","v":""}]
[null,null,null,null,null,{"$f":"IF(Wartosci!D766=\"\",\"\",Wartosci!D766)","v":""}]
[null,null,null,null,null,{"$f":"IF(Wartosci!D767=\"\",\"\",Wartosci!D767)","v":""}]
[null,null,null,null,null,{"$f":"IF(Wartosci!D768=\"\",\"\",Wartosci!D768)","v":""}]
[null,null,null,null,null,{"$f":"IF(Wartosci!D769=\"\",\"\",Wartosci!D769)","v":""}]
[null,null,null,null,null,{"$f":"IF(Wartosci!D770=\"\",\"\",Wartosci!D770)","v":""}]
[null,null,null,null,null,{"$f":"IF(Wartosci!D771=\"\",\"\",Wartosci!D771)","v":""}]
[null,null,null,null,null,{"$f":"IF(Wartosci!D772=\"\",\"\",Wartosci!D772)","v":""}]
[null,null,null,null,null,{"$f":"IF(Wartosci!D773=\"\",\"\",Wartosci!D773)","v":""}]
[null,null,null,null,null,{"$f":"IF(Wartosci!D774=\"\",\"\",Wartosci!D774)","v":""}]
[null,null,null,null,null,{"$f":"IF(Wartosci!D775=\"\",\"\",Wartosci!D775)","v":""}]
[null,null,null,null,null,{"$f":"IF(Wartosci!D776=\"\",\"\",Wartosci!D776)","v":""}]
[null,null,null,null,null,{"$f":"IF(Wartosci!D777=\"\",\"\",Wartosci!D777)","v":""}]
[null,null,null,null,null,{"$f":"IF(Wartosci!D778=\"\",\"\",Wartosci!D778)","v":""}]
[null,null,null,null,null,{"$f":"IF(Wartosci!D779=\"\",\"\",Wartosci!D779)","v":""}]
[null,null,null,null,null,{"$f":"IF(Wartosci!D780=\"\",\"\",Wartosci!D780)","v":""}]
[null,null,null,null,null,{"$f":"IF(Wartosci!D781=\"\",\"\",Wartosci!D781)","v":""}]
[null,null,null,null,null,{"$f":"IF(Wartosci!D782=\"\",\"\",Wartosci!D782)","v":""}]
[null,null,null,null,null,{"$f":"IF(Wartosci!D783=\"\",\"\",Wartosci!D783)","v":""}]
[null,null,null,null,null,{"$f":"IF(Wartosci!D784=\"\",\"\",Wartosci!D784)","v":""}]
[null,null,null,null,null,{"$f":"IF(Wartosci!D785=\"\",\"\",Wartosci!D785)","v":""}]
[null,null,null,null,null,{"$f":"IF(Wartosci!D786=\"\",\"\",Wartosci!D786)","v":""}]
[null,null,null,null,null,{"$f":"IF(Wartosci!D787=\"\",\"\",Wartosci!D787)","v":""}]
[null,null,null,null,null,{"$f":"IF(Wartosci!D788=\"\",\"\",Wartosci!D788)","v":""}]
[null,null,null,null,null,{"$f":"IF(Wartosci!D789=\"\",\"\",Wartosci!D789)","v":""}]
[null,null,null,null,null,{"$f":"IF(Wartosci!D790=\"\",\"\",Wartosci!D790)","v":""}]
[null,null,null,null,null,{"$f":"IF(Wartosci!D791=\"\",\"\",Wartosci!D791)","v":""}]
[null,null,null,null,null,{"$f":"IF(Wartosci!D792=\"\",\"\",Wartosci!D792)","v":""}]
[null,null,null,null,null,{"$f":"IF(Wartosci!D793=\"\",\"\",Wartosci!D793)","v":""}]
[null,null,null,null,null,{"$f":"IF(Wartosci!D794=\"\",\"\",Wartosci!D794)","v":""}]
[null,null,null,null,null,{"$f":"IF(Wartosci!D795=\"\",\"\",Wartosci!D795)","v":""}]
[null,null,null,null,null,{"$f":"IF(Wartosci!D796=\"\",\"\",Wartosci!D796)","v":""}]
[null,null,null,null,null,{"$f":"IF(Wartosci!D797=\"\",\"\",Wartosci!D797)","v":""}]
[null,null,null,null,null,{"$f":"IF(Wartosci!D798=\"\",\"\",Wartosci!D798)","v":""}]
[null,null,null,null,null,{"$f":"IF(Wartosci!D799=\"\",\"\",Wartosci!D799)","v":""}]
[null,null,null,null,null,{"$f":"IF(Wartosci!D800=\"\",\"\",Wartosci!D800)","v":""}]
[null,null,null,null,null,{"$f":"IF(Wartosci!D801=\"\",\"\",Wartosci!D801)","v":""}]
[null,null,null,null,null,{"$f":"IF(Wartosci!D802=\"\",\"\",Wartosci!D802)","v":""}]
[null,null,null,null,null,{"$f":"IF(Wartosci!D803=\"\",\"\",Wartosci!D803)","v":""}]
[null,null,null,null,null,{"$f":"IF(Wartosci!D804=\"\",\"\",Wartosci!D804)","v":""}]
[null,null,null,null,null,{"$f":"IF(Wartosci!D805=\"\",\"\",Wartosci!D805)","v":""}]
[null,null,null,null,null,{"$f":"IF(Wartosci!D806=\"\",\"\",Wartosci!D806)","v":""}]
[null,null,null,null,null,{"$f":"IF(Wartosci!D807=\"\",\"\",Wartosci!D807)","v":""}]
[null,null,null,null,null,{"$f":"IF(Wartosci!D808=\"\",\"\",Wartosci!D808)","v":""}]
[null,null,null,null,null,{"$f":"IF(Wartosci!D809=\"\",\"\",Wartosci!D809)","v":""}]
[null,null,null,null,null,{"$f":"IF(Wartosci!D810=\"\",\"\",Wartosci!D810)","v":""}]
[null,null,null,null,null,{"$f":"IF(Wartosci!D811=\"\",\"\",Wartosci!D811)","v":""}]
[null,null,null,null,null,{"$f":"IF(Wartosci!D812=\"\",\"\",Wartosci!D812)","v":""}]
[null,null,null,null,null,{"$f":"IF(Wartosci!D813=\"\",\"\",Wartosci!D813)","v":""}]
[null,null,null,null,null,{"$f":"IF(Wartosci!D814=\"\",\"\",Wartosci!D814)","v":""}]
[null,null,null,null,null,{"$f":"IF(Wartosci!D815=\"\",\"\",Wartosci!D815)","v":""}]
[null,null,null,null,null,{"$f":"IF(Wartosci!D816=\"\",\"\",Wartosci!D816)","v":""}]
[null,null,null,null,null,{"$f":"IF(Wartosci!D817=\"\",\"\",Wartosci!D817)","v":""}]
[null,null,null,null,null,{"$f":"IF(Wartosci!D818=\"\",\"\",Wartosci!D818)","v":""}]
[null,null,null,null,null,{"$f":"IF(Wartosci!D819=\"\",\"\",Wartosci!D819)","v":""}]
[null,null,null,null,null,{"$f":"IF(Wartosci!D820=\"\",\"\",Wartosci!D820)","v":""}]
[null,null,null,null,null,{"$f":"IF(Wartosci!D821=\"\",\"\",Wartosci!D821)","v":""}]
[null,null,null,null,null,{"$f":"IF(Wartosci!D822=\"\",\"\",Wartosci!D822)","v":""}]
[null,null,null,null,null,{"$f":"IF(Wartosci!D823=\"\",\"\",Wartosci!D823)","v":""}]
[null,null,null,null,null,{"$f":"IF(Wartosci!D824=\"\",\"\",Wartosci!D824)","v":""}]
[null,null,null,null,null,{"$f":"IF(Wartosci!D825=\"\",\"\",Wartosci!D825)","v":""}]
[null,null,null,null,null,{"$f":"IF(Wartosci!D826=\"\",\"\",Wartosci!D826)","v":""}]
[null,null,null,null,null,{"$f":"IF(Wartosci!D827=\"\",\"\",Wartosci!D827)","v":""}]
[null,null,null,null,null,{"$f":"IF(Wartosci!D828=\"\",\"\",Wartosci!D828)","v":""}]
[null,null,null,null,null,{"$f":"IF(Wartosci!D829=\"\",\"\",Wartosci!D829)","v":""}]
[null,null,null,null,null,{"$f":"IF(Wartosci!D830=\"\",\"\",Wartosci!D830)","v":""}]
[null,null,null,null,null,{"$f":"IF(Wartosci!D831=\"\",\"\",Wartosci!D831)","v":""}]
[null,null,null,null,null,{"$f":"IF(Wartosci!D832=\"\",\"\",Wartosci!D832)","v":""}]
[null,null,null,null,null,{"$f":"IF(Wartosci!D833=\"\",\"\",Wartosci!D833)","v":""}]
[null,null,null,null,null,{"$f":"IF(Wartosci!D834=\"\",\"\",Wartosci!D834)","v":""}]
[null,null,null,null,null,{"$f":"IF(Wartosci!D835=\"\",\"\",Wartosci!D835)","v":""}]
[null,null,null,null,null,{"$f":"IF(Wartosci!D836=\"\",\"\",Wartosci!D836)","v":""}]
[null,null,null,null,null,{"$f":"IF(Wartosci!D837=\"\",\"\",Wartosci!D837)","v":""}]
[null,null,null,null,null,{"$f":"IF(Wartosci!D838=\"\",\"\",Wartosci!D838)","v":""}]
[null,null,null,null,null,{"$f":"IF(Wartosci!D839=\"\",\"\",Wartosci!D839)","v":""}]
[null,null,null,null,null,{"$f":"IF(Wartosci!D840=\"\",\"\",Wartosci!D840)","v":""}]
[null,null,null,null,null,{"$f":"IF(Wartosci!D841=\"\",\"\",Wartosci!D841)","v":""}]
[null,null,null,null,null,{"$f":"IF(Wartosci!D842=\"\",\"\",Wartosci!D842)","v":""}]
[null,null,null,null,null,{"$f":"IF(Wartosci!D843=\"\",\"\",Wartosci!D843)","v":""}]
[null,null,null,null,null,{"$f":"IF(Wartosci!D844=\"\",\"\",Wartosci!D844)","v":""}]
[null,null,null,null,null,{"$f":"IF(Wartosci!D845=\"\",\"\",Wartosci!D845)","v":""}]
[null,null,null,null,null,{"$f":"IF(Wartosci!D846=\"\",\"\",Wartosci!D846)","v":""}]
[null,null,null,null,null,{"$f":"IF(Wartosci!D847=\"\",\"\",Wartosci!D847)","v":""}]
[null,null,null,null,null,{"$f":"IF(Wartosci!D848=\"\",\"\",Wartosci!D848)","v":""}]
[null,null,null,null,null,{"$f":"IF(Wartosci!D849=\"\",\"\",Wartosci!D849)","v":""}]
[null,null,null,null,null,{"$f":"IF(Wartosci!D850=\"\",\"\",Wartosci!D850)","v":""}]
[null,null,null,null,null,{"$f":"IF(Wartosci!D851=\"\",\"\",Wartosci!D851)","v":""}]
[null,null,null,null,null,{"$f":"IF(Wartosci!D852=\"\",\"\",Wartosci!D852)","v":""}]
[null,null,null,null,null,{"$f":"IF(Wartosci!D853=\"\",\"\",Wartosci!D853)","v":""}]
[null,null,null,null,null,{"$f":"IF(Wartosci!D854=\"\",\"\",Wartosci!D854)","v":""}]
[null,null,null,null,null,{"$f":"IF(Wartosci!D855=\"\",\"\",Wartosci!D855)","v":""}]
[null,null,null,null,null,{"$f":"IF(Wartosci!D856=\"\",\"\",Wartosci!D856)","v":""}]
[null,null,null,null,null,{"$f":"IF(Wartosci!D857=\"\",\"\",Wartosci!D857)","v":""}]
[null,null,null,null,null,{"$f":"IF(Wartosci!D858=\"\",\"\",Wartosci!D858)","v":""}]
[null,null,null,null,null,{"$f":"IF(Wartosci!D859=\"\",\"\",Wartosci!D859)","v":""}]
[null,null,null,null,null,{"$f":"IF(Wartosci!D860=\"\",\"\",Wartosci!D860)","v":""}]
[null,null,null,null,null,{"$f":"IF(Wartosci!D861=\"\",\"\",Wartosci!D861)","v":""}]
[null,null,null,null,null,{"$f":"IF(Wartosci!D862=\"\",\"\",Wartosci!D862)","v":""}]
[null,null,null,null,null,{"$f":"IF(Wartosci!D863=\"\",\"\",Wartosci!D863)","v":""}]
[null,null,null,null,null,{"$f":"IF(Wartosci!D864=\"\",\"\",Wartosci!D864)","v":""}]
[null,null,null,null,null,{"$f":"IF(Wartosci!D865=\"\",\"\",Wartosci!D865)","v":""}]
[null,null,null,null,null,{"$f":"IF(Wartosci!D866=\"\",\"\",Wartosci!D866)","v":""}]
[null,null,null,null,null,{"$f":"IF(Wartosci!D867=\"\",\"\",Wartosci!D867)","v":""}]
[null,null,null,null,null,{"$f":"IF(Wartosci!D868=\"\",\"\",Wartosci!D868)","v":""}]
[null,null,null,null,null,{"$f":"IF(Wartosci!D869=\"\",\"\",Wartosci!D869)","v":""}]
[null,null,null,null,null,{"$f":"IF(Wartosci!D870=\"\",\"\",Wartosci!D870)","v":""}]
[null,null,null,null,null,{"$f":"IF(Wartosci!D871=\"\",\"\",Wartosci!D871)","v":""}]
[null,null,null,null,null,{"$f":"IF(Wartosci!D872=\"\",\"\",Wartosci!D872)","v":""}]
[null,null,null,null,null,{"$f":"IF(Wartosci!D873=\"\",\"\",Wartosci!D873)","v":""}]
[null,null,null,null,null,{"$f":"IF(Wartosci!D874=\"\",\"\",Wartosci!D874)","v":""}]
[null,null,null,null,null,{"$f":"IF(Wartosci!D875=\"\",\"\",Wartosci!D875)","v":""}]
[null,null,null,null,null,{"$f":"IF(Wartosci!D876=\"\",\"\",Wartosci!D876)","v":""}]
[null,null,null,null,null,{"$f":"IF(Wartosci!D877=\"\",\"\",Wartosci!D877)","v":""}]
[null,null,null,null,null,{"$f":"IF(Wartosci!D878=\"\",\"\",Wartosci!D878)","v":""}]
[null,null,null,null,null,{"$f":"IF(Wartosci!D879=\"\",\"\",Wartosci!D879)","v":""}]
[null,null,null,null,null,{"$f":"IF(Wartosci!D880=\"\",\"\",Wartosci!D880)","v":""}]
[null,null,null,null,null,{"$f":"IF(Wartosci!D881=\"\",\"\",Wartosci!D881)","v":""}]
[null,null,null,null,null,{"$f":"IF(Wartosci!D882=\"\",\"\",Wartosci!D882)","v":""}]
[null,null,null,null,null,{"$f":"IF(Wartosci!D883=\"\",\"\",Wartosci!D883)","v":""}]
[null,null,null,null,null,{"$f":"IF(Wartosci!D884=\"\",\"\",Wartosci!D884)","v":""}]
[null,null,null,null,null,{"$f":"IF(Wartosci!D885=\"\",\"\",Wartosci!D885)","v":""}]
[null,null,null,null,null,{"$f":"IF(Wartosci!D886=\"\",\"\",Wartosci!D886)","v":""}]
[null,null,null,null,null,{"$f":"IF(Wartosci!D887=\"\",\"\",Wartosci!D887)","v":""}]
[null,null,null,null,null,{"$f":"IF(Wartosci!D888=\"\",\"\",Wartosci!D888)","v":""}]
[null,null,null,null,null,{"$f":"IF(Wartosci!D889=\"\",\"\",Wartosci!D889)","v":""}]
[null,null,null,null,null,{"$f":"IF(Wartosci!D890=\"\",\"\",Wartosci!D890)","v":""}]
[null,null,null,null,null,{"$f":"IF(Wartosci!D891=\"\",\"\",Wartosci!D891)","v":""}]
[null,null,null,null,null,{"$f":"IF(Wartosci!D892=\"\",\"\",Wartosci!D892)","v":""}]
[null,null,null,null,null,{"$f":"IF(Wartosci!D893=\"\",\"\",Wartosci!D893)","v":""}]
[null,null,null,null,null,{"$f":"IF(Wartosci!D894=\"\",\"\",Wartosci!D894)","v":""}]
[null,null,null,null,null,{"$f":"IF(Wartosci!D895=\"\",\"\",Wartosci!D895)","v":""}]
[null,null,null,null,null,{"$f":"IF(Wartosci!D896=\"\",\"\",Wartosci!D896)","v":""}]
[null,null,null,null,null,{"$f":"IF(Wartosci!D897=\"\",\"\",Wartosci!D897)","v":""}]
[null,null,null,null,null,{"$f":"IF(Wartosci!D898=\"\",\"\",Wartosci!D898)","v":""}]
[null,null,null,null,null,{"$f":"IF(Wartosci!D899=\"\",\"\",Wartosci!D899)","v":""}]
[null,null,null,null,null,{"$f":"IF(Wartosci!D900=\"\",\"\",Wartosci!D900)","v":""}]
[null,null,null,null,null,{"$f":"IF(Wartosci!D901=\"\",\"\",Wartosci!D901)","v":""}]
[null,null,null,null,null,{"$f":"IF(Wartosci!D902=\"\",\"\",Wartosci!D902)","v":""}]
[null,null,null,null,null,{"$f":"IF(Wartosci!D903=\"\",\"\",Wartosci!D903)","v":""}]
[null,null,null,null,null,{"$f":"IF(Wartosci!D904=\"\",\"\",Wartosci!D904)","v":""}]
[null,null,null,null,null,{"$f":"IF(Wartosci!D905=\"\",\"\",Wartosci!D905)","v":""}]
[null,null,null,null,null,{"$f":"IF(Wartosci!D906=\"\",\"\",Wartosci!D906)","v":""}]
[null,null,null,null,null,{"$f":"IF(Wartosci!D907=\"\",\"\",Wartosci!D907)","v":""}]
[null,null,null,null,null,{"$f":"IF(Wartosci!D908=\"\",\"\",Wartosci!D908)","v":""}]
[null,null,null,null,null,{"$f":"IF(Wartosci!D909=\"\",\"\",Wartosci!D909)","v":""}]
[null,null,null,null,null,{"$f":"IF(Wartosci!D910=\"\",\"\",Wartosci!D910)","v":""}]
[null,null,null,null,null,{"$f":"IF(Wartosci!D911=\"\",\"\",Wartosci!D911)","v":""}]
[null,null,null,null,null,{"$f":"IF(Wartosci!D912=\"\",\"\",Wartosci!D912)","v":""}]
[null,null,null,null,null,{"$f":"IF(Wartosci!D913=\"\",\"\",Wartosci!D913)","v":""}]
[null,null,null,null,null,{"$f":"IF(Wartosci!D914=\"\",\"\",Wartosci!D914)","v":""}]
[null,null,null,null,null,{"$f":"IF(Wartosci!D915=\"\",\"\",Wartosci!D915)","v":""}]
[null,null,null,null,null,{"$f":"IF(Wartosci!D916=\"\",\"\",Wartosci!D916)","v":""}]
[null,null,null,null,null,{"$f":"IF(Wartosci!D917=\"\",\"\",Wartosci!D917)","v":""}]
[null,null,null,null,null,{"$f":"IF(Wartosci!D918=\"\",\"\",Wartosci!D918)","v":""}]
[null,null,null,null,null,{"$f":"IF(Wartosci!D919=\"\",\"\",Wartosci!D919)","v":""}]
[null,null,null,null,null,{"$f":"IF(Wartosci!D920=\"\",\"\",Wartosci!D920)","v":""}]
[null,null,null,null,null,{"$f":"IF(Wartosci!D921=\"\",\"\",Wartosci!D921)","v":""}]
[null,null,null,null,null,{"$f":"IF(Wartosci!D922=\"\",\"\",Wartosci!D922)","v":""}]
[null,null,null,null,null,{"$f":"IF(Wartosci!D923=\"\",\"\",Wartosci!D923)","v":""}]
[null,null,null,null,null,{"$f":"IF(Wartosci!D924=\"\",\"\",Wartosci!D924)","v":""}]
[null,null,null,null,null,{"$f":"IF(Wartosci!D925=\"\",\"\",Wartosci!D925)","v":""}]
[null,null,null,null,null,{"$f":"IF(Wartosci!D926=\"\",\"\",Wartosci!D926)","v":""}]
[null,null,null,null,null,{"$f":"IF(Wartosci!D927=\"\",\"\",Wartosci!D927)","v":""}]
[null,null,null,null,null,{"$f":"IF(Wartosci!D928=\"\",\"\",Wartosci!D928)","v":""}]
[null,null,null,null,null,{"$f":"IF(Wartosci!D929=\"\",\"\",Wartosci!D929)","v":""}]
[null,null,null,null,null,{"$f":"IF(Wartosci!D930=\"\",\"\",Wartosci!D930)","v":""}]
[null,null,null,null,null,{"$f":"IF(Wartosci!D931=\"\",\"\",Wartosci!D931)","v":""}]
[null,null,null,null,null,{"$f":"IF(Wartosci!D932=\"\",\"\",Wartosci!D932)","v":""}]
[null,null,null,null,null,{"$f":"IF(Wartosci!D933=\"\",\"\",Wartosci!D933)","v":""}]
[null,null,null,null,null,{"$f":"IF(Wartosci!D934=\"\",\"\",Wartosci!D934)","v":""}]
[null,null,null,null,null,{"$f":"IF(Wartosci!D935=\"\",\"\",Wartosci!D935)","v":""}]
[null,null,null,null,null,{"$f":"IF(Wartosci!D936=\"\",\"\",Wartosci!D936)","v":""}]
[null,null,null,null,null,{"$f":"IF(Wartosci!D937=\"\",\"\",Wartosci!D937)","v":""}]
[null,null,null,null,null,{"$f":"IF(Wartosci!D938=\"\",\"\",Wartosci!D938)","v":""}]
[null,null,null,null,null,{"$f":"IF(Wartosci!D939=\"\",\"\",Wartosci!D939)","v":""}]
[null,null,null,null,null,{"$f":"IF(Wartosci!D940=\"\",\"\",Wartosci!D940)","v":""}]
[null,null,null,null,null,{"$f":"IF(Wartosci!D941=\"\",\"\",Wartosci!D941)","v":""}]
[null,null,null,null,null,{"$f":"IF(Wartosci!D942=\"\",\"\",Wartosci!D942)","v":""}]
[null,null,null,null,null,{"$f":"IF(Wartosci!D943=\"\",\"\",Wartosci!D943)","v":""}]
[null,null,null,null,null,{"$f":"IF(Wartosci!D944=\"\",\"\",Wartosci!D944)","v":""}]
[null,null,null,null,null,{"$f":"IF(Wartosci!D945=\"\",\"\",Wartosci!D945)","v":""}]
[null,null,null,null,null,{"$f":"IF(Wartosci!D946=\"\",\"\",Wartosci!D946)","v":""}]
[null,null,null,null,null,{"$f":"IF(Wartosci!D947=\"\",\"\",Wartosci!D947)","v":""}]
[null,null,null,null,null,{"$f":"IF(Wartosci!D948=\"\",\"\",Wartosci!D948)","v":""}]
[null,null,null,null,null,{"$f":"IF(Wartosci!D949=\"\",\"\",Wartosci!D949)","v":""}]
[null,null,null,null,null,{"$f":"IF(Wartosci!D950=\"\",\"\",Wartosci!D950)","v":""}]
[null,null,null,null,null,{"$f":"IF(Wartosci!D951=\"\",\"\",Wartosci!D951)","v":""}]
[null,null,null,null,null,{"$f":"IF(Wartosci!D952=\"\",\"\",Wartosci!D952)","v":""}]
[null,null,null,null,null,{"$f":"IF(Wartosci!D953=\"\",\"\",Wartosci!D953)","v":""}]
[null,null,null,null,null,{"$f":"IF(Wartosci!D954=\"\",\"\",Wartosci!D954)","v":""}]
[null,null,null,null,null,{"$f":"IF(Wartosci!D955=\"\",\"\",Wartosci!D955)","v":""}]
[null,null,null,null,null,{"$f":"IF(Wartosci!D956=\"\",\"\",Wartosci!D956)","v":""}]
[null,null,null,null,null,{"$f":"IF(Wartosci!D957=\"\",\"\",Wartosci!D957)","v":""}]
[null,null,null,null,null,{"$f":"IF(Wartosci!D958=\"\",\"\",Wartosci!D958)","v":""}]
[null,null,null,null,null,{"$f":"IF(Wartosci!D959=\"\",\"\",Wartosci!D959)","v":""}]
[null,null,null,null,null,{"$f":"IF(Wartosci!D960=\"\",\"\",Wartosci!D960)","v":""}]
[null,null,null,null,null,{"$f":"IF(Wartosci!D961=\"\",\"\",Wartosci!D961)","v":""}]
[null,null,null,null,null,{"$f":"IF(Wartosci!D962=\"\",\"\",Wartosci!D962)","v":""}]
[null,null,null,null,null,{"$f":"IF(Wartosci!D963=\"\",\"\",Wartosci!D963)","v":""}]
[null,null,null,null,null,{"$f":"IF(Wartosci!D964=\"\",\"\",Wartosci!D964)","v":""}]
[null,null,null,null,null,{"$f":"IF(Wartosci!D965=\"\",\"\",Wartosci!D965)","v":""}]
[null,null,null,null,null,{"$f":"IF(Wartosci!D966=\"\",\"\",Wartosci!D966)","v":""}]
[null,null,null,null,null,{"$f":"IF(Wartosci!D967=\"\",\"\",Wartosci!D967)","v":""}]
[null,null,null,null,null,{"$f":"IF(Wartosci!D968=\"\",\"\",Wartosci!D968)","v":""}]
[null,null,null,null,null,{"$f":"IF(Wartosci!D969=\"\",\"\",Wartosci!D969)","v":""}]
[null,null,null,null,null,{"$f":"IF(Wartosci!D970=\"\",\"\",Wartosci!D970)","v":""}]
[null,null,null,null,null,{"$f":"IF(Wartosci!D971=\"\",\"\",Wartosci!D971)","v":""}]
[null,null,null,null,null,{"$f":"IF(Wartosci!D972=\"\",\"\",Wartosci!D972)","v":""}]
[null,null,null,null,null,{"$f":"IF(Wartosci!D973=\"\",\"\",Wartosci!D973)","v":""}]
[null,null,null,null,null,{"$f":"IF(Wartosci!D974=\"\",\"\",Wartosci!D974)","v":""}]
[null,null,null,null,null,{"$f":"IF(Wartosci!D975=\"\",\"\",Wartosci!D975)","v":""}]
[null,null,null,null,null,{"$f":"IF(Wartosci!D976=\"\",\"\",Wartosci!D976)","v":""}]
[null,null,null,null,null,{"$f":"IF(Wartosci!D977=\"\",\"\",Wartosci!D977)","v":""}]
[null,null,null,null,null,{"$f":"IF(Wartosci!D978=\"\",\"\",Wartosci!D978)","v":""}]
[null,null,null,null,null,{"$f":"IF(Wartosci!D979=\"\",\"\",Wartosci!D979)","v":""}]
[null,null,null,null,null,{"$f":"IF(Wartosci!D980=\"\",\"\",Wartosci!D980)","v":""}]
[null,null,null,null,null,{"$f":"IF(Wartosci!D981=\"\",\"\",Wartosci!D981)","v":""}]
[null,null,null,null,null,{"$f":"IF(Wartosci!D982=\"\",\"\",Wartosci!D982)","v":""}]
[null,null,null,null,null,{"$f":"IF(Wartosci!D983=\"\",\"\",Wartosci!D983)","v":""}]
[null,null,null,null,null,{"$f":"IF(Wartosci!D984=\"\",\"\",Wartosci!D984)","v":""}]
[null,null,null,null,null,{"$f":"IF(Wartosci!D985=\"\",\"\",Wartosci!D985)","v":""}]
[null,null,null,null,null,{"$f":"IF(Wartosci!D986=\"\",\"\",Wartosci!D986)","v":""}]
[null,null,null,null,null,{"$f":"IF(Wartosci!D987=\"\",\"\",Wartosci!D987)","v":""}]
[null,null,null,null,null,{"$f":"IF(Wartosci!D988=\"\",\"\",Wartosci!D988)","v":""}]
[null,null,null,null,null,{"$f":"IF(Wartosci!D989=\"\",\"\",Wartosci!D989)","v":""}]
[null,null,null,null,null,{"$f":"IF(Wartosci!D990=\"\",\"\",Wartosci!D990)","v":""}]
[null,null,null,null,null,{"$f":"IF(Wartosci!D991=\"\",\"\",Wartosci!D991)","v":""}]
[null,null,null,null,null,{"$f":"IF(Wartosci!D992=\"\",\"\",Wartosci!D992)","v":""}]
[null,null,null,null,null,{"$f":"IF(Wartosci!D993=\"\",\"\",Wartosci!D993)","v":""}]
[null,null,null,null,null,{"$f":"IF(Wartosci!D994=\"\",\"\",Wartosci!D994)","v":""}]
[null,null,null,null,null,{"$f":"IF(Wartosci!D995=\"\",\"\",Wartosci!D995)","v":""}]
[null,null,null,null,null,{"$f":"IF(Wartosci!D996=\"\",\"\",Wartosci!D996)","v":""}]
[null,null,null,null,null,{"$f":"IF(Wartosci!D997=\"\",\"\",Wartosci!D997)","v":""}]
[null,null,null,null,null,{"$f":"IF(Wartosci!D998=\"\",\"\",Wartosci!D998)","v":""}]
[null,null,null,null,null,{"$f":"IF(Wartosci!D999=\"\",\"\",Wartosci!D999)","v":""}]
[null,null,null,null,null,{"$f":"IF(Wartosci!D1000=\"\",\"\",Wartosci!D1000)","v":""}]
[null,null,null,null,null,{"$f":"IF(Wartosci!D1001=\"\",\"\",Wartosci!D1001)","v":""}]
[null,null,null,null,null,{"$f":"IF(Wartosci!D1002=\"\",\"\",Wartosci!D1002)","v":""}]
[null,null,null,null,null,{"$f":"IF(Wartosci!D1003=\"\",\"\",Wartosci!D1003)","v":""}]
[null,null,null,null,null,{"$f":"IF(Wartosci!D1004=\"\",\"\",Wartosci!D1004)","v":""}]
[null,null,null,null,null,{"$f":"IF(Wartosci!D1005=\"\",\"\",Wartosci!D1005)","v":""}]
[null,null,null,null,null,{"$f":"IF(Wartosci!D1006=\"\",\"\",Wartosci!D1006)","v":""}]
[null,null,null,null,null,{"$f":"IF(Wartosci!D1007=\"\",\"\",Wartosci!D1007)","v":""}]
[null,null,null,null,null,{"$f":"IF(Wartosci!D1008=\"\",\"\",Wartosci!D1008)","v":""}]
[null,null,null,null,null,{"$f":"IF(Wartosci!D1009=\"\",\"\",Wartosci!D1009)","v":""}]
[null,null,null,null,null,{"$f":"IF(Wartosci!D1010=\"\",\"\",Wartosci!D1010)","v":""}]
[null,null,null,null,null,{"$f":"IF(Wartosci!D1011=\"\",\"\",Wartosci!D1011)","v":""}]
[null,null,null,null,null,{"$f":"IF(Wartosci!D1012=\"\",\"\",Wartosci!D1012)","v":""}]
[null,null,null,null,null,{"$f":"IF(Wartosci!D1013=\"\",\"\",Wartosci!D1013)","v":""}]
[null,null,null,null,null,{"$f":"IF(Wartosci!D1014=\"\",\"\",Wartosci!D1014)","v":""}]
[null,null,null,null,null,{"$f":"IF(Wartosci!D1015=\"\",\"\",Wartosci!D1015)","v":""}]
[null,null,null,null,null,{"$f":"IF(Wartosci!D1016=\"\",\"\",Wartosci!D1016)","v":""}]
[null,null,null,null,null,{"$f":"IF(Wartosci!D1017=\"\",\"\",Wartosci!D1017)","v":""}]
[null,null,null,null,null,{"$f":"IF(Wartosci!D1018=\"\",\"\",Wartosci!D1018)","v":""}]
[null,null,null,null,null,{"$f":"IF(Wartosci!D1019=\"\",\"\",Wartosci!D1019)","v":""}]
[null,null,null,null,null,{"$f":"IF(Wartosci!D1020=\"\",\"\",Wartosci!D1020)","v":""}]
[null,null,null,null,null,{"$f":"IF(Wartosci!D1021=\"\",\"\",Wartosci!D1021)","v":""}]
[null,null,null,null,null,{"$f":"IF(Wartosci!D1022=\"\",\"\",Wartosci!D1022)","v":""}]
[null,null,null,null,null,{"$f":"IF(Wartosci!D1023=\"\",\"\",Wartosci!D1023)","v":""}]
[null,null,null,null,null,{"$f":"IF(Wartosci!D1024=\"\",\"\",Wartosci!D1024)","v":""}]
[null,null,null,null,null,{"$f":"IF(Wartosci!D1025=\"\",\"\",Wartosci!D1025)","v":""}]
[null,null,null,null,null,{"$f":"IF(Wartosci!D1026=\"\",\"\",Wartosci!D1026)","v":""}]
[null,null,null,null,null,{"$f":"IF(Wartosci!D1027=\"\",\"\",Wartosci!D1027)","v":""}]
[null,null,null,null,null,{"$f":"IF(Wartosci!D1028=\"\",\"\",Wartosci!D1028)","v":""}]
[null,null,null,null,null,{"$f":"IF(Wartosci!D1029=\"\",\"\",Wartosci!D1029)","v":""}]
[null,null,null,null,null,{"$f":"IF(Wartosci!D1030=\"\",\"\",Wartosci!D1030)","v":""}]
[null,null,null,null,null,{"$f":"IF(Wartosci!D1031=\"\",\"\",Wartosci!D1031)","v":""}]
[null,null,null,null,null,{"$f":"IF(Wartosci!D1032=\"\",\"\",Wartosci!D1032)","v":""}]
[null,null,null,null,null,{"$f":"IF(Wartosci!D1033=\"\",\"\",Wartosci!D1033)","v":""}]
[null,null,null,null,null,{"$f":"IF(Wartosci!D1034=\"\",\"\",Wartosci!D1034)","v":""}]
[null,null,null,null,null,{"$f":"IF(Wartosci!D1035=\"\",\"\",Wartosci!D1035)","v":""}]
[null,null,null,null,null,{"$f":"IF(Wartosci!D1036=\"\",\"\",Wartosci!D1036)","v":""}]
[null,null,null,null,null,{"$f":"IF(Wartosci!D1037=\"\",\"\",Wartosci!D1037)","v":""}]
[null,null,null,null,null,{"$f":"IF(Wartosci!D1038=\"\",\"\",Wartosci!D1038)","v":""}]
[null,null,null,null,null,{"$f":"IF(Wartosci!D1039=\"\",\"\",Wartosci!D1039)","v":""}]
[null,null,null,null,null,{"$f":"IF(Wartosci!D1040=\"\",\"\",Wartosci!D1040)","v":""}]
[null,null,null,null,null,{"$f":"IF(Wartosci!D1041=\"\",\"\",Wartosci!D1041)","v":""}]
[null,null,null,null,null,{"$f":"IF(Wartosci!D1042=\"\",\"\",Wartosci!D1042)","v":""}]
[null,null,null,null,null,{"$f":"IF(Wartosci!D1043=\"\",\"\",Wartosci!D1043)","v":""}]
[null,null,null,null,null,{"$f":"IF(Wartosci!D1044=\"\",\"\",Wartosci!D1044)","v":""}]
[null,null,null,null,null,{"$f":"IF(Wartosci!D1045=\"\",\"\",Wartosci!D1045)","v":""}]
[null,null,null,null,null,{"$f":"IF(Wartosci!D1046=\"\",\"\",Wartosci!D1046)","v":""}]
[null,null,null,null,null,{"$f":"IF(Wartosci!D1047=\"\",\"\",Wartosci!D1047)","v":""}]
[null,null,null,null,null,{"$f":"IF(Wartosci!D1048=\"\",\"\",Wartosci!D1048)","v":""}]
[null,null,null,null,null,{"$f":"IF(Wartosci!D1049=\"\",\"\",Wartosci!D1049)","v":""}]
[null,null,null,null,null,{"$f":"IF(Wartosci!D1050=\"\",\"\",Wartosci!D1050)","v":""}]
[null,null,null,null,null,{"$f":"IF(Wartosci!D1051=\"\",\"\",Wartosci!D1051)","v":""}]
[null,null,null,null,null,{"$f":"IF(Wartosci!D1052=\"\",\"\",Wartosci!D1052)","v":""}]
[null,null,null,null,null,{"$f":"IF(Wartosci!D1053=\"\",\"\",Wartosci!D1053)","v":""}]
[null,null,null,null,null,{"$f":"IF(Wartosci!D1054=\"\",\"\",Wartosci!D1054)","v":""}]
[null,null,null,null,null,{"$f":"IF(Wartosci!D1055=\"\",\"\",Wartosci!D1055)","v":""}]
[null,null,null,null,null,{"$f":"IF(Wartosci!D1056=\"\",\"\",Wartosci!D1056)","v":""}]
[null,null,null,null,null,{"$f":"IF(Wartosci!D1057=\"\",\"\",Wartosci!D1057)","v":""}]
[null,null,null,null,null,{"$f":"IF(Wartosci!D1058=\"\",\"\",Wartosci!D1058)","v":""}]
[null,null,null,null,null,{"$f":"IF(Wartosci!D1059=\"\",\"\",Wartosci!D1059)","v":""}]
[null,null,null,null,null,{"$f":"IF(Wartosci!D1060=\"\",\"\",Wartosci!D1060)","v":""}]
[null,null,null,null,null,{"$f":"IF(Wartosci!D1061=\"\",\"\",Wartosci!D1061)","v":""}]
[null,null,null,null,null,{"$f":"IF(Wartosci!D1062=\"\",\"\",Wartosci!D1062)","v":""}]
[null,null,null,null,null,{"$f":"IF(Wartosci!D1063=\"\",\"\",Wartosci!D1063)","v":""}]
[null,null,null,null,null,{"$f":"IF(Wartosci!D1064=\"\",\"\",Wartosci!D1064)","v":""}]
[null,null,null,null,null,{"$f":"IF(Wartosci!D1065=\"\",\"\",Wartosci!D1065)","v":""}]
[null,null,null,null,null,{"$f":"IF(Wartosci!D1066=\"\",\"\",Wartosci!D1066)","v":""}]
[null,null,null,null,null,{"$f":"IF(Wartosci!D1067=\"\",\"\",Wartosci!D1067)","v":""}]
[null,null,null,null,null,{"$f":"IF(Wartosci!D1068=\"\",\"\",Wartosci!D1068)","v":""}]
[null,null,null,null,null,{"$f":"IF(Wartosci!D1069=\"\",\"\",Wartosci!D1069)","v":""}]
[null,null,null,null,null,{"$f":"IF(Wartosci!D1070=\"\",\"\",Wartosci!D1070)","v":""}]
[null,null,null,null,null,{"$f":"IF(Wartosci!D1071=\"\",\"\",Wartosci!D1071)","v":""}]
[null,null,null,null,null,{"$f":"IF(Wartosci!D1072=\"\",\"\",Wartosci!D1072)","v":""}]
[null,null,null,null,null,{"$f":"IF(Wartosci!D1073=\"\",\"\",Wartosci!D1073)","v":""}]
[null,null,null,null,null,{"$f":"IF(Wartosci!D1074=\"\",\"\",Wartosci!D1074)","v":""}]
[null,null,null,null,null,{"$f":"IF(Wartosci!D1075=\"\",\"\",Wartosci!D1075)","v":""}]
[null,null,null,null,null,{"$f":"IF(Wartosci!D1076=\"\",\"\",Wartosci!D1076)","v":""}]
[null,null,null,null,null,{"$f":"IF(Wartosci!D1077=\"\",\"\",Wartosci!D1077)","v":""}]
[null,null,null,null,null,{"$f":"IF(Wartosci!D1078=\"\",\"\",Wartosci!D1078)","v":""}]
[null,null,null,null,null,{"$f":"IF(Wartosci!D1079=\"\",\"\",Wartosci!D1079)","v":""}]
[null,null,null,null,null,{"$f":"IF(Wartosci!D1080=\"\",\"\",Wartosci!D1080)","v":""}]
[null,null,null,null,null,{"$f":"IF(Wartosci!D1081=\"\",\"\",Wartosci!D1081)","v":""}]
[null,null,null,null,null,{"$f":"IF(Wartosci!D1082=\"\",\"\",Wartosci!D1082)","v":""}]
[null,null,null,null,null,{"$f":"IF(Wartosci!D1083=\"\",\"\",Wartosci!D1083)","v":""}]
[null,null,null,null,null,{"$f":"IF(Wartosci!D1084=\"\",\"\",Wartosci!D1084)","v":""}]
[null,null,null,null,null,{"$f":"IF(Wartosci!D1085=\"\",\"\",Wartosci!D1085)","v":""}]
[null,null,null,null,null,{"$f":"IF(Wartosci!D1086=\"\",\"\",Wartosci!D1086)","v":""}]
[null,null,null,null,null,{"$f":"IF(Wartosci!D1087=\"\",\"\",Wartosci!D1087)","v":""}]
[null,null,null,null,null,{"$f":"IF(Wartosci!D1088=\"\",\"\",Wartosci!D1088)","v":""}]
[null,null,null,null,null,{"$f":"IF(Wartosci!D1089=\"\",\"\",Wartosci!D1089)","v":""}]
[null,null,null,null,null,{"$f":"IF(Wartosci!D1090=\"\",\"\",Wartosci!D1090)","v":""}]
[null,null,null,null,null,{"$f":"IF(Wartosci!D1091=\"\",\"\",Wartosci!D1091)","v":""}]
[null,null,null,null,null,{"$f":"IF(Wartosci!D1092=\"\",\"\",Wartosci!D1092)","v":""}]
[null,null,null,null,null,{"$f":"IF(Wartosci!D1093=\"\",\"\",Wartosci!D1093)","v":""}]
[null,null,null,null,null,{"$f":"IF(Wartosci!D1094=\"\",\"\",Wartosci!D1094)","v":""}]
[null,null,null,null,null,{"$f":"IF(Wartosci!D1095=\"\",\"\",Wartosci!D1095)","v":""}]
[null,null,null,null,null,{"$f":"IF(Wartosci!D1096=\"\",\"\",Wartosci!D1096)","v":""}]
[null,null,null,null,null,{"$f":"IF(Wartosci!D1097=\"\",\"\",Wartosci!D1097)","v":""}]
[null,null,null,null,null,{"$f":"IF(Wartosci!D1098=\"\",\"\",Wartosci!D1098)","v":""}]
[null,null,null,null,null,{"$f":"IF(Wartosci!D1099=\"\",\"\",Wartosci!D1099)","v":""}]
[null,null,null,null,null,{"$f":"IF(Wartosci!D1100=\"\",\"\",Wartosci!D1100)","v":""}]
[null,null,null,null,null,{"$f":"IF(Wartosci!D1101=\"\",\"\",Wartosci!D1101)","v":""}]
[null,null,null,null,null,{"$f":"IF(Wartosci!D1102=\"\",\"\",Wartosci!D1102)","v":""}]
[null,null,null,null,null,{"$f":"IF(Wartosci!D1103=\"\",\"\",Wartosci!D1103)","v":""}]
[null,null,null,null,null,{"$f":"IF(Wartosci!D1104=\"\",\"\",Wartosci!D1104)","v":""}]
[null,null,null,null,null,{"$f":"IF(Wartosci!D1105=\"\",\"\",Wartosci!D1105)","v":""}]
[null,null,null,null,null,{"$f":"IF(Wartosci!D1106=\"\",\"\",Wartosci!D1106)","v":""}]
[null,null,null,null,null,{"$f":"IF(Wartosci!D1107=\"\",\"\",Wartosci!D1107)","v":""}]
[null,null,null,null,null,{"$f":"IF(Wartosci!D1108=\"\",\"\",Wartosci!D1108)","v":""}]
[null,null,null,null,null,{"$f":"IF(Wartosci!D1109=\"\",\"\",Wartosci!D1109)","v":""}]
[null,null,null,null,null,{"$f":"IF(Wartosci!D1110=\"\",\"\",Wartosci!D1110)","v":""}]
[null,null,null,null,null,{"$f":"IF(Wartosci!D1111=\"\",\"\",Wartosci!D1111)","v":""}]
[null,null,null,null,null,{"$f":"IF(Wartosci!D1112=\"\",\"\",Wartosci!D1112)","v":""}]
[null,null,null,null,null,{"$f":"IF(Wartosci!D1113=\"\",\"\",Wartosci!D1113)","v":""}]
[null,null,null,null,null,{"$f":"IF(Wartosci!D1114=\"\",\"\",Wartosci!D1114)","v":""}]
[null,null,null,null,null,{"$f":"IF(Wartosci!D1115=\"\",\"\",Wartosci!D1115)","v":""}]
[null,null,null,null,null,{"$f":"IF(Wartosci!D1116=\"\",\"\",Wartosci!D1116)","v":""}]
[null,null,null,null,null,{"$f":"IF(Wartosci!D1117=\"\",\"\",Wartosci!D1117)","v":""}]
[null,null,null,null,null,{"$f":"IF(Wartosci!D1118=\"\",\"\",Wartosci!D1118)","v":""}]
[null,null,null,null,null,{"$f":"IF(Wartosci!D1119=\"\",\"\",Wartosci!D1119)","v":""}]
[null,null,null,null,null,{"$f":"IF(Wartosci!D1120=\"\",\"\",Wartosci!D1120)","v":""}]
[null,null,null,null,null,{"$f":"IF(Wartosci!D1121=\"\",\"\",Wartosci!D1121)","v":""}]
[null,null,null,null,null,{"$f":"IF(Wartosci!D1122=\"\",\"\",Wartosci!D1122)","v":""}]
[null,null,null,null,null,{"$f":"IF(Wartosci!D1123=\"\",\"\",Wartosci!D1123)","v":""}]
[null,null,null,null,null,{"$f":"IF(Wartosci!D1124=\"\",\"\",Wartosci!D1124)","v":""}]
[null,null,null,null,null,{"$f":"IF(Wartosci!D1125=\"\",\"\",Wartosci!D1125)","v":""}]
[null,null,null,null,null,{"$f":"IF(Wartosci!D1126=\"\",\"\",Wartosci!D1126)","v":""}]
[null,null,null,null,null,{"$f":"IF(Wartosci!D1127=\"\",\"\",Wartosci!D1127)","v":""}]
[null,null,null,null,null,{"$f":"IF(Wartosci!D1128=\"\",\"\",Wartosci!D1128)","v":""}]
[null,null,null,null,null,{"$f":"IF(Wartosci!D1129=\"\",\"\",Wartosci!D1129)","v":""}]
[null,null,null,null,null,{"$f":"IF(Wartosci!D1130=\"\",\"\",Wartosci!D1130)","v":""}]
[null,null,null,null,null,{"$f":"IF(Wartosci!D1131=\"\",\"\",Wartosci!D1131)","v":""}]
[null,null,null,null,null,{"$f":"IF(Wartosci!D1132=\"\",\"\",Wartosci!D1132)","v":""}]
[null,null,null,null,null,{"$f":"IF(Wartosci!D1133=\"\",\"\",Wartosci!D1133)","v":""}]
[null,null,null,null,null,{"$f":"IF(Wartosci!D1134=\"\",\"\",Wartosci!D1134)","v":""}]
[null,null,null,null,null,{"$f":"IF(Wartosci!D1135=\"\",\"\",Wartosci!D1135)","v":""}]
[null,null,null,null,null,{"$f":"IF(Wartosci!D1136=\"\",\"\",Wartosci!D1136)","v":""}]
[null,null,null,null,null,{"$f":"IF(Wartosci!D1137=\"\",\"\",Wartosci!D1137)","v":""}]
[null,null,null,null,null,{"$f":"IF(Wartosci!D1138=\"\",\"\",Wartosci!D1138)","v":""}]
[null,null,null,null,null,{"$f":"IF(Wartosci!D1139=\"\",\"\",Wartosci!D1139)","v":""}]
[null,null,null,null,null,{"$f":"IF(Wartosci!D1140=\"\",\"\",Wartosci!D1140)","v":""}]
[null,null,null,null,null,{"$f":"IF(Wartosci!D1141=\"\",\"\",Wartosci!D1141)","v":""}]
[null,null,null,null,null,{"$f":"IF(Wartosci!D1142=\"\",\"\",Wartosci!D1142)","v":""}]
[null,null,null,null,null,{"$f":"IF(Wartosci!D1143=\"\",\"\",Wartosci!D1143)","v":""}]
[null,null,null,null,null,{"$f":"IF(Wartosci!D1144=\"\",\"\",Wartosci!D1144)","v":""}]
[null,null,null,null,null,{"$f":"IF(Wartosci!D1145=\"\",\"\",Wartosci!D1145)","v":""}]
[null,null,null,null,null,{"$f":"IF(Wartosci!D1146=\"\",\"\",Wartosci!D1146)","v":""}]
[null,null,null,null,null,{"$f":"IF(Wartosci!D1147=\"\",\"\",Wartosci!D1147)","v":""}]
[null,null,null,null,null,{"$f":"IF(Wartosci!D1148=\"\",\"\",Wartosci!D1148)","v":""}]
[null,null,null,null,null,{"$f":"IF(Wartosci!D1149=\"\",\"\",Wartosci!D1149)","v":""}]
[null,null,null,null,null,{"$f":"IF(Wartosci!D1150=\"\",\"\",Wartosci!D1150)","v":""}]
[null,null,null,null,null,{"$f":"IF(Wartosci!D1151=\"\",\"\",Wartosci!D1151)","v":""}]
[null,null,null,null,null,{"$f":"IF(Wartosci!D1152=\"\",\"\",Wartosci!D1152)","v":""}]
[null,null,null,null,null,{"$f":"IF(Wartosci!D1153=\"\",\"\",Wartosci!D1153)","v":""}]
[null,null,null,null,null,{"$f":"IF(Wartosci!D1154=\"\",\"\",Wartosci!D1154)","v":""}]
[null,null,null,null,null,{"$f":"IF(Wartosci!D1155=\"\",\"\",Wartosci!D1155)","v":""}]
[null,null,null,null,null,{"$f":"IF(Wartosci!D1156=\"\",\"\",Wartosci!D1156)","v":""}]
[null,null,null,null,null,{"$f":"IF(Wartosci!D1157=\"\",\"\",Wartosci!D1157)","v":""}]
[null,null,null,null,null,{"$f":"IF(Wartosci!D1158=\"\",\"\",Wartosci!D1158)","v":""}]
[null,null,null,null,null,{"$f":"IF(Wartosci!D1159=\"\",\"\",Wartosci!D1159)","v":""}]
[null,null,null,null,null,{"$f":"IF(Wartosci!D1160=\"\",\"\",Wartosci!D1160)","v":""}]
[null,null,null,null,null,{"$f":"IF(Wartosci!D1161=\"\",\"\",Wartosci!D1161)","v":""}]
[null,null,null,null,null,{"$f":"IF(Wartosci!D1162=\"\",\"\",Wartosci!D1162)","v":""}]
[null,null,null,null,null,{"$f":"IF(Wartosci!D1163=\"\",\"\",Wartosci!D1163)","v":""}]
[null,null,null,null,null,{"$f":"IF(Wartosci!D1164=\"\",\"\",Wartosci!D1164)","v":""}]
[null,null,null,null,null,{"$f":"IF(Wartosci!D1165=\"\",\"\",Wartosci!D1165)","v":""}]
[null,null,null,null,null,{"$f":"IF(Wartosci!D1166=\"\",\"\",Wartosci!D1166)","v":""}]
[null,null,null,null,null,{"$f":"IF(Wartosci!D1167=\"\",\"\",Wartosci!D1167)","v":""}]
[null,null,null,null,null,{"$f":"IF(Wartosci!D1168=\"\",\"\",Wartosci!D1168)","v":""}]
[null,null,null,null,null,{"$f":"IF(Wartosci!D1169=\"\",\"\",Wartosci!D1169)","v":""}]
[null,null,null,null,null,{"$f":"IF(Wartosci!D1170=\"\",\"\",Wartosci!D1170)","v":""}]
[null,null,null,null,null,{"$f":"IF(Wartosci!D1171=\"\",\"\",Wartosci!D1171)","v":""}]
[null,null,null,null,null,{"$f":"IF(Wartosci!D1172=\"\",\"\",Wartosci!D1172)","v":""}]
[null,null,null,null,null,{"$f":"IF(Wartosci!D1173=\"\",\"\",Wartosci!D1173)","v":""}]
[null,null,null,null,null,{"$f":"IF(Wartosci!D1174=\"\",\"\",Wartosci!D1174)","v":""}]
[null,null,null,null,null,{"$f":"IF(Wartosci!D1175=\"\",\"\",Wartosci!D1175)","v":""}]
[null,null,null,null,null,{"$f":"IF(Wartosci!D1176=\"\",\"\",Wartosci!D1176)","v":""}]
[null,null,null,null,null,{"$f":"IF(Wartosci!D1177=\"\",\"\",Wartosci!D1177)","v":""}]
[null,null,null,null,null,{"$f":"IF(Wartosci!D1178=\"\",\"\",Wartosci!D1178)","v":""}]
[null,null,null,null,null,{"$f":"IF(Wartosci!D1179=\"\",\"\",Wartosci!D1179)","v":""}]
[null,null,null,null,null,{"$f":"IF(Wartosci!D1180=\"\",\"\",Wartosci!D1180)","v":""}]
[null,null,null,null,null,{"$f":"IF(Wartosci!D1181=\"\",\"\",Wartosci!D1181)","v":""}]
[null,null,null,null,null,{"$f":"IF(Wartosci!D1182=\"\",\"\",Wartosci!D1182)","v":""}]
[null,null,null,null,null,{"$f":"IF(Wartosci!D1183=\"\",\"\",Wartosci!D1183)","v":""}]
[null,null,null,null,null,{"$f":"IF(Wartosci!D1184=\"\",\"\",Wartosci!D1184)","v":""}]
[null,null,null,null,null,{"$f":"IF(Wartosci!D1185=\"\",\"\",Wartosci!D1185)","v":""}]
[null,null,null,null,null,{"$f":"IF(Wartosci!D1186=\"\",\"\",Wartosci!D1186)","v":""}]
[null,null,null,null,null,{"$f":"IF(Wartosci!D1187=\"\",\"\",Wartosci!D1187)","v":""}]
[null,null,null,null,null,{"$f":"IF(Wartosci!D1188=\"\",\"\",Wartosci!D1188)","v":""}]
[null,null,null,null,null,{"$f":"IF(Wartosci!D1189=\"\",\"\",Wartosci!D1189)","v":""}]
[null,null,null,null,null,{"$f":"IF(Wartosci!D1190=\"\",\"\",Wartosci!D1190)","v":""}]
[null,null,null,null,null,{"$f":"IF(Wartosci!D1191=\"\",\"\",Wartosci!D1191)","v":""}]
[null,null,null,null,null,{"$f":"IF(Wartosci!D1192=\"\",\"\",Wartosci!D1192)","v":""}]
[null,null,null,null,null,{"$f":"IF(Wartosci!D1193=\"\",\"\",Wartosci!D1193)","v":""}]
[null,null,null,null,null,{"$f":"IF(Wartosci!D1194=\"\",\"\",Wartosci!D1194)","v":""}]
[null,null,null,null,null,{"$f":"IF(Wartosci!D1195=\"\",\"\",Wartosci!D1195)","v":""}]
[null,null,null,null,null,{"$f":"IF(Wartosci!D1196=\"\",\"\",Wartosci!D1196)","v":""}]
[null,null,null,null,null,{"$f":"IF(Wartosci!D1197=\"\",\"\",Wartosci!D1197)","v":""}]
[null,null,null,null,null,{"$f":"IF(Wartosci!D1198=\"\",\"\",Wartosci!D1198)","v":""}]
[null,null,null,null,null,{"$f":"IF(Wartosci!D1199=\"\",\"\",Wartosci!D1199)","v":""}]
[null,null,null,null,null,{"$f":"IF(Wartosci!D1200=\"\",\"\",Wartosci!D1200)","v":""}]
[null,null,null,null,null,{"$f":"IF(Wartosci!D1201=\"\",\"\",Wartosci!D1201)","v":""}]
[null,null,null,null,null,{"$f":"IF(Wartosci!D1202=\"\",\"\",Wartosci!D1202)","v":""}]
[null,null,null,null,null,{"$f":"IF(Wartosci!D1203=\"\",\"\",Wartosci!D1203)","v":""}]
[null,null,null,null,null,{"$f":"IF(Wartosci!D1204=\"\",\"\",Wartosci!D1204)","v":""}]
[null,null,null,null,null,{"$f":"IF(Wartosci!D1205=\"\",\"\",Wartosci!D1205)","v":""}]
[null,null,null,null,null,{"$f":"IF(Wartosci!D1206=\"\",\"\",Wartosci!D1206)","v":""}]
[null,null,null,null,null,{"$f":"IF(Wartosci!D1207=\"\",\"\",Wartosci!D1207)","v":""}]
[null,null,null,null,null,{"$f":"IF(Wartosci!D1208=\"\",\"\",Wartosci!D1208)","v":""}]
[null,null,null,null,null,{"$f":"IF(Wartosci!D1209=\"\",\"\",Wartosci!D1209)","v":""}]
[null,null,null,null,null,{"$f":"IF(Wartosci!D1210=\"\",\"\",Wartosci!D1210)","v":""}]
[null,null,null,null,null,{"$f":"IF(Wartosci!D1211=\"\",\"\",Wartosci!D1211)","v":""}]
[null,null,null,null,null,{"$f":"IF(Wartosci!D1212=\"\",\"\",Wartosci!D1212)","v":""}]
[null,null,null,null,null,{"$f":"IF(Wartosci!D1213=\"\",\"\",Wartosci!D1213)","v":""}]
[null,null,null,null,null,{"$f":"IF(Wartosci!D1214=\"\",\"\",Wartosci!D1214)","v":""}]
[null,null,null,null,null,{"$f":"IF(Wartosci!D1215=\"\",\"\",Wartosci!D1215)","v":""}]
[null,null,null,null,null,{"$f":"IF(Wartosci!D1216=\"\",\"\",Wartosci!D1216)","v":""}]
[null,null,null,null,null,{"$f":"IF(Wartosci!D1217=\"\",\"\",Wartosci!D1217)","v":""}]
[null,null,null,null,null,{"$f":"IF(Wartosci!D1218=\"\",\"\",Wartosci!D1218)","v":""}]
[null,null,null,null,null,{"$f":"IF(Wartosci!D1219=\"\",\"\",Wartosci!D1219)","v":""}]
[null,null,null,null,null,{"$f":"IF(Wartosci!D1220=\"\",\"\",Wartosci!D1220)","v":""}]
[null,null,null,null,null,{"$f":"IF(Wartosci!D1221=\"\",\"\",Wartosci!D1221)","v":""}]
[null,null,null,null,null,{"$f":"IF(Wartosci!D1222=\"\",\"\",Wartosci!D1222)","v":""}]
[null,null,null,null,null,{"$f":"IF(Wartosci!D1223=\"\",\"\",Wartosci!D1223)","v":""}]
[null,null,null,null,null,{"$f":"IF(Wartosci!D1224=\"\",\"\",Wartosci!D1224)","v":""}]
[null,null,null,null,null,{"$f":"IF(Wartosci!D1225=\"\",\"\",Wartosci!D1225)","v":""}]
[null,null,null,null,null,{"$f":"IF(Wartosci!D1226=\"\",\"\",Wartosci!D1226)","v":""}]
[null,null,null,null,null,{"$f":"IF(Wartosci!D1227=\"\",\"\",Wartosci!D1227)","v":""}]
[null,null,null,null,null,{"$f":"IF(Wartosci!D1228=\"\",\"\",Wartosci!D1228)","v":""}]
[null,null,null,null,null,{"$f":"IF(Wartosci!D1229=\"\",\"\",Wartosci!D1229)","v":""}]
[null,null,null,null,null,{"$f":"IF(Wartosci!D1230=\"\",\"\",Wartosci!D1230)","v":""}]
[null,null,null,null,null,{"$f":"IF(Wartosci!D1231=\"\",\"\",Wartosci!D1231)","v":""}]
[null,null,null,null,null,{"$f":"IF(Wartosci!D1232=\"\",\"\",Wartosci!D1232)","v":""}]
[null,null,null,null,null,{"$f":"IF(Wartosci!D1233=\"\",\"\",Wartosci!D1233)","v":""}]
[null,null,null,null,null,{"$f":"IF(Wartosci!D1234=\"\",\"\",Wartosci!D1234)","v":""}]
[null,null,null,null,null,{"$f":"IF(Wartosci!D1235=\"\",\"\",Wartosci!D1235)","v":""}]
[null,null,null,null,null,{"$f":"IF(Wartosci!D1236=\"\",\"\",Wartosci!D1236)","v":""}]
[null,null,null,null,null,{"$f":"IF(Wartosci!D1237=\"\",\"\",Wartosci!D1237)","v":""}]
[null,null,null,null,null,{"$f":"IF(Wartosci!D1238=\"\",\"\",Wartosci!D1238)","v":""}]
[null,null,null,null,null,{"$f":"IF(Wartosci!D1239=\"\",\"\",Wartosci!D1239)","v":""}]
[null,null,null,null,null,{"$f":"IF(Wartosci!D1240=\"\",\"\",Wartosci!D1240)","v":""}]
[null,null,null,null,null,{"$f":"IF(Wartosci!D1241=\"\",\"\",Wartosci!D1241)","v":""}]
[null,null,null,null,null,{"$f":"IF(Wartosci!D1242=\"\",\"\",Wartosci!D1242)","v":""}]
[null,null,null,null,null,{"$f":"IF(Wartosci!D1243=\"\",\"\",Wartosci!D1243)","v":""}]
[null,null,null,null,null,{"$f":"IF(Wartosci!D1244=\"\",\"\",Wartosci!D1244)","v":""}]
[null,null,null,null,null,{"$f":"IF(Wartosci!D1245=\"\",\"\",Wartosci!D1245)","v":""}]
[null,null,null,null,null,{"$f":"IF(Wartosci!D1246=\"\",\"\",Wartosci!D1246)","v":""}]
[null,null,null,null,null,{"$f":"IF(Wartosci!D1247=\"\",\"\",Wartosci!D1247)","v":""}]
[null,null,null,null,null,{"$f":"IF(Wartosci!D1248=\"\",\"\",Wartosci!D1248)","v":""}]
[null,null,null,null,null,{"$f":"IF(Wartosci!D1249=\"\",\"\",Wartosci!D1249)","v":""}]
[null,null,null,null,null,{"$f":"IF(Wartosci!D1250=\"\",\"\",Wartosci!D1250)","v":""}]
[null,null,null,null,null,{"$f":"IF(Wartosci!D1251=\"\",\"\",Wartosci!D1251)","v":""}]
[null,null,null,null,null,{"$f":"IF(Wartosci!D1252=\"\",\"\",Wartosci!D1252)","v":""}]
[null,null,null,null,null,{"$f":"IF(Wartosci!D1253=\"\",\"\",Wartosci!D1253)","v":""}]
[null,null,null,null,null,{"$f":"IF(Wartosci!D1254=\"\",\"\",Wartosci!D1254)","v":""}]
[null,null,null,null,null,{"$f":"IF(Wartosci!D1255=\"\",\"\",Wartosci!D1255)","v":""}]
[null,null,null,null,null,{"$f":"IF(Wartosci!D1256=\"\",\"\",Wartosci!D1256)","v":""}]
[null,null,null,null,null,{"$f":"IF(Wartosci!D1257=\"\",\"\",Wartosci!D1257)","v":""}]
[null,null,null,null,null,{"$f":"IF(Wartosci!D1258=\"\",\"\",Wartosci!D1258)","v":""}]
[null,null,null,null,null,{"$f":"IF(Wartosci!D1259=\"\",\"\",Wartosci!D1259)","v":""}]
[null,null,null,null,null,{"$f":"IF(Wartosci!D1260=\"\",\"\",Wartosci!D1260)","v":""}]
[null,null,null,null,null,{"$f":"IF(Wartosci!D1261=\"\",\"\",Wartosci!D1261)","v":""}]
[null,null,null,null,null,{"$f":"IF(Wartosci!D1262=\"\",\"\",Wartosci!D1262)","v":""}]
[null,null,null,null,null,{"$f":"IF(Wartosci!D1263=\"\",\"\",Wartosci!D1263)","v":""}]
[null,null,null,null,null,{"$f":"IF(Wartosci!D1264=\"\",\"\",Wartosci!D1264)","v":""}]
[null,null,null,null,null,{"$f":"IF(Wartosci!D1265=\"\",\"\",Wartosci!D1265)","v":""}]
[null,null,null,null,null,{"$f":"IF(Wartosci!D1266=\"\",\"\",Wartosci!D1266)","v":""}]
[null,null,null,null,null,{"$f":"IF(Wartosci!D1267=\"\",\"\",Wartosci!D1267)","v":""}]
[null,null,null,null,null,{"$f":"IF(Wartosci!D1268=\"\",\"\",Wartosci!D1268)","v":""}]
[null,null,null,null,null,{"$f":"IF(Wartosci!D1269=\"\",\"\",Wartosci!D1269)","v":""}]
[null,null,null,null,null,{"$f":"IF(Wartosci!D1270=\"\",\"\",Wartosci!D1270)","v":""}]
[null,null,null,null,null,{"$f":"IF(Wartosci!D1271=\"\",\"\",Wartosci!D1271)","v":""}]
[null,null,null,null,null,{"$f":"IF(Wartosci!D1272=\"\",\"\",Wartosci!D1272)","v":""}]
[null,null,null,null,null,{"$f":"IF(Wartosci!D1273=\"\",\"\",Wartosci!D1273)","v":""}]
[null,null,null,null,null,{"$f":"IF(Wartosci!D1274=\"\",\"\",Wartosci!D1274)","v":""}]
[null,null,null,null,null,{"$f":"IF(Wartosci!D1275=\"\",\"\",Wartosci!D1275)","v":""}]
[null,null,null,null,null,{"$f":"IF(Wartosci!D1276=\"\",\"\",Wartosci!D1276)","v":""}]
[null,null,null,null,null,{"$f":"IF(Wartosci!D1277=\"\",\"\",Wartosci!D1277)","v":""}]
[null,null,null,null,null,{"$f":"IF(Wartosci!D1278=\"\",\"\",Wartosci!D1278)","v":""}]
[null,null,null,null,null,{"$f":"IF(Wartosci!D1279=\"\",\"\",Wartosci!D1279)","v":""}]
[null,null,null,null,null,{"$f":"IF(Wartosci!D1280=\"\",\"\",Wartosci!D1280)","v":""}]
[null,null,null,null,null,{"$f":"IF(Wartosci!D1281=\"\",\"\",Wartosci!D1281)","v":""}]
[null,null,null,null,null,{"$f":"IF(Wartosci!D1282=\"\",\"\",Wartosci!D1282)","v":""}]
[null,null,null,null,null,{"$f":"IF(Wartosci!D1283=\"\",\"\",Wartosci!D1283)","v":""}]
[null,null,null,null,null,{"$f":"IF(Wartosci!D1284=\"\",\"\",Wartosci!D1284)","v":""}]
[null,null,null,null,null,{"$f":"IF(Wartosci!D1285=\"\",\"\",Wartosci!D1285)","v":""}]
[null,null,null,null,null,{"$f":"IF(Wartosci!D1286=\"\",\"\",Wartosci!D1286)","v":""}]
[null,null,null,null,null,{"$f":"IF(Wartosci!D1287=\"\",\"\",Wartosci!D1287)","v":""}]
[null,null,null,null,null,{"$f":"IF(Wartosci!D1288=\"\",\"\",Wartosci!D1288)","v":""}]
[null,null,null,null,null,{"$f":"IF(Wartosci!D1289=\"\",\"\",Wartosci!D1289)","v":""}]
[null,null,null,null,null,{"$f":"IF(Wartosci!D1290=\"\",\"\",Wartosci!D1290)","v":""}]
[null,null,null,null,null,{"$f":"IF(Wartosci!D1291=\"\",\"\",Wartosci!D1291)","v":""}]
[null,null,null,null,null,{"$f":"IF(Wartosci!D1292=\"\",\"\",Wartosci!D1292)","v":""}]
[null,null,null,null,null,{"$f":"IF(Wartosci!D1293=\"\",\"\",Wartosci!D1293)","v":""}]
[null,null,null,null,null,{"$f":"IF(Wartosci!D1294=\"\",\"\",Wartosci!D1294)","v":""}]
[null,null,null,null,null,{"$f":"IF(Wartosci!D1295=\"\",\"\",Wartosci!D1295)","v":""}]
[null,null,null,null,null,{"$f":"IF(Wartosci!D1296=\"\",\"\",Wartosci!D1296)","v":""}]
[null,null,null,null,null,{"$f":"IF(Wartosci!D1297=\"\",\"\",Wartosci!D1297)","v":""}]
[null,null,null,null,null,{"$f":"IF(Wartosci!D1298=\"\",\"\",Wartosci!D1298)","v":""}]
[null,null,null,null,null,{"$f":"IF(Wartosci!D1299=\"\",\"\",Wartosci!D1299)","v":""}]
[null,null,null,null,null,{"$f":"IF(Wartosci!D1300=\"\",\"\",Wartosci!D1300)","v":""}]
[null,null,null,null,null,{"$f":"IF(Wartosci!D1301=\"\",\"\",Wartosci!D1301)","v":""}]
[null,null,null,null,null,{"$f":"IF(Wartosci!D1302=\"\",\"\",Wartosci!D1302)","v":""}]
[null,null,null,null,null,{"$f":"IF(Wartosci!D1303=\"\",\"\",Wartosci!D1303)","v":""}]
[null,null,null,null,null,{"$f":"IF(Wartosci!D1304=\"\",\"\",Wartosci!D1304)","v":""}]
[null,null,null,null,null,{"$f":"IF(Wartosci!D1305=\"\",\"\",Wartosci!D1305)","v":""}]
[null,null,null,null,null,{"$f":"IF(Wartosci!D1306=\"\",\"\",Wartosci!D1306)","v":""}]
[null,null,null,null,null,{"$f":"IF(Wartosci!D1307=\"\",\"\",Wartosci!D1307)","v":""}]
[null,null,null,null,null,{"$f":"IF(Wartosci!D1308=\"\",\"\",Wartosci!D1308)","v":""}]
[null,null,null,null,null,{"$f":"IF(Wartosci!D1309=\"\",\"\",Wartosci!D1309)","v":""}]
[null,null,null,null,null,{"$f":"IF(Wartosci!D1310=\"\",\"\",Wartosci!D1310)","v":""}]
[null,null,null,null,null,{"$f":"IF(Wartosci!D1311=\"\",\"\",Wartosci!D1311)","v":""}]
[null,null,null,null,null,{"$f":"IF(Wartosci!D1312=\"\",\"\",Wartosci!D1312)","v":""}]
[null,null,null,null,null,{"$f":"IF(Wartosci!D1313=\"\",\"\",Wartosci!D1313)","v":""}]
[null,null,null,null,null,{"$f":"IF(Wartosci!D1314=\"\",\"\",Wartosci!D1314)","v":""}]
[null,null,null,null,null,{"$f":"IF(Wartosci!D1315=\"\",\"\",Wartosci!D1315)","v":""}]
[null,null,null,null,null,{"$f":"IF(Wartosci!D1316=\"\",\"\",Wartosci!D1316)","v":""}]
[null,null,null,null,null,{"$f":"IF(Wartosci!D1317=\"\",\"\",Wartosci!D1317)","v":""}]
[null,null,null,null,null,{"$f":"IF(Wartosci!D1318=\"\",\"\",Wartosci!D1318)","v":""}]
[null,null,null,null,null,{"$f":"IF(Wartosci!D1319=\"\",\"\",Wartosci!D1319)","v":""}]
[null,null,null,null,null,{"$f":"IF(Wartosci!D1320=\"\",\"\",Wartosci!D1320)","v":""}]
[null,null,null,null,null,{"$f":"IF(Wartosci!D1321=\"\",\"\",Wartosci!D1321)","v":""}]
[null,null,null,null,null,{"$f":"IF(Wartosci!D1322=\"\",\"\",Wartosci!D1322)","v":""}]
[null,null,null,null,null,{"$f":"IF(Wartosci!D1323=\"\",\"\",Wartosci!D1323)","v":""}]
[null,null,null,null,null,{"$f":"IF(Wartosci!D1324=\"\",\"\",Wartosci!D1324)","v":""}]
[null,null,null,null,null,{"$f":"IF(Wartosci!D1325=\"\",\"\",Wartosci!D1325)","v":""}]
[null,null,null,null,null,{"$f":"IF(Wartosci!D1326=\"\",\"\",Wartosci!D1326)","v":""}]
[null,null,null,null,null,{"$f":"IF(Wartosci!D1327=\"\",\"\",Wartosci!D1327)","v":""}]
[null,null,null,null,null,{"$f":"IF(Wartosci!D1328=\"\",\"\",Wartosci!D1328)","v":""}]
[null,null,null,null,null,{"$f":"IF(Wartosci!D1329=\"\",\"\",Wartosci!D1329)","v":""}]
[null,null,null,null,null,{"$f":"IF(Wartosci!D1330=\"\",\"\",Wartosci!D1330)","v":""}]
[null,null,null,null,null,{"$f":"IF(Wartosci!D1331=\"\",\"\",Wartosci!D1331)","v":""}]
[null,null,null,null,null,{"$f":"IF(Wartosci!D1332=\"\",\"\",Wartosci!D1332)","v":""}]
[null,null,null,null,null,{"$f":"IF(Wartosci!D1333=\"\",\"\",Wartosci!D1333)","v":""}]
[null,null,null,null,null,{"$f":"IF(Wartosci!D1334=\"\",\"\",Wartosci!D1334)","v":""}]
[null,null,null,null,null,{"$f":"IF(Wartosci!D1335=\"\",\"\",Wartosci!D1335)","v":""}]
[null,null,null,null,null,{"$f":"IF(Wartosci!D1336=\"\",\"\",Wartosci!D1336)","v":""}]
[null,null,null,null,null,{"$f":"IF(Wartosci!D1337=\"\",\"\",Wartosci!D1337)","v":""}]
[null,null,null,null,null,{"$f":"IF(Wartosci!D1338=\"\",\"\",Wartosci!D1338)","v":""}]
[null,null,null,null,null,{"$f":"IF(Wartosci!D1339=\"\",\"\",Wartosci!D1339)","v":""}]
[null,null,null,null,null,{"$f":"IF(Wartosci!D1340=\"\",\"\",Wartosci!D1340)","v":""}]
[null,null,null,null,null,{"$f":"IF(Wartosci!D1341=\"\",\"\",Wartosci!D1341)","v":""}]
[null,null,null,null,null,{"$f":"IF(Wartosci!D1342=\"\",\"\",Wartosci!D1342)","v":""}]
[null,null,null,null,null,{"$f":"IF(Wartosci!D1343=\"\",\"\",Wartosci!D1343)","v":""}]
[null,null,null,null,null,{"$f":"IF(Wartosci!D1344=\"\",\"\",Wartosci!D1344)","v":""}]
[null,null,null,null,null,{"$f":"IF(Wartosci!D1345=\"\",\"\",Wartosci!D1345)","v":""}]
[null,null,null,null,null,{"$f":"IF(Wartosci!D1346=\"\",\"\",Wartosci!D1346)","v":""}]
[null,null,null,null,null,{"$f":"IF(Wartosci!D1347=\"\",\"\",Wartosci!D1347)","v":""}]
[null,null,null,null,null,{"$f":"IF(Wartosci!D1348=\"\",\"\",Wartosci!D1348)","v":""}]
[null,null,null,null,null,{"$f":"IF(Wartosci!D1349=\"\",\"\",Wartosci!D1349)","v":""}]
[null,null,null,null,null,{"$f":"IF(Wartosci!D1350=\"\",\"\",Wartosci!D1350)","v":""}]
[null,null,null,null,null,{"$f":"IF(Wartosci!D1351=\"\",\"\",Wartosci!D1351)","v":""}]
[null,null,null,null,null,{"$f":"IF(Wartosci!D1352=\"\",\"\",Wartosci!D1352)","v":""}]
[null,null,null,null,null,{"$f":"IF(Wartosci!D1353=\"\",\"\",Wartosci!D1353)","v":""}]
[null,null,null,null,null,{"$f":"IF(Wartosci!D1354=\"\",\"\",Wartosci!D1354)","v":""}]
[null,null,null,null,null,{"$f":"IF(Wartosci!D1355=\"\",\"\",Wartosci!D1355)","v":""}]
[null,null,null,null,null,{"$f":"IF(Wartosci!D1356=\"\",\"\",Wartosci!D1356)","v":""}]
[null,null,null,null,null,{"$f":"IF(Wartosci!D1357=\"\",\"\",Wartosci!D1357)","v":""}]
[null,null,null,null,null,{"$f":"IF(Wartosci!D1358=\"\",\"\",Wartosci!D1358)","v":""}]
[null,null,null,null,null,{"$f":"IF(Wartosci!D1359=\"\",\"\",Wartosci!D1359)","v":""}]
[null,null,null,null,null,{"$f":"IF(Wartosci!D1360=\"\",\"\",Wartosci!D1360)","v":""}]
[null,null,null,null,null,{"$f":"IF(Wartosci!D1361=\"\",\"\",Wartosci!D1361)","v":""}]
[null,null,null,null,null,{"$f":"IF(Wartosci!D1362=\"\",\"\",Wartosci!D1362)","v":""}]
[null,null,null,null,null,{"$f":"IF(Wartosci!D1363=\"\",\"\",Wartosci!D1363)","v":""}]
[null,null,null,null,null,{"$f":"IF(Wartosci!D1364=\"\",\"\",Wartosci!D1364)","v":""}]
[null,null,null,null,null,{"$f":"IF(Wartosci!D1365=\"\",\"\",Wartosci!D1365)","v":""}]
[null,null,null,null,null,{"$f":"IF(Wartosci!D1366=\"\",\"\",Wartosci!D1366)","v":""}]
[null,null,null,null,null,{"$f":"IF(Wartosci!D1367=\"\",\"\",Wartosci!D1367)","v":""}]
[null,null,null,null,null,{"$f":"IF(Wartosci!D1368=\"\",\"\",Wartosci!D1368)","v":""}]
[null,null,null,null,null,{"$f":"IF(Wartosci!D1369=\"\",\"\",Wartosci!D1369)","v":""}]
[null,null,null,null,null,{"$f":"IF(Wartosci!D1370=\"\",\"\",Wartosci!D1370)","v":""}]
[null,null,null,null,null,{"$f":"IF(Wartosci!D1371=\"\",\"\",Wartosci!D1371)","v":""}]
[null,null,null,null,null,{"$f":"IF(Wartosci!D1372=\"\",\"\",Wartosci!D1372)","v":""}]
[null,null,null,null,null,{"$f":"IF(Wartosci!D1373=\"\",\"\",Wartosci!D1373)","v":""}]
[null,null,null,null,null,{"$f":"IF(Wartosci!D1374=\"\",\"\",Wartosci!D1374)","v":""}]
[null,null,null,null,null,{"$f":"IF(Wartosci!D1375=\"\",\"\",Wartosci!D1375)","v":""}]
[null,null,null,null,null,{"$f":"IF(Wartosci!D1376=\"\",\"\",Wartosci!D1376)","v":""}]
[null,null,null,null,null,{"$f":"IF(Wartosci!D1377=\"\",\"\",Wartosci!D1377)","v":""}]
[null,null,null,null,null,{"$f":"IF(Wartosci!D1378=\"\",\"\",Wartosci!D1378)","v":""}]
[null,null,null,null,null,{"$f":"IF(Wartosci!D1379=\"\",\"\",Wartosci!D1379)","v":""}]
[null,null,null,null,null,{"$f":"IF(Wartosci!D1380=\"\",\"\",Wartosci!D1380)","v":""}]
[null,null,null,null,null,{"$f":"IF(Wartosci!D1381=\"\",\"\",Wartosci!D1381)","v":""}]
[null,null,null,null,null,{"$f":"IF(Wartosci!D1382=\"\",\"\",Wartosci!D1382)","v":""}]
[null,null,null,null,null,{"$f":"IF(Wartosci!D1383=\"\",\"\",Wartosci!D1383)","v":""}]
[null,null,null,null,null,{"$f":"IF(Wartosci!D1384=\"\",\"\",Wartosci!D1384)","v":""}]
[null,null,null,null,null,{"$f":"IF(Wartosci!D1385=\"\",\"\",Wartosci!D1385)","v":""}]
[null,null,null,null,null,{"$f":"IF(Wartosci!D1386=\"\",\"\",Wartosci!D1386)","v":""}]
[null,null,null,null,null,{"$f":"IF(Wartosci!D1387=\"\",\"\",Wartosci!D1387)","v":""}]
[null,null,null,null,null,{"$f":"IF(Wartosci!D1388=\"\",\"\",Wartosci!D1388)","v":""}]
[null,null,null,null,null,{"$f":"IF(Wartosci!D1389=\"\",\"\",Wartosci!D1389)","v":""}]
[null,null,null,null,null,{"$f":"IF(Wartosci!D1390=\"\",\"\",Wartosci!D1390)","v":""}]
[null,null,null,null,null,{"$f":"IF(Wartosci!D1391=\"\",\"\",Wartosci!D1391)","v":""}]
[null,null,null,null,null,{"$f":"IF(Wartosci!D1392=\"\",\"\",Wartosci!D1392)","v":""}]
[null,null,null,null,null,{"$f":"IF(Wartosci!D1393=\"\",\"\",Wartosci!D1393)","v":""}]
[null,null,null,null,null,{"$f":"IF(Wartosci!D1394=\"\",\"\",Wartosci!D1394)","v":""}]
[null,null,null,null,null,{"$f":"IF(Wartosci!D1395=\"\",\"\",Wartosci!D1395)","v":""}]
[null,null,null,null,null,{"$f":"IF(Wartosci!D1396=\"\",\"\",Wartosci!D1396)","v":""}]
[null,null,null,null,null,{"$f":"IF(Wartosci!D1397=\"\",\"\",Wartosci!D1397)","v":""}]
[null,null,null,null,null,{"$f":"IF(Wartosci!D1398=\"\",\"\",Wartosci!D1398)","v":""}]
[null,null,null,null,null,{"$f":"IF(Wartosci!D1399=\"\",\"\",Wartosci!D1399)","v":""}]
[null,null,null,null,null,{"$f":"IF(Wartosci!D1400=\"\",\"\",Wartosci!D1400)","v":""}]
[null,null,null,null,null,{"$f":"IF(Wartosci!D1401=\"\",\"\",Wartosci!D1401)","v":""}]
[null,null,null,null,null,{"$f":"IF(Wartosci!D1402=\"\",\"\",Wartosci!D1402)","v":""}]
[null,null,null,null,null,{"$f":"IF(Wartosci!D1403=\"\",\"\",Wartosci!D1403)","v":""}]
[null,null,null,null,null,{"$f":"IF(Wartosci!D1404=\"\",\"\",Wartosci!D1404)","v":""}]
[null,null,null,null,null,{"$f":"IF(Wartosci!D1405=\"\",\"\",Wartosci!D1405)","v":""}]
[null,null,null,null,null,{"$f":"IF(Wartosci!D1406=\"\",\"\",Wartosci!D1406)","v":""}]
[null,null,null,null,null,{"$f":"IF(Wartosci!D1407=\"\",\"\",Wartosci!D1407)","v":""}]
[null,null,null,null,null,{"$f":"IF(Wartosci!D1408=\"\",\"\",Wartosci!D1408)","v":""}]
[null,null,null,null,null,{"$f":"IF(Wartosci!D1409=\"\",\"\",Wartosci!D1409)","v":""}]
[null,null,null,null,null,{"$f":"IF(Wartosci!D1410=\"\",\"\",Wartosci!D1410)","v":""}]
[null,null,null,null,null,{"$f":"IF(Wartosci!D1411=\"\",\"\",Wartosci!D1411)","v":""}]
[null,null,null,null,null,{"$f":"IF(Wartosci!D1412=\"\",\"\",Wartosci!D1412)","v":""}]
[null,null,null,null,null,{"$f":"IF(Wartosci!D1413=\"\",\"\",Wartosci!D1413)","v":""}]
[null,null,null,null,null,{"$f":"IF(Wartosci!D1414=\"\",\"\",Wartosci!D1414)","v":""}]
[null,null,null,null,null,{"$f":"IF(Wartosci!D1415=\"\",\"\",Wartosci!D1415)","v":""}]
[null,null,null,null,null,{"$f":"IF(Wartosci!D1416=\"\",\"\",Wartosci!D1416)","v":""}]
[null,null,null,null,null,{"$f":"IF(Wartosci!D1417=\"\",\"\",Wartosci!D1417)","v":""}]
[null,null,null,null,null,{"$f":"IF(Wartosci!D1418=\"\",\"\",Wartosci!D1418)","v":""}]
[null,null,null,null,null,{"$f":"IF(Wartosci!D1419=\"\",\"\",Wartosci!D1419)","v":""}]
[null,null,null,null,null,{"$f":"IF(Wartosci!D1420=\"\",\"\",Wartosci!D1420)","v":""}]
[null,null,null,null,null,{"$f":"IF(Wartosci!D1421=\"\",\"\",Wartosci!D1421)","v":""}]
[null,null,null,null,null,{"$f":"IF(Wartosci!D1422=\"\",\"\",Wartosci!D1422)","v":""}]
[null,null,null,null,null,{"$f":"IF(Wartosci!D1423=\"\",\"\",Wartosci!D1423)","v":""}]
[null,null,null,null,null,{"$f":"IF(Wartosci!D1424=\"\",\"\",Wartosci!D1424)","v":""}]
[null,null,null,null,null,{"$f":"IF(Wartosci!D1425=\"\",\"\",Wartosci!D1425)","v":""}]
[null,null,null,null,null,{"$f":"IF(Wartosci!D1426=\"\",\"\",Wartosci!D1426)","v":""}]
[null,null,null,null,null,{"$f":"IF(Wartosci!D1427=\"\",\"\",Wartosci!D1427)","v":""}]
[null,null,null,null,null,{"$f":"IF(Wartosci!D1428=\"\",\"\",Wartosci!D1428)","v":""}]
[null,null,null,null,null,{"$f":"IF(Wartosci!D1429=\"\",\"\",Wartosci!D1429)","v":""}]
[null,null,null,null,null,{"$f":"IF(Wartosci!D1430=\"\",\"\",Wartosci!D1430)","v":""}]
[null,null,null,null,null,{"$f":"IF(Wartosci!D1431=\"\",\"\",Wartosci!D1431)","v":""}]
[null,null,null,null,null,{"$f":"IF(Wartosci!D1432=\"\",\"\",Wartosci!D1432)","v":""}]
[null,null,null,null,null,{"$f":"IF(Wartosci!D1433=\"\",\"\",Wartosci!D1433)","v":""}]
[null,null,null,null,null,{"$f":"IF(Wartosci!D1434=\"\",\"\",Wartosci!D1434)","v":""}]
[null,null,null,null,null,{"$f":"IF(Wartosci!D1435=\"\",\"\",Wartosci!D1435)","v":""}]
[null,null,null,null,null,{"$f":"IF(Wartosci!D1436=\"\",\"\",Wartosci!D1436)","v":""}]
[null,null,null,null,null,{"$f":"IF(Wartosci!D1437=\"\",\"\",Wartosci!D1437)","v":""}]
[null,null,null,null,null,{"$f":"IF(Wartosci!D1438=\"\",\"\",Wartosci!D1438)","v":""}]
[null,null,null,null,null,{"$f":"IF(Wartosci!D1439=\"\",\"\",Wartosci!D1439)","v":""}]
[null,null,null,null,null,{"$f":"IF(Wartosci!D1440=\"\",\"\",Wartosci!D1440)","v":""}]
[null,null,null,null,null,{"$f":"IF(Wartosci!D1441=\"\",\"\",Wartosci!D1441)","v":""}]
[null,null,null,null,null,{"$f":"IF(Wartosci!D1442=\"\",\"\",Wartosci!D1442)","v":""}]
[null,null,null,null,null,{"$f":"IF(Wartosci!D1443=\"\",\"\",Wartosci!D1443)","v":""}]
[null,null,null,null,null,{"$f":"IF(Wartosci!D1444=\"\",\"\",Wartosci!D1444)","v":""}]
[null,null,null,null,null,{"$f":"IF(Wartosci!D1445=\"\",\"\",Wartosci!D1445)","v":""}]
[null,null,null,null,null,{"$f":"IF(Wartosci!D1446=\"\",\"\",Wartosci!D1446)","v":""}]
[null,null,null,null,null,{"$f":"IF(Wartosci!D1447=\"\",\"\",Wartosci!D1447)","v":""}]
[null,null,null,null,null,{"$f":"IF(Wartosci!D1448=\"\",\"\",Wartosci!D1448)","v":""}]
[null,null,null,null,null,{"$f":"IF(Wartosci!D1449=\"\",\"\",Wartosci!D1449)","v":""}]
[null,null,null,null,null,{"$f":"IF(Wartosci!D1450=\"\",\"\",Wartosci!D1450)","v":""}]
[null,null,null,null,null,{"$f":"IF(Wartosci!D1451=\"\",\"\",Wartosci!D1451)","v":""}]
[null,null,null,null,null,{"$f":"IF(Wartosci!D1452=\"\",\"\",Wartosci!D1452)","v":""}]
[null,null,null,null,null,{"$f":"IF(Wartosci!D1453=\"\",\"\",Wartosci!D1453)","v":""}]
[null,null,null,null,null,{"$f":"IF(Wartosci!D1454=\"\",\"\",Wartosci!D1454)","v":""}]
[null,null,null,null,null,{"$f":"IF(Wartosci!D1455=\"\",\"\",Wartosci!D1455)","v":""}]
[null,null,null,null,null,{"$f":"IF(Wartosci!D1456=\"\",\"\",Wartosci!D1456)","v":""}]
[null,null,null,null,null,{"$f":"IF(Wartosci!D1457=\"\",\"\",Wartosci!D1457)","v":""}]
[null,null,null,null,null,{"$f":"IF(Wartosci!D1458=\"\",\"\",Wartosci!D1458)","v":""}]
[null,null,null,null,null,{"$f":"IF(Wartosci!D1459=\"\",\"\",Wartosci!D1459)","v":""}]
[null,null,null,null,null,{"$f":"IF(Wartosci!D1460=\"\",\"\",Wartosci!D1460)","v":""}]
[null,null,null,null,null,{"$f":"IF(Wartosci!D1461=\"\",\"\",Wartosci!D1461)","v":""}]
[null,null,null,null,null,{"$f":"IF(Wartosci!D1462=\"\",\"\",Wartosci!D1462)","v":""}]
[null,null,null,null,null,{"$f":"IF(Wartosci!D1463=\"\",\"\",Wartosci!D1463)","v":""}]
[null,null,null,null,null,{"$f":"IF(Wartosci!D1464=\"\",\"\",Wartosci!D1464)","v":""}]
[null,null,null,null,null,{"$f":"IF(Wartosci!D1465=\"\",\"\",Wartosci!D1465)","v":""}]
[null,null,null,null,null,{"$f":"IF(Wartosci!D1466=\"\",\"\",Wartosci!D1466)","v":""}]
[null,null,null,null,null,{"$f":"IF(Wartosci!D1467=\"\",\"\",Wartosci!D1467)","v":""}]
[null,null,null,null,null,{"$f":"IF(Wartosci!D1468=\"\",\"\",Wartosci!D1468)","v":""}]
[null,null,null,null,null,{"$f":"IF(Wartosci!D1469=\"\",\"\",Wartosci!D1469)","v":""}]
[null,null,null,null,null,{"$f":"IF(Wartosci!D1470=\"\",\"\",Wartosci!D1470)","v":""}]
[null,null,null,null,null,{"$f":"IF(Wartosci!D1471=\"\",\"\",Wartosci!D1471)","v":""}]
[null,null,null,null,null,{"$f":"IF(Wartosci!D1472=\"\",\"\",Wartosci!D1472)","v":""}]
[null,null,null,null,null,{"$f":"IF(Wartosci!D1473=\"\",\"\",Wartosci!D1473)","v":""}]
[null,null,null,null,null,{"$f":"IF(Wartosci!D1474=\"\",\"\",Wartosci!D1474)","v":""}]
[null,null,null,null,null,{"$f":"IF(Wartosci!D1475=\"\",\"\",Wartosci!D1475)","v":""}]
[null,null,null,null,null,{"$f":"IF(Wartosci!D1476=\"\",\"\",Wartosci!D1476)","v":""}]
[null,null,null,null,null,{"$f":"IF(Wartosci!D1477=\"\",\"\",Wartosci!D1477)","v":""}]
[null,null,null,null,null,{"$f":"IF(Wartosci!D1478=\"\",\"\",Wartosci!D1478)","v":""}]
[null,null,null,null,null,{"$f":"IF(Wartosci!D1479=\"\",\"\",Wartosci!D1479)","v":""}]
[null,null,null,null,null,{"$f":"IF(Wartosci!D1480=\"\",\"\",Wartosci!D1480)","v":""}]
[null,null,null,null,null,{"$f":"IF(Wartosci!D1481=\"\",\"\",Wartosci!D1481)","v":""}]
[null,null,null,null,null,{"$f":"IF(Wartosci!D1482=\"\",\"\",Wartosci!D1482)","v":""}]
[null,null,null,null,null,{"$f":"IF(Wartosci!D1483=\"\",\"\",Wartosci!D1483)","v":""}]
[null,null,null,null,null,{"$f":"IF(Wartosci!D1484=\"\",\"\",Wartosci!D1484)","v":""}]
[null,null,null,null,null,{"$f":"IF(Wartosci!D1485=\"\",\"\",Wartosci!D1485)","v":""}]
[null,null,null,null,null,{"$f":"IF(Wartosci!D1486=\"\",\"\",Wartosci!D1486)","v":""}]
[null,null,null,null,null,{"$f":"IF(Wartosci!D1487=\"\",\"\",Wartosci!D1487)","v":""}]
[null,null,null,null,null,{"$f":"IF(Wartosci!D1488=\"\",\"\",Wartosci!D1488)","v":""}]
[null,null,null,null,null,{"$f":"IF(Wartosci!D1489=\"\",\"\",Wartosci!D1489)","v":""}]
[null,null,null,null,null,{"$f":"IF(Wartosci!D1490=\"\",\"\",Wartosci!D1490)","v":""}]
[null,null,null,null,null,{"$f":"IF(Wartosci!D1491=\"\",\"\",Wartosci!D1491)","v":""}]
[null,null,null,null,null,{"$f":"IF(Wartosci!D1492=\"\",\"\",Wartosci!D1492)","v":""}]
[null,null,null,null,null,{"$f":"IF(Wartosci!D1493=\"\",\"\",Wartosci!D1493)","v":""}]
[null,null,null,null,null,{"$f":"IF(Wartosci!D1494=\"\",\"\",Wartosci!D1494)","v":""}]
[null,null,null,null,null,{"$f":"IF(Wartosci!D1495=\"\",\"\",Wartosci!D1495)","v":""}]
[null,null,null,null,null,{"$f":"IF(Wartosci!D1496=\"\",\"\",Wartosci!D1496)","v":""}]
[null,null,null,null,null,{"$f":"IF(Wartosci!D1497=\"\",\"\",Wartosci!D1497)","v":""}]
[null,null,null,null,null,{"$f":"IF(Wartosci!D1498=\"\",\"\",Wartosci!D1498)","v":""}]
[null,null,null,null,null,{"$f":"IF(Wartosci!D1499=\"\",\"\",Wartosci!D1499)","v":""}]
[null,null,null,null,null,{"$f":"IF(Wartosci!D1500=\"\",\"\",Wartosci!D1500)","v":""}]
[null,null,null,null,null,{"$f":"IF(Wartosci!D1501=\"\",\"\",Wartosci!D1501)","v":""}]
[null,null,null,null,null,{"$f":"IF(Wartosci!D1502=\"\",\"\",Wartosci!D1502)","v":""}]
[null,null,null,null,null,{"$f":"IF(Wartosci!D1503=\"\",\"\",Wartosci!D1503)","v":""}]
[null,null,null,null,null,{"$f":"IF(Wartosci!D1504=\"\",\"\",Wartosci!D1504)","v":""}]
[null,null,null,null,null,{"$f":"IF(Wartosci!D1505=\"\",\"\",Wartosci!D1505)","v":""}]
[null,null,null,null,null,{"$f":"IF(Wartosci!D1506=\"\",\"\",Wartosci!D1506)","v":""}]
[null,null,null,null,null,{"$f":"IF(Wartosci!D1507=\"\",\"\",Wartosci!D1507)","v":""}]
[null,null,null,null,null,{"$f":"IF(Wartosci!D1508=\"\",\"\",Wartosci!D1508)","v":""}]
[null,null,null,null,null,{"$f":"IF(Wartosci!D1509=\"\",\"\",Wartosci!D1509)","v":""}]
[null,null,null,null,null,{"$f":"IF(Wartosci!D1510=\"\",\"\",Wartosci!D1510)","v":""}]
[null,null,null,null,null,{"$f":"IF(Wartosci!D1511=\"\",\"\",Wartosci!D1511)","v":""}]
[null,null,null,null,null,{"$f":"IF(Wartosci!D1512=\"\",\"\",Wartosci!D1512)","v":""}]
[null,null,null,null,null,{"$f":"IF(Wartosci!D1513=\"\",\"\",Wartosci!D1513)","v":""}]
[null,null,null,null,null,{"$f":"IF(Wartosci!D1514=\"\",\"\",Wartosci!D1514)","v":""}]
[null,null,null,null,null,{"$f":"IF(Wartosci!D1515=\"\",\"\",Wartosci!D1515)","v":""}]
[null,null,null,null,null,{"$f":"IF(Wartosci!D1516=\"\",\"\",Wartosci!D1516)","v":""}]
[null,null,null,null,null,{"$f":"IF(Wartosci!D1517=\"\",\"\",Wartosci!D1517)","v":""}]
[null,null,null,null,null,{"$f":"IF(Wartosci!D1518=\"\",\"\",Wartosci!D1518)","v":""}]
[null,null,null,null,null,{"$f":"IF(Wartosci!D1519=\"\",\"\",Wartosci!D1519)","v":""}]
[null,null,null,null,null,{"$f":"IF(Wartosci!D1520=\"\",\"\",Wartosci!D1520)","v":""}]
[null,null,null,null,null,{"$f":"IF(Wartosci!D1521=\"\",\"\",Wartosci!D1521)","v":""}]
[null,null,null,null,null,{"$f":"IF(Wartosci!D1522=\"\",\"\",Wartosci!D1522)","v":""}]
[null,null,null,null,null,{"$f":"IF(Wartosci!D1523=\"\",\"\",Wartosci!D1523)","v":""}]
[null,null,null,null,null,{"$f":"IF(Wartosci!D1524=\"\",\"\",Wartosci!D1524)","v":""}]
[null,null,null,null,null,{"$f":"IF(Wartosci!D1525=\"\",\"\",Wartosci!D1525)","v":""}]
[null,null,null,null,null,{"$f":"IF(Wartosci!D1526=\"\",\"\",Wartosci!D1526)","v":""}]
[null,null,null,null,null,{"$f":"IF(Wartosci!D1527=\"\",\"\",Wartosci!D1527)","v":""}]
[null,null,null,null,null,{"$f":"IF(Wartosci!D1528=\"\",\"\",Wartosci!D1528)","v":""}]
[null,null,null,null,null,{"$f":"IF(Wartosci!D1529=\"\",\"\",Wartosci!D1529)","v":""}]
[null,null,null,null,null,{"$f":"IF(Wartosci!D1530=\"\",\"\",Wartosci!D1530)","v":""}]
[null,null,null,null,null,{"$f":"IF(Wartosci!D1531=\"\",\"\",Wartosci!D1531)","v":""}]
[null,null,null,null,null,{"$f":"IF(Wartosci!D1532=\"\",\"\",Wartosci!D1532)","v":""}]
[null,null,null,null,null,{"$f":"IF(Wartosci!D1533=\"\",\"\",Wartosci!D1533)","v":""}]
[null,null,null,null,null,{"$f":"IF(Wartosci!D1534=\"\",\"\",Wartosci!D1534)","v":""}]
[null,null,null,null,null,{"$f":"IF(Wartosci!D1535=\"\",\"\",Wartosci!D1535)","v":""}]
[null,null,null,null,null,{"$f":"IF(Wartosci!D1536=\"\",\"\",Wartosci!D1536)","v":""}]
[null,null,null,null,null,{"$f":"IF(Wartosci!D1537=\"\",\"\",Wartosci!D1537)","v":""}]
[null,null,null,null,null,{"$f":"IF(Wartosci!D1538=\"\",\"\",Wartosci!D1538)","v":""}]
[null,null,null,null,null,{"$f":"IF(Wartosci!D1539=\"\",\"\",Wartosci!D1539)","v":""}]
[null,null,null,null,null,{"$f":"IF(Wartosci!D1540=\"\",\"\",Wartosci!D1540)","v":""}]
[null,null,null,null,null,{"$f":"IF(Wartosci!D1541=\"\",\"\",Wartosci!D1541)","v":""}]
[null,null,null,null,null,{"$f":"IF(Wartosci!D1542=\"\",\"\",Wartosci!D1542)","v":""}]
[null,null,null,null,null,{"$f":"IF(Wartosci!D1543=\"\",\"\",Wartosci!D1543)","v":""}]
[null,null,null,null,null,{"$f":"IF(Wartosci!D1544=\"\",\"\",Wartosci!D1544)","v":""}]
[null,null,null,null,null,{"$f":"IF(Wartosci!D1545=\"\",\"\",Wartosci!D1545)","v":""}]
[null,null,null,null,null,{"$f":"IF(Wartosci!D1546=\"\",\"\",Wartosci!D1546)","v":""}]
[null,null,null,null,null,{"$f":"IF(Wartosci!D1547=\"\",\"\",Wartosci!D1547)","v":""}]
[null,null,null,null,null,{"$f":"IF(Wartosci!D1548=\"\",\"\",Wartosci!D1548)","v":""}]
[null,null,null,null,null,{"$f":"IF(Wartosci!D1549=\"\",\"\",Wartosci!D1549)","v":""}]
[null,null,null,null,null,{"$f":"IF(Wartosci!D1550=\"\",\"\",Wartosci!D1550)","v":""}]
[null,null,null,null,null,{"$f":"IF(Wartosci!D1551=\"\",\"\",Wartosci!D1551)","v":""}]
[null,null,null,null,null,{"$f":"IF(Wartosci!D1552=\"\",\"\",Wartosci!D1552)","v":""}]
[null,null,null,null,null,{"$f":"IF(Wartosci!D1553=\"\",\"\",Wartosci!D1553)","v":""}]
[null,null,null,null,null,{"$f":"IF(Wartosci!D1554=\"\",\"\",Wartosci!D1554)","v":""}]
[null,null,null,null,null,{"$f":"IF(Wartosci!D1555=\"\",\"\",Wartosci!D1555)","v":""}]
[null,null,null,null,null,{"$f":"IF(Wartosci!D1556=\"\",\"\",Wartosci!D1556)","v":""}]
[null,null,null,null,null,{"$f":"IF(Wartosci!D1557=\"\",\"\",Wartosci!D1557)","v":""}]
[null,null,null,null,null,{"$f":"IF(Wartosci!D1558=\"\",\"\",Wartosci!D1558)","v":""}]
[null,null,null,null,null,{"$f":"IF(Wartosci!D1559=\"\",\"\",Wartosci!D1559)","v":""}]
[null,null,null,null,null,{"$f":"IF(Wartosci!D1560=\"\",\"\",Wartosci!D1560)","v":""}]
[null,null,null,null,null,{"$f":"IF(Wartosci!D1561=\"\",\"\",Wartosci!D1561)","v":""}]
[null,null,null,null,null,{"$f":"IF(Wartosci!D1562=\"\",\"\",Wartosci!D1562)","v":""}]
[null,null,null,null,null,{"$f":"IF(Wartosci!D1563=\"\",\"\",Wartosci!D1563)","v":""}]
[null,null,null,null,null,{"$f":"IF(Wartosci!D1564=\"\",\"\",Wartosci!D1564)","v":""}]
[null,null,null,null,null,{"$f":"IF(Wartosci!D1565=\"\",\"\",Wartosci!D1565)","v":""}]
[null,null,null,null,null,{"$f":"IF(Wartosci!D1566=\"\",\"\",Wartosci!D1566)","v":""}]
[null,null,null,null,null,{"$f":"IF(Wartosci!D1567=\"\",\"\",Wartosci!D1567)","v":""}]
[null,null,null,null,null,{"$f":"IF(Wartosci!D1568=\"\",\"\",Wartosci!D1568)","v":""}]
[null,null,null,null,null,{"$f":"IF(Wartosci!D1569=\"\",\"\",Wartosci!D1569)","v":""}]
[null,null,null,null,null,{"$f":"IF(Wartosci!D1570=\"\",\"\",Wartosci!D1570)","v":""}]
[null,null,null,null,null,{"$f":"IF(Wartosci!D1571=\"\",\"\",Wartosci!D1571)","v":""}]
[null,null,null,null,null,{"$f":"IF(Wartosci!D1572=\"\",\"\",Wartosci!D1572)","v":""}]
[null,null,null,null,null,{"$f":"IF(Wartosci!D1573=\"\",\"\",Wartosci!D1573)","v":""}]
[null,null,null,null,null,{"$f":"IF(Wartosci!D1574=\"\",\"\",Wartosci!D1574)","v":""}]
[null,null,null,null,null,{"$f":"IF(Wartosci!D1575=\"\",\"\",Wartosci!D1575)","v":""}]
[null,null,null,null,null,{"$f":"IF(Wartosci!D1576=\"\",\"\",Wartosci!D1576)","v":""}]
[null,null,null,null,null,{"$f":"IF(Wartosci!D1577=\"\",\"\",Wartosci!D1577)","v":""}]
[null,null,null,null,null,{"$f":"IF(Wartosci!D1578=\"\",\"\",Wartosci!D1578)","v":""}]
[null,null,null,null,null,{"$f":"IF(Wartosci!D1579=\"\",\"\",Wartosci!D1579)","v":""}]
[null,null,null,null,null,{"$f":"IF(Wartosci!D1580=\"\",\"\",Wartosci!D1580)","v":""}]
[null,null,null,null,null,{"$f":"IF(Wartosci!D1581=\"\",\"\",Wartosci!D1581)","v":""}]
[null,null,null,null,null,{"$f":"IF(Wartosci!D1582=\"\",\"\",Wartosci!D1582)","v":""}]
[null,null,null,null,null,{"$f":"IF(Wartosci!D1583=\"\",\"\",Wartosci!D1583)","v":""}]
[null,null,null,null,null,{"$f":"IF(Wartosci!D1584=\"\",\"\",Wartosci!D1584)","v":""}]
[null,null,null,null,null,{"$f":"IF(Wartosci!D1585=\"\",\"\",Wartosci!D1585)","v":""}]
[null,null,null,null,null,{"$f":"IF(Wartosci!D1586=\"\",\"\",Wartosci!D1586)","v":""}]
[null,null,null,null,null,{"$f":"IF(Wartosci!D1587=\"\",\"\",Wartosci!D1587)","v":""}]
[null,null,null,null,null,{"$f":"IF(Wartosci!D1588=\"\",\"\",Wartosci!D1588)","v":""}]
[null,null,null,null,null,{"$f":"IF(Wartosci!D1589=\"\",\"\",Wartosci!D1589)","v":""}]
[null,null,null,null,null,{"$f":"IF(Wartosci!D1590=\"\",\"\",Wartosci!D1590)","v":""}]
[null,null,null,null,null,{"$f":"IF(Wartosci!D1591=\"\",\"\",Wartosci!D1591)","v":""}]
[null,null,null,null,null,{"$f":"IF(Wartosci!D1592=\"\",\"\",Wartosci!D1592)","v":""}]
[null,null,null,null,null,{"$f":"IF(Wartosci!D1593=\"\",\"\",Wartosci!D1593)","v":""}]
[null,null,null,null,null,{"$f":"IF(Wartosci!D1594=\"\",\"\",Wartosci!D1594)","v":""}]
[null,null,null,null,null,{"$f":"IF(Wartosci!D1595=\"\",\"\",Wartosci!D1595)","v":""}]
[null,null,null,null,null,{"$f":"IF(Wartosci!D1596=\"\",\"\",Wartosci!D1596)","v":""}]
[null,null,null,null,null,{"$f":"IF(Wartosci!D1597=\"\",\"\",Wartosci!D1597)","v":""}]
[null,null,null,null,null,{"$f":"IF(Wartosci!D1598=\"\",\"\",Wartosci!D1598)","v":""}]
[null,null,null,null,null,{"$f":"IF(Wartosci!D1599=\"\",\"\",Wartosci!D1599)","v":""}]
[null,null,null,null,null,{"$f":"IF(Wartosci!D1600=\"\",\"\",Wartosci!D1600)","v":""}]
[null,null,null,null,null,{"$f":"IF(Wartosci!D1601=\"\",\"\",Wartosci!D1601)","v":""}]
[null,null,null,null,null,{"$f":"IF(Wartosci!D1602=\"\",\"\",Wartosci!D1602)","v":""}]
[null,null,null,null,null,{"$f":"IF(Wartosci!D1603=\"\",\"\",Wartosci!D1603)","v":""}]
[null,null,null,null,null,{"$f":"IF(Wartosci!D1604=\"\",\"\",Wartosci!D1604)","v":""}]
[null,null,null,null,null,{"$f":"IF(Wartosci!D1605=\"\",\"\",Wartosci!D1605)","v":""}]
[null,null,null,null,null,{"$f":"IF(Wartosci!D1606=\"\",\"\",Wartosci!D1606)","v":""}]
[null,null,null,null,null,{"$f":"IF(Wartosci!D1607=\"\",\"\",Wartosci!D1607)","v":""}]
[null,null,null,null,null,{"$f":"IF(Wartosci!D1608=\"\",\"\",Wartosci!D1608)","v":""}]
[null,null,null,null,null,{"$f":"IF(Wartosci!D1609=\"\",\"\",Wartosci!D1609)","v":""}]
[null,null,null,null,null,{"$f":"IF(Wartosci!D1610=\"\",\"\",Wartosci!D1610)","v":""}]
[null,null,null,null,null,{"$f":"IF(Wartosci!D1611=\"\",\"\",Wartosci!D1611)","v":""}]
[null,null,null,null,null,{"$f":"IF(Wartosci!D1612=\"\",\"\",Wartosci!D1612)","v":""}]
[null,null,null,null,null,{"$f":"IF(Wartosci!D1613=\"\",\"\",Wartosci!D1613)","v":""}]
[null,null,null,null,null,{"$f":"IF(Wartosci!D1614=\"\",\"\",Wartosci!D1614)","v":""}]
[null,null,null,null,null,{"$f":"IF(Wartosci!D1615=\"\",\"\",Wartosci!D1615)","v":""}]
[null,null,null,null,null,{"$f":"IF(Wartosci!D1616=\"\",\"\",Wartosci!D1616)","v":""}]
[null,null,null,null,null,{"$f":"IF(Wartosci!D1617=\"\",\"\",Wartosci!D1617)","v":""}]
[null,null,null,null,null,{"$f":"IF(Wartosci!D1618=\"\",\"\",Wartosci!D1618)","v":""}]
[null,null,null,null,null,{"$f":"IF(Wartosci!D1619=\"\",\"\",Wartosci!D1619)","v":""}]
[null,null,null,null,null,{"$f":"IF(Wartosci!D1620=\"\",\"\",Wartosci!D1620)","v":""}]
[null,null,null,null,null,{"$f":"IF(Wartosci!D1621=\"\",\"\",Wartosci!D1621)","v":""}]
[null,null,null,null,null,{"$f":"IF(Wartosci!D1622=\"\",\"\",Wartosci!D1622)","v":""}]
[null,null,null,null,null,{"$f":"IF(Wartosci!D1623=\"\",\"\",Wartosci!D1623)","v":""}]
[null,null,null,null,null,{"$f":"IF(Wartosci!D1624=\"\",\"\",Wartosci!D1624)","v":""}]
[null,null,null,null,null,{"$f":"IF(Wartosci!D1625=\"\",\"\",Wartosci!D1625)","v":""}]
[null,null,null,null,null,{"$f":"IF(Wartosci!D1626=\"\",\"\",Wartosci!D1626)","v":""}]
[null,null,null,null,null,{"$f":"IF(Wartosci!D1627=\"\",\"\",Wartosci!D1627)","v":""}]
[null,null,null,null,null,{"$f":"IF(Wartosci!D1628=\"\",\"\",Wartosci!D1628)","v":""}]
[null,null,null,null,null,{"$f":"IF(Wartosci!D1629=\"\",\"\",Wartosci!D1629)","v":""}]
[null,null,null,null,null,{"$f":"IF(Wartosci!D1630=\"\",\"\",Wartosci!D1630)","v":""}]
[null,null,null,null,null,{"$f":"IF(Wartosci!D1631=\"\",\"\",Wartosci!D1631)","v":""}]
[null,null,null,null,null,{"$f":"IF(Wartosci!D1632=\"\",\"\",Wartosci!D1632)","v":""}]
[null,null,null,null,null,{"$f":"IF(Wartosci!D1633=\"\",\"\",Wartosci!D1633)","v":""}]
[null,null,null,null,null,{"$f":"IF(Wartosci!D1634=\"\",\"\",Wartosci!D1634)","v":""}]
[null,null,null,null,null,{"$f":"IF(Wartosci!D1635=\"\",\"\",Wartosci!D1635)","v":""}]
[null,null,null,null,null,{"$f":"IF(Wartosci!D1636=\"\",\"\",Wartosci!D1636)","v":""}]
[null,null,null,null,null,{"$f":"IF(Wartosci!D1637=\"\",\"\",Wartosci!D1637)","v":""}]
[null,null,null,null,null,{"$f":"IF(Wartosci!D1638=\"\",\"\",Wartosci!D1638)","v":""}]
[null,null,null,null,null,{"$f":"IF(Wartosci!D1639=\"\",\"\",Wartosci!D1639)","v":""}]
[null,null,null,null,null,{"$f":"IF(Wartosci!D1640=\"\",\"\",Wartosci!D1640)","v":""}]
[null,null,null,null,null,{"$f":"IF(Wartosci!D1641=\"\",\"\",Wartosci!D1641)","v":""}]
[null,null,null,null,null,{"$f":"IF(Wartosci!D1642=\"\",\"\",Wartosci!D1642)","v":""}]
[null,null,null,null,null,{"$f":"IF(Wartosci!D1643=\"\",\"\",Wartosci!D1643)","v":""}]
[null,null,null,null,null,{"$f":"IF(Wartosci!D1644=\"\",\"\",Wartosci!D1644)","v":""}]
[null,null,null,null,null,{"$f":"IF(Wartosci!D1645=\"\",\"\",Wartosci!D1645)","v":""}]
[null,null,null,null,null,{"$f":"IF(Wartosci!D1646=\"\",\"\",Wartosci!D1646)","v":""}]
[null,null,null,null,null,{"$f":"IF(Wartosci!D1647=\"\",\"\",Wartosci!D1647)","v":""}]
[null,null,null,null,null,{"$f":"IF(Wartosci!D1648=\"\",\"\",Wartosci!D1648)","v":""}]
[null,null,null,null,null,{"$f":"IF(Wartosci!D1649=\"\",\"\",Wartosci!D1649)","v":""}]
[null,null,null,null,null,{"$f":"IF(Wartosci!D1650=\"\",\"\",Wartosci!D1650)","v":""}]
[null,null,null,null,null,{"$f":"IF(Wartosci!D1651=\"\",\"\",Wartosci!D1651)","v":""}]
[null,null,null,null,null,{"$f":"IF(Wartosci!D1652=\"\",\"\",Wartosci!D1652)","v":""}]
[null,null,null,null,null,{"$f":"IF(Wartosci!D1653=\"\",\"\",Wartosci!D1653)","v":""}]
[null,null,null,null,null,{"$f":"IF(Wartosci!D1654=\"\",\"\",Wartosci!D1654)","v":""}]
[null,null,null,null,null,{"$f":"IF(Wartosci!D1655=\"\",\"\",Wartosci!D1655)","v":""}]
[null,null,null,null,null,{"$f":"IF(Wartosci!D1656=\"\",\"\",Wartosci!D1656)","v":""}]
[null,null,null,null,null,{"$f":"IF(Wartosci!D1657=\"\",\"\",Wartosci!D1657)","v":""}]
[null,null,null,null,null,{"$f":"IF(Wartosci!D1658=\"\",\"\",Wartosci!D1658)","v":""}]
[null,null,null,null,null,{"$f":"IF(Wartosci!D1659=\"\",\"\",Wartosci!D1659)","v":""}]
[null,null,null,null,null,{"$f":"IF(Wartosci!D1660=\"\",\"\",Wartosci!D1660)","v":""}]
[null,null,null,null,null,{"$f":"IF(Wartosci!D1661=\"\",\"\",Wartosci!D1661)","v":""}]
[null,null,null,null,null,{"$f":"IF(Wartosci!D1662=\"\",\"\",Wartosci!D1662)","v":""}]
[null,null,null,null,null,{"$f":"IF(Wartosci!D1663=\"\",\"\",Wartosci!D1663)","v":""}]
[null,null,null,null,null,{"$f":"IF(Wartosci!D1664=\"\",\"\",Wartosci!D1664)","v":""}]
[null,null,null,null,null,{"$f":"IF(Wartosci!D1665=\"\",\"\",Wartosci!D1665)","v":""}]
[null,null,null,null,null,{"$f":"IF(Wartosci!D1666=\"\",\"\",Wartosci!D1666)","v":""}]
[null,null,null,null,null,{"$f":"IF(Wartosci!D1667=\"\",\"\",Wartosci!D1667)","v":""}]
[null,null,null,null,null,{"$f":"IF(Wartosci!D1668=\"\",\"\",Wartosci!D1668)","v":""}]
[null,null,null,null,null,{"$f":"IF(Wartosci!D1669=\"\",\"\",Wartosci!D1669)","v":""}]
[null,null,null,null,null,{"$f":"IF(Wartosci!D1670=\"\",\"\",Wartosci!D1670)","v":""}]
[null,null,null,null,null,{"$f":"IF(Wartosci!D1671=\"\",\"\",Wartosci!D1671)","v":""}]
[null,null,null,null,null,{"$f":"IF(Wartosci!D1672=\"\",\"\",Wartosci!D1672)","v":""}]
[null,null,null,null,null,{"$f":"IF(Wartosci!D1673=\"\",\"\",Wartosci!D1673)","v":""}]
[null,null,null,null,null,{"$f":"IF(Wartosci!D1674=\"\",\"\",Wartosci!D1674)","v":""}]
[null,null,null,null,null,{"$f":"IF(Wartosci!D1675=\"\",\"\",Wartosci!D1675)","v":""}]
[null,null,null,null,null,{"$f":"IF(Wartosci!D1676=\"\",\"\",Wartosci!D1676)","v":""}]
[null,null,null,null,null,{"$f":"IF(Wartosci!D1677=\"\",\"\",Wartosci!D1677)","v":""}]
[null,null,null,null,null,{"$f":"IF(Wartosci!D1678=\"\",\"\",Wartosci!D1678)","v":""}]
[null,null,null,null,null,{"$f":"IF(Wartosci!D1679=\"\",\"\",Wartosci!D1679)","v":""}]
[null,null,null,null,null,{"$f":"IF(Wartosci!D1680=\"\",\"\",Wartosci!D1680)","v":""}]
[null,null,null,null,null,{"$f":"IF(Wartosci!D1681=\"\",\"\",Wartosci!D1681)","v":""}]
[null,null,null,null,null,{"$f":"IF(Wartosci!D1682=\"\",\"\",Wartosci!D1682)","v":""}]
[null,null,null,null,null,{"$f":"IF(Wartosci!D1683=\"\",\"\",Wartosci!D1683)","v":""}]
[null,null,null,null,null,{"$f":"IF(Wartosci!D1684=\"\",\"\",Wartosci!D1684)","v":""}]
[null,null,null,null,null,{"$f":"IF(Wartosci!D1685=\"\",\"\",Wartosci!D1685)","v":""}]
[null,null,null,null,null,{"$f":"IF(Wartosci!D1686=\"\",\"\",Wartosci!D1686)","v":""}]
[null,null,null,null,null,{"$f":"IF(Wartosci!D1687=\"\",\"\",Wartosci!D1687)","v":""}]
[null,null,null,null,null,{"$f":"IF(Wartosci!D1688=\"\",\"\",Wartosci!D1688)","v":""}]
[null,null,null,null,null,{"$f":"IF(Wartosci!D1689=\"\",\"\",Wartosci!D1689)","v":""}]
[null,null,null,null,null,{"$f":"IF(Wartosci!D1690=\"\",\"\",Wartosci!D1690)","v":""}]
[null,null,null,null,null,{"$f":"IF(Wartosci!D1691=\"\",\"\",Wartosci!D1691)","v":""}]
[null,null,null,null,null,{"$f":"IF(Wartosci!D1692=\"\",\"\",Wartosci!D1692)","v":""}]
[null,null,null,null,null,{"$f":"IF(Wartosci!D1693=\"\",\"\",Wartosci!D1693)","v":""}]
[null,null,null,null,null,{"$f":"IF(Wartosci!D1694=\"\",\"\",Wartosci!D1694)","v":""}]
[null,null,null,null,null,{"$f":"IF(Wartosci!D1695=\"\",\"\",Wartosci!D1695)","v":""}]
[null,null,null,null,null,{"$f":"IF(Wartosci!D1696=\"\",\"\",Wartosci!D1696)","v":""}]
[null,null,null,null,null,{"$f":"IF(Wartosci!D1697=\"\",\"\",Wartosci!D1697)","v":""}]
[null,null,null,null,null,{"$f":"IF(Wartosci!D1698=\"\",\"\",Wartosci!D1698)","v":""}]
[null,null,null,null,null,{"$f":"IF(Wartosci!D1699=\"\",\"\",Wartosci!D1699)","v":""}]
[null,null,null,null,null,{"$f":"IF(Wartosci!D1700=\"\",\"\",Wartosci!D1700)","v":""}]
[null,null,null,null,null,{"$f":"IF(Wartosci!D1701=\"\",\"\",Wartosci!D1701)","v":""}]
[null,null,null,null,null,{"$f":"IF(Wartosci!D1702=\"\",\"\",Wartosci!D1702)","v":""}]
[null,null,null,null,null,{"$f":"IF(Wartosci!D1703=\"\",\"\",Wartosci!D1703)","v":""}]
[null,null,null,null,null,{"$f":"IF(Wartosci!D1704=\"\",\"\",Wartosci!D1704)","v":""}]
[null,null,null,null,null,{"$f":"IF(Wartosci!D1705=\"\",\"\",Wartosci!D1705)","v":""}]
[null,null,null,null,null,{"$f":"IF(Wartosci!D1706=\"\",\"\",Wartosci!D1706)","v":""}]
[null,null,null,null,null,{"$f":"IF(Wartosci!D1707=\"\",\"\",Wartosci!D1707)","v":""}]
[null,null,null,null,null,{"$f":"IF(Wartosci!D1708=\"\",\"\",Wartosci!D1708)","v":""}]
[null,null,null,null,null,{"$f":"IF(Wartosci!D1709=\"\",\"\",Wartosci!D1709)","v":""}]
[null,null,null,null,null,{"$f":"IF(Wartosci!D1710=\"\",\"\",Wartosci!D1710)","v":""}]
[null,null,null,null,null,{"$f":"IF(Wartosci!D1711=\"\",\"\",Wartosci!D1711)","v":""}]
[null,null,null,null,null,{"$f":"IF(Wartosci!D1712=\"\",\"\",Wartosci!D1712)","v":""}]
[null,null,null,null,null,{"$f":"IF(Wartosci!D1713=\"\",\"\",Wartosci!D1713)","v":""}]
[null,null,null,null,null,{"$f":"IF(Wartosci!D1714=\"\",\"\",Wartosci!D1714)","v":""}]
[null,null,null,null,null,{"$f":"IF(Wartosci!D1715=\"\",\"\",Wartosci!D1715)","v":""}]
[null,null,null,null,null,{"$f":"IF(Wartosci!D1716=\"\",\"\",Wartosci!D1716)","v":""}]
[null,null,null,null,null,{"$f":"IF(Wartosci!D1717=\"\",\"\",Wartosci!D1717)","v":""}]
[null,null,null,null,null,{"$f":"IF(Wartosci!D1718=\"\",\"\",Wartosci!D1718)","v":""}]
[null,null,null,null,null,{"$f":"IF(Wartosci!D1719=\"\",\"\",Wartosci!D1719)","v":""}]
[null,null,null,null,null,{"$f":"IF(Wartosci!D1720=\"\",\"\",Wartosci!D1720)","v":""}]
[null,null,null,null,null,{"$f":"IF(Wartosci!D1721=\"\",\"\",Wartosci!D1721)","v":""}]
[null,null,null,null,null,{"$f":"IF(Wartosci!D1722=\"\",\"\",Wartosci!D1722)","v":""}]
[null,null,null,null,null,{"$f":"IF(Wartosci!D1723=\"\",\"\",Wartosci!D1723)","v":""}]
[null,null,null,null,null,{"$f":"IF(Wartosci!D1724=\"\",\"\",Wartosci!D1724)","v":""}]
[null,null,null,null,null,{"$f":"IF(Wartosci!D1725=\"\",\"\",Wartosci!D1725)","v":""}]
[null,null,null,null,null,{"$f":"IF(Wartosci!D1726=\"\",\"\",Wartosci!D1726)","v":""}]
[null,null,null,null,null,{"$f":"IF(Wartosci!D1727=\"\",\"\",Wartosci!D1727)","v":""}]
[null,null,null,null,null,{"$f":"IF(Wartosci!D1728=\"\",\"\",Wartosci!D1728)","v":""}]
[null,null,null,null,null,{"$f":"IF(Wartosci!D1729=\"\",\"\",Wartosci!D1729)","v":""}]
[null,null,null,null,null,{"$f":"IF(Wartosci!D1730=\"\",\"\",Wartosci!D1730)","v":""}]
[null,null,null,null,null,{"$f":"IF(Wartosci!D1731=\"\",\"\",Wartosci!D1731)","v":""}]
[null,null,null,null,null,{"$f":"IF(Wartosci!D1732=\"\",\"\",Wartosci!D1732)","v":""}]
[null,null,null,null,null,{"$f":"IF(Wartosci!D1733=\"\",\"\",Wartosci!D1733)","v":""}]
[null,null,null,null,null,{"$f":"IF(Wartosci!D1734=\"\",\"\",Wartosci!D1734)","v":""}]
[null,null,null,null,null,{"$f":"IF(Wartosci!D1735=\"\",\"\",Wartosci!D1735)","v":""}]
[null,null,null,null,null,{"$f":"IF(Wartosci!D1736=\"\",\"\",Wartosci!D1736)","v":""}]
[null,null,null,null,null,{"$f":"IF(Wartosci!D1737=\"\",\"\",Wartosci!D1737)","v":""}]
[null,null,null,null,null,{"$f":"IF(Wartosci!D1738=\"\",\"\",Wartosci!D1738)","v":""}]
[null,null,null,null,null,{"$f":"IF(Wartosci!D1739=\"\",\"\",Wartosci!D1739)","v":""}]
[null,null,null,null,null,{"$f":"IF(Wartosci!D1740=\"\",\"\",Wartosci!D1740)","v":""}]
[null,null,null,null,null,{"$f":"IF(Wartosci!D1741=\"\",\"\",Wartosci!D1741)","v":""}]
[null,null,null,null,null,{"$f":"IF(Wartosci!D1742=\"\",\"\",Wartosci!D1742)","v":""}]
[null,null,null,null,null,{"$f":"IF(Wartosci!D1743=\"\",\"\",Wartosci!D1743)","v":""}]
[null,null,null,null,null,{"$f":"IF(Wartosci!D1744=\"\",\"\",Wartosci!D1744)","v":""}]
[null,null,null,null,null,{"$f":"IF(Wartosci!D1745=\"\",\"\",Wartosci!D1745)","v":""}]
[null,null,null,null,null,{"$f":"IF(Wartosci!D1746=\"\",\"\",Wartosci!D1746)","v":""}]
[null,null,null,null,null,{"$f":"IF(Wartosci!D1747=\"\",\"\",Wartosci!D1747)","v":""}]
[null,null,null,null,null,{"$f":"IF(Wartosci!D1748=\"\",\"\",Wartosci!D1748)","v":""}]
[null,null,null,null,null,{"$f":"IF(Wartosci!D1749=\"\",\"\",Wartosci!D1749)","v":""}]
[null,null,null,null,null,{"$f":"IF(Wartosci!D1750=\"\",\"\",Wartosci!D1750)","v":""}]
[null,null,null,null,null,{"$f":"IF(Wartosci!D1751=\"\",\"\",Wartosci!D1751)","v":""}]
[null,null,null,null,null,{"$f":"IF(Wartosci!D1752=\"\",\"\",Wartosci!D1752)","v":""}]
[null,null,null,null,null,{"$f":"IF(Wartosci!D1753=\"\",\"\",Wartosci!D1753)","v":""}]
[null,null,null,null,null,{"$f":"IF(Wartosci!D1754=\"\",\"\",Wartosci!D1754)","v":""}]
[null,null,null,null,null,{"$f":"IF(Wartosci!D1755=\"\",\"\",Wartosci!D1755)","v":""}]
[null,null,null,null,null,{"$f":"IF(Wartosci!D1756=\"\",\"\",Wartosci!D1756)","v":""}]
[null,null,null,null,null,{"$f":"IF(Wartosci!D1757=\"\",\"\",Wartosci!D1757)","v":""}]
[null,null,null,null,null,{"$f":"IF(Wartosci!D1758=\"\",\"\",Wartosci!D1758)","v":""}]
[null,null,null,null,null,{"$f":"IF(Wartosci!D1759=\"\",\"\",Wartosci!D1759)","v":""}]
[null,null,null,null,null,{"$f":"IF(Wartosci!D1760=\"\",\"\",Wartosci!D1760)","v":""}]
[null,null,null,null,null,{"$f":"IF(Wartosci!D1761=\"\",\"\",Wartosci!D1761)","v":""}]
[null,null,null,null,null,{"$f":"IF(Wartosci!D1762=\"\",\"\",Wartosci!D1762)","v":""}]
[null,null,null,null,null,{"$f":"IF(Wartosci!D1763=\"\",\"\",Wartosci!D1763)","v":""}]
[null,null,null,null,null,{"$f":"IF(Wartosci!D1764=\"\",\"\",Wartosci!D1764)","v":""}]
[null,null,null,null,null,{"$f":"IF(Wartosci!D1765=\"\",\"\",Wartosci!D1765)","v":""}]
[null,null,null,null,null,{"$f":"IF(Wartosci!D1766=\"\",\"\",Wartosci!D1766)","v":""}]
[null,null,null,null,null,{"$f":"IF(Wartosci!D1767=\"\",\"\",Wartosci!D1767)","v":""}]
[null,null,null,null,null,{"$f":"IF(Wartosci!D1768=\"\",\"\",Wartosci!D1768)","v":""}]
[null,null,null,null,null,{"$f":"IF(Wartosci!D1769=\"\",\"\",Wartosci!D1769)","v":""}]
[null,null,null,null,null,{"$f":"IF(Wartosci!D1770=\"\",\"\",Wartosci!D1770)","v":""}]
[null,null,null,null,null,{"$f":"IF(Wartosci!D1771=\"\",\"\",Wartosci!D1771)","v":""}]
[null,null,null,null,null,{"$f":"IF(Wartosci!D1772=\"\",\"\",Wartosci!D1772)","v":""}]
[null,null,null,null,null,{"$f":"IF(Wartosci!D1773=\"\",\"\",Wartosci!D1773)","v":""}]
[null,null,null,null,null,{"$f":"IF(Wartosci!D1774=\"\",\"\",Wartosci!D1774)","v":""}]
[null,null,null,null,null,{"$f":"IF(Wartosci!D1775=\"\",\"\",Wartosci!D1775)","v":""}]
[null,null,null,null,null,{"$f":"IF(Wartosci!D1776=\"\",\"\",Wartosci!D1776)","v":""}]
[null,null,null,null,null,{"$f":"IF(Wartosci!D1777=\"\",\"\",Wartosci!D1777)","v":""}]
[null,null,null,null,null,{"$f":"IF(Wartosci!D1778=\"\",\"\",Wartosci!D1778)","v":""}]
[null,null,null,null,null,{"$f":"IF(Wartosci!D1779=\"\",\"\",Wartosci!D1779)","v":""}]
[null,null,null,null,null,{"$f":"IF(Wartosci!D1780=\"\",\"\",Wartosci!D1780)","v":""}]
[null,null,null,null,null,{"$f":"IF(Wartosci!D1781=\"\",\"\",Wartosci!D1781)","v":""}]
[null,null,null,null,null,{"$f":"IF(Wartosci!D1782=\"\",\"\",Wartosci!D1782)","v":""}]
[null,null,null,null,null,{"$f":"IF(Wartosci!D1783=\"\",\"\",Wartosci!D1783)","v":""}]
[null,null,null,null,null,{"$f":"IF(Wartosci!D1784=\"\",\"\",Wartosci!D1784)","v":""}]
[null,null,null,null,null,{"$f":"IF(Wartosci!D1785=\"\",\"\",Wartosci!D1785)","v":""}]
[null,null,null,null,null,{"$f":"IF(Wartosci!D1786=\"\",\"\",Wartosci!D1786)","v":""}]
[null,null,null,null,null,{"$f":"IF(Wartosci!D1787=\"\",\"\",Wartosci!D1787)","v":""}]
[null,null,null,null,null,{"$f":"IF(Wartosci!D1788=\"\",\"\",Wartosci!D1788)","v":""}]
[null,null,null,null,null,{"$f":"IF(Wartosci!D1789=\"\",\"\",Wartosci!D1789)","v":""}]
[null,null,null,null,null,{"$f":"IF(Wartosci!D1790=\"\",\"\",Wartosci!D1790)","v":""}]
[null,null,null,null,null,{"$f":"IF(Wartosci!D1791=\"\",\"\",Wartosci!D1791)","v":""}]
[null,null,null,null,null,{"$f":"IF(Wartosci!D1792=\"\",\"\",Wartosci!D1792)","v":""}]
[null,null,null,null,null,{"$f":"IF(Wartosci!D1793=\"\",\"\",Wartosci!D1793)","v":""}]
[null,null,null,null,null,{"$f":"IF(Wartosci!D1794=\"\",\"\",Wartosci!D1794)","v":""}]
[null,null,null,null,null,{"$f":"IF(Wartosci!D1795=\"\",\"\",Wartosci!D1795)","v":""}]
[null,null,null,null,null,{"$f":"IF(Wartosci!D1796=\"\",\"\",Wartosci!D1796)","v":""}]
[null,null,null,null,null,{"$f":"IF(Wartosci!D1797=\"\",\"\",Wartosci!D1797)","v":""}]
[null,null,null,null,null,{"$f":"IF(Wartosci!D1798=\"\",\"\",Wartosci!D1798)","v":""}]
[null,null,null,null,null,{"$f":"IF(Wartosci!D1799=\"\",\"\",Wartosci!D1799)","v":""}]
[null,null,null,null,null,{"$f":"IF(Wartosci!D1800=\"\",\"\",Wartosci!D1800)","v":""}]
[null,null,null,null,null,{"$f":"IF(Wartosci!D1801=\"\",\"\",Wartosci!D1801)","v":""}]
[null,null,null,null,null,{"$f":"IF(Wartosci!D1802=\"\",\"\",Wartosci!D1802)","v":""}]
[null,null,null,null,null,{"$f":"IF(Wartosci!D1803=\"\",\"\",Wartosci!D1803)","v":""}]
[null,null,null,null,null,{"$f":"IF(Wartosci!D1804=\"\",\"\",Wartosci!D1804)","v":""}]
[null,null,null,null,null,{"$f":"IF(Wartosci!D1805=\"\",\"\",Wartosci!D1805)","v":""}]
[null,null,null,null,null,{"$f":"IF(Wartosci!D1806=\"\",\"\",Wartosci!D1806)","v":""}]
[null,null,null,null,null,{"$f":"IF(Wartosci!D1807=\"\",\"\",Wartosci!D1807)","v":""}]
[null,null,null,null,null,{"$f":"IF(Wartosci!D1808=\"\",\"\",Wartosci!D1808)","v":""}]
[null,null,null,null,null,{"$f":"IF(Wartosci!D1809=\"\",\"\",Wartosci!D1809)","v":""}]
[null,null,null,null,null,{"$f":"IF(Wartosci!D1810=\"\",\"\",Wartosci!D1810)","v":""}]
[null,null,null,null,null,{"$f":"IF(Wartosci!D1811=\"\",\"\",Wartosci!D1811)","v":""}]
[null,null,null,null,null,{"$f":"IF(Wartosci!D1812=\"\",\"\",Wartosci!D1812)","v":""}]
[null,null,null,null,null,{"$f":"IF(Wartosci!D1813=\"\",\"\",Wartosci!D1813)","v":""}]
[null,null,null,null,null,{"$f":"IF(Wartosci!D1814=\"\",\"\",Wartosci!D1814)","v":""}]
[null,null,null,null,null,{"$f":"IF(Wartosci!D1815=\"\",\"\",Wartosci!D1815)","v":""}]
[null,null,null,null,null,{"$f":"IF(Wartosci!D1816=\"\",\"\",Wartosci!D1816)","v":""}]
[null,null,null,null,null,{"$f":"IF(Wartosci!D1817=\"\",\"\",Wartosci!D1817)","v":""}]
[null,null,null,null,null,{"$f":"IF(Wartosci!D1818=\"\",\"\",Wartosci!D1818)","v":""}]
[null,null,null,null,null,{"$f":"IF(Wartosci!D1819=\"\",\"\",Wartosci!D1819)","v":""}]
[null,null,null,null,null,{"$f":"IF(Wartosci!D1820=\"\",\"\",Wartosci!D1820)","v":""}]
[null,null,null,null,null,{"$f":"IF(Wartosci!D1821=\"\",\"\",Wartosci!D1821)","v":""}]
[null,null,null,null,null,{"$f":"IF(Wartosci!D1822=\"\",\"\",Wartosci!D1822)","v":""}]
[null,null,null,null,null,{"$f":"IF(Wartosci!D1823=\"\",\"\",Wartosci!D1823)","v":""}]
[null,null,null,null,null,{"$f":"IF(Wartosci!D1824=\"\",\"\",Wartosci!D1824)","v":""}]
[null,null,null,null,null,{"$f":"IF(Wartosci!D1825=\"\",\"\",Wartosci!D1825)","v":""}]
[null,null,null,null,null,{"$f":"IF(Wartosci!D1826=\"\",\"\",Wartosci!D1826)","v":""}]
[null,null,null,null,null,{"$f":"IF(Wartosci!D1827=\"\",\"\",Wartosci!D1827)","v":""}]
[null,null,null,null,null,{"$f":"IF(Wartosci!D1828=\"\",\"\",Wartosci!D1828)","v":""}]
[null,null,null,null,null,{"$f":"IF(Wartosci!D1829=\"\",\"\",Wartosci!D1829)","v":""}]
[null,null,null,null,null,{"$f":"IF(Wartosci!D1830=\"\",\"\",Wartosci!D1830)","v":""}]
[null,null,null,null,null,{"$f":"IF(Wartosci!D1831=\"\",\"\",Wartosci!D1831)","v":""}]
[null,null,null,null,null,{"$f":"IF(Wartosci!D1832=\"\",\"\",Wartosci!D1832)","v":""}]
[null,null,null,null,null,{"$f":"IF(Wartosci!D1833=\"\",\"\",Wartosci!D1833)","v":""}]
[null,null,null,null,null,{"$f":"IF(Wartosci!D1834=\"\",\"\",Wartosci!D1834)","v":""}]
[null,null,null,null,null,{"$f":"IF(Wartosci!D1835=\"\",\"\",Wartosci!D1835)","v":""}]
[null,null,null,null,null,{"$f":"IF(Wartosci!D1836=\"\",\"\",Wartosci!D1836)","v":""}]
[null,null,null,null,null,{"$f":"IF(Wartosci!D1837=\"\",\"\",Wartosci!D1837)","v":""}]
[null,null,null,null,null,{"$f":"IF(Wartosci!D1838=\"\",\"\",Wartosci!D1838)","v":""}]
[null,null,null,null,null,{"$f":"IF(Wartosci!D1839=\"\",\"\",Wartosci!D1839)","v":""}]
[null,null,null,null,null,{"$f":"IF(Wartosci!D1840=\"\",\"\",Wartosci!D1840)","v":""}]
[null,null,null,null,null,{"$f":"IF(Wartosci!D1841=\"\",\"\",Wartosci!D1841)","v":""}]
[null,null,null,null,null,{"$f":"IF(Wartosci!D1842=\"\",\"\",Wartosci!D1842)","v":""}]
[null,null,null,null,null,{"$f":"IF(Wartosci!D1843=\"\",\"\",Wartosci!D1843)","v":""}]
[null,null,null,null,null,{"$f":"IF(Wartosci!D1844=\"\",\"\",Wartosci!D1844)","v":""}]
[null,null,null,null,null,{"$f":"IF(Wartosci!D1845=\"\",\"\",Wartosci!D1845)","v":""}]
[null,null,null,null,null,{"$f":"IF(Wartosci!D1846=\"\",\"\",Wartosci!D1846)","v":""}]
[null,null,null,null,null,{"$f":"IF(Wartosci!D1847=\"\",\"\",Wartosci!D1847)","v":""}]
[null,null,null,null,null,{"$f":"IF(Wartosci!D1848=\"\",\"\",Wartosci!D1848)","v":""}]
[null,null,null,null,null,{"$f":"IF(Wartosci!D1849=\"\",\"\",Wartosci!D1849)","v":""}]
[null,null,null,null,null,{"$f":"IF(Wartosci!D1850=\"\",\"\",Wartosci!D1850)","v":""}]
[null,null,null,null,null,{"$f":"IF(Wartosci!D1851=\"\",\"\",Wartosci!D1851)","v":""}]
[null,null,null,null,null,{"$f":"IF(Wartosci!D1852=\"\",\"\",Wartosci!D1852)","v":""}]
[null,null,null,null,null,{"$f":"IF(Wartosci!D1853=\"\",\"\",Wartosci!D1853)","v":""}]
[null,null,null,null,null,{"$f":"IF(Wartosci!D1854=\"\",\"\",Wartosci!D1854)","v":""}]
[null,null,null,null,null,{"$f":"IF(Wartosci!D1855=\"\",\"\",Wartosci!D1855)","v":""}]
[null,null,null,null,null,{"$f":"IF(Wartosci!D1856=\"\",\"\",Wartosci!D1856)","v":""}]
[null,null,null,null,null,{"$f":"IF(Wartosci!D1857=\"\",\"\",Wartosci!D1857)","v":""}]
[null,null,null,null,null,{"$f":"IF(Wartosci!D1858=\"\",\"\",Wartosci!D1858)","v":""}]
[null,null,null,null,null,{"$f":"IF(Wartosci!D1859=\"\",\"\",Wartosci!D1859)","v":""}]
[null,null,null,null,null,{"$f":"IF(Wartosci!D1860=\"\",\"\",Wartosci!D1860)","v":""}]
[null,null,null,null,null,{"$f":"IF(Wartosci!D1861=\"\",\"\",Wartosci!D1861)","v":""}]
[null,null,null,null,null,{"$f":"IF(Wartosci!D1862=\"\",\"\",Wartosci!D1862)","v":""}]
[null,null,null,null,null,{"$f":"IF(Wartosci!D1863=\"\",\"\",Wartosci!D1863)","v":""}]
[null,null,null,null,null,{"$f":"IF(Wartosci!D1864=\"\",\"\",Wartosci!D1864)","v":""}]
[null,null,null,null,null,{"$f":"IF(Wartosci!D1865=\"\",\"\",Wartosci!D1865)","v":""}]
[null,null,null,null,null,{"$f":"IF(Wartosci!D1866=\"\",\"\",Wartosci!D1866)","v":""}]
[null,null,null,null,null,{"$f":"IF(Wartosci!D1867=\"\",\"\",Wartosci!D1867)","v":""}]
[null,null,null,null,null,{"$f":"IF(Wartosci!D1868=\"\",\"\",Wartosci!D1868)","v":""}]
[null,null,null,null,null,{"$f":"IF(Wartosci!D1869=\"\",\"\",Wartosci!D1869)","v":""}]
[null,null,null,null,null,{"$f":"IF(Wartosci!D1870=\"\",\"\",Wartosci!D1870)","v":""}]
[null,null,null,null,null,{"$f":"IF(Wartosci!D1871=\"\",\"\",Wartosci!D1871)","v":""}]
[null,null,null,null,null,{"$f":"IF(Wartosci!D1872=\"\",\"\",Wartosci!D1872)","v":""}]
[null,null,null,null,null,{"$f":"IF(Wartosci!D1873=\"\",\"\",Wartosci!D1873)","v":""}]
[null,null,null,null,null,{"$f":"IF(Wartosci!D1874=\"\",\"\",Wartosci!D1874)","v":""}]
[null,null,null,null,null,{"$f":"IF(Wartosci!D1875=\"\",\"\",Wartosci!D1875)","v":""}]
[null,null,null,null,null,{"$f":"IF(Wartosci!D1876=\"\",\"\",Wartosci!D1876)","v":""}]
[null,null,null,null,null,{"$f":"IF(Wartosci!D1877=\"\",\"\",Wartosci!D1877)","v":""}]
[null,null,null,null,null,{"$f":"IF(Wartosci!D1878=\"\",\"\",Wartosci!D1878)","v":""}]
[null,null,null,null,null,{"$f":"IF(Wartosci!D1879=\"\",\"\",Wartosci!D1879)","v":""}]
[null,null,null,null,null,{"$f":"IF(Wartosci!D1880=\"\",\"\",Wartosci!D1880)","v":""}]
[null,null,null,null,null,{"$f":"IF(Wartosci!D1881=\"\",\"\",Wartosci!D1881)","v":""}]
[null,null,null,null,null,{"$f":"IF(Wartosci!D1882=\"\",\"\",Wartosci!D1882)","v":""}]
[null,null,null,null,null,{"$f":"IF(Wartosci!D1883=\"\",\"\",Wartosci!D1883)","v":""}]
[null,null,null,null,null,{"$f":"IF(Wartosci!D1884=\"\",\"\",Wartosci!D1884)","v":""}]
[null,null,null,null,null,{"$f":"IF(Wartosci!D1885=\"\",\"\",Wartosci!D1885)","v":""}]
[null,null,null,null,null,{"$f":"IF(Wartosci!D1886=\"\",\"\",Wartosci!D1886)","v":""}]
[null,null,null,null,null,{"$f":"IF(Wartosci!D1887=\"\",\"\",Wartosci!D1887)","v":""}]
[null,null,null,null,null,{"$f":"IF(Wartosci!D1888=\"\",\"\",Wartosci!D1888)","v":""}]
[null,null,null,null,null,{"$f":"IF(Wartosci!D1889=\"\",\"\",Wartosci!D1889)","v":""}]
[null,null,null,null,null,{"$f":"IF(Wartosci!D1890=\"\",\"\",Wartosci!D1890)","v":""}]
[null,null,null,null,null,{"$f":"IF(Wartosci!D1891=\"\",\"\",Wartosci!D1891)","v":""}]
[null,null,null,null,null,{"$f":"IF(Wartosci!D1892=\"\",\"\",Wartosci!D1892)","v":""}]
[null,null,null,null,null,{"$f":"IF(Wartosci!D1893=\"\",\"\",Wartosci!D1893)","v":""}]
[null,null,null,null,null,{"$f":"IF(Wartosci!D1894=\"\",\"\",Wartosci!D1894)","v":""}]
[null,null,null,null,null,{"$f":"IF(Wartosci!D1895=\"\",\"\",Wartosci!D1895)","v":""}]
[null,null,null,null,null,{"$f":"IF(Wartosci!D1896=\"\",\"\",Wartosci!D1896)","v":""}]
[null,null,null,null,null,{"$f":"IF(Wartosci!D1897=\"\",\"\",Wartosci!D1897)","v":""}]
[null,null,null,null,null,{"$f":"IF(Wartosci!D1898=\"\",\"\",Wartosci!D1898)","v":""}]
[null,null,null,null,null,{"$f":"IF(Wartosci!D1899=\"\",\"\",Wartosci!D1899)","v":""}]
[null,null,null,null,null,{"$f":"IF(Wartosci!D1900=\"\",\"\",Wartosci!D1900)","v":""}]
[null,null,null,null,null,{"$f":"IF(Wartosci!D1901=\"\",\"\",Wartosci!D1901)","v":""}]
[null,null,null,null,null,{"$f":"IF(Wartosci!D1902=\"\",\"\",Wartosci!D1902)","v":""}]
[null,null,null,null,null,{"$f":"IF(Wartosci!D1903=\"\",\"\",Wartosci!D1903)","v":""}]
[null,null,null,null,null,{"$f":"IF(Wartosci!D1904=\"\",\"\",Wartosci!D1904)","v":""}]
[null,null,null,null,null,{"$f":"IF(Wartosci!D1905=\"\",\"\",Wartosci!D1905)","v":""}]
[null,null,null,null,null,{"$f":"IF(Wartosci!D1906=\"\",\"\",Wartosci!D1906)","v":""}]
[null,null,null,null,null,{"$f":"IF(Wartosci!D1907=\"\",\"\",Wartosci!D1907)","v":""}]
[null,null,null,null,null,{"$f":"IF(Wartosci!D1908=\"\",\"\",Wartosci!D1908)","v":""}]
[null,null,null,null,null,{"$f":"IF(Wartosci!D1909=\"\",\"\",Wartosci!D1909)","v":""}]
[null,null,null,null,null,{"$f":"IF(Wartosci!D1910=\"\",\"\",Wartosci!D1910)","v":""}]
[null,null,null,null,null,{"$f":"IF(Wartosci!D1911=\"\",\"\",Wartosci!D1911)","v":""}]
[null,null,null,null,null,{"$f":"IF(Wartosci!D1912=\"\",\"\",Wartosci!D1912)","v":""}]
[null,null,null,null,null,{"$f":"IF(Wartosci!D1913=\"\",\"\",Wartosci!D1913)","v":""}]
[null,null,null,null,null,{"$f":"IF(Wartosci!D1914=\"\",\"\",Wartosci!D1914)","v":""}]
[null,null,null,null,null,{"$f":"IF(Wartosci!D1915=\"\",\"\",Wartosci!D1915)","v":""}]
[null,null,null,null,null,{"$f":"IF(Wartosci!D1916=\"\",\"\",Wartosci!D1916)","v":""}]
[null,null,null,null,null,{"$f":"IF(Wartosci!D1917=\"\",\"\",Wartosci!D1917)","v":""}]
[null,null,null,null,null,{"$f":"IF(Wartosci!D1918=\"\",\"\",Wartosci!D1918)","v":""}]
[null,null,null,null,null,{"$f":"IF(Wartosci!D1919=\"\",\"\",Wartosci!D1919)","v":""}]
[null,null,null,null,null,{"$f":"IF(Wartosci!D1920=\"\",\"\",Wartosci!D1920)","v":""}]
[null,null,null,null,null,{"$f":"IF(Wartosci!D1921=\"\",\"\",Wartosci!D1921)","v":""}]
[null,null,null,null,null,{"$f":"IF(Wartosci!D1922=\"\",\"\",Wartosci!D1922)","v":""}]
[null,null,null,null,null,{"$f":"IF(Wartosci!D1923=\"\",\"\",Wartosci!D1923)","v":""}]
[null,null,null,null,null,{"$f":"IF(Wartosci!D1924=\"\",\"\",Wartosci!D1924)","v":""}]
[null,null,null,null,null,{"$f":"IF(Wartosci!D1925=\"\",\"\",Wartosci!D1925)","v":""}]
[null,null,null,null,null,{"$f":"IF(Wartosci!D1926=\"\",\"\",Wartosci!D1926)","v":""}]
[null,null,null,null,null,{"$f":"IF(Wartosci!D1927=\"\",\"\",Wartosci!D1927)","v":""}]
[null,null,null,null,null,{"$f":"IF(Wartosci!D1928=\"\",\"\",Wartosci!D1928)","v":""}]
[null,null,null,null,null,{"$f":"IF(Wartosci!D1929=\"\",\"\",Wartosci!D1929)","v":""}]
[null,null,null,null,null,{"$f":"IF(Wartosci!D1930=\"\",\"\",Wartosci!D1930)","v":""}]
[null,null,null,null,null,{"$f":"IF(Wartosci!D1931=\"\",\"\",Wartosci!D1931)","v":""}]
[null,null,null,null,null,{"$f":"IF(Wartosci!D1932=\"\",\"\",Wartosci!D1932)","v":""}]
[null,null,null,null,null,{"$f":"IF(Wartosci!D1933=\"\",\"\",Wartosci!D1933)","v":""}]
[null,null,null,null,null,{"$f":"IF(Wartosci!D1934=\"\",\"\",Wartosci!D1934)","v":""}]
[null,null,null,null,null,{"$f":"IF(Wartosci!D1935=\"\",\"\",Wartosci!D1935)","v":""}]
[null,null,null,null,null,{"$f":"IF(Wartosci!D1936=\"\",\"\",Wartosci!D1936)","v":""}]
[null,null,null,null,null,{"$f":"IF(Wartosci!D1937=\"\",\"\",Wartosci!D1937)","v":""}]
[null,null,null,null,null,{"$f":"IF(Wartosci!D1938=\"\",\"\",Wartosci!D1938)","v":""}]
[null,null,null,null,null,{"$f":"IF(Wartosci!D1939=\"\",\"\",Wartosci!D1939)","v":""}]
[null,null,null,null,null,{"$f":"IF(Wartosci!D1940=\"\",\"\",Wartosci!D1940)","v":""}]
[null,null,null,null,null,{"$f":"IF(Wartosci!D1941=\"\",\"\",Wartosci!D1941)","v":""}]
[null,null,null,null,null,{"$f":"IF(Wartosci!D1942=\"\",\"\",Wartosci!D1942)","v":""}]
[null,null,null,null,null,{"$f":"IF(Wartosci!D1943=\"\",\"\",Wartosci!D1943)","v":""}]
[null,null,null,null,null,{"$f":"IF(Wartosci!D1944=\"\",\"\",Wartosci!D1944)","v":""}]
[null,null,null,null,null,{"$f":"IF(Wartosci!D1945=\"\",\"\",Wartosci!D1945)","v":""}]
[null,null,null,null,null,{"$f":"IF(Wartosci!D1946=\"\",\"\",Wartosci!D1946)","v":""}]
[null,null,null,null,null,{"$f":"IF(Wartosci!D1947=\"\",\"\",Wartosci!D1947)","v":""}]
[null,null,null,null,null,{"$f":"IF(Wartosci!D1948=\"\",\"\",Wartosci!D1948)","v":""}]
[null,null,null,null,null,{"$f":"IF(Wartosci!D1949=\"\",\"\",Wartosci!D1949)","v":""}]
[null,null,null,null,null,{"$f":"IF(Wartosci!D1950=\"\",\"\",Wartosci!D1950)","v":""}]
[null,null,null,null,null,{"$f":"IF(Wartosci!D1951=\"\",\"\",Wartosci!D1951)","v":""}]
[null,null,null,null,null,{"$f":"IF(Wartosci!D1952=\"\",\"\",Wartosci!D1952)","v":""}]
[null,null,null,null,null,{"$f":"IF(Wartosci!D1953=\"\",\"\",Wartosci!D1953)","v":""}]
[null,null,null,null,null,{"$f":"IF(Wartosci!D1954=\"\",\"\",Wartosci!D1954)","v":""}]
[null,null,null,null,null,{"$f":"IF(Wartosci!D1955=\"\",\"\",Wartosci!D1955)","v":""}]
[null,null,null,null,null,{"$f":"IF(Wartosci!D1956=\"\",\"\",Wartosci!D1956)","v":""}]
[null,null,null,null,null,{"$f":"IF(Wartosci!D1957=\"\",\"\",Wartosci!D1957)","v":""}]
[null,null,null,null,null,{"$f":"IF(Wartosci!D1958=\"\",\"\",Wartosci!D1958)","v":""}]
[null,null,null,null,null,{"$f":"IF(Wartosci!D1959=\"\",\"\",Wartosci!D1959)","v":""}]
[null,null,null,null,null,{"$f":"IF(Wartosci!D1960=\"\",\"\",Wartosci!D1960)","v":""}]
[null,null,null,null,null,{"$f":"IF(Wartosci!D1961=\"\",\"\",Wartosci!D1961)","v":""}]
[null,null,null,null,null,{"$f":"IF(Wartosci!D1962=\"\",\"\",Wartosci!D1962)","v":""}]
[null,null,null,null,null,{"$f":"IF(Wartosci!D1963=\"\",\"\",Wartosci!D1963)","v":""}]
[null,null,null,null,null,{"$f":"IF(Wartosci!D1964=\"\",\"\",Wartosci!D1964)","v":""}]
[null,null,null,null,null,{"$f":"IF(Wartosci!D1965=\"\",\"\",Wartosci!D1965)","v":""}]
[null,null,null,null,null,{"$f":"IF(Wartosci!D1966=\"\",\"\",Wartosci!D1966)","v":""}]
[null,null,null,null,null,{"$f":"IF(Wartosci!D1967=\"\",\"\",Wartosci!D1967)","v":""}]
[null,null,null,null,null,{"$f":"IF(Wartosci!D1968=\"\",\"\",Wartosci!D1968)","v":""}]
[null,null,null,null,null,{"$f":"IF(Wartosci!D1969=\"\",\"\",Wartosci!D1969)","v":""}]
[null,null,null,null,null,{"$f":"IF(Wartosci!D1970=\"\",\"\",Wartosci!D1970)","v":""}]
[null,null,null,null,null,{"$f":"IF(Wartosci!D1971=\"\",\"\",Wartosci!D1971)","v":""}]
[null,null,null,null,null,{"$f":"IF(Wartosci!D1972=\"\",\"\",Wartosci!D1972)","v":""}]
[null,null,null,null,null,{"$f":"IF(Wartosci!D1973=\"\",\"\",Wartosci!D1973)","v":""}]
[null,null,null,null,null,{"$f":"IF(Wartosci!D1974=\"\",\"\",Wartosci!D1974)","v":""}]
[null,null,null,null,null,{"$f":"IF(Wartosci!D1975=\"\",\"\",Wartosci!D1975)","v":""}]
[null,null,null,null,null,{"$f":"IF(Wartosci!D1976=\"\",\"\",Wartosci!D1976)","v":""}]
[null,null,null,null,null,{"$f":"IF(Wartosci!D1977=\"\",\"\",Wartosci!D1977)","v":""}]
[null,null,null,null,null,{"$f":"IF(Wartosci!D1978=\"\",\"\",Wartosci!D1978)","v":""}]
[null,null,null,null,null,{"$f":"IF(Wartosci!D1979=\"\",\"\",Wartosci!D1979)","v":""}]
[null,null,null,null,null,{"$f":"IF(Wartosci!D1980=\"\",\"\",Wartosci!D1980)","v":""}]
[null,null,null,null,null,{"$f":"IF(Wartosci!D1981=\"\",\"\",Wartosci!D1981)","v":""}]
[null,null,null,null,null,{"$f":"IF(Wartosci!D1982=\"\",\"\",Wartosci!D1982)","v":""}]
[null,null,null,null,null,{"$f":"IF(Wartosci!D1983=\"\",\"\",Wartosci!D1983)","v":""}]
[null,null,null,null,null,{"$f":"IF(Wartosci!D1984=\"\",\"\",Wartosci!D1984)","v":""}]
[null,null,null,null,null,{"$f":"IF(Wartosci!D1985=\"\",\"\",Wartosci!D1985)","v":""}]
[null,null,null,null,null,{"$f":"IF(Wartosci!D1986=\"\",\"\",Wartosci!D1986)","v":""}]
[null,null,null,null,null,{"$f":"IF(Wartosci!D1987=\"\",\"\",Wartosci!D1987)","v":""}]
[null,null,null,null,null,{"$f":"IF(Wartosci!D1988=\"\",\"\",Wartosci!D1988)","v":""}]
[null,null,null,null,null,{"$f":"IF(Wartosci!D1989=\"\",\"\",Wartosci!D1989)","v":""}]
[null,null,null,null,null,{"$f":"IF(Wartosci!D1990=\"\",\"\",Wartosci!D1990)","v":""}]
[null,null,null,null,null,{"$f":"IF(Wartosci!D1991=\"\",\"\",Wartosci!D1991)","v":""}]
[null,null,null,null,null,{"$f":"IF(Wartosci!D1992=\"\",\"\",Wartosci!D1992)","v":""}]
[null,null,null,null,null,{"$f":"IF(Wartosci!D1993=\"\",\"\",Wartosci!D1993)","v":""}]
[null,null,null,null,null,{"$f":"IF(Wartosci!D1994=\"\",\"\",Wartosci!D1994)","v":""}]
[null,null,null,null,null,{"$f":"IF(Wartosci!D1995=\"\",\"\",Wartosci!D1995)","v":""}]
[null,null,null,null,null,{"$f":"IF(Wartosci!D1996=\"\",\"\",Wartosci!D1996)","v":""}]
[null,null,null,null,null,{"$f":"IF(Wartosci!D1997=\"\",\"\",Wartosci!D1997)","v":""}]
[null,null,null,null,null,{"$f":"IF(Wartosci!D1998=\"\",\"\",Wartosci!D1998)","v":""}]
[null,null,null,null,null,{"$f":"IF(Wartosci!D1999=\"\",\"\",Wartosci!D1999)","v":""}]
[null,null,null,null,null,{"$f":"IF(Wartosci!D2000=\"\",\"\",Wartosci!D2000)","v":""}]
[null,null,null,null,null,{"$f":"IF(Wartosci!D2001=\"\",\"\",Wartosci!D2001)","v":""}]
[null,null,null,null,null,{"$f":"IF(Wartosci!D2002=\"\",\"\",Wartosci!D2002)","v":""}]
[null,null,null,null,null,{"$f":"IF(Wartosci!D2003=\"\",\"\",Wartosci!D2003)","v":""}]
[null,null,null,null,null,{"$f":"IF(Wartosci!D2004=\"\",\"\",Wartosci!D2004)","v":""}]
[null,null,null,null,null,{"$f":"IF(Wartosci!D2005=\"\",\"\",Wartosci!D2005)","v":""}]
[null,null,null,null,null,{"$f":"IF(Wartosci!D2006=\"\",\"\",Wartosci!D2006)","v":""}]
[null,null,null,null,null,{"$f":"IF(Wartosci!D2007=\"\",\"\",Wartosci!D2007)","v":""}]
[null,null,null,null,null,{"$f":"IF(Wartosci!D2008=\"\",\"\",Wartosci!D2008)","v":""}]
[null,null,null,null,null,{"$f":"IF(Wartosci!D2009=\"\",\"\",Wartosci!D2009)","v":""}]
[null,null,null,null,null,{"$f":"IF(Wartosci!D2010=\"\",\"\",Wartosci!D2010)","v":""}]
[null,null,null,null,null,{"$f":"IF(Wartosci!D2011=\"\",\"\",Wartosci!D2011)","v":""}]
[null,null,null,null,null,{"$f":"IF(Wartosci!D2012=\"\",\"\",Wartosci!D2012)","v":""}]
[null,null,null,null,null,{"$f":"IF(Wartosci!D2013=\"\",\"\",Wartosci!D2013)","v":""}]
[null,null,null,null,null,{"$f":"IF(Wartosci!D2014=\"\",\"\",Wartosci!D2014)","v":""}]
[null,null,null,null,null,{"$f":"IF(Wartosci!D2015=\"\",\"\",Wartosci!D2015)","v":""}]
[null,null,null,null,null,{"$f":"IF(Wartosci!D2016=\"\",\"\",Wartosci!D2016)","v":""}]
[null,null,null,null,null,{"$f":"IF(Wartosci!D2017=\"\",\"\",Wartosci!D2017)","v":""}]
[null,null,null,null,null,{"$f":"IF(Wartosci!D2018=\"\",\"\",Wartosci!D2018)","v":""}]
[null,null,null,null,null,{"$f":"IF(Wartosci!D2019=\"\",\"\",Wartosci!D2019)","v":""}]
[null,null,null,null,null,{"$f":"IF(Wartosci!D2020=\"\",\"\",Wartosci!D2020)","v":""}]
[null,null,null,null,null,{"$f":"IF(Wartosci!D2021=\"\",\"\",Wartosci!D2021)","v":""}]
[null,null,null,null,null,{"$f":"IF(Wartosci!D2022=\"\",\"\",Wartosci!D2022)","v":""}]
[null,null,null,null,null,{"$f":"IF(Wartosci!D2023=\"\",\"\",Wartosci!D2023)","v":""}]
[null,null,null,null,null,{"$f":"IF(Wartosci!D2024=\"\",\"\",Wartosci!D2024)","v":""}]
[null,null,null,null,null,{"$f":"IF(Wartosci!D2025=\"\",\"\",Wartosci!D2025)","v":""}]
[null,null,null,null,null,{"$f":"IF(Wartosci!D2026=\"\",\"\",Wartosci!D2026)","v":""}]
[null,null,null,null,null,{"$f":"IF(Wartosci!D2027=\"\",\"\",Wartosci!D2027)","v":""}]
[null,null,null,null,null,{"$f":"IF(Wartosci!D2028=\"\",\"\",Wartosci!D2028)","v":""}]
[null,null,null,null,null,{"$f":"IF(Wartosci!D2029=\"\",\"\",Wartosci!D2029)","v":""}]
[null,null,null,null,null,{"$f":"IF(Wartosci!D2030=\"\",\"\",Wartosci!D2030)","v":""}]
[null,null,null,null,null,{"$f":"IF(Wartosci!D2031=\"\",\"\",Wartosci!D2031)","v":""}]
[null,null,null,null,null,{"$f":"IF(Wartosci!D2032=\"\",\"\",Wartosci!D2032)","v":""}]
[null,null,null,null,null,{"$f":"IF(Wartosci!D2033=\"\",\"\",Wartosci!D2033)","v":""}]
[null,null,null,null,null,{"$f":"IF(Wartosci!D2034=\"\",\"\",Wartosci!D2034)","v":""}]
[null,null,null,null,null,{"$f":"IF(Wartosci!D2035=\"\",\"\",Wartosci!D2035)","v":""}]
[null,null,null,null,null,{"$f":"IF(Wartosci!D2036=\"\",\"\",Wartosci!D2036)","v":""}]
[null,null,null,null,null,{"$f":"IF(Wartosci!D2037=\"\",\"\",Wartosci!D2037)","v":""}]
[null,null,null,null,null,{"$f":"IF(Wartosci!D2038=\"\",\"\",Wartosci!D2038)","v":""}]
[null,null,null,null,null,{"$f":"IF(Wartosci!D2039=\"\",\"\",Wartosci!D2039)","v":""}]
[null,null,null,null,null,{"$f":"IF(Wartosci!D2040=\"\",\"\",Wartosci!D2040)","v":""}]
[null,null,null,null,null,{"$f":"IF(Wartosci!D2041=\"\",\"\",Wartosci!D2041)","v":""}]
[null,null,null,null,null,{"$f":"IF(Wartosci!D2042=\"\",\"\",Wartosci!D2042)","v":""}]
[null,null,null,null,null,{"$f":"IF(Wartosci!D2043=\"\",\"\",Wartosci!D2043)","v":""}]
[null,null,null,null,null,{"$f":"IF(Wartosci!D2044=\"\",\"\",Wartosci!D2044)","v":""}]
[null,null,null,null,null,{"$f":"IF(Wartosci!D2045=\"\",\"\",Wartosci!D2045)","v":""}]
[null,null,null,null,null,{"$f":"IF(Wartosci!D2046=\"\",\"\",Wartosci!D2046)","v":""}]
[null,null,null,null,null,{"$f":"IF(Wartosci!D2047=\"\",\"\",Wartosci!D2047)","v":""}]
[null,null,null,null,null,{"$f":"IF(Wartosci!D2048=\"\",\"\",Wartosci!D2048)","v":""}]
[null,null,null,null,null,{"$f":"IF(Wartosci!D2049=\"\",\"\",Wartosci!D2049)","v":""}]
[null,null,null,null,null,{"$f":"IF(Wartosci!D2050=\"\",\"\",Wartosci!D2050)","v":""}]
[null,null,null,null,null,{"$f":"IF(Wartosci!D2051=\"\",\"\",Wartosci!D2051)","v":""}]
[null,null,null,null,null,{"$f":"IF(Wartosci!D2052=\"\",\"\",Wartosci!D2052)","v":""}]
[null,null,null,null,null,{"$f":"IF(Wartosci!D2053=\"\",\"\",Wartosci!D2053)","v":""}]
[null,null,null,null,null,{"$f":"IF(Wartosci!D2054=\"\",\"\",Wartosci!D2054)","v":""}]
[null,null,null,null,null,{"$f":"IF(Wartosci!D2055=\"\",\"\",Wartosci!D2055)","v":""}]
[null,null,null,null,null,{"$f":"IF(Wartosci!D2056=\"\",\"\",Wartosci!D2056)","v":""}]
[null,null,null,null,null,{"$f":"IF(Wartosci!D2057=\"\",\"\",Wartosci!D2057)","v":""}]
[null,null,null,null,null,{"$f":"IF(Wartosci!D2058=\"\",\"\",Wartosci!D2058)","v":""}]
[null,null,null,null,null,{"$f":"IF(Wartosci!D2059=\"\",\"\",Wartosci!D2059)","v":""}]
[null,null,null,null,null,{"$f":"IF(Wartosci!D2060=\"\",\"\",Wartosci!D2060)","v":""}]
[null,null,null,null,null,{"$f":"IF(Wartosci!D2061=\"\",\"\",Wartosci!D2061)","v":""}]
[null,null,null,null,null,{"$f":"IF(Wartosci!D2062=\"\",\"\",Wartosci!D2062)","v":""}]
[null,null,null,null,null,{"$f":"IF(Wartosci!D2063=\"\",\"\",Wartosci!D2063)","v":""}]
[null,null,null,null,null,{"$f":"IF(Wartosci!D2064=\"\",\"\",Wartosci!D2064)","v":""}]
[null,null,null,null,null,{"$f":"IF(Wartosci!D2065=\"\",\"\",Wartosci!D2065)","v":""}]
[null,null,null,null,null,{"$f":"IF(Wartosci!D2066=\"\",\"\",Wartosci!D2066)","v":""}]
[null,null,null,null,null,{"$f":"IF(Wartosci!D2067=\"\",\"\",Wartosci!D2067)","v":""}]
[null,null,null,null,null,{"$f":"IF(Wartosci!D2068=\"\",\"\",Wartosci!D2068)","v":""}]
[null,null,null,null,null,{"$f":"IF(Wartosci!D2069=\"\",\"\",Wartosci!D2069)","v":""}]
[null,null,null,null,null,{"$f":"IF(Wartosci!D2070=\"\",\"\",Wartosci!D2070)","v":""}]
[null,null,null,null,null,{"$f":"IF(Wartosci!D2071=\"\",\"\",Wartosci!D2071)","v":""}]
[null,null,null,null,null,{"$f":"IF(Wartosci!D2072=\"\",\"\",Wartosci!D2072)","v":""}]
[null,null,null,null,null,{"$f":"IF(Wartosci!D2073=\"\",\"\",Wartosci!D2073)","v":""}]
[null,null,null,null,null,{"$f":"IF(Wartosci!D2074=\"\",\"\",Wartosci!D2074)","v":""}]
[null,null,null,null,null,{"$f":"IF(Wartosci!D2075=\"\",\"\",Wartosci!D2075)","v":""}]
[null,null,null,null,null,{"$f":"IF(Wartosci!D2076=\"\",\"\",Wartosci!D2076)","v":""}]
[null,null,null,null,null,{"$f":"IF(Wartosci!D2077=\"\",\"\",Wartosci!D2077)","v":""}]
[null,null,null,null,null,{"$f":"IF(Wartosci!D2078=\"\",\"\",Wartosci!D2078)","v":""}]
[null,null,null,null,null,{"$f":"IF(Wartosci!D2079=\"\",\"\",Wartosci!D2079)","v":""}]
[null,null,null,null,null,{"$f":"IF(Wartosci!D2080=\"\",\"\",Wartosci!D2080)","v":""}]
[null,null,null,null,null,{"$f":"IF(Wartosci!D2081=\"\",\"\",Wartosci!D2081)","v":""}]
[null,null,null,null,null,{"$f":"IF(Wartosci!D2082=\"\",\"\",Wartosci!D2082)","v":""}]
[null,null,null,null,null,{"$f":"IF(Wartosci!D2083=\"\",\"\",Wartosci!D2083)","v":""}]
[null,null,null,null,null,{"$f":"IF(Wartosci!D2084=\"\",\"\",Wartosci!D2084)","v":""}]
[null,null,null,null,null,{"$f":"IF(Wartosci!D2085=\"\",\"\",Wartosci!D2085)","v":""}]
[null,null,null,null,null,{"$f":"IF(Wartosci!D2086=\"\",\"\",Wartosci!D2086)","v":""}]
[null,null,null,null,null,{"$f":"IF(Wartosci!D2087=\"\",\"\",Wartosci!D2087)","v":""}]
[null,null,null,null,null,{"$f":"IF(Wartosci!D2088=\"\",\"\",Wartosci!D2088)","v":""}]
[null,null,null,null,null,{"$f":"IF(Wartosci!D2089=\"\",\"\",Wartosci!D2089)","v":""}]
[null,null,null,null,null,{"$f":"IF(Wartosci!D2090=\"\",\"\",Wartosci!D2090)","v":""}]
[null,null,null,null,null,{"$f":"IF(Wartosci!D2091=\"\",\"\",Wartosci!D2091)","v":""}]
[null,null,null,null,null,{"$f":"IF(Wartosci!D2092=\"\",\"\",Wartosci!D2092)","v":""}]
[null,null,null,null,null,{"$f":"IF(Wartosci!D2093=\"\",\"\",Wartosci!D2093)","v":""}]
[null,null,null,null,null,{"$f":"IF(Wartosci!D2094=\"\",\"\",Wartosci!D2094)","v":""}]
[null,null,null,null,null,{"$f":"IF(Wartosci!D2095=\"\",\"\",Wartosci!D2095)","v":""}]
[null,null,null,null,null,{"$f":"IF(Wartosci!D2096=\"\",\"\",Wartosci!D2096)","v":""}]
[null,null,null,null,null,{"$f":"IF(Wartosci!D2097=\"\",\"\",Wartosci!D2097)","v":""}]
[null,null,null,null,null,{"$f":"IF(Wartosci!D2098=\"\",\"\",Wartosci!D2098)","v":""}]
[null,null,null,null,null,{"$f":"IF(Wartosci!D2099=\"\",\"\",Wartosci!D2099)","v":""}]
[null,null,null,null,null,{"$f":"IF(Wartosci!D2100=\"\",\"\",Wartosci!D2100)","v":""}]
[null,null,null,null,null,{"$f":"IF(Wartosci!D2101=\"\",\"\",Wartosci!D2101)","v":""}]
[null,null,null,null,null,{"$f":"IF(Wartosci!D2102=\"\",\"\",Wartosci!D2102)","v":""}]
[null,null,null,null,null,{"$f":"IF(Wartosci!D2103=\"\",\"\",Wartosci!D2103)","v":""}]
[null,null,null,null,null,{"$f":"IF(Wartosci!D2104=\"\",\"\",Wartosci!D2104)","v":""}]
[null,null,null,null,null,{"$f":"IF(Wartosci!D2105=\"\",\"\",Wartosci!D2105)","v":""}]
[null,null,null,null,null,{"$f":"IF(Wartosci!D2106=\"\",\"\",Wartosci!D2106)","v":""}]
[null,null,null,null,null,{"$f":"IF(Wartosci!D2107=\"\",\"\",Wartosci!D2107)","v":""}]
[null,null,null,null,null,{"$f":"IF(Wartosci!D2108=\"\",\"\",Wartosci!D2108)","v":""}]
[null,null,null,null,null,{"$f":"IF(Wartosci!D2109=\"\",\"\",Wartosci!D2109)","v":""}]
[null,null,null,null,null,{"$f":"IF(Wartosci!D2110=\"\",\"\",Wartosci!D2110)","v":""}]
[null,null,null,null,null,{"$f":"IF(Wartosci!D2111=\"\",\"\",Wartosci!D2111)","v":""}]
[null,null,null,null,null,{"$f":"IF(Wartosci!D2112=\"\",\"\",Wartosci!D2112)","v":""}]
[null,null,null,null,null,{"$f":"IF(Wartosci!D2113=\"\",\"\",Wartosci!D2113)","v":""}]
[null,null,null,null,null,{"$f":"IF(Wartosci!D2114=\"\",\"\",Wartosci!D2114)","v":""}]
[null,null,null,null,null,{"$f":"IF(Wartosci!D2115=\"\",\"\",Wartosci!D2115)","v":""}]
[null,null,null,null,null,{"$f":"IF(Wartosci!D2116=\"\",\"\",Wartosci!D2116)","v":""}]
[null,null,null,null,null,{"$f":"IF(Wartosci!D2117=\"\",\"\",Wartosci!D2117)","v":""}]
[null,null,null,null,null,{"$f":"IF(Wartosci!D2118=\"\",\"\",Wartosci!D2118)","v":""}]
[null,null,null,null,null,{"$f":"IF(Wartosci!D2119=\"\",\"\",Wartosci!D2119)","v":""}]
[null,null,null,null,null,{"$f":"IF(Wartosci!D2120=\"\",\"\",Wartosci!D2120)","v":""}]
[null,null,null,null,null,{"$f":"IF(Wartosci!D2121=\"\",\"\",Wartosci!D2121)","v":""}]
[null,null,null,null,null,{"$f":"IF(Wartosci!D2122=\"\",\"\",Wartosci!D2122)","v":""}]
[null,null,null,null,null,{"$f":"IF(Wartosci!D2123=\"\",\"\",Wartosci!D2123)","v":""}]
[null,null,null,null,null,{"$f":"IF(Wartosci!D2124=\"\",\"\",Wartosci!D2124)","v":""}]
[null,null,null,null,null,{"$f":"IF(Wartosci!D2125=\"\",\"\",Wartosci!D2125)","v":""}]
[null,null,null,null,null,{"$f":"IF(Wartosci!D2126=\"\",\"\",Wartosci!D2126)","v":""}]
[null,null,null,null,null,{"$f":"IF(Wartosci!D2127=\"\",\"\",Wartosci!D2127)","v":""}]
[null,null,null,null,null,{"$f":"IF(Wartosci!D2128=\"\",\"\",Wartosci!D2128)","v":""}]
[null,null,null,null,null,{"$f":"IF(Wartosci!D2129=\"\",\"\",Wartosci!D2129)","v":""}]
[null,null,null,null,null,{"$f":"IF(Wartosci!D2130=\"\",\"\",Wartosci!D2130)","v":""}]
[null,null,null,null,null,{"$f":"IF(Wartosci!D2131=\"\",\"\",Wartosci!D2131)","v":""}]
[null,null,null,null,null,{"$f":"IF(Wartosci!D2132=\"\",\"\",Wartosci!D2132)","v":""}]
[null,null,null,null,null,{"$f":"IF(Wartosci!D2133=\"\",\"\",Wartosci!D2133)","v":""}]
[null,null,null,null,null,{"$f":"IF(Wartosci!D2134=\"\",\"\",Wartosci!D2134)","v":""}]
[null,null,null,null,null,{"$f":"IF(Wartosci!D2135=\"\",\"\",Wartosci!D2135)","v":""}]
[null,null,null,null,null,{"$f":"IF(Wartosci!D2136=\"\",\"\",Wartosci!D2136)","v":""}]
[null,null,null,null,null,{"$f":"IF(Wartosci!D2137=\"\",\"\",Wartosci!D2137)","v":""}]
[null,null,null,null,null,{"$f":"IF(Wartosci!D2138=\"\",\"\",Wartosci!D2138)","v":""}]
[null,null,null,null,null,{"$f":"IF(Wartosci!D2139=\"\",\"\",Wartosci!D2139)","v":""}]
[null,null,null,null,null,{"$f":"IF(Wartosci!D2140=\"\",\"\",Wartosci!D2140)","v":""}]
[null,null,null,null,null,{"$f":"IF(Wartosci!D2141=\"\",\"\",Wartosci!D2141)","v":""}]
[null,null,null,null,null,{"$f":"IF(Wartosci!D2142=\"\",\"\",Wartosci!D2142)","v":""}]
[null,null,null,null,null,{"$f":"IF(Wartosci!D2143=\"\",\"\",Wartosci!D2143)","v":""}]
[null,null,null,null,null,{"$f":"IF(Wartosci!D2144=\"\",\"\",Wartosci!D2144)","v":""}]
[null,null,null,null,null,{"$f":"IF(Wartosci!D2145=\"\",\"\",Wartosci!D2145)","v":""}]
[null,null,null,null,null,{"$f":"IF(Wartosci!D2146=\"\",\"\",Wartosci!D2146)","v":""}]
[null,null,null,null,null,{"$f":"IF(Wartosci!D2147=\"\",\"\",Wartosci!D2147)","v":""}]
[null,null,null,null,null,{"$f":"IF(Wartosci!D2148=\"\",\"\",Wartosci!D2148)","v":""}]
[null,null,null,null,null,{"$f":"IF(Wartosci!D2149=\"\",\"\",Wartosci!D2149)","v":""}]
[null,null,null,null,null,{"$f":"IF(Wartosci!D2150=\"\",\"\",Wartosci!D2150)","v":""}]
[null,null,null,null,null,{"$f":"IF(Wartosci!D2151=\"\",\"\",Wartosci!D2151)","v":""}]
[null,null,null,null,null,{"$f":"IF(Wartosci!D2152=\"\",\"\",Wartosci!D2152)","v":""}]
[null,null,null,null,null,{"$f":"IF(Wartosci!D2153=\"\",\"\",Wartosci!D2153)","v":""}]
[null,null,null,null,null,{"$f":"IF(Wartosci!D2154=\"\",\"\",Wartosci!D2154)","v":""}]
[null,null,null,null,null,{"$f":"IF(Wartosci!D2155=\"\",\"\",Wartosci!D2155)","v":""}]
[null,null,null,null,null,{"$f":"IF(Wartosci!D2156=\"\",\"\",Wartosci!D2156)","v":""}]
[null,null,null,null,null,{"$f":"IF(Wartosci!D2157=\"\",\"\",Wartosci!D2157)","v":""}]
[null,null,null,null,null,{"$f":"IF(Wartosci!D2158=\"\",\"\",Wartosci!D2158)","v":""}]
[null,null,null,null,null,{"$f":"IF(Wartosci!D2159=\"\",\"\",Wartosci!D2159)","v":""}]
[null,null,null,null,null,{"$f":"IF(Wartosci!D2160=\"\",\"\",Wartosci!D2160)","v":""}]
[null,null,null,null,null,{"$f":"IF(Wartosci!D2161=\"\",\"\",Wartosci!D2161)","v":""}]
[null,null,null,null,null,{"$f":"IF(Wartosci!D2162=\"\",\"\",Wartosci!D2162)","v":""}]
[null,null,null,null,null,{"$f":"IF(Wartosci!D2163=\"\",\"\",Wartosci!D2163)","v":""}]
[null,null,null,null,null,{"$f":"IF(Wartosci!D2164=\"\",\"\",Wartosci!D2164)","v":""}]
[null,null,null,null,null,{"$f":"IF(Wartosci!D2165=\"\",\"\",Wartosci!D2165)","v":""}]
[null,null,null,null,null,{"$f":"IF(Wartosci!D2166=\"\",\"\",Wartosci!D2166)","v":""}]
[null,null,null,null,null,{"$f":"IF(Wartosci!D2167=\"\",\"\",Wartosci!D2167)","v":""}]
[null,null,null,null,null,{"$f":"IF(Wartosci!D2168=\"\",\"\",Wartosci!D2168)","v":""}]
[null,null,null,null,null,{"$f":"IF(Wartosci!D2169=\"\",\"\",Wartosci!D2169)","v":""}]
[null,null,null,null,null,{"$f":"IF(Wartosci!D2170=\"\",\"\",Wartosci!D2170)","v":""}]
[null,null,null,null,null,{"$f":"IF(Wartosci!D2171=\"\",\"\",Wartosci!D2171)","v":""}]
[null,null,null,null,null,{"$f":"IF(Wartosci!D2172=\"\",\"\",Wartosci!D2172)","v":""}]
[null,null,null,null,null,{"$f":"IF(Wartosci!D2173=\"\",\"\",Wartosci!D2173)","v":""}]
[null,null,null,null,null,{"$f":"IF(Wartosci!D2174=\"\",\"\",Wartosci!D2174)","v":""}]
[null,null,null,null,null,{"$f":"IF(Wartosci!D2175=\"\",\"\",Wartosci!D2175)","v":""}]
[null,null,null,null,null,{"$f":"IF(Wartosci!D2176=\"\",\"\",Wartosci!D2176)","v":""}]
[null,null,null,null,null,{"$f":"IF(Wartosci!D2177=\"\",\"\",Wartosci!D2177)","v":""}]
[null,null,null,null,null,{"$f":"IF(Wartosci!D2178=\"\",\"\",Wartosci!D2178)","v":""}]
[null,null,null,null,null,{"$f":"IF(Wartosci!D2179=\"\",\"\",Wartosci!D2179)","v":""}]
[null,null,null,null,null,{"$f":"IF(Wartosci!D2180=\"\",\"\",Wartosci!D2180)","v":""}]
[null,null,null,null,null,{"$f":"IF(Wartosci!D2181=\"\",\"\",Wartosci!D2181)","v":""}]
[null,null,null,null,null,{"$f":"IF(Wartosci!D2182=\"\",\"\",Wartosci!D2182)","v":""}]
[null,null,null,null,null,{"$f":"IF(Wartosci!D2183=\"\",\"\",Wartosci!D2183)","v":""}]
[null,null,null,null,null,{"$f":"IF(Wartosci!D2184=\"\",\"\",Wartosci!D2184)","v":""}]
[null,null,null,null,null,{"$f":"IF(Wartosci!D2185=\"\",\"\",Wartosci!D2185)","v":""}]
[null,null,null,null,null,{"$f":"IF(Wartosci!D2186=\"\",\"\",Wartosci!D2186)","v":""}]
[null,null,null,null,null,{"$f":"IF(Wartosci!D2187=\"\",\"\",Wartosci!D2187)","v":""}]
[null,null,null,null,null,{"$f":"IF(Wartosci!D2188=\"\",\"\",Wartosci!D2188)","v":""}]
[null,null,null,null,null,{"$f":"IF(Wartosci!D2189=\"\",\"\",Wartosci!D2189)","v":""}]
[null,null,null,null,null,{"$f":"IF(Wartosci!D2190=\"\",\"\",Wartosci!D2190)","v":""}]
[null,null,null,null,null,{"$f":"IF(Wartosci!D2191=\"\",\"\",Wartosci!D2191)","v":""}]
[null,null,null,null,null,{"$f":"IF(Wartosci!D2192=\"\",\"\",Wartosci!D2192)","v":""}]
[null,null,null,null,null,{"$f":"IF(Wartosci!D2193=\"\",\"\",Wartosci!D2193)","v":""}]
[null,null,null,null,null,{"$f":"IF(Wartosci!D2194=\"\",\"\",Wartosci!D2194)","v":""}]
[null,null,null,null,null,{"$f":"IF(Wartosci!D2195=\"\",\"\",Wartosci!D2195)","v":""}]
[null,null,null,null,null,{"$f":"IF(Wartosci!D2196=\"\",\"\",Wartosci!D2196)","v":""}]
[null,null,null,null,null,{"$f":"IF(Wartosci!D2197=\"\",\"\",Wartosci!D2197)","v":""}]
[null,null,null,null,null,{"$f":"IF(Wartosci!D2198=\"\",\"\",Wartosci!D2198)","v":""}]
[null,null,null,null,null,{"$f":"IF(Wartosci!D2199=\"\",\"\",Wartosci!D2199)","v":""}]
[null,null,null,null,null,{"$f":"IF(Wartosci!D2200=\"\",\"\",Wartosci!D2200)","v":""}]
[null,null,null,null,null,{"$f":"IF(Wartosci!D2201=\"\",\"\",Wartosci!D2201)","v":""}]
[null,null,null,null,null,{"$f":"IF(Wartosci!D2202=\"\",\"\",Wartosci!D2202)","v":""}]
[null,null,null,null,null,{"$f":"IF(Wartosci!D2203=\"\",\"\",Wartosci!D2203)","v":""}]
[null,null,null,null,null,{"$f":"IF(Wartosci!D2204=\"\",\"\",Wartosci!D2204)","v":""}]
[null,null,null,null,null,{"$f":"IF(Wartosci!D2205=\"\",\"\",Wartosci!D2205)","v":""}]
[null,null,null,null,null,{"$f":"IF(Wartosci!D2206=\"\",\"\",Wartosci!D2206)","v":""}]
[null,null,null,null,null,{"$f":"IF(Wartosci!D2207=\"\",\"\",Wartosci!D2207)","v":""}]
[null,null,null,null,null,{"$f":"IF(Wartosci!D2208=\"\",\"\",Wartosci!D2208)","v":""}]
[null,null,null,null,null,{"$f":"IF(Wartosci!D2209=\"\",\"\",Wartosci!D2209)","v":""}]
[null,null,null,null,null,{"$f":"IF(Wartosci!D2210=\"\",\"\",Wartosci!D2210)","v":""}]
[null,null,null,null,null,{"$f":"IF(Wartosci!D2211=\"\",\"\",Wartosci!D2211)","v":""}]
[null,null,null,null,null,{"$f":"IF(Wartosci!D2212=\"\",\"\",Wartosci!D2212)","v":""}]
[null,null,null,null,null,{"$f":"IF(Wartosci!D2213=\"\",\"\",Wartosci!D2213)","v":""}]
[null,null,null,null,null,{"$f":"IF(Wartosci!D2214=\"\",\"\",Wartosci!D2214)","v":""}]
[null,null,null,null,null,{"$f":"IF(Wartosci!D2215=\"\",\"\",Wartosci!D2215)","v":""}]
[null,null,null,null,null,{"$f":"IF(Wartosci!D2216=\"\",\"\",Wartosci!D2216)","v":""}]
[null,null,null,null,null,{"$f":"IF(Wartosci!D2217=\"\",\"\",Wartosci!D2217)","v":""}]
[null,null,null,null,null,{"$f":"IF(Wartosci!D2218=\"\",\"\",Wartosci!D2218)","v":""}]
[null,null,null,null,null,{"$f":"IF(Wartosci!D2219=\"\",\"\",Wartosci!D2219)","v":""}]
[null,null,null,null,null,{"$f":"IF(Wartosci!D2220=\"\",\"\",Wartosci!D2220)","v":""}]
[null,null,null,null,null,{"$f":"IF(Wartosci!D2221=\"\",\"\",Wartosci!D2221)","v":""}]
[null,null,null,null,null,{"$f":"IF(Wartosci!D2222=\"\",\"\",Wartosci!D2222)","v":""}]
[null,null,null,null,null,{"$f":"IF(Wartosci!D2223=\"\",\"\",Wartosci!D2223)","v":""}]
[null,null,null,null,null,{"$f":"IF(Wartosci!D2224=\"\",\"\",Wartosci!D2224)","v":""}]
[null,null,null,null,null,{"$f":"IF(Wartosci!D2225=\"\",\"\",Wartosci!D2225)","v":""}]
[null,null,null,null,null,{"$f":"IF(Wartosci!D2226=\"\",\"\",Wartosci!D2226)","v":""}]
[null,null,null,null,null,{"$f":"IF(Wartosci!D2227=\"\",\"\",Wartosci!D2227)","v":""}]
[null,null,null,null,null,{"$f":"IF(Wartosci!D2228=\"\",\"\",Wartosci!D2228)","v":""}]
[null,null,null,null,null,{"$f":"IF(Wartosci!D2229=\"\",\"\",Wartosci!D2229)","v":""}]
[null,null,null,null,null,{"$f":"IF(Wartosci!D2230=\"\",\"\",Wartosci!D2230)","v":""}]
[null,null,null,null,null,{"$f":"IF(Wartosci!D2231=\"\",\"\",Wartosci!D2231)","v":""}]
[null,null,null,null,null,{"$f":"IF(Wartosci!D2232=\"\",\"\",Wartosci!D2232)","v":""}]
[null,null,null,null,null,{"$f":"IF(Wartosci!D2233=\"\",\"\",Wartosci!D2233)","v":""}]
[null,null,null,null,null,{"$f":"IF(Wartosci!D2234=\"\",\"\",Wartosci!D2234)","v":""}]
[null,null,null,null,null,{"$f":"IF(Wartosci!D2235=\"\",\"\",Wartosci!D2235)","v":""}]
[null,null,null,null,null,{"$f":"IF(Wartosci!D2236=\"\",\"\",Wartosci!D2236)","v":""}]
[null,null,null,null,null,{"$f":"IF(Wartosci!D2237=\"\",\"\",Wartosci!D2237)","v":""}]
[null,null,null,null,null,{"$f":"IF(Wartosci!D2238=\"\",\"\",Wartosci!D2238)","v":""}]
[null,null,null,null,null,{"$f":"IF(Wartosci!D2239=\"\",\"\",Wartosci!D2239)","v":""}]
[null,null,null,null,null,{"$f":"IF(Wartosci!D2240=\"\",\"\",Wartosci!D2240)","v":""}]
[null,null,null,null,null,{"$f":"IF(Wartosci!D2241=\"\",\"\",Wartosci!D2241)","v":""}]
[null,null,null,null,null,{"$f":"IF(Wartosci!D2242=\"\",\"\",Wartosci!D2242)","v":""}]
[null,null,null,null,null,{"$f":"IF(Wartosci!D2243=\"\",\"\",Wartosci!D2243)","v":""}]
[null,null,null,null,null,{"$f":"IF(Wartosci!D2244=\"\",\"\",Wartosci!D2244)","v":""}]
[null,null,null,null,null,{"$f":"IF(Wartosci!D2245=\"\",\"\",Wartosci!D2245)","v":""}]
[null,null,null,null,null,{"$f":"IF(Wartosci!D2246=\"\",\"\",Wartosci!D2246)","v":""}]
[null,null,null,null,null,{"$f":"IF(Wartosci!D2247=\"\",\"\",Wartosci!D2247)","v":""}]
[null,null,null,null,null,{"$f":"IF(Wartosci!D2248=\"\",\"\",Wartosci!D2248)","v":""}]
[null,null,null,null,null,{"$f":"IF(Wartosci!D2249=\"\",\"\",Wartosci!D2249)","v":""}]
[null,null,null,null,null,{"$f":"IF(Wartosci!D2250=\"\",\"\",Wartosci!D2250)","v":""}]
[null,null,null,null,null,{"$f":"IF(Wartosci!D2251=\"\",\"\",Wartosci!D2251)","v":""}]
[null,null,null,null,null,{"$f":"IF(Wartosci!D2252=\"\",\"\",Wartosci!D2252)","v":""}]
[null,null,null,null,null,{"$f":"IF(Wartosci!D2253=\"\",\"\",Wartosci!D2253)","v":""}]
[null,null,null,null,null,{"$f":"IF(Wartosci!D2254=\"\",\"\",Wartosci!D2254)","v":""}]
[null,null,null,null,null,{"$f":"IF(Wartosci!D2255=\"\",\"\",Wartosci!D2255)","v":""}]
[null,null,null,null,null,{"$f":"IF(Wartosci!D2256=\"\",\"\",Wartosci!D2256)","v":""}]
[null,null,null,null,null,{"$f":"IF(Wartosci!D2257=\"\",\"\",Wartosci!D2257)","v":""}]
[null,null,null,null,null,{"$f":"IF(Wartosci!D2258=\"\",\"\",Wartosci!D2258)","v":""}]
[null,null,null,null,null,{"$f":"IF(Wartosci!D2259=\"\",\"\",Wartosci!D2259)","v":""}]
[null,null,null,null,null,{"$f":"IF(Wartosci!D2260=\"\",\"\",Wartosci!D2260)","v":""}]
[null,null,null,null,null,{"$f":"IF(Wartosci!D2261=\"\",\"\",Wartosci!D2261)","v":""}]
[null,null,null,null,null,{"$f":"IF(Wartosci!D2262=\"\",\"\",Wartosci!D2262)","v":""}]
[null,null,null,null,null,{"$f":"IF(Wartosci!D2263=\"\",\"\",Wartosci!D2263)","v":""}]
[null,null,null,null,null,{"$f":"IF(Wartosci!D2264=\"\",\"\",Wartosci!D2264)","v":""}]
[null,null,null,null,null,{"$f":"IF(Wartosci!D2265=\"\",\"\",Wartosci!D2265)","v":""}]
[null,null,null,null,null,{"$f":"IF(Wartosci!D2266=\"\",\"\",Wartosci!D2266)","v":""}]
[null,null,null,null,null,{"$f":"IF(Wartosci!D2267=\"\",\"\",Wartosci!D2267)","v":""}]
[null,null,null,null,null,{"$f":"IF(Wartosci!D2268=\"\",\"\",Wartosci!D2268)","v":""}]
[null,null,null,null,null,{"$f":"IF(Wartosci!D2269=\"\",\"\",Wartosci!D2269)","v":""}]
[null,null,null,null,null,{"$f":"IF(Wartosci!D2270=\"\",\"\",Wartosci!D2270)","v":""}]
[null,null,null,null,null,{"$f":"IF(Wartosci!D2271=\"\",\"\",Wartosci!D2271)","v":""}]
[null,null,null,null,null,{"$f":"IF(Wartosci!D2272=\"\",\"\",Wartosci!D2272)","v":""}]
[null,null,null,null,null,{"$f":"IF(Wartosci!D2273=\"\",\"\",Wartosci!D2273)","v":""}]
[null,null,null,null,null,{"$f":"IF(Wartosci!D2274=\"\",\"\",Wartosci!D2274)","v":""}]
[null,null,null,null,null,{"$f":"IF(Wartosci!D2275=\"\",\"\",Wartosci!D2275)","v":""}]
[null,null,null,null,null,{"$f":"IF(Wartosci!D2276=\"\",\"\",Wartosci!D2276)","v":""}]
[null,null,null,null,null,{"$f":"IF(Wartosci!D2277=\"\",\"\",Wartosci!D2277)","v":""}]
[null,null,null,null,null,{"$f":"IF(Wartosci!D2278=\"\",\"\",Wartosci!D2278)","v":""}]
[null,null,null,null,null,{"$f":"IF(Wartosci!D2279=\"\",\"\",Wartosci!D2279)","v":""}]
[null,null,null,null,null,{"$f":"IF(Wartosci!D2280=\"\",\"\",Wartosci!D2280)","v":""}]
[null,null,null,null,null,{"$f":"IF(Wartosci!D2281=\"\",\"\",Wartosci!D2281)","v":""}]
[null,null,null,null,null,{"$f":"IF(Wartosci!D2282=\"\",\"\",Wartosci!D2282)","v":""}]
[null,null,null,null,null,{"$f":"IF(Wartosci!D2283=\"\",\"\",Wartosci!D2283)","v":""}]
[null,null,null,null,null,{"$f":"IF(Wartosci!D2284=\"\",\"\",Wartosci!D2284)","v":""}]
[null,null,null,null,null,{"$f":"IF(Wartosci!D2285=\"\",\"\",Wartosci!D2285)","v":""}]
[null,null,null,null,null,{"$f":"IF(Wartosci!D2286=\"\",\"\",Wartosci!D2286)","v":""}]
[null,null,null,null,null,{"$f":"IF(Wartosci!D2287=\"\",\"\",Wartosci!D2287)","v":""}]
[null,null,null,null,null,{"$f":"IF(Wartosci!D2288=\"\",\"\",Wartosci!D2288)","v":""}]
[null,null,null,null,null,{"$f":"IF(Wartosci!D2289=\"\",\"\",Wartosci!D2289)","v":""}]
[null,null,null,null,null,{"$f":"IF(Wartosci!D2290=\"\",\"\",Wartosci!D2290)","v":""}]
[null,null,null,null,null,{"$f":"IF(Wartosci!D2291=\"\",\"\",Wartosci!D2291)","v":""}]
[null,null,null,null,null,{"$f":"IF(Wartosci!D2292=\"\",\"\",Wartosci!D2292)","v":""}]
[null,null,null,null,null,{"$f":"IF(Wartosci!D2293=\"\",\"\",Wartosci!D2293)","v":""}]
[null,null,null,null,null,{"$f":"IF(Wartosci!D2294=\"\",\"\",Wartosci!D2294)","v":""}]
[null,null,null,null,null,{"$f":"IF(Wartosci!D2295=\"\",\"\",Wartosci!D2295)","v":""}]
[null,null,null,null,null,{"$f":"IF(Wartosci!D2296=\"\",\"\",Wartosci!D2296)","v":""}]
[null,null,null,null,null,{"$f":"IF(Wartosci!D2297=\"\",\"\",Wartosci!D2297)","v":""}]
[null,null,null,null,null,{"$f":"IF(Wartosci!D2298=\"\",\"\",Wartosci!D2298)","v":""}]
[null,null,null,null,null,{"$f":"IF(Wartosci!D2299=\"\",\"\",Wartosci!D2299)","v":""}]
[null,null,null,null,null,{"$f":"IF(Wartosci!D2300=\"\",\"\",Wartosci!D2300)","v":""}]
[null,null,null,null,null,{"$f":"IF(Wartosci!D2301=\"\",\"\",Wartosci!D2301)","v":""}]
[null,null,null,null,null,{"$f":"IF(Wartosci!D2302=\"\",\"\",Wartosci!D2302)","v":""}]
[null,null,null,null,null,{"$f":"IF(Wartosci!D2303=\"\",\"\",Wartosci!D2303)","v":""}]
[null,null,null,null,null,{"$f":"IF(Wartosci!D2304=\"\",\"\",Wartosci!D2304)","v":""}]
[null,null,null,null,null,{"$f":"IF(Wartosci!D2305=\"\",\"\",Wartosci!D2305)","v":""}]
[null,null,null,null,null,{"$f":"IF(Wartosci!D2306=\"\",\"\",Wartosci!D2306)","v":""}]
[null,null,null,null,null,{"$f":"IF(Wartosci!D2307=\"\",\"\",Wartosci!D2307)","v":""}]
[null,null,null,null,null,{"$f":"IF(Wartosci!D2308=\"\",\"\",Wartosci!D2308)","v":""}]
[null,null,null,null,null,{"$f":"IF(Wartosci!D2309=\"\",\"\",Wartosci!D2309)","v":""}]
[null,null,null,null,null,{"$f":"IF(Wartosci!D2310=\"\",\"\",Wartosci!D2310)","v":""}]
[null,null,null,null,null,{"$f":"IF(Wartosci!D2311=\"\",\"\",Wartosci!D2311)","v":""}]
[null,null,null,null,null,{"$f":"IF(Wartosci!D2312=\"\",\"\",Wartosci!D2312)","v":""}]
[null,null,null,null,null,{"$f":"IF(Wartosci!D2313=\"\",\"\",Wartosci!D2313)","v":""}]
[null,null,null,null,null,{"$f":"IF(Wartosci!D2314=\"\",\"\",Wartosci!D2314)","v":""}]
[null,null,null,null,null,{"$f":"IF(Wartosci!D2315=\"\",\"\",Wartosci!D2315)","v":""}]
[null,null,null,null,null,{"$f":"IF(Wartosci!D2316=\"\",\"\",Wartosci!D2316)","v":""}]
[null,null,null,null,null,{"$f":"IF(Wartosci!D2317=\"\",\"\",Wartosci!D2317)","v":""}]
[null,null,null,null,null,{"$f":"IF(Wartosci!D2318=\"\",\"\",Wartosci!D2318)","v":""}]
[null,null,null,null,null,{"$f":"IF(Wartosci!D2319=\"\",\"\",Wartosci!D2319)","v":""}]
[null,null,null,null,null,{"$f":"IF(Wartosci!D2320=\"\",\"\",Wartosci!D2320)","v":""}]
[null,null,null,null,null,{"$f":"IF(Wartosci!D2321=\"\",\"\",Wartosci!D2321)","v":""}]
[null,null,null,null,null,{"$f":"IF(Wartosci!D2322=\"\",\"\",Wartosci!D2322)","v":""}]
[null,null,null,null,null,{"$f":"IF(Wartosci!D2323=\"\",\"\",Wartosci!D2323)","v":""}]
[null,null,null,null,null,{"$f":"IF(Wartosci!D2324=\"\",\"\",Wartosci!D2324)","v":""}]
[null,null,null,null,null,{"$f":"IF(Wartosci!D2325=\"\",\"\",Wartosci!D2325)","v":""}]
[null,null,null,null,null,{"$f":"IF(Wartosci!D2326=\"\",\"\",Wartosci!D2326)","v":""}]
[null,null,null,null,null,{"$f":"IF(Wartosci!D2327=\"\",\"\",Wartosci!D2327)","v":""}]
[null,null,null,null,null,{"$f":"IF(Wartosci!D2328=\"\",\"\",Wartosci!D2328)","v":""}]
[null,null,null,null,null,{"$f":"IF(Wartosci!D2329=\"\",\"\",Wartosci!D2329)","v":""}]
[null,null,null,null,null,{"$f":"IF(Wartosci!D2330=\"\",\"\",Wartosci!D2330)","v":""}]
[null,null,null,null,null,{"$f":"IF(Wartosci!D2331=\"\",\"\",Wartosci!D2331)","v":""}]
[null,null,null,null,null,{"$f":"IF(Wartosci!D2332=\"\",\"\",Wartosci!D2332)","v":""}]
[null,null,null,null,null,{"$f":"IF(Wartosci!D2333=\"\",\"\",Wartosci!D2333)","v":""}]
[null,null,null,null,null,{"$f":"IF(Wartosci!D2334=\"\",\"\",Wartosci!D2334)","v":""}]
[null,null,null,null,null,{"$f":"IF(Wartosci!D2335=\"\",\"\",Wartosci!D2335)","v":""}]
[null,null,null,null,null,{"$f":"IF(Wartosci!D2336=\"\",\"\",Wartosci!D2336)","v":""}]
[null,null,null,null,null,{"$f":"IF(Wartosci!D2337=\"\",\"\",Wartosci!D2337)","v":""}]
[null,null,null,null,null,{"$f":"IF(Wartosci!D2338=\"\",\"\",Wartosci!D2338)","v":""}]
[null,null,null,null,null,{"$f":"IF(Wartosci!D2339=\"\",\"\",Wartosci!D2339)","v":""}]
[null,null,null,null,null,{"$f":"IF(Wartosci!D2340=\"\",\"\",Wartosci!D2340)","v":""}]
[null,null,null,null,null,{"$f":"IF(Wartosci!D2341=\"\",\"\",Wartosci!D2341)","v":""}]
[null,null,null,null,null,{"$f":"IF(Wartosci!D2342=\"\",\"\",Wartosci!D2342)","v":""}]
[null,null,null,null,null,{"$f":"IF(Wartosci!D2343=\"\",\"\",Wartosci!D2343)","v":""}]
[null,null,null,null,null,{"$f":"IF(Wartosci!D2344=\"\",\"\",Wartosci!D2344)","v":""}]
[null,null,null,null,null,{"$f":"IF(Wartosci!D2345=\"\",\"\",Wartosci!D2345)","v":""}]
[null,null,null,null,null,{"$f":"IF(Wartosci!D2346=\"\",\"\",Wartosci!D2346)","v":""}]
[null,null,null,null,null,{"$f":"IF(Wartosci!D2347=\"\",\"\",Wartosci!D2347)","v":""}]
[null,null,null,null,null,{"$f":"IF(Wartosci!D2348=\"\",\"\",Wartosci!D2348)","v":""}]
[null,null,null,null,null,{"$f":"IF(Wartosci!D2349=\"\",\"\",Wartosci!D2349)","v":""}]
[null,null,null,null,null,{"$f":"IF(Wartosci!D2350=\"\",\"\",Wartosci!D2350)","v":""}]
[null,null,null,null,null,{"$f":"IF(Wartosci!D2351=\"\",\"\",Wartosci!D2351)","v":""}]
[null,null,null,null,null,{"$f":"IF(Wartosci!D2352=\"\",\"\",Wartosci!D2352)","v":""}]
[null,null,null,null,null,{"$f":"IF(Wartosci!D2353=\"\",\"\",Wartosci!D2353)","v":""}]
[null,null,null,null,null,{"$f":"IF(Wartosci!D2354=\"\",\"\",Wartosci!D2354)","v":""}]
[null,null,null,null,null,{"$f":"IF(Wartosci!D2355=\"\",\"\",Wartosci!D2355)","v":""}]
[null,null,null,null,null,{"$f":"IF(Wartosci!D2356=\"\",\"\",Wartosci!D2356)","v":""}]
[null,null,null,null,null,{"$f":"IF(Wartosci!D2357=\"\",\"\",Wartosci!D2357)","v":""}]
[null,null,null,null,null,{"$f":"IF(Wartosci!D2358=\"\",\"\",Wartosci!D2358)","v":""}]
[null,null,null,null,null,{"$f":"IF(Wartosci!D2359=\"\",\"\",Wartosci!D2359)","v":""}]
[null,null,null,null,null,{"$f":"IF(Wartosci!D2360=\"\",\"\",Wartosci!D2360)","v":""}]
[null,null,null,null,null,{"$f":"IF(Wartosci!D2361=\"\",\"\",Wartosci!D2361)","v":""}]
[null,null,null,null,null,{"$f":"IF(Wartosci!D2362=\"\",\"\",Wartosci!D2362)","v":""}]
[null,null,null,null,null,{"$f":"IF(Wartosci!D2363=\"\",\"\",Wartosci!D2363)","v":""}]
[null,null,null,null,null,{"$f":"IF(Wartosci!D2364=\"\",\"\",Wartosci!D2364)","v":""}]
[null,null,null,null,null,{"$f":"IF(Wartosci!D2365=\"\",\"\",Wartosci!D2365)","v":""}]
[null,null,null,null,null,{"$f":"IF(Wartosci!D2366=\"\",\"\",Wartosci!D2366)","v":""}]
[null,null,null,null,null,{"$f":"IF(Wartosci!D2367=\"\",\"\",Wartosci!D2367)","v":""}]
[null,null,null,null,null,{"$f":"IF(Wartosci!D2368=\"\",\"\",Wartosci!D2368)","v":""}]
[null,null,null,null,null,{"$f":"IF(Wartosci!D2369=\"\",\"\",Wartosci!D2369)","v":""}]
[null,null,null,null,null,{"$f":"IF(Wartosci!D2370=\"\",\"\",Wartosci!D2370)","v":""}]
[null,null,null,null,null,{"$f":"IF(Wartosci!D2371=\"\",\"\",Wartosci!D2371)","v":""}]
[null,null,null,null,null,{"$f":"IF(Wartosci!D2372=\"\",\"\",Wartosci!D2372)","v":""}]
[null,null,null,null,null,{"$f":"IF(Wartosci!D2373=\"\",\"\",Wartosci!D2373)","v":""}]
[null,null,null,null,null,{"$f":"IF(Wartosci!D2374=\"\",\"\",Wartosci!D2374)","v":""}]
[null,null,null,null,null,{"$f":"IF(Wartosci!D2375=\"\",\"\",Wartosci!D2375)","v":""}]
[null,null,null,null,null,{"$f":"IF(Wartosci!D2376=\"\",\"\",Wartosci!D2376)","v":""}]
[null,null,null,null,null,{"$f":"IF(Wartosci!D2377=\"\",\"\",Wartosci!D2377)","v":""}]
[null,null,null,null,null,{"$f":"IF(Wartosci!D2378=\"\",\"\",Wartosci!D2378)","v":""}]
[null,null,null,null,null,{"$f":"IF(Wartosci!D2379=\"\",\"\",Wartosci!D2379)","v":""}]
[null,null,null,null,null,{"$f":"IF(Wartosci!D2380=\"\",\"\",Wartosci!D2380)","v":""}]
[null,null,null,null,null,{"$f":"IF(Wartosci!D2381=\"\",\"\",Wartosci!D2381)","v":""}]
[null,null,null,null,null,{"$f":"IF(Wartosci!D2382=\"\",\"\",Wartosci!D2382)","v":""}]
[null,null,null,null,null,{"$f":"IF(Wartosci!D2383=\"\",\"\",Wartosci!D2383)","v":""}]
[null,null,null,null,null,{"$f":"IF(Wartosci!D2384=\"\",\"\",Wartosci!D2384)","v":""}]
[null,null,null,null,null,{"$f":"IF(Wartosci!D2385=\"\",\"\",Wartosci!D2385)","v":""}]
[null,null,null,null,null,{"$f":"IF(Wartosci!D2386=\"\",\"\",Wartosci!D2386)","v":""}]
[null,null,null,null,null,{"$f":"IF(Wartosci!D2387=\"\",\"\",Wartosci!D2387)","v":""}]
[null,null,null,null,null,{"$f":"IF(Wartosci!D2388=\"\",\"\",Wartosci!D2388)","v":""}]
[null,null,null,null,null,{"$f":"IF(Wartosci!D2389=\"\",\"\",Wartosci!D2389)","v":""}]
[null,null,null,null,null,{"$f":"IF(Wartosci!D2390=\"\",\"\",Wartosci!D2390)","v":""}]
[null,null,null,null,null,{"$f":"IF(Wartosci!D2391=\"\",\"\",Wartosci!D2391)","v":""}]
[null,null,null,null,null,{"$f":"IF(Wartosci!D2392=\"\",\"\",Wartosci!D2392)","v":""}]
[null,null,null,null,null,{"$f":"IF(Wartosci!D2393=\"\",\"\",Wartosci!D2393)","v":""}]
[null,null,null,null,null,{"$f":"IF(Wartosci!D2394=\"\",\"\",Wartosci!D2394)","v":""}]
[null,null,null,null,null,{"$f":"IF(Wartosci!D2395=\"\",\"\",Wartosci!D2395)","v":""}]
[null,null,null,null,null,{"$f":"IF(Wartosci!D2396=\"\",\"\",Wartosci!D2396)","v":""}]
[null,null,null,null,null,{"$f":"IF(Wartosci!D2397=\"\",\"\",Wartosci!D2397)","v":""}]
[null,null,null,null,null,{"$f":"IF(Wartosci!D2398=\"\",\"\",Wartosci!D2398)","v":""}]
[null,null,null,null,null,{"$f":"IF(Wartosci!D2399=\"\",\"\",Wartosci!D2399)","v":""}]
[null,null,null,null,null,{"$f":"IF(Wartosci!D2400=\"\",\"\",Wartosci!D2400)","v":""}]
[null,null,null,null,null,{"$f":"IF(Wartosci!D2401=\"\",\"\",Wartosci!D2401)","v":""}]
[null,null,null,null,null,{"$f":"IF(Wartosci!D2402=\"\",\"\",Wartosci!D2402)","v":""}]
[null,null,null,null,null,{"$f":"IF(Wartosci!D2403=\"\",\"\",Wartosci!D2403)","v":""}]
[null,null,null,null,null,{"$f":"IF(Wartosci!D2404=\"\",\"\",Wartosci!D2404)","v":""}]
[null,null,null,null,null,{"$f":"IF(Wartosci!D2405=\"\",\"\",Wartosci!D2405)","v":""}]
[null,null,null,null,null,{"$f":"IF(Wartosci!D2406=\"\",\"\",Wartosci!D2406)","v":""}]
[null,null,null,null,null,{"$f":"IF(Wartosci!D2407=\"\",\"\",Wartosci!D2407)","v":""}]
[null,null,null,null,null,{"$f":"IF(Wartosci!D2408=\"\",\"\",Wartosci!D2408)","v":""}]
[null,null,null,null,null,{"$f":"IF(Wartosci!D2409=\"\",\"\",Wartosci!D2409)","v":""}]
[null,null,null,null,null,{"$f":"IF(Wartosci!D2410=\"\",\"\",Wartosci!D2410)","v":""}]
[null,null,null,null,null,{"$f":"IF(Wartosci!D2411=\"\",\"\",Wartosci!D2411)","v":""}]
[null,null,null,null,null,{"$f":"IF(Wartosci!D2412=\"\",\"\",Wartosci!D2412)","v":""}]
[null,null,null,null,null,{"$f":"IF(Wartosci!D2413=\"\",\"\",Wartosci!D2413)","v":""}]
[null,null,null,null,null,{"$f":"IF(Wartosci!D2414=\"\",\"\",Wartosci!D2414)","v":""}]
[null,null,null,null,null,{"$f":"IF(Wartosci!D2415=\"\",\"\",Wartosci!D2415)","v":""}]
[null,null,null,null,null,{"$f":"IF(Wartosci!D2416=\"\",\"\",Wartosci!D2416)","v":""}]
[null,null,null,null,null,{"$f":"IF(Wartosci!D2417=\"\",\"\",Wartosci!D2417)","v":""}]
[null,null,null,null,null,{"$f":"IF(Wartosci!D2418=\"\",\"\",Wartosci!D2418)","v":""}]
[null,null,null,null,null,{"$f":"IF(Wartosci!D2419=\"\",\"\",Wartosci!D2419)","v":""}]
[null,null,null,null,null,{"$f":"IF(Wartosci!D2420=\"\",\"\",Wartosci!D2420)","v":""}]
[null,null,null,null,null,{"$f":"IF(Wartosci!D2421=\"\",\"\",Wartosci!D2421)","v":""}]
[null,null,null,null,null,{"$f":"IF(Wartosci!D2422=\"\",\"\",Wartosci!D2422)","v":""}]
[null,null,null,null,null,{"$f":"IF(Wartosci!D2423=\"\",\"\",Wartosci!D2423)","v":""}]
[null,null,null,null,null,{"$f":"IF(Wartosci!D2424=\"\",\"\",Wartosci!D2424)","v":""}]
[null,null,null,null,null,{"$f":"IF(Wartosci!D2425=\"\",\"\",Wartosci!D2425)","v":""}]
[null,null,null,null,null,{"$f":"IF(Wartosci!D2426=\"\",\"\",Wartosci!D2426)","v":""}]
[null,null,null,null,null,{"$f":"IF(Wartosci!D2427=\"\",\"\",Wartosci!D2427)","v":""}]
[null,null,null,null,null,{"$f":"IF(Wartosci!D2428=\"\",\"\",Wartosci!D2428)","v":""}]
[null,null,null,null,null,{"$f":"IF(Wartosci!D2429=\"\",\"\",Wartosci!D2429)","v":""}]
[null,null,null,null,null,{"$f":"IF(Wartosci!D2430=\"\",\"\",Wartosci!D2430)","v":""}]
[null,null,null,null,null,{"$f":"IF(Wartosci!D2431=\"\",\"\",Wartosci!D2431)","v":""}]
[null,null,null,null,null,{"$f":"IF(Wartosci!D2432=\"\",\"\",Wartosci!D2432)","v":""}]
[null,null,null,null,null,{"$f":"IF(Wartosci!D2433=\"\",\"\",Wartosci!D2433)","v":""}]
[null,null,null,null,null,{"$f":"IF(Wartosci!D2434=\"\",\"\",Wartosci!D2434)","v":""}]
[null,null,null,null,null,{"$f":"IF(Wartosci!D2435=\"\",\"\",Wartosci!D2435)","v":""}]
[null,null,null,null,null,{"$f":"IF(Wartosci!D2436=\"\",\"\",Wartosci!D2436)","v":""}]
[null,null,null,null,null,{"$f":"IF(Wartosci!D2437=\"\",\"\",Wartosci!D2437)","v":""}]
[null,null,null,null,null,{"$f":"IF(Wartosci!D2438=\"\",\"\",Wartosci!D2438)","v":""}]
[null,null,null,null,null,{"$f":"IF(Wartosci!D2439=\"\",\"\",Wartosci!D2439)","v":""}]
[null,null,null,null,null,{"$f":"IF(Wartosci!D2440=\"\",\"\",Wartosci!D2440)","v":""}]
[null,null,null,null,null,{"$f":"IF(Wartosci!D2441=\"\",\"\",Wartosci!D2441)","v":""}]
[null,null,null,null,null,{"$f":"IF(Wartosci!D2442=\"\",\"\",Wartosci!D2442)","v":""}]
[null,null,null,null,null,{"$f":"IF(Wartosci!D2443=\"\",\"\",Wartosci!D2443)","v":""}]
[null,null,null,null,null,{"$f":"IF(Wartosci!D2444=\"\",\"\",Wartosci!D2444)","v":""}]
[null,null,null,null,null,{"$f":"IF(Wartosci!D2445=\"\",\"\",Wartosci!D2445)","v":""}]
[null,null,null,null,null,{"$f":"IF(Wartosci!D2446=\"\",\"\",Wartosci!D2446)","v":""}]
[null,null,null,null,null,{"$f":"IF(Wartosci!D2447=\"\",\"\",Wartosci!D2447)","v":""}]
[null,null,null,null,null,{"$f":"IF(Wartosci!D2448=\"\",\"\",Wartosci!D2448)","v":""}]
[null,null,null,null,null,{"$f":"IF(Wartosci!D2449=\"\",\"\",Wartosci!D2449)","v":""}]
[null,null,null,null,null,{"$f":"IF(Wartosci!D2450=\"\",\"\",Wartosci!D2450)","v":""}]
[null,null,null,null,null,{"$f":"IF(Wartosci!D2451=\"\",\"\",Wartosci!D2451)","v":""}]
[null,null,null,null,null,{"$f":"IF(Wartosci!D2452=\"\",\"\",Wartosci!D2452)","v":""}]
[null,null,null,null,null,{"$f":"IF(Wartosci!D2453=\"\",\"\",Wartosci!D2453)","v":""}]
[null,null,null,null,null,{"$f":"IF(Wartosci!D2454=\"\",\"\",Wartosci!D2454)","v":""}]
[null,null,null,null,null,{"$f":"IF(Wartosci!D2455=\"\",\"\",Wartosci!D2455)","v":""}]
[null,null,null,null,null,{"$f":"IF(Wartosci!D2456=\"\",\"\",Wartosci!D2456)","v":""}]
[null,null,null,null,null,{"$f":"IF(Wartosci!D2457=\"\",\"\",Wartosci!D2457)","v":""}]
[null,null,null,null,null,{"$f":"IF(Wartosci!D2458=\"\",\"\",Wartosci!D2458)","v":""}]
[null,null,null,null,null,{"$f":"IF(Wartosci!D2459=\"\",\"\",Wartosci!D2459)","v":""}]
[null,null,null,null,null,{"$f":"IF(Wartosci!D2460=\"\",\"\",Wartosci!D2460)","v":""}]
[null,null,null,null,null,{"$f":"IF(Wartosci!D2461=\"\",\"\",Wartosci!D2461)","v":""}]
[null,null,null,null,null,{"$f":"IF(Wartosci!D2462=\"\",\"\",Wartosci!D2462)","v":""}]
[null,null,null,null,null,{"$f":"IF(Wartosci!D2463=\"\",\"\",Wartosci!D2463)","v":""}]
[null,null,null,null,null,{"$f":"IF(Wartosci!D2464=\"\",\"\",Wartosci!D2464)","v":""}]
[null,null,null,null,null,{"$f":"IF(Wartosci!D2465=\"\",\"\",Wartosci!D2465)","v":""}]
[null,null,null,null,null,{"$f":"IF(Wartosci!D2466=\"\",\"\",Wartosci!D2466)","v":""}]
[null,null,null,null,null,{"$f":"IF(Wartosci!D2467=\"\",\"\",Wartosci!D2467)","v":""}]
[null,null,null,null,null,{"$f":"IF(Wartosci!D2468=\"\",\"\",Wartosci!D2468)","v":""}]
[null,null,null,null,null,{"$f":"IF(Wartosci!D2469=\"\",\"\",Wartosci!D2469)","v":""}]
[null,null,null,null,null,{"$f":"IF(Wartosci!D2470=\"\",\"\",Wartosci!D2470)","v":""}]
[null,null,null,null,null,{"$f":"IF(Wartosci!D2471=\"\",\"\",Wartosci!D2471)","v":""}]
[null,null,null,null,null,{"$f":"IF(Wartosci!D2472=\"\",\"\",Wartosci!D2472)","v":""}]
[null,null,null,null,null,{"$f":"IF(Wartosci!D2473=\"\",\"\",Wartosci!D2473)","v":""}]
[null,null,null,null,null,{"$f":"IF(Wartosci!D2474=\"\",\"\",Wartosci!D2474)","v":""}]
[null,null,null,null,null,{"$f":"IF(Wartosci!D2475=\"\",\"\",Wartosci!D2475)","v":""}]
[null,null,null,null,null,{"$f":"IF(Wartosci!D2476=\"\",\"\",Wartosci!D2476)","v":""}]
[null,null,null,null,null,{"$f":"IF(Wartosci!D2477=\"\",\"\",Wartosci!D2477)","v":""}]
[null,null,null,null,null,{"$f":"IF(Wartosci!D2478=\"\",\"\",Wartosci!D2478)","v":""}]
[null,null,null,null,null,{"$f":"IF(Wartosci!D2479=\"\",\"\",Wartosci!D2479)","v":""}]
[null,null,null,null,null,{"$f":"IF(Wartosci!D2480=\"\",\"\",Wartosci!D2480)","v":""}]
[null,null,null,null,null,{"$f":"IF(Wartosci!D2481=\"\",\"\",Wartosci!D2481)","v":""}]
[null,null,null,null,null,{"$f":"IF(Wartosci!D2482=\"\",\"\",Wartosci!D2482)","v":""}]
[null,null,null,null,null,{"$f":"IF(Wartosci!D2483=\"\",\"\",Wartosci!D2483)","v":""}]
[null,null,null,null,null,{"$f":"IF(Wartosci!D2484=\"\",\"\",Wartosci!D2484)","v":""}]
[null,null,null,null,null,{"$f":"IF(Wartosci!D2485=\"\",\"\",Wartosci!D2485)","v":""}]
[null,null,null,null,null,{"$f":"IF(Wartosci!D2486=\"\",\"\",Wartosci!D2486)","v":""}]
[null,null,null,null,null,{"$f":"IF(Wartosci!D2487=\"\",\"\",Wartosci!D2487)","v":""}]
[null,null,null,null,null,{"$f":"IF(Wartosci!D2488=\"\",\"\",Wartosci!D2488)","v":""}]
[null,null,null,null,null,{"$f":"IF(Wartosci!D2489=\"\",\"\",Wartosci!D2489)","v":""}]
[null,null,null,null,null,{"$f":"IF(Wartosci!D2490=\"\",\"\",Wartosci!D2490)","v":""}]
[null,null,null,null,null,{"$f":"IF(Wartosci!D2491=\"\",\"\",Wartosci!D2491)","v":""}]
[null,null,null,null,null,{"$f":"IF(Wartosci!D2492=\"\",\"\",Wartosci!D2492)","v":""}]
[null,null,null,null,null,{"$f":"IF(Wartosci!D2493=\"\",\"\",Wartosci!D2493)","v":""}]
[null,null,null,null,null,{"$f":"IF(Wartosci!D2494=\"\",\"\",Wartosci!D2494)","v":""}]
[null,null,null,null,null,{"$f":"IF(Wartosci!D2495=\"\",\"\",Wartosci!D2495)","v":""}]
[null,null,null,null,null,{"$f":"IF(Wartosci!D2496=\"\",\"\",Wartosci!D2496)","v":""}]
[null,null,null,null,null,{"$f":"IF(Wartosci!D2497=\"\",\"\",Wartosci!D2497)","v":""}]
[null,null,null,null,null,{"$f":"IF(Wartosci!D2498=\"\",\"\",Wartosci!D2498)","v":""}]
[null,null,null,null,null,{"$f":"IF(Wartosci!D2499=\"\",\"\",Wartosci!D2499)","v":""}]
[null,null,null,null,null,{"$f":"IF(Wartosci!D2500=\"\",\"\",Wartosci!D2500)","v":""}]
[null,null,null,null,null,{"$f":"IF(Wartosci!D2501=\"\",\"\",Wartosci!D2501)","v":""}]
[null,null,null,null,null,{"$f":"IF(Wartosci!D2502=\"\",\"\",Wartosci!D2502)","v":""}]
[null,null,null,null,null,{"$f":"IF(Wartosci!D2503=\"\",\"\",Wartosci!D2503)","v":""}]
[null,null,null,null,null,{"$f":"IF(Wartosci!D2504=\"\",\"\",Wartosci!D2504)","v":""}]
[null,null,null,null,null,{"$f":"IF(Wartosci!D2505=\"\",\"\",Wartosci!D2505)","v":""}]
[null,null,null,null,null,{"$f":"IF(Wartosci!D2506=\"\",\"\",Wartosci!D2506)","v":""}]
[null,null,null,null,null,{"$f":"IF(Wartosci!D2507=\"\",\"\",Wartosci!D2507)","v":""}]
[null,null,null,null,null,{"$f":"IF(Wartosci!D2508=\"\",\"\",Wartosci!D2508)","v":""}]
[null,null,null,null,null,{"$f":"IF(Wartosci!D2509=\"\",\"\",Wartosci!D2509)","v":""}]
[null,null,null,null,null,{"$f":"IF(Wartosci!D2510=\"\",\"\",Wartosci!D2510)","v":""}]
[null,null,null,null,null,{"$f":"IF(Wartosci!D2511=\"\",\"\",Wartosci!D2511)","v":""}]
[null,null,null,null,null,{"$f":"IF(Wartosci!D2512=\"\",\"\",Wartosci!D2512)","v":""}]
[null,null,null,null,null,{"$f":"IF(Wartosci!D2513=\"\",\"\",Wartosci!D2513)","v":""}]
[null,null,null,null,null,{"$f":"IF(Wartosci!D2514=\"\",\"\",Wartosci!D2514)","v":""}]
[null,null,null,null,null,{"$f":"IF(Wartosci!D2515=\"\",\"\",Wartosci!D2515)","v":""}]
[null,null,null,null,null,{"$f":"IF(Wartosci!D2516=\"\",\"\",Wartosci!D2516)","v":""}]
[null,null,null,null,null,{"$f":"IF(Wartosci!D2517=\"\",\"\",Wartosci!D2517)","v":""}]
[null,null,null,null,null,{"$f":"IF(Wartosci!D2518=\"\",\"\",Wartosci!D2518)","v":""}]
[null,null,null,null,null,{"$f":"IF(Wartosci!D2519=\"\",\"\",Wartosci!D2519)","v":""}]
[null,null,null,null,null,{"$f":"IF(Wartosci!D2520=\"\",\"\",Wartosci!D2520)","v":""}]
[null,null,null,null,null,{"$f":"IF(Wartosci!D2521=\"\",\"\",Wartosci!D2521)","v":""}]
[null,null,null,null,null,{"$f":"IF(Wartosci!D2522=\"\",\"\",Wartosci!D2522)","v":""}]
[null,null,null,null,null,{"$f":"IF(Wartosci!D2523=\"\",\"\",Wartosci!D2523)","v":""}]
[null,null,null,null,null,{"$f":"IF(Wartosci!D2524=\"\",\"\",Wartosci!D2524)","v":""}]
[null,null,null,null,null,{"$f":"IF(Wartosci!D2525=\"\",\"\",Wartosci!D2525)","v":""}]
[null,null,null,null,null,{"$f":"IF(Wartosci!D2526=\"\",\"\",Wartosci!D2526)","v":""}]
[null,null,null,null,null,{"$f":"IF(Wartosci!D2527=\"\",\"\",Wartosci!D2527)","v":""}]
[null,null,null,null,null,{"$f":"IF(Wartosci!D2528=\"\",\"\",Wartosci!D2528)","v":""}]
[null,null,null,null,null,{"$f":"IF(Wartosci!D2529=\"\",\"\",Wartosci!D2529)","v":""}]
[null,null,null,null,null,{"$f":"IF(Wartosci!D2530=\"\",\"\",Wartosci!D2530)","v":""}]
[null,null,null,null,null,{"$f":"IF(Wartosci!D2531=\"\",\"\",Wartosci!D2531)","v":""}]
[null,null,null,null,null,{"$f":"IF(Wartosci!D2532=\"\",\"\",Wartosci!D2532)","v":""}]
[null,null,null,null,null,{"$f":"IF(Wartosci!D2533=\"\",\"\",Wartosci!D2533)","v":""}]
[null,null,null,null,null,{"$f":"IF(Wartosci!D2534=\"\",\"\",Wartosci!D2534)","v":""}]
[null,null,null,null,null,{"$f":"IF(Wartosci!D2535=\"\",\"\",Wartosci!D2535)","v":""}]
[null,null,null,null,null,{"$f":"IF(Wartosci!D2536=\"\",\"\",Wartosci!D2536)","v":""}]
[null,null,null,null,null,{"$f":"IF(Wartosci!D2537=\"\",\"\",Wartosci!D2537)","v":""}]
[null,null,null,null,null,{"$f":"IF(Wartosci!D2538=\"\",\"\",Wartosci!D2538)","v":""}]
[null,null,null,null,null,{"$f":"IF(Wartosci!D2539=\"\",\"\",Wartosci!D2539)","v":""}]
[null,null,null,null,null,{"$f":"IF(Wartosci!D2540=\"\",\"\",Wartosci!D2540)","v":""}]
[null,null,null,null,null,{"$f":"IF(Wartosci!D2541=\"\",\"\",Wartosci!D2541)","v":""}]
[null,null,null,null,null,{"$f":"IF(Wartosci!D2542=\"\",\"\",Wartosci!D2542)","v":""}]
[null,null,null,null,null,{"$f":"IF(Wartosci!D2543=\"\",\"\",Wartosci!D2543)","v":""}]
[null,null,null,null,null,{"$f":"IF(Wartosci!D2544=\"\",\"\",Wartosci!D2544)","v":""}]
[null,null,null,null,null,{"$f":"IF(Wartosci!D2545=\"\",\"\",Wartosci!D2545)","v":""}]
[null,null,null,null,null,{"$f":"IF(Wartosci!D2546=\"\",\"\",Wartosci!D2546)","v":""}]
[null,null,null,null,null,{"$f":"IF(Wartosci!D2547=\"\",\"\",Wartosci!D2547)","v":""}]
[null,null,null,null,null,{"$f":"IF(Wartosci!D2548=\"\",\"\",Wartosci!D2548)","v":""}]
[null,null,null,null,null,{"$f":"IF(Wartosci!D2549=\"\",\"\",Wartosci!D2549)","v":""}]
[null,null,null,null,null,{"$f":"IF(Wartosci!D2550=\"\",\"\",Wartosci!D2550)","v":""}]
[null,null,null,null,null,{"$f":"IF(Wartosci!D2551=\"\",\"\",Wartosci!D2551)","v":""}]
[null,null,null,null,null,{"$f":"IF(Wartosci!D2552=\"\",\"\",Wartosci!D2552)","v":""}]
[null,null,null,null,null,{"$f":"IF(Wartosci!D2553=\"\",\"\",Wartosci!D2553)","v":""}]
[null,null,null,null,null,{"$f":"IF(Wartosci!D2554=\"\",\"\",Wartosci!D2554)","v":""}]
[null,null,null,null,null,{"$f":"IF(Wartosci!D2555=\"\",\"\",Wartosci!D2555)","v":""}]
[null,null,null,null,null,{"$f":"IF(Wartosci!D2556=\"\",\"\",Wartosci!D2556)","v":""}]
[null,null,null,null,null,{"$f":"IF(Wartosci!D2557=\"\",\"\",Wartosci!D2557)","v":""}]
[null,null,null,null,null,{"$f":"IF(Wartosci!D2558=\"\",\"\",Wartosci!D2558)","v":""}]
[null,null,null,null,null,{"$f":"IF(Wartosci!D2559=\"\",\"\",Wartosci!D2559)","v":""}]
[null,null,null,null,null,{"$f":"IF(Wartosci!D2560=\"\",\"\",Wartosci!D2560)","v":""}]
[null,null,null,null,null,{"$f":"IF(Wartosci!D2561=\"\",\"\",Wartosci!D2561)","v":""}]
[null,null,null,null,null,{"$f":"IF(Wartosci!D2562=\"\",\"\",Wartosci!D2562)","v":""}]
[null,null,null,null,null,{"$f":"IF(Wartosci!D2563=\"\",\"\",Wartosci!D2563)","v":""}]
[null,null,null,null,null,{"$f":"IF(Wartosci!D2564=\"\",\"\",Wartosci!D2564)","v":""}]
[null,null,null,null,null,{"$f":"IF(Wartosci!D2565=\"\",\"\",Wartosci!D2565)","v":""}]
[null,null,null,null,null,{"$f":"IF(Wartosci!D2566=\"\",\"\",Wartosci!D2566)","v":""}]
[null,null,null,null,null,{"$f":"IF(Wartosci!D2567=\"\",\"\",Wartosci!D2567)","v":""}]
[null,null,null,null,null,{"$f":"IF(Wartosci!D2568=\"\",\"\",Wartosci!D2568)","v":""}]
[null,null,null,null,null,{"$f":"IF(Wartosci!D2569=\"\",\"\",Wartosci!D2569)","v":""}]
[null,null,null,null,null,{"$f":"IF(Wartosci!D2570=\"\",\"\",Wartosci!D2570)","v":""}]
[null,null,null,null,null,{"$f":"IF(Wartosci!D2571=\"\",\"\",Wartosci!D2571)","v":""}]
[null,null,null,null,null,{"$f":"IF(Wartosci!D2572=\"\",\"\",Wartosci!D2572)","v":""}]
[null,null,null,null,null,{"$f":"IF(Wartosci!D2573=\"\",\"\",Wartosci!D2573)","v":""}]
[null,null,null,null,null,{"$f":"IF(Wartosci!D2574=\"\",\"\",Wartosci!D2574)","v":""}]
[null,null,null,null,null,{"$f":"IF(Wartosci!D2575=\"\",\"\",Wartosci!D2575)","v":""}]
[null,null,null,null,null,{"$f":"IF(Wartosci!D2576=\"\",\"\",Wartosci!D2576)","v":""}]
[null,null,null,null,null,{"$f":"IF(Wartosci!D2577=\"\",\"\",Wartosci!D2577)","v":""}]
[null,null,null,null,null,{"$f":"IF(Wartosci!D2578=\"\",\"\",Wartosci!D2578)","v":""}]
[null,null,null,null,null,{"$f":"IF(Wartosci!D2579=\"\",\"\",Wartosci!D2579)","v":""}]
[null,null,null,null,null,{"$f":"IF(Wartosci!D2580=\"\",\"\",Wartosci!D2580)","v":""}]
[null,null,null,null,null,{"$f":"IF(Wartosci!D2581=\"\",\"\",Wartosci!D2581)","v":""}]
[null,null,null,null,null,{"$f":"IF(Wartosci!D2582=\"\",\"\",Wartosci!D2582)","v":""}]
[null,null,null,null,null,{"$f":"IF(Wartosci!D2583=\"\",\"\",Wartosci!D2583)","v":""}]
[null,null,null,null,null,{"$f":"IF(Wartosci!D2584=\"\",\"\",Wartosci!D2584)","v":""}]
[null,null,null,null,null,{"$f":"IF(Wartosci!D2585=\"\",\"\",Wartosci!D2585)","v":""}]
[null,null,null,null,null,{"$f":"IF(Wartosci!D2586=\"\",\"\",Wartosci!D2586)","v":""}]
[null,null,null,null,null,{"$f":"IF(Wartosci!D2587=\"\",\"\",Wartosci!D2587)","v":""}]
[null,null,null,null,null,{"$f":"IF(Wartosci!D2588=\"\",\"\",Wartosci!D2588)","v":""}]
[null,null,null,null,null,{"$f":"IF(Wartosci!D2589=\"\",\"\",Wartosci!D2589)","v":""}]
[null,null,null,null,null,{"$f":"IF(Wartosci!D2590=\"\",\"\",Wartosci!D2590)","v":""}]
[null,null,null,null,null,{"$f":"IF(Wartosci!D2591=\"\",\"\",Wartosci!D2591)","v":""}]
[null,null,null,null,null,{"$f":"IF(Wartosci!D2592=\"\",\"\",Wartosci!D2592)","v":""}]
[null,null,null,null,null,{"$f":"IF(Wartosci!D2593=\"\",\"\",Wartosci!D2593)","v":""}]
[null,null,null,null,null,{"$f":"IF(Wartosci!D2594=\"\",\"\",Wartosci!D2594)","v":""}]
[null,null,null,null,null,{"$f":"IF(Wartosci!D2595=\"\",\"\",Wartosci!D2595)","v":""}]
[null,null,null,null,null,{"$f":"IF(Wartosci!D2596=\"\",\"\",Wartosci!D2596)","v":""}]
[null,null,null,null,null,{"$f":"IF(Wartosci!D2597=\"\",\"\",Wartosci!D2597)","v":""}]
[null,null,null,null,null,{"$f":"IF(Wartosci!D2598=\"\",\"\",Wartosci!D2598)","v":""}]
[null,null,null,null,null,{"$f":"IF(Wartosci!D2599=\"\",\"\",Wartosci!D2599)","v":""}]
[null,null,null,null,null,{"$f":"IF(Wartosci!D2600=\"\",\"\",Wartosci!D2600)","v":""}]
[null,null,null,null,null,{"$f":"IF(Wartosci!D2601=\"\",\"\",Wartosci!D2601)","v":""}]
[null,null,null,null,null,{"$f":"IF(Wartosci!D2602=\"\",\"\",Wartosci!D2602)","v":""}]
[null,null,null,null,null,{"$f":"IF(Wartosci!D2603=\"\",\"\",Wartosci!D2603)","v":""}]
[null,null,null,null,null,{"$f":"IF(Wartosci!D2604=\"\",\"\",Wartosci!D2604)","v":""}]
[null,null,null,null,null,{"$f":"IF(Wartosci!D2605=\"\",\"\",Wartosci!D2605)","v":""}]
[null,null,null,null,null,{"$f":"IF(Wartosci!D2606=\"\",\"\",Wartosci!D2606)","v":""}]
[null,null,null,null,null,{"$f":"IF(Wartosci!D2607=\"\",\"\",Wartosci!D2607)","v":""}]
[null,null,null,null,null,{"$f":"IF(Wartosci!D2608=\"\",\"\",Wartosci!D2608)","v":""}]
[null,null,null,null,null,{"$f":"IF(Wartosci!D2609=\"\",\"\",Wartosci!D2609)","v":""}]
[null,null,null,null,null,{"$f":"IF(Wartosci!D2610=\"\",\"\",Wartosci!D2610)","v":""}]
[null,null,null,null,null,{"$f":"IF(Wartosci!D2611=\"\",\"\",Wartosci!D2611)","v":""}]
[null,null,null,null,null,{"$f":"IF(Wartosci!D2612=\"\",\"\",Wartosci!D2612)","v":""}]
[null,null,null,null,null,{"$f":"IF(Wartosci!D2613=\"\",\"\",Wartosci!D2613)","v":""}]
[null,null,null,null,null,{"$f":"IF(Wartosci!D2614=\"\",\"\",Wartosci!D2614)","v":""}]
[null,null,null,null,null,{"$f":"IF(Wartosci!D2615=\"\",\"\",Wartosci!D2615)","v":""}]
[null,null,null,null,null,{"$f":"IF(Wartosci!D2616=\"\",\"\",Wartosci!D2616)","v":""}]
[null,null,null,null,null,{"$f":"IF(Wartosci!D2617=\"\",\"\",Wartosci!D2617)","v":""}]
[null,null,null,null,null,{"$f":"IF(Wartosci!D2618=\"\",\"\",Wartosci!D2618)","v":""}]
[null,null,null,null,null,{"$f":"IF(Wartosci!D2619=\"\",\"\",Wartosci!D2619)","v":""}]
[null,null,null,null,null,{"$f":"IF(Wartosci!D2620=\"\",\"\",Wartosci!D2620)","v":""}]
[null,null,null,null,null,{"$f":"IF(Wartosci!D2621=\"\",\"\",Wartosci!D2621)","v":""}]
[null,null,null,null,null,{"$f":"IF(Wartosci!D2622=\"\",\"\",Wartosci!D2622)","v":""}]
[null,null,null,null,null,{"$f":"IF(Wartosci!D2623=\"\",\"\",Wartosci!D2623)","v":""}]
[null,null,null,null,null,{"$f":"IF(Wartosci!D2624=\"\",\"\",Wartosci!D2624)","v":""}]
[null,null,null,null,null,{"$f":"IF(Wartosci!D2625=\"\",\"\",Wartosci!D2625)","v":""}]
[null,null,null,null,null,{"$f":"IF(Wartosci!D2626=\"\",\"\",Wartosci!D2626)","v":""}]
[null,null,null,null,null,{"$f":"IF(Wartosci!D2627=\"\",\"\",Wartosci!D2627)","v":""}]
[null,null,null,null,null,{"$f":"IF(Wartosci!D2628=\"\",\"\",Wartosci!D2628)","v":""}]
[null,null,null,null,null,{"$f":"IF(Wartosci!D2629=\"\",\"\",Wartosci!D2629)","v":""}]
[null,null,null,null,null,{"$f":"IF(Wartosci!D2630=\"\",\"\",Wartosci!D2630)","v":""}]
[null,null,null,null,null,{"$f":"IF(Wartosci!D2631=\"\",\"\",Wartosci!D2631)","v":""}]
[null,null,null,null,null,{"$f":"IF(Wartosci!D2632=\"\",\"\",Wartosci!D2632)","v":""}]
[null,null,null,null,null,{"$f":"IF(Wartosci!D2633=\"\",\"\",Wartosci!D2633)","v":""}]
[null,null,null,null,null,{"$f":"IF(Wartosci!D2634=\"\",\"\",Wartosci!D2634)","v":""}]
[null,null,null,null,null,{"$f":"IF(Wartosci!D2635=\"\",\"\",Wartosci!D2635)","v":""}]
[null,null,null,null,null,{"$f":"IF(Wartosci!D2636=\"\",\"\",Wartosci!D2636)","v":""}]
[null,null,null,null,null,{"$f":"IF(Wartosci!D2637=\"\",\"\",Wartosci!D2637)","v":""}]
[null,null,null,null,null,{"$f":"IF(Wartosci!D2638=\"\",\"\",Wartosci!D2638)","v":""}]
[null,null,null,null,null,{"$f":"IF(Wartosci!D2639=\"\",\"\",Wartosci!D2639)","v":""}]
[null,null,null,null,null,{"$f":"IF(Wartosci!D2640=\"\",\"\",Wartosci!D2640)","v":""}]
[null,null,null,null,null,{"$f":"IF(Wartosci!D2641=\"\",\"\",Wartosci!D2641)","v":""}]
[null,null,null,null,null,{"$f":"IF(Wartosci!D2642=\"\",\"\",Wartosci!D2642)","v":""}]
[null,null,null,null,null,{"$f":"IF(Wartosci!D2643=\"\",\"\",Wartosci!D2643)","v":""}]
[null,null,null,null,null,{"$f":"IF(Wartosci!D2644=\"\",\"\",Wartosci!D2644)","v":""}]
[null,null,null,null,null,{"$f":"IF(Wartosci!D2645=\"\",\"\",Wartosci!D2645)","v":""}]
[null,null,null,null,null,{"$f":"IF(Wartosci!D2646=\"\",\"\",Wartosci!D2646)","v":""}]
[null,null,null,null,null,{"$f":"IF(Wartosci!D2647=\"\",\"\",Wartosci!D2647)","v":""}]
[null,null,null,null,null,{"$f":"IF(Wartosci!D2648=\"\",\"\",Wartosci!D2648)","v":""}]
[null,null,null,null,null,{"$f":"IF(Wartosci!D2649=\"\",\"\",Wartosci!D2649)","v":""}]
[null,null,null,null,null,{"$f":"IF(Wartosci!D2650=\"\",\"\",Wartosci!D2650)","v":""}]
[null,null,null,null,null,{"$f":"IF(Wartosci!D2651=\"\",\"\",Wartosci!D2651)","v":""}]
[null,null,null,null,null,{"$f":"IF(Wartosci!D2652=\"\",\"\",Wartosci!D2652)","v":""}]
[null,null,null,null,null,{"$f":"IF(Wartosci!D2653=\"\",\"\",Wartosci!D2653)","v":""}]
[null,null,null,null,null,{"$f":"IF(Wartosci!D2654=\"\",\"\",Wartosci!D2654)","v":""}]
[null,null,null,null,null,{"$f":"IF(Wartosci!D2655=\"\",\"\",Wartosci!D2655)","v":""}]
[null,null,null,null,null,{"$f":"IF(Wartosci!D2656=\"\",\"\",Wartosci!D2656)","v":""}]
[null,null,null,null,null,{"$f":"IF(Wartosci!D2657=\"\",\"\",Wartosci!D2657)","v":""}]
[null,null,null,null,null,{"$f":"IF(Wartosci!D2658=\"\",\"\",Wartosci!D2658)","v":""}]
[null,null,null,null,null,{"$f":"IF(Wartosci!D2659=\"\",\"\",Wartosci!D2659)","v":""}]
[null,null,null,null,null,{"$f":"IF(Wartosci!D2660=\"\",\"\",Wartosci!D2660)","v":""}]
[null,null,null,null,null,{"$f":"IF(Wartosci!D2661=\"\",\"\",Wartosci!D2661)","v":""}]
[null,null,null,null,null,{"$f":"IF(Wartosci!D2662=\"\",\"\",Wartosci!D2662)","v":""}]
[null,null,null,null,null,{"$f":"IF(Wartosci!D2663=\"\",\"\",Wartosci!D2663)","v":""}]
[null,null,null,null,null,{"$f":"IF(Wartosci!D2664=\"\",\"\",Wartosci!D2664)","v":""}]
[null,null,null,null,null,{"$f":"IF(Wartosci!D2665=\"\",\"\",Wartosci!D2665)","v":""}]
[null,null,null,null,null,{"$f":"IF(Wartosci!D2666=\"\",\"\",Wartosci!D2666)","v":""}]
[null,null,null,null,null,{"$f":"IF(Wartosci!D2667=\"\",\"\",Wartosci!D2667)","v":""}]
[null,null,null,null,null,{"$f":"IF(Wartosci!D2668=\"\",\"\",Wartosci!D2668)","v":""}]
[null,null,null,null,null,{"$f":"IF(Wartosci!D2669=\"\",\"\",Wartosci!D2669)","v":""}]
[null,null,null,null,null,{"$f":"IF(Wartosci!D2670=\"\",\"\",Wartosci!D2670)","v":""}]
[null,null,null,null,null,{"$f":"IF(Wartosci!D2671=\"\",\"\",Wartosci!D2671)","v":""}]
[null,null,null,null,null,{"$f":"IF(Wartosci!D2672=\"\",\"\",Wartosci!D2672)","v":""}]
[null,null,null,null,null,{"$f":"IF(Wartosci!D2673=\"\",\"\",Wartosci!D2673)","v":""}]
[null,null,null,null,null,{"$f":"IF(Wartosci!D2674=\"\",\"\",Wartosci!D2674)","v":""}]
[null,null,null,null,null,{"$f":"IF(Wartosci!D2675=\"\",\"\",Wartosci!D2675)","v":""}]
[null,null,null,null,null,{"$f":"IF(Wartosci!D2676=\"\",\"\",Wartosci!D2676)","v":""}]
[null,null,null,null,null,{"$f":"IF(Wartosci!D2677=\"\",\"\",Wartosci!D2677)","v":""}]
[null,null,null,null,null,{"$f":"IF(Wartosci!D2678=\"\",\"\",Wartosci!D2678)","v":""}]
[null,null,null,null,null,{"$f":"IF(Wartosci!D2679=\"\",\"\",Wartosci!D2679)","v":""}]
[null,null,null,null,null,{"$f":"IF(Wartosci!D2680=\"\",\"\",Wartosci!D2680)","v":""}]
[null,null,null,null,null,{"$f":"IF(Wartosci!D2681=\"\",\"\",Wartosci!D2681)","v":""}]
[null,null,null,null,null,{"$f":"IF(Wartosci!D2682=\"\",\"\",Wartosci!D2682)","v":""}]
[null,null,null,null,null,{"$f":"IF(Wartosci!D2683=\"\",\"\",Wartosci!D2683)","v":""}]
[null,null,null,null,null,{"$f":"IF(Wartosci!D2684=\"\",\"\",Wartosci!D2684)","v":""}]
[null,null,null,null,null,{"$f":"IF(Wartosci!D2685=\"\",\"\",Wartosci!D2685)","v":""}]
[null,null,null,null,null,{"$f":"IF(Wartosci!D2686=\"\",\"\",Wartosci!D2686)","v":""}]
[null,null,null,null,null,{"$f":"IF(Wartosci!D2687=\"\",\"\",Wartosci!D2687)","v":""}]
[null,null,null,null,null,{"$f":"IF(Wartosci!D2688=\"\",\"\",Wartosci!D2688)","v":""}]
[null,null,null,null,null,{"$f":"IF(Wartosci!D2689=\"\",\"\",Wartosci!D2689)","v":""}]
[null,null,null,null,null,{"$f":"IF(Wartosci!D2690=\"\",\"\",Wartosci!D2690)","v":""}]
[null,null,null,null,null,{"$f":"IF(Wartosci!D2691=\"\",\"\",Wartosci!D2691)","v":""}]
[null,null,null,null,null,{"$f":"IF(Wartosci!D2692=\"\",\"\",Wartosci!D2692)","v":""}]
[null,null,null,null,null,{"$f":"IF(Wartosci!D2693=\"\",\"\",Wartosci!D2693)","v":""}]
[null,null,null,null,null,{"$f":"IF(Wartosci!D2694=\"\",\"\",Wartosci!D2694)","v":""}]
[null,null,null,null,null,{"$f":"IF(Wartosci!D2695=\"\",\"\",Wartosci!D2695)","v":""}]
[null,null,null,null,null,{"$f":"IF(Wartosci!D2696=\"\",\"\",Wartosci!D2696)","v":""}]
[null,null,null,null,null,{"$f":"IF(Wartosci!D2697=\"\",\"\",Wartosci!D2697)","v":""}]
[null,null,null,null,null,{"$f":"IF(Wartosci!D2698=\"\",\"\",Wartosci!D2698)","v":""}]
[null,null,null,null,null,{"$f":"IF(Wartosci!D2699=\"\",\"\",Wartosci!D2699)","v":""}]
[null,null,null,null,null,{"$f":"IF(Wartosci!D2700=\"\",\"\",Wartosci!D2700)","v":""}]
[null,null,null,null,null,{"$f":"IF(Wartosci!D2701=\"\",\"\",Wartosci!D2701)","v":""}]
[null,null,null,null,null,{"$f":"IF(Wartosci!D2702=\"\",\"\",Wartosci!D2702)","v":""}]
[null,null,null,null,null,{"$f":"IF(Wartosci!D2703=\"\",\"\",Wartosci!D2703)","v":""}]
[null,null,null,null,null,{"$f":"IF(Wartosci!D2704=\"\",\"\",Wartosci!D2704)","v":""}]
[null,null,null,null,null,{"$f":"IF(Wartosci!D2705=\"\",\"\",Wartosci!D2705)","v":""}]
[null,null,null,null,null,{"$f":"IF(Wartosci!D2706=\"\",\"\",Wartosci!D2706)","v":""}]
[null,null,null,null,null,{"$f":"IF(Wartosci!D2707=\"\",\"\",Wartosci!D2707)","v":""}]
[null,null,null,null,null,{"$f":"IF(Wartosci!D2708=\"\",\"\",Wartosci!D2708)","v":""}]
[null,null,null,null,null,{"$f":"IF(Wartosci!D2709=\"\",\"\",Wartosci!D2709)","v":""}]
[null,null,null,null,null,{"$f":"IF(Wartosci!D2710=\"\",\"\",Wartosci!D2710)","v":""}]
[null,null,null,null,null,{"$f":"IF(Wartosci!D2711=\"\",\"\",Wartosci!D2711)","v":""}]
[null,null,null,null,null,{"$f":"IF(Wartosci!D2712=\"\",\"\",Wartosci!D2712)","v":""}]
[null,null,null,null,null,{"$f":"IF(Wartosci!D2713=\"\",\"\",Wartosci!D2713)","v":""}]
[null,null,null,null,null,{"$f":"IF(Wartosci!D2714=\"\",\"\",Wartosci!D2714)","v":""}]
[null,null,null,null,null,{"$f":"IF(Wartosci!D2715=\"\",\"\",Wartosci!D2715)","v":""}]
[null,null,null,null,null,{"$f":"IF(Wartosci!D2716=\"\",\"\",Wartosci!D2716)","v":""}]
[null,null,null,null,null,{"$f":"IF(Wartosci!D2717=\"\",\"\",Wartosci!D2717)","v":""}]
[null,null,null,null,null,{"$f":"IF(Wartosci!D2718=\"\",\"\",Wartosci!D2718)","v":""}]
[null,null,null,null,null,{"$f":"IF(Wartosci!D2719=\"\",\"\",Wartosci!D2719)","v":""}]
[null,null,null,null,null,{"$f":"IF(Wartosci!D2720=\"\",\"\",Wartosci!D2720)","v":""}]
[null,null,null,null,null,{"$f":"IF(Wartosci!D2721=\"\",\"\",Wartosci!D2721)","v":""}]
[null,null,null,null,null,{"$f":"IF(Wartosci!D2722=\"\",\"\",Wartosci!D2722)","v":""}]
[null,null,null,null,null,{"$f":"IF(Wartosci!D2723=\"\",\"\",Wartosci!D2723)","v":""}]
[null,null,null,null,null,{"$f":"IF(Wartosci!D2724=\"\",\"\",Wartosci!D2724)","v":""}]
[null,null,null,null,null,{"$f":"IF(Wartosci!D2725=\"\",\"\",Wartosci!D2725)","v":""}]
[null,null,null,null,null,{"$f":"IF(Wartosci!D2726=\"\",\"\",Wartosci!D2726)","v":""}]
[null,null,null,null,null,{"$f":"IF(Wartosci!D2727=\"\",\"\",Wartosci!D2727)","v":""}]
[null,null,null,null,null,{"$f":"IF(Wartosci!D2728=\"\",\"\",Wartosci!D2728)","v":""}]
[null,null,null,null,null,{"$f":"IF(Wartosci!D2729=\"\",\"\",Wartosci!D2729)","v":""}]
[null,null,null,null,null,{"$f":"IF(Wartosci!D2730=\"\",\"\",Wartosci!D2730)","v":""}]
[null,null,null,null,null,{"$f":"IF(Wartosci!D2731=\"\",\"\",Wartosci!D2731)","v":""}]
[null,null,null,null,null,{"$f":"IF(Wartosci!D2732=\"\",\"\",Wartosci!D2732)","v":""}]
[null,null,null,null,null,{"$f":"IF(Wartosci!D2733=\"\",\"\",Wartosci!D2733)","v":""}]
[null,null,null,null,null,{"$f":"IF(Wartosci!D2734=\"\",\"\",Wartosci!D2734)","v":""}]
[null,null,null,null,null,{"$f":"IF(Wartosci!D2735=\"\",\"\",Wartosci!D2735)","v":""}]
[null,null,null,null,null,{"$f":"IF(Wartosci!D2736=\"\",\"\",Wartosci!D2736)","v":""}]
[null,null,null,null,null,{"$f":"IF(Wartosci!D2737=\"\",\"\",Wartosci!D2737)","v":""}]
[null,null,null,null,null,{"$f":"IF(Wartosci!D2738=\"\",\"\",Wartosci!D2738)","v":""}]
[null,null,null,null,null,{"$f":"IF(Wartosci!D2739=\"\",\"\",Wartosci!D2739)","v":""}]
[null,null,null,null,null,{"$f":"IF(Wartosci!D2740=\"\",\"\",Wartosci!D2740)","v":""}]
[null,null,null,null,null,{"$f":"IF(Wartosci!D2741=\"\",\"\",Wartosci!D2741)","v":""}]
[null,null,null,null,null,{"$f":"IF(Wartosci!D2742=\"\",\"\",Wartosci!D2742)","v":""}]
[null,null,null,null,null,{"$f":"IF(Wartosci!D2743=\"\",\"\",Wartosci!D2743)","v":""}]
[null,null,null,null,null,{"$f":"IF(Wartosci!D2744=\"\",\"\",Wartosci!D2744)","v":""}]
[null,null,null,null,null,{"$f":"IF(Wartosci!D2745=\"\",\"\",Wartosci!D2745)","v":""}]
[null,null,null,null,null,{"$f":"IF(Wartosci!D2746=\"\",\"\",Wartosci!D2746)","v":""}]
[null,null,null,null,null,{"$f":"IF(Wartosci!D2747=\"\",\"\",Wartosci!D2747)","v":""}]
[null,null,null,null,null,{"$f":"IF(Wartosci!D2748=\"\",\"\",Wartosci!D2748)","v":""}]
[null,null,null,null,null,{"$f":"IF(Wartosci!D2749=\"\",\"\",Wartosci!D2749)","v":""}]
[null,null,null,null,null,{"$f":"IF(Wartosci!D2750=\"\",\"\",Wartosci!D2750)","v":""}]
[null,null,null,null,null,{"$f":"IF(Wartosci!D2751=\"\",\"\",Wartosci!D2751)","v":""}]
[null,null,null,null,null,{"$f":"IF(Wartosci!D2752=\"\",\"\",Wartosci!D2752)","v":""}]
[null,null,null,null,null,{"$f":"IF(Wartosci!D2753=\"\",\"\",Wartosci!D2753)","v":""}]
[null,null,null,null,null,{"$f":"IF(Wartosci!D2754=\"\",\"\",Wartosci!D2754)","v":""}]
[null,null,null,null,null,{"$f":"IF(Wartosci!D2755=\"\",\"\",Wartosci!D2755)","v":""}]
[null,null,null,null,null,{"$f":"IF(Wartosci!D2756=\"\",\"\",Wartosci!D2756)","v":""}]
[null,null,null,null,null,{"$f":"IF(Wartosci!D2757=\"\",\"\",Wartosci!D2757)","v":""}]
[null,null,null,null,null,{"$f":"IF(Wartosci!D2758=\"\",\"\",Wartosci!D2758)","v":""}]
[null,null,null,null,null,{"$f":"IF(Wartosci!D2759=\"\",\"\",Wartosci!D2759)","v":""}]
[null,null,null,null,null,{"$f":"IF(Wartosci!D2760=\"\",\"\",Wartosci!D2760)","v":""}]
[null,null,null,null,null,{"$f":"IF(Wartosci!D2761=\"\",\"\",Wartosci!D2761)","v":""}]
[null,null,null,null,null,{"$f":"IF(Wartosci!D2762=\"\",\"\",Wartosci!D2762)","v":""}]
[null,null,null,null,null,{"$f":"IF(Wartosci!D2763=\"\",\"\",Wartosci!D2763)","v":""}]
[null,null,null,null,null,{"$f":"IF(Wartosci!D2764=\"\",\"\",Wartosci!D2764)","v":""}]
[null,null,null,null,null,{"$f":"IF(Wartosci!D2765=\"\",\"\",Wartosci!D2765)","v":""}]
[null,null,null,null,null,{"$f":"IF(Wartosci!D2766=\"\",\"\",Wartosci!D2766)","v":""}]
[null,null,null,null,null,{"$f":"IF(Wartosci!D2767=\"\",\"\",Wartosci!D2767)","v":""}]
[null,null,null,null,null,{"$f":"IF(Wartosci!D2768=\"\",\"\",Wartosci!D2768)","v":""}]
[null,null,null,null,null,{"$f":"IF(Wartosci!D2769=\"\",\"\",Wartosci!D2769)","v":""}]
[null,null,null,null,null,{"$f":"IF(Wartosci!D2770=\"\",\"\",Wartosci!D2770)","v":""}]
[null,null,null,null,null,{"$f":"IF(Wartosci!D2771=\"\",\"\",Wartosci!D2771)","v":""}]
[null,null,null,null,null,{"$f":"IF(Wartosci!D2772=\"\",\"\",Wartosci!D2772)","v":""}]
[null,null,null,null,null,{"$f":"IF(Wartosci!D2773=\"\",\"\",Wartosci!D2773)","v":""}]
[null,null,null,null,null,{"$f":"IF(Wartosci!D2774=\"\",\"\",Wartosci!D2774)","v":""}]
[null,null,null,null,null,{"$f":"IF(Wartosci!D2775=\"\",\"\",Wartosci!D2775)","v":""}]
[null,null,null,null,null,{"$f":"IF(Wartosci!D2776=\"\",\"\",Wartosci!D2776)","v":""}]
[null,null,null,null,null,{"$f":"IF(Wartosci!D2777=\"\",\"\",Wartosci!D2777)","v":""}]
[null,null,null,null,null,{"$f":"IF(Wartosci!D2778=\"\",\"\",Wartosci!D2778)","v":""}]
[null,null,null,null,null,{"$f":"IF(Wartosci!D2779=\"\",\"\",Wartosci!D2779)","v":""}]
[null,null,null,null,null,{"$f":"IF(Wartosci!D2780=\"\",\"\",Wartosci!D2780)","v":""}]
[null,null,null,null,null,{"$f":"IF(Wartosci!D2781=\"\",\"\",Wartosci!D2781)","v":""}]
[null,null,null,null,null,{"$f":"IF(Wartosci!D2782=\"\",\"\",Wartosci!D2782)","v":""}]
[null,null,null,null,null,{"$f":"IF(Wartosci!D2783=\"\",\"\",Wartosci!D2783)","v":""}]
[null,null,null,null,null,{"$f":"IF(Wartosci!D2784=\"\",\"\",Wartosci!D2784)","v":""}]
[null,null,null,null,null,{"$f":"IF(Wartosci!D2785=\"\",\"\",Wartosci!D2785)","v":""}]
[null,null,null,null,null,{"$f":"IF(Wartosci!D2786=\"\",\"\",Wartosci!D2786)","v":""}]
[null,null,null,null,null,{"$f":"IF(Wartosci!D2787=\"\",\"\",Wartosci!D2787)","v":""}]
[null,null,null,null,null,{"$f":"IF(Wartosci!D2788=\"\",\"\",Wartosci!D2788)","v":""}]
[null,null,null,null,null,{"$f":"IF(Wartosci!D2789=\"\",\"\",Wartosci!D2789)","v":""}]
[null,null,null,null,null,{"$f":"IF(Wartosci!D2790=\"\",\"\",Wartosci!D2790)","v":""}]
[null,null,null,null,null,{"$f":"IF(Wartosci!D2791=\"\",\"\",Wartosci!D2791)","v":""}]
[null,null,null,null,null,{"$f":"IF(Wartosci!D2792=\"\",\"\",Wartosci!D2792)","v":""}]
[null,null,null,null,null,{"$f":"IF(Wartosci!D2793=\"\",\"\",Wartosci!D2793)","v":""}]
[null,null,null,null,null,{"$f":"IF(Wartosci!D2794=\"\",\"\",Wartosci!D2794)","v":""}]
[null,null,null,null,null,{"$f":"IF(Wartosci!D2795=\"\",\"\",Wartosci!D2795)","v":""}]
[null,null,null,null,null,{"$f":"IF(Wartosci!D2796=\"\",\"\",Wartosci!D2796)","v":""}]
[null,null,null,null,null,{"$f":"IF(Wartosci!D2797=\"\",\"\",Wartosci!D2797)","v":""}]
[null,null,null,null,null,{"$f":"IF(Wartosci!D2798=\"\",\"\",Wartosci!D2798)","v":""}]
[null,null,null,null,null,{"$f":"IF(Wartosci!D2799=\"\",\"\",Wartosci!D2799)","v":""}]
[null,null,null,null,null,{"$f":"IF(Wartosci!D2800=\"\",\"\",Wartosci!D2800)","v":""}]
[null,null,null,null,null,{"$f":"IF(Wartosci!D2801=\"\",\"\",Wartosci!D2801)","v":""}]
[null,null,null,null,null,{"$f":"IF(Wartosci!D2802=\"\",\"\",Wartosci!D2802)","v":""}]
[null,null,null,null,null,{"$f":"IF(Wartosci!D2803=\"\",\"\",Wartosci!D2803)","v":""}]
[null,null,null,null,null,{"$f":"IF(Wartosci!D2804=\"\",\"\",Wartosci!D2804)","v":""}]
[null,null,null,null,null,{"$f":"IF(Wartosci!D2805=\"\",\"\",Wartosci!D2805)","v":""}]
[null,null,null,null,null,{"$f":"IF(Wartosci!D2806=\"\",\"\",Wartosci!D2806)","v":""}]
[null,null,null,null,null,{"$f":"IF(Wartosci!D2807=\"\",\"\",Wartosci!D2807)","v":""}]
[null,null,null,null,null,{"$f":"IF(Wartosci!D2808=\"\",\"\",Wartosci!D2808)","v":""}]
[null,null,null,null,null,{"$f":"IF(Wartosci!D2809=\"\",\"\",Wartosci!D2809)","v":""}]
[null,null,null,null,null,{"$f":"IF(Wartosci!D2810=\"\",\"\",Wartosci!D2810)","v":""}]
[null,null,null,null,null,{"$f":"IF(Wartosci!D2811=\"\",\"\",Wartosci!D2811)","v":""}]
[null,null,null,null,null,{"$f":"IF(Wartosci!D2812=\"\",\"\",Wartosci!D2812)","v":""}]
[null,null,null,null,null,{"$f":"IF(Wartosci!D2813=\"\",\"\",Wartosci!D2813)","v":""}]
[null,null,null,null,null,{"$f":"IF(Wartosci!D2814=\"\",\"\",Wartosci!D2814)","v":""}]
[null,null,null,null,null,{"$f":"IF(Wartosci!D2815=\"\",\"\",Wartosci!D2815)","v":""}]
[null,null,null,null,null,{"$f":"IF(Wartosci!D2816=\"\",\"\",Wartosci!D2816)","v":""}]
[null,null,null,null,null,{"$f":"IF(Wartosci!D2817=\"\",\"\",Wartosci!D2817)","v":""}]
[null,null,null,null,null,{"$f":"IF(Wartosci!D2818=\"\",\"\",Wartosci!D2818)","v":""}]
[null,null,null,null,null,{"$f":"IF(Wartosci!D2819=\"\",\"\",Wartosci!D2819)","v":""}]
[null,null,null,null,null,{"$f":"IF(Wartosci!D2820=\"\",\"\",Wartosci!D2820)","v":""}]
[null,null,null,null,null,{"$f":"IF(Wartosci!D2821=\"\",\"\",Wartosci!D2821)","v":""}]
[null,null,null,null,null,{"$f":"IF(Wartosci!D2822=\"\",\"\",Wartosci!D2822)","v":""}]
[null,null,null,null,null,{"$f":"IF(Wartosci!D2823=\"\",\"\",Wartosci!D2823)","v":""}]
[null,null,null,null,null,{"$f":"IF(Wartosci!D2824=\"\",\"\",Wartosci!D2824)","v":""}]
[null,null,null,null,null,{"$f":"IF(Wartosci!D2825=\"\",\"\",Wartosci!D2825)","v":""}]
[null,null,null,null,null,{"$f":"IF(Wartosci!D2826=\"\",\"\",Wartosci!D2826)","v":""}]
[null,null,null,null,null,{"$f":"IF(Wartosci!D2827=\"\",\"\",Wartosci!D2827)","v":""}]
[null,null,null,null,null,{"$f":"IF(Wartosci!D2828=\"\",\"\",Wartosci!D2828)","v":""}]
[null,null,null,null,null,{"$f":"IF(Wartosci!D2829=\"\",\"\",Wartosci!D2829)","v":""}]
[null,null,null,null,null,{"$f":"IF(Wartosci!D2830=\"\",\"\",Wartosci!D2830)","v":""}]
[null,null,null,null,null,{"$f":"IF(Wartosci!D2831=\"\",\"\",Wartosci!D2831)","v":""}]
[null,null,null,null,null,{"$f":"IF(Wartosci!D2832=\"\",\"\",Wartosci!D2832)","v":""}]
[null,null,null,null,null,{"$f":"IF(Wartosci!D2833=\"\",\"\",Wartosci!D2833)","v":""}]
[null,null,null,null,null,{"$f":"IF(Wartosci!D2834=\"\",\"\",Wartosci!D2834)","v":""}]
[null,null,null,null,null,{"$f":"IF(Wartosci!D2835=\"\",\"\",Wartosci!D2835)","v":""}]
[null,null,null,null,null,{"$f":"IF(Wartosci!D2836=\"\",\"\",Wartosci!D2836)","v":""}]
[null,null,null,null,null,{"$f":"IF(Wartosci!D2837=\"\",\"\",Wartosci!D2837)","v":""}]
[null,null,null,null,null,{"$f":"IF(Wartosci!D2838=\"\",\"\",Wartosci!D2838)","v":""}]
[null,null,null,null,null,{"$f":"IF(Wartosci!D2839=\"\",\"\",Wartosci!D2839)","v":""}]
[null,null,null,null,null,{"$f":"IF(Wartosci!D2840=\"\",\"\",Wartosci!D2840)","v":""}]
[null,null,null,null,null,{"$f":"IF(Wartosci!D2841=\"\",\"\",Wartosci!D2841)","v":""}]
[null,null,null,null,null,{"$f":"IF(Wartosci!D2842=\"\",\"\",Wartosci!D2842)","v":""}]
[null,null,null,null,null,{"$f":"IF(Wartosci!D2843=\"\",\"\",Wartosci!D2843)","v":""}]
[null,null,null,null,null,{"$f":"IF(Wartosci!D2844=\"\",\"\",Wartosci!D2844)","v":""}]
[null,null,null,null,null,{"$f":"IF(Wartosci!D2845=\"\",\"\",Wartosci!D2845)","v":""}]
[null,null,null,null,null,{"$f":"IF(Wartosci!D2846=\"\",\"\",Wartosci!D2846)","v":""}]
[null,null,null,null,null,{"$f":"IF(Wartosci!D2847=\"\",\"\",Wartosci!D2847)","v":""}]
[null,null,null,null,null,{"$f":"IF(Wartosci!D2848=\"\",\"\",Wartosci!D2848)","v":""}]
[null,null,null,null,null,{"$f":"IF(Wartosci!D2849=\"\",\"\",Wartosci!D2849)","v":""}]
[null,null,null,null,null,{"$f":"IF(Wartosci!D2850=\"\",\"\",Wartosci!D2850)","v":""}]
[null,null,null,null,null,{"$f":"IF(Wartosci!D2851=\"\",\"\",Wartosci!D2851)","v":""}]
[null,null,null,null,null,{"$f":"IF(Wartosci!D2852=\"\",\"\",Wartosci!D2852)","v":""}]
[null,null,null,null,null,{"$f":"IF(Wartosci!D2853=\"\",\"\",Wartosci!D2853)","v":""}]
[null,null,null,null,null,{"$f":"IF(Wartosci!D2854=\"\",\"\",Wartosci!D2854)","v":""}]
[null,null,null,null,null,{"$f":"IF(Wartosci!D2855=\"\",\"\",Wartosci!D2855)","v":""}]
[null,null,null,null,null,{"$f":"IF(Wartosci!D2856=\"\",\"\",Wartosci!D2856)","v":""}]
[null,null,null,null,null,{"$f":"IF(Wartosci!D2857=\"\",\"\",Wartosci!D2857)","v":""}]
[null,null,null,null,null,{"$f":"IF(Wartosci!D2858=\"\",\"\",Wartosci!D2858)","v":""}]
[null,null,null,null,null,{"$f":"IF(Wartosci!D2859=\"\",\"\",Wartosci!D2859)","v":""}]
[null,null,null,null,null,{"$f":"IF(Wartosci!D2860=\"\",\"\",Wartosci!D2860)","v":""}]
[null,null,null,null,null,{"$f":"IF(Wartosci!D2861=\"\",\"\",Wartosci!D2861)","v":""}]
[null,null,null,null,null,{"$f":"IF(Wartosci!D2862=\"\",\"\",Wartosci!D2862)","v":""}]
[null,null,null,null,null,{"$f":"IF(Wartosci!D2863=\"\",\"\",Wartosci!D2863)","v":""}]
[null,null,null,null,null,{"$f":"IF(Wartosci!D2864=\"\",\"\",Wartosci!D2864)","v":""}]
[null,null,null,null,null,{"$f":"IF(Wartosci!D2865=\"\",\"\",Wartosci!D2865)","v":""}]
[null,null,null,null,null,{"$f":"IF(Wartosci!D2866=\"\",\"\",Wartosci!D2866)","v":""}]
[null,null,null,null,null,{"$f":"IF(Wartosci!D2867=\"\",\"\",Wartosci!D2867)","v":""}]
[null,null,null,null,null,{"$f":"IF(Wartosci!D2868=\"\",\"\",Wartosci!D2868)","v":""}]
[null,null,null,null,null,{"$f":"IF(Wartosci!D2869=\"\",\"\",Wartosci!D2869)","v":""}]
[null,null,null,null,null,{"$f":"IF(Wartosci!D2870=\"\",\"\",Wartosci!D2870)","v":""}]
[null,null,null,null,null,{"$f":"IF(Wartosci!D2871=\"\",\"\",Wartosci!D2871)","v":""}]
[null,null,null,null,null,{"$f":"IF(Wartosci!D2872=\"\",\"\",Wartosci!D2872)","v":""}]
[null,null,null,null,null,{"$f":"IF(Wartosci!D2873=\"\",\"\",Wartosci!D2873)","v":""}]
[null,null,null,null,null,{"$f":"IF(Wartosci!D2874=\"\",\"\",Wartosci!D2874)","v":""}]
[null,null,null,null,null,{"$f":"IF(Wartosci!D2875=\"\",\"\",Wartosci!D2875)","v":""}]
[null,null,null,null,null,{"$f":"IF(Wartosci!D2876=\"\",\"\",Wartosci!D2876)","v":""}]
[null,null,null,null,null,{"$f":"IF(Wartosci!D2877=\"\",\"\",Wartosci!D2877)","v":""}]
[null,null,null,null,null,{"$f":"IF(Wartosci!D2878=\"\",\"\",Wartosci!D2878)","v":""}]
[null,null,null,null,null,{"$f":"IF(Wartosci!D2879=\"\",\"\",Wartosci!D2879)","v":""}]
[null,null,null,null,null,{"$f":"IF(Wartosci!D2880=\"\",\"\",Wartosci!D2880)","v":""}]
[null,null,null,null,null,{"$f":"IF(Wartosci!D2881=\"\",\"\",Wartosci!D2881)","v":""}]
[null,null,null,null,null,{"$f":"IF(Wartosci!D2882=\"\",\"\",Wartosci!D2882)","v":""}]
[null,null,null,null,null,{"$f":"IF(Wartosci!D2883=\"\",\"\",Wartosci!D2883)","v":""}]
[null,null,null,null,null,{"$f":"IF(Wartosci!D2884=\"\",\"\",Wartosci!D2884)","v":""}]
[null,null,null,null,null,{"$f":"IF(Wartosci!D2885=\"\",\"\",Wartosci!D2885)","v":""}]
[null,null,null,null,null,{"$f":"IF(Wartosci!D2886=\"\",\"\",Wartosci!D2886)","v":""}]
[null,null,null,null,null,{"$f":"IF(Wartosci!D2887=\"\",\"\",Wartosci!D2887)","v":""}]
[null,null,null,null,null,{"$f":"IF(Wartosci!D2888=\"\",\"\",Wartosci!D2888)","v":""}]
[null,null,null,null,null,{"$f":"IF(Wartosci!D2889=\"\",\"\",Wartosci!D2889)","v":""}]
[null,null,null,null,null,{"$f":"IF(Wartosci!D2890=\"\",\"\",Wartosci!D2890)","v":""}]
[null,null,null,null,null,{"$f":"IF(Wartosci!D2891=\"\",\"\",Wartosci!D2891)","v":""}]
[null,null,null,null,null,{"$f":"IF(Wartosci!D2892=\"\",\"\",Wartosci!D2892)","v":""}]
[null,null,null,null,null,{"$f":"IF(Wartosci!D2893=\"\",\"\",Wartosci!D2893)","v":""}]
[null,null,null,null,null,{"$f":"IF(Wartosci!D2894=\"\",\"\",Wartosci!D2894)","v":""}]
[null,null,null,null,null,{"$f":"IF(Wartosci!D2895=\"\",\"\",Wartosci!D2895)","v":""}]
[null,null,null,null,null,{"$f":"IF(Wartosci!D2896=\"\",\"\",Wartosci!D2896)","v":""}]
[null,null,null,null,null,{"$f":"IF(Wartosci!D2897=\"\",\"\",Wartosci!D2897)","v":""}]
[null,null,null,null,null,{"$f":"IF(Wartosci!D2898=\"\",\"\",Wartosci!D2898)","v":""}]
[null,null,null,null,null,{"$f":"IF(Wartosci!D2899=\"\",\"\",Wartosci!D2899)","v":""}]
[null,null,null,null,null,{"$f":"IF(Wartosci!D2900=\"\",\"\",Wartosci!D2900)","v":""}]
[null,null,null,null,null,{"$f":"IF(Wartosci!D2901=\"\",\"\",Wartosci!D2901)","v":""}]
[null,null,null,null,null,{"$f":"IF(Wartosci!D2902=\"\",\"\",Wartosci!D2902)","v":""}]
[null,null,null,null,null,{"$f":"IF(Wartosci!D2903=\"\",\"\",Wartosci!D2903)","v":""}]
[null,null,null,null,null,{"$f":"IF(Wartosci!D2904=\"\",\"\",Wartosci!D2904)","v":""}]
[null,null,null,null,null,{"$f":"IF(Wartosci!D2905=\"\",\"\",Wartosci!D2905)","v":""}]
[null,null,null,null,null,{"$f":"IF(Wartosci!D2906=\"\",\"\",Wartosci!D2906)","v":""}]
[null,null,null,null,null,{"$f":"IF(Wartosci!D2907=\"\",\"\",Wartosci!D2907)","v":""}]
[null,null,null,null,null,{"$f":"IF(Wartosci!D2908=\"\",\"\",Wartosci!D2908)","v":""}]
[null,null,null,null,null,{"$f":"IF(Wartosci!D2909=\"\",\"\",Wartosci!D2909)","v":""}]
[null,null,null,null,null,{"$f":"IF(Wartosci!D2910=\"\",\"\",Wartosci!D2910)","v":""}]
[null,null,null,null,null,{"$f":"IF(Wartosci!D2911=\"\",\"\",Wartosci!D2911)","v":""}]
[null,null,null,null,null,{"$f":"IF(Wartosci!D2912=\"\",\"\",Wartosci!D2912)","v":""}]
[null,null,null,null,null,{"$f":"IF(Wartosci!D2913=\"\",\"\",Wartosci!D2913)","v":""}]
[null,null,null,null,null,{"$f":"IF(Wartosci!D2914=\"\",\"\",Wartosci!D2914)","v":""}]
[null,null,null,null,null,{"$f":"IF(Wartosci!D2915=\"\",\"\",Wartosci!D2915)","v":""}]
[null,null,null,null,null,{"$f":"IF(Wartosci!D2916=\"\",\"\",Wartosci!D2916)","v":""}]
[null,null,null,null,null,{"$f":"IF(Wartosci!D2917=\"\",\"\",Wartosci!D2917)","v":""}]
[null,null,null,null,null,{"$f":"IF(Wartosci!D2918=\"\",\"\",Wartosci!D2918)","v":""}]
[null,null,null,null,null,{"$f":"IF(Wartosci!D2919=\"\",\"\",Wartosci!D2919)","v":""}]
[null,null,null,null,null,{"$f":"IF(Wartosci!D2920=\"\",\"\",Wartosci!D2920)","v":""}]
[null,null,null,null,null,{"$f":"IF(Wartosci!D2921=\"\",\"\",Wartosci!D2921)","v":""}]
[null,null,null,null,null,{"$f":"IF(Wartosci!D2922=\"\",\"\",Wartosci!D2922)","v":""}]
[null,null,null,null,null,{"$f":"IF(Wartosci!D2923=\"\",\"\",Wartosci!D2923)","v":""}]
[null,null,null,null,null,{"$f":"IF(Wartosci!D2924=\"\",\"\",Wartosci!D2924)","v":""}]
[null,null,null,null,null,{"$f":"IF(Wartosci!D2925=\"\",\"\",Wartosci!D2925)","v":""}]
[null,null,null,null,null,{"$f":"IF(Wartosci!D2926=\"\",\"\",Wartosci!D2926)","v":""}]
[null,null,null,null,null,{"$f":"IF(Wartosci!D2927=\"\",\"\",Wartosci!D2927)","v":""}]
[null,null,null,null,null,{"$f":"IF(Wartosci!D2928=\"\",\"\",Wartosci!D2928)","v":""}]
[null,null,null,null,null,{"$f":"IF(Wartosci!D2929=\"\",\"\",Wartosci!D2929)","v":""}]
[null,null,null,null,null,{"$f":"IF(Wartosci!D2930=\"\",\"\",Wartosci!D2930)","v":""}]
[null,null,null,null,null,{"$f":"IF(Wartosci!D2931=\"\",\"\",Wartosci!D2931)","v":""}]
[null,null,null,null,null,{"$f":"IF(Wartosci!D2932=\"\",\"\",Wartosci!D2932)","v":""}]
[null,null,null,null,null,{"$f":"IF(Wartosci!D2933=\"\",\"\",Wartosci!D2933)","v":""}]
[null,null,null,null,null,{"$f":"IF(Wartosci!D2934=\"\",\"\",Wartosci!D2934)","v":""}]
[null,null,null,null,null,{"$f":"IF(Wartosci!D2935=\"\",\"\",Wartosci!D2935)","v":""}]
[null,null,null,null,null,{"$f":"IF(Wartosci!D2936=\"\",\"\",Wartosci!D2936)","v":""}]
[null,null,null,null,null,{"$f":"IF(Wartosci!D2937=\"\",\"\",Wartosci!D2937)","v":""}]
[null,null,null,null,null,{"$f":"IF(Wartosci!D2938=\"\",\"\",Wartosci!D2938)","v":""}]
[null,null,null,null,null,{"$f":"IF(Wartosci!D2939=\"\",\"\",Wartosci!D2939)","v":""}]
[null,null,null,null,null,{"$f":"IF(Wartosci!D2940=\"\",\"\",Wartosci!D2940)","v":""}]
[null,null,null,null,null,{"$f":"IF(Wartosci!D2941=\"\",\"\",Wartosci!D2941)","v":""}]
[null,null,null,null,null,{"$f":"IF(Wartosci!D2942=\"\",\"\",Wartosci!D2942)","v":""}]
[null,null,null,null,null,{"$f":"IF(Wartosci!D2943=\"\",\"\",Wartosci!D2943)","v":""}]
[null,null,null,null,null,{"$f":"IF(Wartosci!D2944=\"\",\"\",Wartosci!D2944)","v":""}]
[null,null,null,null,null,{"$f":"IF(Wartosci!D2945=\"\",\"\",Wartosci!D2945)","v":""}]
[null,null,null,null,null,{"$f":"IF(Wartosci!D2946=\"\",\"\",Wartosci!D2946)","v":""}]
[null,null,null,null,null,{"$f":"IF(Wartosci!D2947=\"\",\"\",Wartosci!D2947)","v":""}]
[null,null,null,null,null,{"$f":"IF(Wartosci!D2948=\"\",\"\",Wartosci!D2948)","v":""}]
[null,null,null,null,null,{"$f":"IF(Wartosci!D2949=\"\",\"\",Wartosci!D2949)","v":""}]
[null,null,null,null,null,{"$f":"IF(Wartosci!D2950=\"\",\"\",Wartosci!D2950)","v":""}]
[null,null,null,null,null,{"$f":"IF(Wartosci!D2951=\"\",\"\",Wartosci!D2951)","v":""}]
[null,null,null,null,null,{"$f":"IF(Wartosci!D2952=\"\",\"\",Wartosci!D2952)","v":""}]
[null,null,null,null,null,{"$f":"IF(Wartosci!D2953=\"\",\"\",Wartosci!D2953)","v":""}]
[null,null,null,null,null,{"$f":"IF(Wartosci!D2954=\"\",\"\",Wartosci!D2954)","v":""}]
[null,null,null,null,null,{"$f":"IF(Wartosci!D2955=\"\",\"\",Wartosci!D2955)","v":""}]
[null,null,null,null,null,{"$f":"IF(Wartosci!D2956=\"\",\"\",Wartosci!D2956)","v":""}]
[null,null,null,null,null,{"$f":"IF(Wartosci!D2957=\"\",\"\",Wartosci!D2957)","v":""}]
[null,null,null,null,null,{"$f":"IF(Wartosci!D2958=\"\",\"\",Wartosci!D2958)","v":""}]
[null,null,null,null,null,{"$f":"IF(Wartosci!D2959=\"\",\"\",Wartosci!D2959)","v":""}]
[null,null,null,null,null,{"$f":"IF(Wartosci!D2960=\"\",\"\",Wartosci!D2960)","v":""}]
[null,null,null,null,null,{"$f":"IF(Wartosci!D2961=\"\",\"\",Wartosci!D2961)","v":""}]
[null,null,null,null,null,{"$f":"IF(Wartosci!D2962=\"\",\"\",Wartosci!D2962)","v":""}]
[null,null,null,null,null,{"$f":"IF(Wartosci!D2963=\"\",\"\",Wartosci!D2963)","v":""}]
[null,null,null,null,null,{"$f":"IF(Wartosci!D2964=\"\",\"\",Wartosci!D2964)","v":""}]
[null,null,null,null,null,{"$f":"IF(Wartosci!D2965=\"\",\"\",Wartosci!D2965)","v":""}]
[null,null,null,null,null,{"$f":"IF(Wartosci!D2966=\"\",\"\",Wartosci!D2966)","v":""}]
[null,null,null,null,null,{"$f":"IF(Wartosci!D2967=\"\",\"\",Wartosci!D2967)","v":""}]
[null,null,null,null,null,{"$f":"IF(Wartosci!D2968=\"\",\"\",Wartosci!D2968)","v":""}]
[null,null,null,null,null,{"$f":"IF(Wartosci!D2969=\"\",\"\",Wartosci!D2969)","v":""}]
[null,null,null,null,null,{"$f":"IF(Wartosci!D2970=\"\",\"\",Wartosci!D2970)","v":""}]
[null,null,null,null,null,{"$f":"IF(Wartosci!D2971=\"\",\"\",Wartosci!D2971)","v":""}]
[null,null,null,null,null,{"$f":"IF(Wartosci!D2972=\"\",\"\",Wartosci!D2972)","v":""}]
[null,null,null,null,null,{"$f":"IF(Wartosci!D2973=\"\",\"\",Wartosci!D2973)","v":""}]
[null,null,null,null,null,{"$f":"IF(Wartosci!D2974=\"\",\"\",Wartosci!D2974)","v":""}]
[null,null,null,null,null,{"$f":"IF(Wartosci!D2975=\"\",\"\",Wartosci!D2975)","v":""}]
[null,null,null,null,null,{"$f":"IF(Wartosci!D2976=\"\",\"\",Wartosci!D2976)","v":""}]
[null,null,null,null,null,{"$f":"IF(Wartosci!D2977=\"\",\"\",Wartosci!D2977)","v":""}]
[null,null,null,null,null,{"$f":"IF(Wartosci!D2978=\"\",\"\",Wartosci!D2978)","v":""}]
[null,null,null,null,null,{"$f":"IF(Wartosci!D2979=\"\",\"\",Wartosci!D2979)","v":""}]
[null,null,null,null,null,{"$f":"IF(Wartosci!D2980=\"\",\"\",Wartosci!D2980)","v":""}]
[null,null,null,null,null,{"$f":"IF(Wartosci!D2981=\"\",\"\",Wartosci!D2981)","v":""}]
[null,null,null,null,null,{"$f":"IF(Wartosci!D2982=\"\",\"\",Wartosci!D2982)","v":""}]
[null,null,null,null,null,{"$f":"IF(Wartosci!D2983=\"\",\"\",Wartosci!D2983)","v":""}]
[null,null,null,null,null,{"$f":"IF(Wartosci!D2984=\"\",\"\",Wartosci!D2984)","v":""}]
[null,null,null,null,null,{"$f":"IF(Wartosci!D2985=\"\",\"\",Wartosci!D2985)","v":""}]
[null,null,null,null,null,{"$f":"IF(Wartosci!D2986=\"\",\"\",Wartosci!D2986)","v":""}]
[null,null,null,null,null,{"$f":"IF(Wartosci!D2987=\"\",\"\",Wartosci!D2987)","v":""}]
[null,null,null,null,null,{"$f":"IF(Wartosci!D2988=\"\",\"\",Wartosci!D2988)","v":""}]
[null,null,null,null,null,{"$f":"IF(Wartosci!D2989=\"\",\"\",Wartosci!D2989)","v":""}]
[null,null,null,null,null,{"$f":"IF(Wartosci!D2990=\"\",\"\",Wartosci!D2990)","v":""}]
[null,null,null,null,null,{"$f":"IF(Wartosci!D2991=\"\",\"\",Wartosci!D2991)","v":""}]
[null,null,null,null,null,{"$f":"IF(Wartosci!D2992=\"\",\"\",Wartosci!D2992)","v":""}]
[null,null,null,null,null,{"$f":"IF(Wartosci!D2993=\"\",\"\",Wartosci!D2993)","v":""}]
[null,null,null,null,null,{"$f":"IF(Wartosci!D2994=\"\",\"\",Wartosci!D2994)","v":""}]
[null,null,null,null,null,{"$f":"IF(Wartosci!D2995=\"\",\"\",Wartosci!D2995)","v":""}]
[null,null,null,null,null,{"$f":"IF(Wartosci!D2996=\"\",\"\",Wartosci!D2996)","v":""}]
[null,null,null,null,null,{"$f":"IF(Wartosci!D2997=\"\",\"\",Wartosci!D2997)","v":""}]
[null,null,null,null,null,{"$f":"IF(Wartosci!D2998=\"\",\"\",Wartosci!D2998)","v":""}]
[null,null,null,null,null,{"$f":"IF(Wartosci!D2999=\"\",\"\",Wartosci!D2999)","v":""}]
[null,null,null,null,null,{"$f":"IF(Wartosci!D3000=\"\",\"\",Wartosci!D3000)","v":""}]
[null,null,null,null,null,{"$f":"IF(Wartosci!D3001=\"\",\"\",Wartosci!D3001)","v":""}]
[null,null,null,null,null,{"$f":"IF(Wartosci!D3002=\"\",\"\",Wartosci!D3002)","v":""}]
[null,null,null,null,null,{"$f":"IF(Wartosci!D3003=\"\",\"\",Wartosci!D3003)","v":""}]
[null,null,null,null,null,{"$f":"IF(Wartosci!D3004=\"\",\"\",Wartosci!D3004)","v":""}]
[null,null,null,null,null,{"$f":"IF(Wartosci!D3005=\"\",\"\",Wartosci!D3005)","v":""}]
[null,null,null,null,null,{"$f":"IF(Wartosci!D3006=\"\",\"\",Wartosci!D3006)","v":""}]
[null,null,null,null,null,{"$f":"IF(Wartosci!D3007=\"\",\"\",Wartosci!D3007)","v":""}]
[null,null,null,null,null,{"$f":"IF(Wartosci!D3008=\"\",\"\",Wartosci!D3008)","v":""}]
[null,null,null,null,null,{"$f":"IF(Wartosci!D3009=\"\",\"\",Wartosci!D3009)","v":""}]
[null,null,null,null,null,{"$f":"IF(Wartosci!D3010=\"\",\"\",Wartosci!D3010)","v":""}]
[null,null,null,null,null,{"$f":"IF(Wartosci!D3011=\"\",\"\",Wartosci!D3011)","v":""}]
[null,null,null,null,null,{"$f":"IF(Wartosci!D3012=\"\",\"\",Wartosci!D3012)","v":""}]
[null,null,null,null,null,{"$f":"IF(Wartosci!D3013=\"\",\"\",Wartosci!D3013)","v":""}]
[null,null,null,null,null,{"$f":"IF(Wartosci!D3014=\"\",\"\",Wartosci!D3014)","v":""}]
[null,null,null,null,null,{"$f":"IF(Wartosci!D3015=\"\",\"\",Wartosci!D3015)","v":""}]
[null,null,null,null,null,{"$f":"IF(Wartosci!D3016=\"\",\"\",Wartosci!D3016)","v":""}]
[null,null,null,null,null,{"$f":"IF(Wartosci!D3017=\"\",\"\",Wartosci!D3017)","v":""}]
[null,null,null,null,null,{"$f":"IF(Wartosci!D3018=\"\",\"\",Wartosci!D3018)","v":""}]
[null,null,null,null,null,{"$f":"IF(Wartosci!D3019=\"\",\"\",Wartosci!D3019)","v":""}]
[null,null,null,null,null,{"$f":"IF(Wartosci!D3020=\"\",\"\",Wartosci!D3020)","v":""}]
[null,null,null,null,null,{"$f":"IF(Wartosci!D3021=\"\",\"\",Wartosci!D3021)","v":""}]
[null,null,null,null,null,{"$f":"IF(Wartosci!D3022=\"\",\"\",Wartosci!D3022)","v":""}]
[null,null,null,null,null,{"$f":"IF(Wartosci!D3023=\"\",\"\",Wartosci!D3023)","v":""}]
[null,null,null,null,null,{"$f":"IF(Wartosci!D3024=\"\",\"\",Wartosci!D3024)","v":""}]
[null,null,null,null,null,{"$f":"IF(Wartosci!D3025=\"\",\"\",Wartosci!D3025)","v":""}]
[null,null,null,null,null,{"$f":"IF(Wartosci!D3026=\"\",\"\",Wartosci!D3026)","v":""}]
[null,null,null,null,null,{"$f":"IF(Wartosci!D3027=\"\",\"\",Wartosci!D3027)","v":""}]
[null,null,null,null,null,{"$f":"IF(Wartosci!D3028=\"\",\"\",Wartosci!D3028)","v":""}]
[null,null,null,null,null,{"$f":"IF(Wartosci!D3029=\"\",\"\",Wartosci!D3029)","v":""}]
[null,null,null,null,null,{"$f":"IF(Wartosci!D3030=\"\",\"\",Wartosci!D3030)","v":""}]
[null,null,null,null,null,{"$f":"IF(Wartosci!D3031=\"\",\"\",Wartosci!D3031)","v":""}]
[null,null,null,null,null,{"$f":"IF(Wartosci!D3032=\"\",\"\",Wartosci!D3032)","v":""}]
[null,null,null,null,null,{"$f":"IF(Wartosci!D3033=\"\",\"\",Wartosci!D3033)","v":""}]
[null,null,null,null,null,{"$f":"IF(Wartosci!D3034=\"\",\"\",Wartosci!D3034)","v":""}]
[null,null,null,null,null,{"$f":"IF(Wartosci!D3035=\"\",\"\",Wartosci!D3035)","v":""}]
[null,null,null,null,null,{"$f":"IF(Wartosci!D3036=\"\",\"\",Wartosci!D3036)","v":""}]
[null,null,null,null,null,{"$f":"IF(Wartosci!D3037=\"\",\"\",Wartosci!D3037)","v":""}]
[null,null,null,null,null,{"$f":"IF(Wartosci!D3038=\"\",\"\",Wartosci!D3038)","v":""}]
[null,null,null,null,null,{"$f":"IF(Wartosci!D3039=\"\",\"\",Wartosci!D3039)","v":""}]
[null,null,null,null,null,{"$f":"IF(Wartosci!D3040=\"\",\"\",Wartosci!D3040)","v":""}]
[null,null,null,null,null,{"$f":"IF(Wartosci!D3041=\"\",\"\",Wartosci!D3041)","v":""}]
[null,null,null,null,null,{"$f":"IF(Wartosci!D3042=\"\",\"\",Wartosci!D3042)","v":""}]
[null,null,null,null,null,{"$f":"IF(Wartosci!D3043=\"\",\"\",Wartosci!D3043)","v":""}]
[null,null,null,null,null,{"$f":"IF(Wartosci!D3044=\"\",\"\",Wartosci!D3044)","v":""}]
[null,null,null,null,null,{"$f":"IF(Wartosci!D3045=\"\",\"\",Wartosci!D3045)","v":""}]
[null,null,null,null,null,{"$f":"IF(Wartosci!D3046=\"\",\"\",Wartosci!D3046)","v":""}]
[null,null,null,null,null,{"$f":"IF(Wartosci!D3047=\"\",\"\",Wartosci!D3047)","v":""}]
[null,null,null,null,null,{"$f":"IF(Wartosci!D3048=\"\",\"\",Wartosci!D3048)","v":""}]
[null,null,null,null,null,{"$f":"IF(Wartosci!D3049=\"\",\"\",Wartosci!D3049)","v":""}]
[null,null,null,null,null,{"$f":"IF(Wartosci!D3050=\"\",\"\",Wartosci!D3050)","v":""}]
[null,null,null,null,null,{"$f":"IF(Wartosci!D3051=\"\",\"\",Wartosci!D3051)","v":""}]
[null,null,null,null,null,{"$f":"IF(Wartosci!D3052=\"\",\"\",Wartosci!D3052)","v":""}]
[null,null,null,null,null,{"$f":"IF(Wartosci!D3053=\"\",\"\",Wartosci!D3053)","v":""}]
[null,null,null,null,null,{"$f":"IF(Wartosci!D3054=\"\",\"\",Wartosci!D3054)","v":""}]
[null,null,null,null,null,{"$f":"IF(Wartosci!D3055=\"\",\"\",Wartosci!D3055)","v":""}]
[null,null,null,null,null,{"$f":"IF(Wartosci!D3056=\"\",\"\",Wartosci!D3056)","v":""}]
[null,null,null,null,null,{"$f":"IF(Wartosci!D3057=\"\",\"\",Wartosci!D3057)","v":""}]
[null,null,null,null,null,{"$f":"IF(Wartosci!D3058=\"\",\"\",Wartosci!D3058)","v":""}]
[null,null,null,null,null,{"$f":"IF(Wartosci!D3059=\"\",\"\",Wartosci!D3059)","v":""}]
[null,null,null,null,null,{"$f":"IF(Wartosci!D3060=\"\",\"\",Wartosci!D3060)","v":""}]
[null,null,null,null,null,{"$f":"IF(Wartosci!D3061=\"\",\"\",Wartosci!D3061)","v":""}]
[null,null,null,null,null,{"$f":"IF(Wartosci!D3062=\"\",\"\",Wartosci!D3062)","v":""}]
[null,null,null,null,null,{"$f":"IF(Wartosci!D3063=\"\",\"\",Wartosci!D3063)","v":""}]
[null,null,null,null,null,{"$f":"IF(Wartosci!D3064=\"\",\"\",Wartosci!D3064)","v":""}]
[null,null,null,null,null,{"$f":"IF(Wartosci!D3065=\"\",\"\",Wartosci!D3065)","v":""}]
[null,null,null,null,null,{"$f":"IF(Wartosci!D3066=\"\",\"\",Wartosci!D3066)","v":""}]
[null,null,null,null,null,{"$f":"IF(Wartosci!D3067=\"\",\"\",Wartosci!D3067)","v":""}]
[null,null,null,null,null,{"$f":"IF(Wartosci!D3068=\"\",\"\",Wartosci!D3068)","v":""}]
[null,null,null,null,null,{"$f":"IF(Wartosci!D3069=\"\",\"\",Wartosci!D3069)","v":""}]
[null,null,null,null,null,{"$f":"IF(Wartosci!D3070=\"\",\"\",Wartosci!D3070)","v":""}]
[null,null,null,null,null,{"$f":"IF(Wartosci!D3071=\"\",\"\",Wartosci!D3071)","v":""}]
[null,null,null,null,null,{"$f":"IF(Wartosci!D3072=\"\",\"\",Wartosci!D3072)","v":""}]
[null,null,null,null,null,{"$f":"IF(Wartosci!D3073=\"\",\"\",Wartosci!D3073)","v":""}]
[null,null,null,null,null,{"$f":"IF(Wartosci!D3074=\"\",\"\",Wartosci!D3074)","v":""}]
[null,null,null,null,null,{"$f":"IF(Wartosci!D3075=\"\",\"\",Wartosci!D3075)","v":""}]
[null,null,null,null,null,{"$f":"IF(Wartosci!D3076=\"\",\"\",Wartosci!D3076)","v":""}]
[null,null,null,null,null,{"$f":"IF(Wartosci!D3077=\"\",\"\",Wartosci!D3077)","v":""}]
[null,null,null,null,null,{"$f":"IF(Wartosci!D3078=\"\",\"\",Wartosci!D3078)","v":""}]
[null,null,null,null,null,{"$f":"IF(Wartosci!D3079=\"\",\"\",Wartosci!D3079)","v":""}]
[null,null,null,null,null,{"$f":"IF(Wartosci!D3080=\"\",\"\",Wartosci!D3080)","v":""}]
[null,null,null,null,null,{"$f":"IF(Wartosci!D3081=\"\",\"\",Wartosci!D3081)","v":""}]
[null,null,null,null,null,{"$f":"IF(Wartosci!D3082=\"\",\"\",Wartosci!D3082)","v":""}]
[null,null,null,null,null,{"$f":"IF(Wartosci!D3083=\"\",\"\",Wartosci!D3083)","v":""}]
[null,null,null,null,null,{"$f":"IF(Wartosci!D3084=\"\",\"\",Wartosci!D3084)","v":""}]
[null,null,null,null,null,{"$f":"IF(Wartosci!D3085=\"\",\"\",Wartosci!D3085)","v":""}]
[null,null,null,null,null,{"$f":"IF(Wartosci!D3086=\"\",\"\",Wartosci!D3086)","v":""}]
[null,null,null,null,null,{"$f":"IF(Wartosci!D3087=\"\",\"\",Wartosci!D3087)","v":""}]
[null,null,null,null,null,{"$f":"IF(Wartosci!D3088=\"\",\"\",Wartosci!D3088)","v":""}]
[null,null,null,null,null,{"$f":"IF(Wartosci!D3089=\"\",\"\",Wartosci!D3089)","v":""}]
[null,null,null,null,null,{"$f":"IF(Wartosci!D3090=\"\",\"\",Wartosci!D3090)","v":""}]
[null,null,null,null,null,{"$f":"IF(Wartosci!D3091=\"\",\"\",Wartosci!D3091)","v":""}]
[null,null,null,null,null,{"$f":"IF(Wartosci!D3092=\"\",\"\",Wartosci!D3092)","v":""}]
[null,null,null,null,null,{"$f":"IF(Wartosci!D3093=\"\",\"\",Wartosci!D3093)","v":""}]
[null,null,null,null,null,{"$f":"IF(Wartosci!D3094=\"\",\"\",Wartosci!D3094)","v":""}]
[null,null,null,null,null,{"$f":"IF(Wartosci!D3095=\"\",\"\",Wartosci!D3095)","v":""}]
[null,null,null,null,null,{"$f":"IF(Wartosci!D3096=\"\",\"\",Wartosci!D3096)","v":""}]
[null,null,null,null,null,{"$f":"IF(Wartosci!D3097=\"\",\"\",Wartosci!D3097)","v":""}]
[null,null,null,null,null,{"$f":"IF(Wartosci!D3098=\"\",\"\",Wartosci!D3098)","v":""}]
[null,null,null,null,null,{"$f":"IF(Wartosci!D3099=\"\",\"\",Wartosci!D3099)","v":""}]
[null,null,null,null,null,{"$f":"IF(Wartosci!D3100=\"\",\"\",Wartosci!D3100)","v":""}]
[null,null,null,null,null,{"$f":"IF(Wartosci!D3101=\"\",\"\",Wartosci!D3101)","v":""}]
[null,null,null,null,null,{"$f":"IF(Wartosci!D3102=\"\",\"\",Wartosci!D3102)","v":""}]
[null,null,null,null,null,{"$f":"IF(Wartosci!D3103=\"\",\"\",Wartosci!D3103)","v":""}]
[null,null,null,null,null,{"$f":"IF(Wartosci!D3104=\"\",\"\",Wartosci!D3104)","v":""}]
[null,null,null,null,null,{"$f":"IF(Wartosci!D3105=\"\",\"\",Wartosci!D3105)","v":""}]
[null,null,null,null,null,{"$f":"IF(Wartosci!D3106=\"\",\"\",Wartosci!D3106)","v":""}]
[null,null,null,null,null,{"$f":"IF(Wartosci!D3107=\"\",\"\",Wartosci!D3107)","v":""}]
[null,null,null,null,null,{"$f":"IF(Wartosci!D3108=\"\",\"\",Wartosci!D3108)","v":""}]
[null,null,null,null,null,{"$f":"IF(Wartosci!D3109=\"\",\"\",Wartosci!D3109)","v":""}]
[null,null,null,null,null,{"$f":"IF(Wartosci!D3110=\"\",\"\",Wartosci!D3110)","v":""}]
[null,null,null,null,null,{"$f":"IF(Wartosci!D3111=\"\",\"\",Wartosci!D3111)","v":""}]
[null,null,null,null,null,{"$f":"IF(Wartosci!D3112=\"\",\"\",Wartosci!D3112)","v":""}]
[null,null,null,null,null,{"$f":"IF(Wartosci!D3113=\"\",\"\",Wartosci!D3113)","v":""}]
[null,null,null,null,null,{"$f":"IF(Wartosci!D3114=\"\",\"\",Wartosci!D3114)","v":""}]
[null,null,null,null,null,{"$f":"IF(Wartosci!D3115=\"\",\"\",Wartosci!D3115)","v":""}]
[null,null,null,null,null,{"$f":"IF(Wartosci!D3116=\"\",\"\",Wartosci!D3116)","v":""}]
[null,null,null,null,null,{"$f":"IF(Wartosci!D3117=\"\",\"\",Wartosci!D3117)","v":""}]
[null,null,null,null,null,{"$f":"IF(Wartosci!D3118=\"\",\"\",Wartosci!D3118)","v":""}]
[null,null,null,null,null,{"$f":"IF(Wartosci!D3119=\"\",\"\",Wartosci!D3119)","v":""}]
[null,null,null,null,null,{"$f":"IF(Wartosci!D3120=\"\",\"\",Wartosci!D3120)","v":""}]
[null,null,null,null,null,{"$f":"IF(Wartosci!D3121=\"\",\"\",Wartosci!D3121)","v":""}]
[null,null,null,null,null,{"$f":"IF(Wartosci!D3122=\"\",\"\",Wartosci!D3122)","v":""}]
[null,null,null,null,null,{"$f":"IF(Wartosci!D3123=\"\",\"\",Wartosci!D3123)","v":""}]
[null,null,null,null,null,{"$f":"IF(Wartosci!D3124=\"\",\"\",Wartosci!D3124)","v":""}]
[null,null,null,null,null,{"$f":"IF(Wartosci!D3125=\"\",\"\",Wartosci!D3125)","v":""}]
[null,null,null,null,null,{"$f":"IF(Wartosci!D3126=\"\",\"\",Wartosci!D3126)","v":""}]
[null,null,null,null,null,{"$f":"IF(Wartosci!D3127=\"\",\"\",Wartosci!D3127)","v":""}]
[null,null,null,null,null,{"$f":"IF(Wartosci!D3128=\"\",\"\",Wartosci!D3128)","v":""}]
[null,null,null,null,null,{"$f":"IF(Wartosci!D3129=\"\",\"\",Wartosci!D3129)","v":""}]
[null,null,null,null,null,{"$f":"IF(Wartosci!D3130=\"\",\"\",Wartosci!D3130)","v":""}]
[null,null,null,null,null,{"$f":"IF(Wartosci!D3131=\"\",\"\",Wartosci!D3131)","v":""}]
[null,null,null,null,null,{"$f":"IF(Wartosci!D3132=\"\",\"\",Wartosci!D3132)","v":""}]
[null,null,null,null,null,{"$f":"IF(Wartosci!D3133=\"\",\"\",Wartosci!D3133)","v":""}]
[null,null,null,null,null,{"$f":"IF(Wartosci!D3134=\"\",\"\",Wartosci!D3134)","v":""}]
[null,null,null,null,null,{"$f":"IF(Wartosci!D3135=\"\",\"\",Wartosci!D3135)","v":""}]
[null,null,null,null,null,{"$f":"IF(Wartosci!D3136=\"\",\"\",Wartosci!D3136)","v":""}]
[null,null,null,null,null,{"$f":"IF(Wartosci!D3137=\"\",\"\",Wartosci!D3137)","v":""}]
[null,null,null,null,null,{"$f":"IF(Wartosci!D3138=\"\",\"\",Wartosci!D3138)","v":""}]
[null,null,null,null,null,{"$f":"IF(Wartosci!D3139=\"\",\"\",Wartosci!D3139)","v":""}]
[null,null,null,null,null,{"$f":"IF(Wartosci!D3140=\"\",\"\",Wartosci!D3140)","v":""}]
[null,null,null,null,null,{"$f":"IF(Wartosci!D3141=\"\",\"\",Wartosci!D3141)","v":""}]
[null,null,null,null,null,{"$f":"IF(Wartosci!D3142=\"\",\"\",Wartosci!D3142)","v":""}]
[null,null,null,null,null,{"$f":"IF(Wartosci!D3143=\"\",\"\",Wartosci!D3143)","v":""}]
[null,null,null,null,null,{"$f":"IF(Wartosci!D3144=\"\",\"\",Wartosci!D3144)","v":""}]
[null,null,null,null,null,{"$f":"IF(Wartosci!D3145=\"\",\"\",Wartosci!D3145)","v":""}]
[null,null,null,null,null,{"$f":"IF(Wartosci!D3146=\"\",\"\",Wartosci!D3146)","v":""}]
[null,null,null,null,null,{"$f":"IF(Wartosci!D3147=\"\",\"\",Wartosci!D3147)","v":""}]
[null,null,null,null,null,{"$f":"IF(Wartosci!D3148=\"\",\"\",Wartosci!D3148)","v":""}]
[null,null,null,null,null,{"$f":"IF(Wartosci!D3149=\"\",\"\",Wartosci!D3149)","v":""}]
[null,null,null,null,null,{"$f":"IF(Wartosci!D3150=\"\",\"\",Wartosci!D3150)","v":""}]
[null,null,null,null,null,{"$f":"IF(Wartosci!D3151=\"\",\"\",Wartosci!D3151)","v":""}]
[null,null,null,null,null,{"$f":"IF(Wartosci!D3152=\"\",\"\",Wartosci!D3152)","v":""}]
[null,null,null,null,null,{"$f":"IF(Wartosci!D3153=\"\",\"\",Wartosci!D3153)","v":""}]
[null,null,null,null,null,{"$f":"IF(Wartosci!D3154=\"\",\"\",Wartosci!D3154)","v":""}]
[null,null,null,null,null,{"$f":"IF(Wartosci!D3155=\"\",\"\",Wartosci!D3155)","v":""}]
[null,null,null,null,null,{"$f":"IF(Wartosci!D3156=\"\",\"\",Wartosci!D3156)","v":""}]
[null,null,null,null,null,{"$f":"IF(Wartosci!D3157=\"\",\"\",Wartosci!D3157)","v":""}]
[null,null,null,null,null,{"$f":"IF(Wartosci!D3158=\"\",\"\",Wartosci!D3158)","v":""}]
[null,null,null,null,null,{"$f":"IF(Wartosci!D3159=\"\",\"\",Wartosci!D3159)","v":""}]
[null,null,null,null,null,{"$f":"IF(Wartosci!D3160=\"\",\"\",Wartosci!D3160)","v":""}]
[null,null,null,null,null,{"$f":"IF(Wartosci!D3161=\"\",\"\",Wartosci!D3161)","v":""}]
[null,null,null,null,null,{"$f":"IF(Wartosci!D3162=\"\",\"\",Wartosci!D3162)","v":""}]
[null,null,null,null,null,{"$f":"IF(Wartosci!D3163=\"\",\"\",Wartosci!D3163)","v":""}]
[null,null,null,null,null,{"$f":"IF(Wartosci!D3164=\"\",\"\",Wartosci!D3164)","v":""}]
[null,null,null,null,null,{"$f":"IF(Wartosci!D3165=\"\",\"\",Wartosci!D3165)","v":""}]
[null,null,null,null,null,{"$f":"IF(Wartosci!D3166=\"\",\"\",Wartosci!D3166)","v":""}]
[null,null,null,null,null,{"$f":"IF(Wartosci!D3167=\"\",\"\",Wartosci!D3167)","v":""}]
[null,null,null,null,null,{"$f":"IF(Wartosci!D3168=\"\",\"\",Wartosci!D3168)","v":""}]
[null,null,null,null,null,{"$f":"IF(Wartosci!D3169=\"\",\"\",Wartosci!D3169)","v":""}]
[null,null,null,null,null,{"$f":"IF(Wartosci!D3170=\"\",\"\",Wartosci!D3170)","v":""}]
[null,null,null,null,null,{"$f":"IF(Wartosci!D3171=\"\",\"\",Wartosci!D3171)","v":""}]
[null,null,null,null,null,{"$f":"IF(Wartosci!D3172=\"\",\"\",Wartosci!D3172)","v":""}]
[null,null,null,null,null,{"$f":"IF(Wartosci!D3173=\"\",\"\",Wartosci!D3173)","v":""}]
[null,null,null,null,null,{"$f":"IF(Wartosci!D3174=\"\",\"\",Wartosci!D3174)","v":""}]
[null,null,null,null,null,{"$f":"IF(Wartosci!D3175=\"\",\"\",Wartosci!D3175)","v":""}]
[null,null,null,null,null,{"$f":"IF(Wartosci!D3176=\"\",\"\",Wartosci!D3176)","v":""}]
[null,null,null,null,null,{"$f":"IF(Wartosci!D3177=\"\",\"\",Wartosci!D3177)","v":""}]
[null,null,null,null,null,{"$f":"IF(Wartosci!D3178=\"\",\"\",Wartosci!D3178)","v":""}]
[null,null,null,null,null,{"$f":"IF(Wartosci!D3179=\"\",\"\",Wartosci!D3179)","v":""}]
[null,null,null,null,null,{"$f":"IF(Wartosci!D3180=\"\",\"\",Wartosci!D3180)","v":""}]
[null,null,null,null,null,{"$f":"IF(Wartosci!D3181=\"\",\"\",Wartosci!D3181)","v":""}]
[null,null,null,null,null,{"$f":"IF(Wartosci!D3182=\"\",\"\",Wartosci!D3182)","v":""}]
[null,null,null,null,null,{"$f":"IF(Wartosci!D3183=\"\",\"\",Wartosci!D3183)","v":""}]
[null,null,null,null,null,{"$f":"IF(Wartosci!D3184=\"\",\"\",Wartosci!D3184)","v":""}]
[null,null,null,null,null,{"$f":"IF(Wartosci!D3185=\"\",\"\",Wartosci!D3185)","v":""}]
[null,null,null,null,null,{"$f":"IF(Wartosci!D3186=\"\",\"\",Wartosci!D3186)","v":""}]
[null,null,null,null,null,{"$f":"IF(Wartosci!D3187=\"\",\"\",Wartosci!D3187)","v":""}]
[null,null,null,null,null,{"$f":"IF(Wartosci!D3188=\"\",\"\",Wartosci!D3188)","v":""}]
[null,null,null,null,null,{"$f":"IF(Wartosci!D3189=\"\",\"\",Wartosci!D3189)","v":""}]
[null,null,null,null,null,{"$f":"IF(Wartosci!D3190=\"\",\"\",Wartosci!D3190)","v":""}]
[null,null,null,null,null,{"$f":"IF(Wartosci!D3191=\"\",\"\",Wartosci!D3191)","v":""}]
[null,null,null,null,null,{"$f":"IF(Wartosci!D3192=\"\",\"\",Wartosci!D3192)","v":""}]
[null,null,null,null,null,{"$f":"IF(Wartosci!D3193=\"\",\"\",Wartosci!D3193)","v":""}]
[null,null,null,null,null,{"$f":"IF(Wartosci!D3194=\"\",\"\",Wartosci!D3194)","v":""}]
[null,null,null,null,null,{"$f":"IF(Wartosci!D3195=\"\",\"\",Wartosci!D3195)","v":""}]
[null,null,null,null,null,{"$f":"IF(Wartosci!D3196=\"\",\"\",Wartosci!D3196)","v":""}]
[null,null,null,null,null,{"$f":"IF(Wartosci!D3197=\"\",\"\",Wartosci!D3197)","v":""}]
[null,null,null,null,null,{"$f":"IF(Wartosci!D3198=\"\",\"\",Wartosci!D3198)","v":""}]
[null,null,null,null,null,{"$f":"IF(Wartosci!D3199=\"\",\"\",Wartosci!D3199)","v":""}]
[null,null,null,null,null,{"$f":"IF(Wartosci!D3200=\"\",\"\",Wartosci!D3200)","v":""}]
[null,null,null,null,null,{"$f":"IF(Wartosci!D3201=\"\",\"\",Wartosci!D3201)","v":""}]
[null,null,null,null,null,{"$f":"IF(Wartosci!D3202=\"\",\"\",Wartosci!D3202)","v":""}]
[null,null,null,null,null,{"$f":"IF(Wartosci!D3203=\"\",\"\",Wartosci!D3203)","v":""}]
[null,null,null,null,null,{"$f":"IF(Wartosci!D3204=\"\",\"\",Wartosci!D3204)","v":""}]
[null,null,null,null,null,{"$f":"IF(Wartosci!D3205=\"\",\"\",Wartosci!D3205)","v":""}]
[null,null,null,null,null,{"$f":"IF(Wartosci!D3206=\"\",\"\",Wartosci!D3206)","v":""}]
[null,null,null,null,null,{"$f":"IF(Wartosci!D3207=\"\",\"\",Wartosci!D3207)","v":""}]
[null,null,null,null,null,{"$f":"IF(Wartosci!D3208=\"\",\"\",Wartosci!D3208)","v":""}]
[null,null,null,null,null,{"$f":"IF(Wartosci!D3209=\"\",\"\",Wartosci!D3209)","v":""}]
[null,null,null,null,null,{"$f":"IF(Wartosci!D3210=\"\",\"\",Wartosci!D3210)","v":""}]
[null,null,null,null,null,{"$f":"IF(Wartosci!D3211=\"\",\"\",Wartosci!D3211)","v":""}]
[null,null,null,null,null,{"$f":"IF(Wartosci!D3212=\"\",\"\",Wartosci!D3212)","v":""}]
[null,null,null,null,null,{"$f":"IF(Wartosci!D3213=\"\",\"\",Wartosci!D3213)","v":""}]
[null,null,null,null,null,{"$f":"IF(Wartosci!D3214=\"\",\"\",Wartosci!D3214)","v":""}]
[null,null,null,null,null,{"$f":"IF(Wartosci!D3215=\"\",\"\",Wartosci!D3215)","v":""}]
[null,null,null,null,null,{"$f":"IF(Wartosci!D3216=\"\",\"\",Wartosci!D3216)","v":""}]
[null,null,null,null,null,{"$f":"IF(Wartosci!D3217=\"\",\"\",Wartosci!D3217)","v":""}]
[null,null,null,null,null,{"$f":"IF(Wartosci!D3218=\"\",\"\",Wartosci!D3218)","v":""}]
[null,null,null,null,null,{"$f":"IF(Wartosci!D3219=\"\",\"\",Wartosci!D3219)","v":""}]
[null,null,null,null,null,{"$f":"IF(Wartosci!D3220=\"\",\"\",Wartosci!D3220)","v":""}]
[null,null,null,null,null,{"$f":"IF(Wartosci!D3221=\"\",\"\",Wartosci!D3221)","v":""}]
[null,null,null,null,null,{"$f":"IF(Wartosci!D3222=\"\",\"\",Wartosci!D3222)","v":""}]
[null,null,null,null,null,{"$f":"IF(Wartosci!D3223=\"\",\"\",Wartosci!D3223)","v":""}]
[null,null,null,null,null,{"$f":"IF(Wartosci!D3224=\"\",\"\",Wartosci!D3224)","v":""}]
[null,null,null,null,null,{"$f":"IF(Wartosci!D3225=\"\",\"\",Wartosci!D3225)","v":""}]
[null,null,null,null,null,{"$f":"IF(Wartosci!D3226=\"\",\"\",Wartosci!D3226)","v":""}]
[null,null,null,null,null,{"$f":"IF(Wartosci!D3227=\"\",\"\",Wartosci!D3227)","v":""}]
[null,null,null,null,null,{"$f":"IF(Wartosci!D3228=\"\",\"\",Wartosci!D3228)","v":""}]
[null,null,null,null,null,{"$f":"IF(Wartosci!D3229=\"\",\"\",Wartosci!D3229)","v":""}]
[null,null,null,null,null,{"$f":"IF(Wartosci!D3230=\"\",\"\",Wartosci!D3230)","v":""}]
[null,null,null,null,null,{"$f":"IF(Wartosci!D3231=\"\",\"\",Wartosci!D3231)","v":""}]
[null,null,null,null,null,{"$f":"IF(Wartosci!D3232=\"\",\"\",Wartosci!D3232)","v":""}]
[null,null,null,null,null,{"$f":"IF(Wartosci!D3233=\"\",\"\",Wartosci!D3233)","v":""}]
[null,null,null,null,null,{"$f":"IF(Wartosci!D3234=\"\",\"\",Wartosci!D3234)","v":""}]
[null,null,null,null,null,{"$f":"IF(Wartosci!D3235=\"\",\"\",Wartosci!D3235)","v":""}]
[null,null,null,null,null,{"$f":"IF(Wartosci!D3236=\"\",\"\",Wartosci!D3236)","v":""}]
[null,null,null,null,null,{"$f":"IF(Wartosci!D3237=\"\",\"\",Wartosci!D3237)","v":""}]
[null,null,null,null,null,{"$f":"IF(Wartosci!D3238=\"\",\"\",Wartosci!D3238)","v":""}]
[null,null,null,null,null,{"$f":"IF(Wartosci!D3239=\"\",\"\",Wartosci!D3239)","v":""}]
[null,null,null,null,null,{"$f":"IF(Wartosci!D3240=\"\",\"\",Wartosci!D3240)","v":""}]
[null,null,null,null,null,{"$f":"IF(Wartosci!D3241=\"\",\"\",Wartosci!D3241)","v":""}]
[null,null,null,null,null,{"$f":"IF(Wartosci!D3242=\"\",\"\",Wartosci!D3242)","v":""}]
[null,null,null,null,null,{"$f":"IF(Wartosci!D3243=\"\",\"\",Wartosci!D3243)","v":""}]
[null,null,null,null,null,{"$f":"IF(Wartosci!D3244=\"\",\"\",Wartosci!D3244)","v":""}]
[null,null,null,null,null,{"$f":"IF(Wartosci!D3245=\"\",\"\",Wartosci!D3245)","v":""}]
[null,null,null,null,null,{"$f":"IF(Wartosci!D3246=\"\",\"\",Wartosci!D3246)","v":""}]
[null,null,null,null,null,{"$f":"IF(Wartosci!D3247=\"\",\"\",Wartosci!D3247)","v":""}]
[null,null,null,null,null,{"$f":"IF(Wartosci!D3248=\"\",\"\",Wartosci!D3248)","v":""}]
[null,null,null,null,null,{"$f":"IF(Wartosci!D3249=\"\",\"\",Wartosci!D3249)","v":""}]
[null,null,null,null,null,{"$f":"IF(Wartosci!D3250=\"\",\"\",Wartosci!D3250)","v":""}]
[null,null,null,null,null,{"$f":"IF(Wartosci!D3251=\"\",\"\",Wartosci!D3251)","v":""}]
[null,null,null,null,null,{"$f":"IF(Wartosci!D3252=\"\",\"\",Wartosci!D3252)","v":""}]
[null,null,null,null,null,{"$f":"IF(Wartosci!D3253=\"\",\"\",Wartosci!D3253)","v":""}]
[null,null,null,null,null,{"$f":"IF(Wartosci!D3254=\"\",\"\",Wartosci!D3254)","v":""}]
[null,null,null,null,null,{"$f":"IF(Wartosci!D3255=\"\",\"\",Wartosci!D3255)","v":""}]
[null,null,null,null,null,{"$f":"IF(Wartosci!D3256=\"\",\"\",Wartosci!D3256)","v":""}]
[null,null,null,null,null,{"$f":"IF(Wartosci!D3257=\"\",\"\",Wartosci!D3257)","v":""}]
[null,null,null,null,null,{"$f":"IF(Wartosci!D3258=\"\",\"\",Wartosci!D3258)","v":""}]
[null,null,null,null,null,{"$f":"IF(Wartosci!D3259=\"\",\"\",Wartosci!D3259)","v":""}]
[null,null,null,null,null,{"$f":"IF(Wartosci!D3260=\"\",\"\",Wartosci!D3260)","v":""}]
[null,null,null,null,null,{"$f":"IF(Wartosci!D3261=\"\",\"\",Wartosci!D3261)","v":""}]
[null,null,null,null,null,{"$f":"IF(Wartosci!D3262=\"\",\"\",Wartosci!D3262)","v":""}]
[null,null,null,null,null,{"$f":"IF(Wartosci!D3263=\"\",\"\",Wartosci!D3263)","v":""}]
[null,null,null,null,null,{"$f":"IF(Wartosci!D3264=\"\",\"\",Wartosci!D3264)","v":""}]
[null,null,null,null,null,{"$f":"IF(Wartosci!D3265=\"\",\"\",Wartosci!D3265)","v":""}]
[null,null,null,null,null,{"$f":"IF(Wartosci!D3266=\"\",\"\",Wartosci!D3266)","v":""}]
[null,null,null,null,null,{"$f":"IF(Wartosci!D3267=\"\",\"\",Wartosci!D3267)","v":""}]
[null,null,null,null,null,{"$f":"IF(Wartosci!D3268=\"\",\"\",Wartosci!D3268)","v":""}]
[null,null,null,null,null,{"$f":"IF(Wartosci!D3269=\"\",\"\",Wartosci!D3269)","v":""}]
[null,null,null,null,null,{"$f":"IF(Wartosci!D3270=\"\",\"\",Wartosci!D3270)","v":""}]
[null,null,null,null,null,{"$f":"IF(Wartosci!D3271=\"\",\"\",Wartosci!D3271)","v":""}]
[null,null,null,null,null,{"$f":"IF(Wartosci!D3272=\"\",\"\",Wartosci!D3272)","v":""}]
[null,null,null,null,null,{"$f":"IF(Wartosci!D3273=\"\",\"\",Wartosci!D3273)","v":""}]
[null,null,null,null,null,{"$f":"IF(Wartosci!D3274=\"\",\"\",Wartosci!D3274)","v":""}]
[null,null,null,null,null,{"$f":"IF(Wartosci!D3275=\"\",\"\",Wartosci!D3275)","v":""}]
[null,null,null,null,null,{"$f":"IF(Wartosci!D3276=\"\",\"\",Wartosci!D3276)","v":""}]
[null,null,null,null,null,{"$f":"IF(Wartosci!D3277=\"\",\"\",Wartosci!D3277)","v":""}]
[null,null,null,null,null,{"$f":"IF(Wartosci!D3278=\"\",\"\",Wartosci!D3278)","v":""}]
[null,null,null,null,null,{"$f":"IF(Wartosci!D3279=\"\",\"\",Wartosci!D3279)","v":""}]
[null,null,null,null,null,{"$f":"IF(Wartosci!D3280=\"\",\"\",Wartosci!D3280)","v":""}]
[null,null,null,null,null,{"$f":"IF(Wartosci!D3281=\"\",\"\",Wartosci!D3281)","v":""}]
[null,null,null,null,null,{"$f":"IF(Wartosci!D3282=\"\",\"\",Wartosci!D3282)","v":""}]
[null,null,null,null,null,{"$f":"IF(Wartosci!D3283=\"\",\"\",Wartosci!D3283)","v":""}]
[null,null,null,null,null,{"$f":"IF(Wartosci!D3284=\"\",\"\",Wartosci!D3284)","v":""}]
[null,null,null,null,null,{"$f":"IF(Wartosci!D3285=\"\",\"\",Wartosci!D3285)","v":""}]
[null,null,null,null,null,{"$f":"IF(Wartosci!D3286=\"\",\"\",Wartosci!D3286)","v":""}]
[null,null,null,null,null,{"$f":"IF(Wartosci!D3287=\"\",\"\",Wartosci!D3287)","v":""}]
[null,null,null,null,null,{"$f":"IF(Wartosci!D3288=\"\",\"\",Wartosci!D3288)","v":""}]
[null,null,null,null,null,{"$f":"IF(Wartosci!D3289=\"\",\"\",Wartosci!D3289)","v":""}]
[null,null,null,null,null,{"$f":"IF(Wartosci!D3290=\"\",\"\",Wartosci!D3290)","v":""}]
[null,null,null,null,null,{"$f":"IF(Wartosci!D3291=\"\",\"\",Wartosci!D3291)","v":""}]
[null,null,null,null,null,{"$f":"IF(Wartosci!D3292=\"\",\"\",Wartosci!D3292)","v":""}]
[null,null,null,null,null,{"$f":"IF(Wartosci!D3293=\"\",\"\",Wartosci!D3293)","v":""}]
[null,null,null,null,null,{"$f":"IF(Wartosci!D3294=\"\",\"\",Wartosci!D3294)","v":""}]
[null,null,null,null,null,{"$f":"IF(Wartosci!D3295=\"\",\"\",Wartosci!D3295)","v":""}]
[null,null,null,null,null,{"$f":"IF(Wartosci!D3296=\"\",\"\",Wartosci!D3296)","v":""}]
[null,null,null,null,null,{"$f":"IF(Wartosci!D3297=\"\",\"\",Wartosci!D3297)","v":""}]
[null,null,null,null,null,{"$f":"IF(Wartosci!D3298=\"\",\"\",Wartosci!D3298)","v":""}]
[null,null,null,null,null,{"$f":"IF(Wartosci!D3299=\"\",\"\",Wartosci!D3299)","v":""}]
[null,null,null,null,null,{"$f":"IF(Wartosci!D3300=\"\",\"\",Wartosci!D3300)","v":""}]
[null,null,null,null,null,{"$f":"IF(Wartosci!D3301=\"\",\"\",Wartosci!D3301)","v":""}]
[null,null,null,null,null,{"$f":"IF(Wartosci!D3302=\"\",\"\",Wartosci!D3302)","v":""}]
[null,null,null,null,null,{"$f":"IF(Wartosci!D3303=\"\",\"\",Wartosci!D3303)","v":""}]
[null,null,null,null,null,{"$f":"IF(Wartosci!D3304=\"\",\"\",Wartosci!D3304)","v":""}]
[null,null,null,null,null,{"$f":"IF(Wartosci!D3305=\"\",\"\",Wartosci!D3305)","v":""}]
[null,null,null,null,null,{"$f":"IF(Wartosci!D3306=\"\",\"\",Wartosci!D3306)","v":""}]
[null,null,null,null,null,{"$f":"IF(Wartosci!D3307=\"\",\"\",Wartosci!D3307)","v":""}]
[null,null,null,null,null,{"$f":"IF(Wartosci!D3308=\"\",\"\",Wartosci!D3308)","v":""}]
[null,null,null,null,null,{"$f":"IF(Wartosci!D3309=\"\",\"\",Wartosci!D3309)","v":""}]
[null,null,null,null,null,{"$f":"IF(Wartosci!D3310=\"\",\"\",Wartosci!D3310)","v":""}]
[null,null,null,null,null,{"$f":"IF(Wartosci!D3311=\"\",\"\",Wartosci!D3311)","v":""}]
[null,null,null,null,null,{"$f":"IF(Wartosci!D3312=\"\",\"\",Wartosci!D3312)","v":""}]
[null,null,null,null,null,{"$f":"IF(Wartosci!D3313=\"\",\"\",Wartosci!D3313)","v":""}]
[null,null,null,null,null,{"$f":"IF(Wartosci!D3314=\"\",\"\",Wartosci!D3314)","v":""}]
[null,null,null,null,null,{"$f":"IF(Wartosci!D3315=\"\",\"\",Wartosci!D3315)","v":""}]
[null,null,null,null,null,{"$f":"IF(Wartosci!D3316=\"\",\"\",Wartosci!D3316)","v":""}]
[null,null,null,null,null,{"$f":"IF(Wartosci!D3317=\"\",\"\",Wartosci!D3317)","v":""}]
[null,null,null,null,null,{"$f":"IF(Wartosci!D3318=\"\",\"\",Wartosci!D3318)","v":""}]
[null,null,null,null,null,{"$f":"IF(Wartosci!D3319=\"\",\"\",Wartosci!D3319)","v":""}]
[null,null,null,null,null,{"$f":"IF(Wartosci!D3320=\"\",\"\",Wartosci!D3320)","v":""}]
[null,null,null,null,null,{"$f":"IF(Wartosci!D3321=\"\",\"\",Wartosci!D3321)","v":""}]
[null,null,null,null,null,{"$f":"IF(Wartosci!D3322=\"\",\"\",Wartosci!D3322)","v":""}]
[null,null,null,null,null,{"$f":"IF(Wartosci!D3323=\"\",\"\",Wartosci!D3323)","v":""}]
[null,null,null,null,null,{"$f":"IF(Wartosci!D3324=\"\",\"\",Wartosci!D3324)","v":""}]
[null,null,null,null,null,{"$f":"IF(Wartosci!D3325=\"\",\"\",Wartosci!D3325)","v":""}]
[null,null,null,null,null,{"$f":"IF(Wartosci!D3326=\"\",\"\",Wartosci!D3326)","v":""}]
[null,null,null,null,null,{"$f":"IF(Wartosci!D3327=\"\",\"\",Wartosci!D3327)","v":""}]
[null,null,null,null,null,{"$f":"IF(Wartosci!D3328=\"\",\"\",Wartosci!D3328)","v":""}]
[null,null,null,null,null,{"$f":"IF(Wartosci!D3329=\"\",\"\",Wartosci!D3329)","v":""}]
[null,null,null,null,null,{"$f":"IF(Wartosci!D3330=\"\",\"\",Wartosci!D3330)","v":""}]
[null,null,null,null,null,{"$f":"IF(Wartosci!D3331=\"\",\"\",Wartosci!D3331)","v":""}]
[null,null,null,null,null,{"$f":"IF(Wartosci!D3332=\"\",\"\",Wartosci!D3332)","v":""}]
[null,null,null,null,null,{"$f":"IF(Wartosci!D3333=\"\",\"\",Wartosci!D3333)","v":""}]
[null,null,null,null,null,{"$f":"IF(Wartosci!D3334=\"\",\"\",Wartosci!D3334)","v":""}]
[null,null,null,null,null,{"$f":"IF(Wartosci!D3335=\"\",\"\",Wartosci!D3335)","v":""}]
[null,null,null,null,null,{"$f":"IF(Wartosci!D3336=\"\",\"\",Wartosci!D3336)","v":""}]
[null,null,null,null,null,{"$f":"IF(Wartosci!D3337=\"\",\"\",Wartosci!D3337)","v":""}]
[null,null,null,null,null,{"$f":"IF(Wartosci!D3338=\"\",\"\",Wartosci!D3338)","v":""}]
[null,null,null,null,null,{"$f":"IF(Wartosci!D3339=\"\",\"\",Wartosci!D3339)","v":""}]
[null,null,null,null,null,{"$f":"IF(Wartosci!D3340=\"\",\"\",Wartosci!D3340)","v":""}]
[null,null,null,null,null,{"$f":"IF(Wartosci!D3341=\"\",\"\",Wartosci!D3341)","v":""}]
[null,null,null,null,null,{"$f":"IF(Wartosci!D3342=\"\",\"\",Wartosci!D3342)","v":""}]
[null,null,null,null,null,{"$f":"IF(Wartosci!D3343=\"\",\"\",Wartosci!D3343)","v":""}]
[null,null,null,null,null,{"$f":"IF(Wartosci!D3344=\"\",\"\",Wartosci!D3344)","v":""}]
[null,null,null,null,null,{"$f":"IF(Wartosci!D3345=\"\",\"\",Wartosci!D3345)","v":""}]
[null,null,null,null,null,{"$f":"IF(Wartosci!D3346=\"\",\"\",Wartosci!D3346)","v":""}]
[null,null,null,null,null,{"$f":"IF(Wartosci!D3347=\"\",\"\",Wartosci!D3347)","v":""}]
[null,null,null,null,null,{"$f":"IF(Wartosci!D3348=\"\",\"\",Wartosci!D3348)","v":""}]
[null,null,null,null,null,{"$f":"IF(Wartosci!D3349=\"\",\"\",Wartosci!D3349)","v":""}]
[null,null,null,null,null,{"$f":"IF(Wartosci!D3350=\"\",\"\",Wartosci!D3350)","v":""}]
[null,null,null,null,null,{"$f":"IF(Wartosci!D3351=\"\",\"\",Wartosci!D3351)","v":""}]
[null,null,null,null,null,{"$f":"IF(Wartosci!D3352=\"\",\"\",Wartosci!D3352)","v":""}]
[null,null,null,null,null,{"$f":"IF(Wartosci!D3353=\"\",\"\",Wartosci!D3353)","v":""}]
[null,null,null,null,null,{"$f":"IF(Wartosci!D3354=\"\",\"\",Wartosci!D3354)","v":""}]
[null,null,null,null,null,{"$f":"IF(Wartosci!D3355=\"\",\"\",Wartosci!D3355)","v":""}]
[null,null,null,null,null,{"$f":"IF(Wartosci!D3356=\"\",\"\",Wartosci!D3356)","v":""}]
[null,null,null,null,null,{"$f":"IF(Wartosci!D3357=\"\",\"\",Wartosci!D3357)","v":""}]
[null,null,null,null,null,{"$f":"IF(Wartosci!D3358=\"\",\"\",Wartosci!D3358)","v":""}]
[null,null,null,null,null,{"$f":"IF(Wartosci!D3359=\"\",\"\",Wartosci!D3359)","v":""}]
[null,null,null,null,null,{"$f":"IF(Wartosci!D3360=\"\",\"\",Wartosci!D3360)","v":""}]
[null,null,null,null,null,{"$f":"IF(Wartosci!D3361=\"\",\"\",Wartosci!D3361)","v":""}]
[null,null,null,null,null,{"$f":"IF(Wartosci!D3362=\"\",\"\",Wartosci!D3362)","v":""}]
[null,null,null,null,null,{"$f":"IF(Wartosci!D3363=\"\",\"\",Wartosci!D3363)","v":""}]
[null,null,null,null,null,{"$f":"IF(Wartosci!D3364=\"\",\"\",Wartosci!D3364)","v":""}]
[null,null,null,null,null,{"$f":"IF(Wartosci!D3365=\"\",\"\",Wartosci!D3365)","v":""}]
[null,null,null,null,null,{"$f":"IF(Wartosci!D3366=\"\",\"\",Wartosci!D3366)","v":""}]
[null,null,null,null,null,{"$f":"IF(Wartosci!D3367=\"\",\"\",Wartosci!D3367)","v":""}]
[null,null,null,null,null,{"$f":"IF(Wartosci!D3368=\"\",\"\",Wartosci!D3368)","v":""}]
[null,null,null,null,null,{"$f":"IF(Wartosci!D3369=\"\",\"\",Wartosci!D3369)","v":""}]
[null,null,null,null,null,{"$f":"IF(Wartosci!D3370=\"\",\"\",Wartosci!D3370)","v":""}]
[null,null,null,null,null,{"$f":"IF(Wartosci!D3371=\"\",\"\",Wartosci!D3371)","v":""}]
[null,null,null,null,null,{"$f":"IF(Wartosci!D3372=\"\",\"\",Wartosci!D3372)","v":""}]
[null,null,null,null,null,{"$f":"IF(Wartosci!D3373=\"\",\"\",Wartosci!D3373)","v":""}]
[null,null,null,null,null,{"$f":"IF(Wartosci!D3374=\"\",\"\",Wartosci!D3374)","v":""}]
[null,null,null,null,null,{"$f":"IF(Wartosci!D3375=\"\",\"\",Wartosci!D3375)","v":""}]
[null,null,null,null,null,{"$f":"IF(Wartosci!D3376=\"\",\"\",Wartosci!D3376)","v":""}]
[null,null,null,null,null,{"$f":"IF(Wartosci!D3377=\"\",\"\",Wartosci!D3377)","v":""}]
[null,null,null,null,null,{"$f":"IF(Wartosci!D3378=\"\",\"\",Wartosci!D3378)","v":""}]
[null,null,null,null,null,{"$f":"IF(Wartosci!D3379=\"\",\"\",Wartosci!D3379)","v":""}]
[null,null,null,null,null,{"$f":"IF(Wartosci!D3380=\"\",\"\",Wartosci!D3380)","v":""}]
[null,null,null,null,null,{"$f":"IF(Wartosci!D3381=\"\",\"\",Wartosci!D3381)","v":""}]
[null,null,null,null,null,{"$f":"IF(Wartosci!D3382=\"\",\"\",Wartosci!D3382)","v":""}]
[null,null,null,null,null,{"$f":"IF(Wartosci!D3383=\"\",\"\",Wartosci!D3383)","v":""}]
[null,null,null,null,null,{"$f":"IF(Wartosci!D3384=\"\",\"\",Wartosci!D3384)","v":""}]
[null,null,null,null,null,{"$f":"IF(Wartosci!D3385=\"\",\"\",Wartosci!D3385)","v":""}]
[null,null,null,null,null,{"$f":"IF(Wartosci!D3386=\"\",\"\",Wartosci!D3386)","v":""}]
[null,null,null,null,null,{"$f":"IF(Wartosci!D3387=\"\",\"\",Wartosci!D3387)","v":""}]
[null,null,null,null,null,{"$f":"IF(Wartosci!D3388=\"\",\"\",Wartosci!D3388)","v":""}]
[null,null,null,null,null,{"$f":"IF(Wartosci!D3389=\"\",\"\",Wartosci!D3389)","v":""}]
[null,null,null,null,null,{"$f":"IF(Wartosci!D3390=\"\",\"\",Wartosci!D3390)","v":""}]
[null,null,null,null,null,{"$f":"IF(Wartosci!D3391=\"\",\"\",Wartosci!D3391)","v":""}]
[null,null,null,null,null,{"$f":"IF(Wartosci!D3392=\"\",\"\",Wartosci!D3392)","v":""}]
[null,null,null,null,null,{"$f":"IF(Wartosci!D3393=\"\",\"\",Wartosci!D3393)","v":""}]
[null,null,null,null,null,{"$f":"IF(Wartosci!D3394=\"\",\"\",Wartosci!D3394)","v":""}]
[null,null,null,null,null,{"$f":"IF(Wartosci!D3395=\"\",\"\",Wartosci!D3395)","v":""}]
[null,null,null,null,null,{"$f":"IF(Wartosci!D3396=\"\",\"\",Wartosci!D3396)","v":""}]
[null,null,null,null,null,{"$f":"IF(Wartosci!D3397=\"\",\"\",Wartosci!D3397)","v":""}]
[null,null,null,null,null,{"$f":"IF(Wartosci!D3398=\"\",\"\",Wartosci!D3398)","v":""}]
[null,null,null,null,null,{"$f":"IF(Wartosci!D3399=\"\",\"\",Wartosci!D3399)","v":""}]
[null,null,null,null,null,{"$f":"IF(Wartosci!D3400=\"\",\"\",Wartosci!D3400)","v":""}]
[null,null,null,null,null,{"$f":"IF(Wartosci!D3401=\"\",\"\",Wartosci!D3401)","v":""}]
[null,null,null,null,null,{"$f":"IF(Wartosci!D3402=\"\",\"\",Wartosci!D3402)","v":""}]
[null,null,null,null,null,{"$f":"IF(Wartosci!D3403=\"\",\"\",Wartosci!D3403)","v":""}]
[null,null,null,null,null,{"$f":"IF(Wartosci!D3404=\"\",\"\",Wartosci!D3404)","v":""}]
[null,null,null,null,null,{"$f":"IF(Wartosci!D3405=\"\",\"\",Wartosci!D3405)","v":""}]
[null,null,null,null,null,{"$f":"IF(Wartosci!D3406=\"\",\"\",Wartosci!D3406)","v":""}]
[null,null,null,null,null,{"$f":"IF(Wartosci!D3407=\"\",\"\",Wartosci!D3407)","v":""}]
[null,null,null,null,null,{"$f":"IF(Wartosci!D3408=\"\",\"\",Wartosci!D3408)","v":""}]
[null,null,null,null,null,{"$f":"IF(Wartosci!D3409=\"\",\"\",Wartosci!D3409)","v":""}]
[null,null,null,null,null,{"$f":"IF(Wartosci!D3410=\"\",\"\",Wartosci!D3410)","v":""}]
[null,null,null,null,null,{"$f":"IF(Wartosci!D3411=\"\",\"\",Wartosci!D3411)","v":""}]
[null,null,null,null,null,{"$f":"IF(Wartosci!D3412=\"\",\"\",Wartosci!D3412)","v":""}]
[null,null,null,null,null,{"$f":"IF(Wartosci!D3413=\"\",\"\",Wartosci!D3413)","v":""}]
[null,null,null,null,null,{"$f":"IF(Wartosci!D3414=\"\",\"\",Wartosci!D3414)","v":""}]
[null,null,null,null,null,{"$f":"IF(Wartosci!D3415=\"\",\"\",Wartosci!D3415)","v":""}]
[null,null,null,null,null,{"$f":"IF(Wartosci!D3416=\"\",\"\",Wartosci!D3416)","v":""}]
[null,null,null,null,null,{"$f":"IF(Wartosci!D3417=\"\",\"\",Wartosci!D3417)","v":""}]
[null,null,null,null,null,{"$f":"IF(Wartosci!D3418=\"\",\"\",Wartosci!D3418)","v":""}]
[null,null,null,null,null,{"$f":"IF(Wartosci!D3419=\"\",\"\",Wartosci!D3419)","v":""}]
[null,null,null,null,null,{"$f":"IF(Wartosci!D3420=\"\",\"\",Wartosci!D3420)","v":""}]
[null,null,null,null,null,{"$f":"IF(Wartosci!D3421=\"\",\"\",Wartosci!D3421)","v":""}]
[null,null,null,null,null,{"$f":"IF(Wartosci!D3422=\"\",\"\",Wartosci!D3422)","v":""}]
[null,null,null,null,null,{"$f":"IF(Wartosci!D3423=\"\",\"\",Wartosci!D3423)","v":""}]
[null,null,null,null,null,{"$f":"IF(Wartosci!D3424=\"\",\"\",Wartosci!D3424)","v":""}]
[null,null,null,null,null,{"$f":"IF(Wartosci!D3425=\"\",\"\",Wartosci!D3425)","v":""}]
[null,null,null,null,null,{"$f":"IF(Wartosci!D3426=\"\",\"\",Wartosci!D3426)","v":""}]
[null,null,null,null,null,{"$f":"IF(Wartosci!D3427=\"\",\"\",Wartosci!D3427)","v":""}]
[null,null,null,null,null,{"$f":"IF(Wartosci!D3428=\"\",\"\",Wartosci!D3428)","v":""}]
[null,null,null,null,null,{"$f":"IF(Wartosci!D3429=\"\",\"\",Wartosci!D3429)","v":""}]
[null,null,null,null,null,{"$f":"IF(Wartosci!D3430=\"\",\"\",Wartosci!D3430)","v":""}]
[null,null,null,null,null,{"$f":"IF(Wartosci!D3431=\"\",\"\",Wartosci!D3431)","v":""}]
[null,null,null,null,null,{"$f":"IF(Wartosci!D3432=\"\",\"\",Wartosci!D3432)","v":""}]
[null,null,null,null,null,{"$f":"IF(Wartosci!D3433=\"\",\"\",Wartosci!D3433)","v":""}]
[null,null,null,null,null,{"$f":"IF(Wartosci!D3434=\"\",\"\",Wartosci!D3434)","v":""}]
[null,null,null,null,null,{"$f":"IF(Wartosci!D3435=\"\",\"\",Wartosci!D3435)","v":""}]
[null,null,null,null,null,{"$f":"IF(Wartosci!D3436=\"\",\"\",Wartosci!D3436)","v":""}]
[null,null,null,null,null,{"$f":"IF(Wartosci!D3437=\"\",\"\",Wartosci!D3437)","v":""}]
[null,null,null,null,null,{"$f":"IF(Wartosci!D3438=\"\",\"\",Wartosci!D3438)","v":""}]
[null,null,null,null,null,{"$f":"IF(Wartosci!D3439=\"\",\"\",Wartosci!D3439)","v":""}]
[null,null,null,null,null,{"$f":"IF(Wartosci!D3440=\"\",\"\",Wartosci!D3440)","v":""}]
[null,null,null,null,null,{"$f":"IF(Wartosci!D3441=\"\",\"\",Wartosci!D3441)","v":""}]
[null,null,null,null,null,{"$f":"IF(Wartosci!D3442=\"\",\"\",Wartosci!D3442)","v":""}]
[null,null,null,null,null,{"$f":"IF(Wartosci!D3443=\"\",\"\",Wartosci!D3443)","v":""}]
[null,null,null,null,null,{"$f":"IF(Wartosci!D3444=\"\",\"\",Wartosci!D3444)","v":""}]
[null,null,null,null,null,{"$f":"IF(Wartosci!D3445=\"\",\"\",Wartosci!D3445)","v":""}]
[null,null,null,null,null,{"$f":"IF(Wartosci!D3446=\"\",\"\",Wartosci!D3446)","v":""}]
[null,null,null,null,null,{"$f":"IF(Wartosci!D3447=\"\",\"\",Wartosci!D3447)","v":""}]
[null,null,null,null,null,{"$f":"IF(Wartosci!D3448=\"\",\"\",Wartosci!D3448)","v":""}]
[null,null,null,null,null,{"$f":"IF(Wartosci!D3449=\"\",\"\",Wartosci!D3449)","v":""}]
[null,null,null,null,null,{"$f":"IF(Wartosci!D3450=\"\",\"\",Wartosci!D3450)","v":""}]
[null,null,null,null,null,{"$f":"IF(Wartosci!D3451=\"\",\"\",Wartosci!D3451)","v":""}]
[null,null,null,null,null,{"$f":"IF(Wartosci!D3452=\"\",\"\",Wartosci!D3452)","v":""}]
[null,null,null,null,null,{"$f":"IF(Wartosci!D3453=\"\",\"\",Wartosci!D3453)","v":""}]
[null,null,null,null,null,{"$f":"IF(Wartosci!D3454=\"\",\"\",Wartosci!D3454)","v":""}]
[null,null,null,null,null,{"$f":"IF(Wartosci!D3455=\"\",\"\",Wartosci!D3455)","v":""}]
[null,null,null,null,null,{"$f":"IF(Wartosci!D3456=\"\",\"\",Wartosci!D3456)","v":""}]
[null,null,null,null,null,{"$f":"IF(Wartosci!D3457=\"\",\"\",Wartosci!D3457)","v":""}]
[null,null,null,null,null,{"$f":"IF(Wartosci!D3458=\"\",\"\",Wartosci!D3458)","v":""}]
[null,null,null,null,null,{"$f":"IF(Wartosci!D3459=\"\",\"\",Wartosci!D3459)","v":""}]
[null,null,null,null,null,{"$f":"IF(Wartosci!D3460=\"\",\"\",Wartosci!D3460)","v":""}]
[null,null,null,null,null,{"$f":"IF(Wartosci!D3461=\"\",\"\",Wartosci!D3461)","v":""}]
[null,null,null,null,null,{"$f":"IF(Wartosci!D3462=\"\",\"\",Wartosci!D3462)","v":""}]
[null,null,null,null,null,{"$f":"IF(Wartosci!D3463=\"\",\"\",Wartosci!D3463)","v":""}]
[null,null,null,null,null,{"$f":"IF(Wartosci!D3464=\"\",\"\",Wartosci!D3464)","v":""}]
[null,null,null,null,null,{"$f":"IF(Wartosci!D3465=\"\",\"\",Wartosci!D3465)","v":""}]
[null,null,null,null,null,{"$f":"IF(Wartosci!D3466=\"\",\"\",Wartosci!D3466)","v":""}]
[null,null,null,null,null,{"$f":"IF(Wartosci!D3467=\"\",\"\",Wartosci!D3467)","v":""}]
[null,null,null,null,null,{"$f":"IF(Wartosci!D3468=\"\",\"\",Wartosci!D3468)","v":""}]
[null,null,null,null,null,{"$f":"IF(Wartosci!D3469=\"\",\"\",Wartosci!D3469)","v":""}]
[null,null,null,null,null,{"$f":"IF(Wartosci!D3470=\"\",\"\",Wartosci!D3470)","v":""}]
[null,null,null,null,null,{"$f":"IF(Wartosci!D3471=\"\",\"\",Wartosci!D3471)","v":""}]
[null,null,null,null,null,{"$f":"IF(Wartosci!D3472=\"\",\"\",Wartosci!D3472)","v":""}]
[null,null,null,null,null,{"$f":"IF(Wartosci!D3473=\"\",\"\",Wartosci!D3473)","v":""}]
[null,null,null,null,null,{"$f":"IF(Wartosci!D3474=\"\",\"\",Wartosci!D3474)","v":""}]
[null,null,null,null,null,{"$f":"IF(Wartosci!D3475=\"\",\"\",Wartosci!D3475)","v":""}]
[null,null,null,null,null,{"$f":"IF(Wartosci!D3476=\"\",\"\",Wartosci!D3476)","v":""}]
[null,null,null,null,null,{"$f":"IF(Wartosci!D3477=\"\",\"\",Wartosci!D3477)","v":""}]
[null,null,null,null,null,{"$f":"IF(Wartosci!D3478=\"\",\"\",Wartosci!D3478)","v":""}]
[null,null,null,null,null,{"$f":"IF(Wartosci!D3479=\"\",\"\",Wartosci!D3479)","v":""}]
[null,null,null,null,null,{"$f":"IF(Wartosci!D3480=\"\",\"\",Wartosci!D3480)","v":""}]
[null,null,null,null,null,{"$f":"IF(Wartosci!D3481=\"\",\"\",Wartosci!D3481)","v":""}]
[null,null,null,null,null,{"$f":"IF(Wartosci!D3482=\"\",\"\",Wartosci!D3482)","v":""}]
[null,null,null,null,null,{"$f":"IF(Wartosci!D3483=\"\",\"\",Wartosci!D3483)","v":""}]
[null,null,null,null,null,{"$f":"IF(Wartosci!D3484=\"\",\"\",Wartosci!D3484)","v":""}]
[null,null,null,null,null,{"$f":"IF(Wartosci!D3485=\"\",\"\",Wartosci!D3485)","v":""}]
[null,null,null,null,null,{"$f":"IF(Wartosci!D3486=\"\",\"\",Wartosci!D3486)","v":""}]
[null,null,null,null,null,{"$f":"IF(Wartosci!D3487=\"\",\"\",Wartosci!D3487)","v":""}]
[null,null,null,null,null,{"$f":"IF(Wartosci!D3488=\"\",\"\",Wartosci!D3488)","v":""}]
[null,null,null,null,null,{"$f":"IF(Wartosci!D3489=\"\",\"\",Wartosci!D3489)","v":""}]
[null,null,null,null,null,{"$f":"IF(Wartosci!D3490=\"\",\"\",Wartosci!D3490)","v":""}]
[null,null,null,null,null,{"$f":"IF(Wartosci!D3491=\"\",\"\",Wartosci!D3491)","v":""}]
[null,null,null,null,null,{"$f":"IF(Wartosci!D3492=\"\",\"\",Wartosci!D3492)","v":""}]
[null,null,null,null,null,{"$f":"IF(Wartosci!D3493=\"\",\"\",Wartosci!D3493)","v":""}]
[null,null,null,null,null,{"$f":"IF(Wartosci!D3494=\"\",\"\",Wartosci!D3494)","v":""}]
[null,null,null,null,null,{"$f":"IF(Wartosci!D3495=\"\",\"\",Wartosci!D3495)","v":""}]
[null,null,null,null,null,{"$f":"IF(Wartosci!D3496=\"\",\"\",Wartosci!D3496)","v":""}]
[null,null,null,null,null,{"$f":"IF(Wartosci!D3497=\"\",\"\",Wartosci!D3497)","v":""}]
[null,null,null,null,null,{"$f":"IF(Wartosci!D3498=\"\",\"\",Wartosci!D3498)","v":""}]
[null,null,null,null,null,{"$f":"IF(Wartosci!D3499=\"\",\"\",Wartosci!D3499)","v":""}]
[null,null,null,null,null,{"$f":"IF(Wartosci!D3500=\"\",\"\",Wartosci!D3500)","v":""}]
[null,null,null,null,null,{"$f":"IF(Wartosci!D3501=\"\",\"\",Wartosci!D3501)","v":""}]
[null,null,null,null,null,{"$f":"IF(Wartosci!D3502=\"\",\"\",Wartosci!D3502)","v":""}]
[null,null,null,null,null,{"$f":"IF(Wartosci!D3503=\"\",\"\",Wartosci!D3503)","v":""}]
[null,null,null,null,null,{"$f":"IF(Wartosci!D3504=\"\",\"\",Wartosci!D3504)","v":""}]
[null,null,null,null,null,{"$f":"IF(Wartosci!D3505=\"\",\"\",Wartosci!D3505)","v":""}]
[null,null,null,null,null,{"$f":"IF(Wartosci!D3506=\"\",\"\",Wartosci!D3506)","v":""}]
[null,null,null,null,null,{"$f":"IF(Wartosci!D3507=\"\",\"\",Wartosci!D3507)","v":""}]
[null,null,null,null,null,{"$f":"IF(Wartosci!D3508=\"\",\"\",Wartosci!D3508)","v":""}]
[null,null,null,null,null,{"$f":"IF(Wartosci!D3509=\"\",\"\",Wartosci!D3509)","v":""}]
[null,null,null,null,null,{"$f":"IF(Wartosci!D3510=\"\",\"\",Wartosci!D3510)","v":""}]
[null,null,null,null,null,{"$f":"IF(Wartosci!D3511=\"\",\"\",Wartosci!D3511)","v":""}]
[null,null,null,null,null,{"$f":"IF(Wartosci!D3512=\"\",\"\",Wartosci!D3512)","v":""}]
[null,null,null,null,null,{"$f":"IF(Wartosci!D3513=\"\",\"\",Wartosci!D3513)","v":""}]
[null,null,null,null,null,{"$f":"IF(Wartosci!D3514=\"\",\"\",Wartosci!D3514)","v":""}]
[null,null,null,null,null,{"$f":"IF(Wartosci!D3515=\"\",\"\",Wartosci!D3515)","v":""}]
[null,null,null,null,null,{"$f":"IF(Wartosci!D3516=\"\",\"\",Wartosci!D3516)","v":""}]
[null,null,null,null,null,{"$f":"IF(Wartosci!D3517=\"\",\"\",Wartosci!D3517)","v":""}]
[null,null,null,null,null,{"$f":"IF(Wartosci!D3518=\"\",\"\",Wartosci!D3518)","v":""}]
[null,null,null,null,null,{"$f":"IF(Wartosci!D3519=\"\",\"\",Wartosci!D3519)","v":""}]
[null,null,null,null,null,{"$f":"IF(Wartosci!D3520=\"\",\"\",Wartosci!D3520)","v":""}]
[null,null,null,null,null,{"$f":"IF(Wartosci!D3521=\"\",\"\",Wartosci!D3521)","v":""}]
[null,null,null,null,null,{"$f":"IF(Wartosci!D3522=\"\",\"\",Wartosci!D3522)","v":""}]
[null,null,null,null,null,{"$f":"IF(Wartosci!D3523=\"\",\"\",Wartosci!D3523)","v":""}]
[null,null,null,null,null,{"$f":"IF(Wartosci!D3524=\"\",\"\",Wartosci!D3524)","v":""}]
[null,null,null,null,null,{"$f":"IF(Wartosci!D3525=\"\",\"\",Wartosci!D3525)","v":""}]
[null,null,null,null,null,{"$f":"IF(Wartosci!D3526=\"\",\"\",Wartosci!D3526)","v":""}]
[null,null,null,null,null,{"$f":"IF(Wartosci!D3527=\"\",\"\",Wartosci!D3527)","v":""}]
[null,null,null,null,null,{"$f":"IF(Wartosci!D3528=\"\",\"\",Wartosci!D3528)","v":""}]
[null,null,null,null,null,{"$f":"IF(Wartosci!D3529=\"\",\"\",Wartosci!D3529)","v":""}]
[null,null,null,null,null,{"$f":"IF(Wartosci!D3530=\"\",\"\",Wartosci!D3530)","v":""}]
[null,null,null,null,null,{"$f":"IF(Wartosci!D3531=\"\",\"\",Wartosci!D3531)","v":""}]
[null,null,null,null,null,{"$f":"IF(Wartosci!D3532=\"\",\"\",Wartosci!D3532)","v":""}]
[null,null,null,null,null,{"$f":"IF(Wartosci!D3533=\"\",\"\",Wartosci!D3533)","v":""}]
[null,null,null,null,null,{"$f":"IF(Wartosci!D3534=\"\",\"\",Wartosci!D3534)","v":""}]
[null,null,null,null,null,{"$f":"IF(Wartosci!D3535=\"\",\"\",Wartosci!D3535)","v":""}]
[null,null,null,null,null,{"$f":"IF(Wartosci!D3536=\"\",\"\",Wartosci!D3536)","v":""}]
[null,null,null,null,null,{"$f":"IF(Wartosci!D3537=\"\",\"\",Wartosci!D3537)","v":""}]
[null,null,null,null,null,{"$f":"IF(Wartosci!D3538=\"\",\"\",Wartosci!D3538)","v":""}]
[null,null,null,null,null,{"$f":"IF(Wartosci!D3539=\"\",\"\",Wartosci!D3539)","v":""}]
[null,null,null,null,null,{"$f":"IF(Wartosci!D3540=\"\",\"\",Wartosci!D3540)","v":""}]
[null,null,null,null,null,{"$f":"IF(Wartosci!D3541=\"\",\"\",Wartosci!D3541)","v":""}]
[null,null,null,null,null,{"$f":"IF(Wartosci!D3542=\"\",\"\",Wartosci!D3542)","v":""}]
[null,null,null,null,null,{"$f":"IF(Wartosci!D3543=\"\",\"\",Wartosci!D3543)","v":""}]
[null,null,null,null,null,{"$f":"IF(Wartosci!D3544=\"\",\"\",Wartosci!D3544)","v":""}]
[null,null,null,null,null,{"$f":"IF(Wartosci!D3545=\"\",\"\",Wartosci!D3545)","v":""}]
[null,null,null,null,null,{"$f":"IF(Wartosci!D3546=\"\",\"\",Wartosci!D3546)","v":""}]
[null,null,null,null,null,{"$f":"IF(Wartosci!D3547=\"\",\"\",Wartosci!D3547)","v":""}]
[null,null,null,null,null,{"$f":"IF(Wartosci!D3548=\"\",\"\",Wartosci!D3548)","v":""}]
[null,null,null,null,null,{"$f":"IF(Wartosci!D3549=\"\",\"\",Wartosci!D3549)","v":""}]
[null,null,null,null,null,{"$f":"IF(Wartosci!D3550=\"\",\"\",Wartosci!D3550)","v":""}]
[null,null,null,null,null,{"$f":"IF(Wartosci!D3551=\"\",\"\",Wartosci!D3551)","v":""}]
[null,null,null,null,null,{"$f":"IF(Wartosci!D3552=\"\",\"\",Wartosci!D3552)","v":""}]
[null,null,null,null,null,{"$f":"IF(Wartosci!D3553=\"\",\"\",Wartosci!D3553)","v":""}]
[null,null,null,null,null,{"$f":"IF(Wartosci!D3554=\"\",\"\",Wartosci!D3554)","v":""}]
[null,null,null,null,null,{"$f":"IF(Wartosci!D3555=\"\",\"\",Wartosci!D3555)","v":""}]
[null,null,null,null,null,{"$f":"IF(Wartosci!D3556=\"\",\"\",Wartosci!D3556)","v":""}]
[null,null,null,null,null,{"$f":"IF(Wartosci!D3557=\"\",\"\",Wartosci!D3557)","v":""}]
[null,null,null,null,null,{"$f":"IF(Wartosci!D3558=\"\",\"\",Wartosci!D3558)","v":""}]
[null,null,null,null,null,{"$f":"IF(Wartosci!D3559=\"\",\"\",Wartosci!D3559)","v":""}]
[null,null,null,null,null,{"$f":"IF(Wartosci!D3560=\"\",\"\",Wartosci!D3560)","v":""}]
[null,null,null,null,null,{"$f":"IF(Wartosci!D3561=\"\",\"\",Wartosci!D3561)","v":""}]
[null,null,null,null,null,{"$f":"IF(Wartosci!D3562=\"\",\"\",Wartosci!D3562)","v":""}]
[null,null,null,null,null,{"$f":"IF(Wartosci!D3563=\"\",\"\",Wartosci!D3563)","v":""}]
[null,null,null,null,null,{"$f":"IF(Wartosci!D3564=\"\",\"\",Wartosci!D3564)","v":""}]
[null,null,null,null,null,{"$f":"IF(Wartosci!D3565=\"\",\"\",Wartosci!D3565)","v":""}]
[null,null,null,null,null,{"$f":"IF(Wartosci!D3566=\"\",\"\",Wartosci!D3566)","v":""}]
[null,null,null,null,null,{"$f":"IF(Wartosci!D3567=\"\",\"\",Wartosci!D3567)","v":""}]
[null,null,null,null,null,{"$f":"IF(Wartosci!D3568=\"\",\"\",Wartosci!D3568)","v":""}]
[null,null,null,null,null,{"$f":"IF(Wartosci!D3569=\"\",\"\",Wartosci!D3569)","v":""}]
[null,null,null,null,null,{"$f":"IF(Wartosci!D3570=\"\",\"\",Wartosci!D3570)","v":""}]
[null,null,null,null,null,{"$f":"IF(Wartosci!D3571=\"\",\"\",Wartosci!D3571)","v":""}]
[null,null,null,null,null,{"$f":"IF(Wartosci!D3572=\"\",\"\",Wartosci!D3572)","v":""}]
[null,null,null,null,null,{"$f":"IF(Wartosci!D3573=\"\",\"\",Wartosci!D3573)","v":""}]
[null,null,null,null,null,{"$f":"IF(Wartosci!D3574=\"\",\"\",Wartosci!D3574)","v":""}]
[null,null,null,null,null,{"$f":"IF(Wartosci!D3575=\"\",\"\",Wartosci!D3575)","v":""}]
[null,null,null,null,null,{"$f":"IF(Wartosci!D3576=\"\",\"\",Wartosci!D3576)","v":""}]
[null,null,null,null,null,{"$f":"IF(Wartosci!D3577=\"\",\"\",Wartosci!D3577)","v":""}]
[null,null,null,null,null,{"$f":"IF(Wartosci!D3578=\"\",\"\",Wartosci!D3578)","v":""}]
[null,null,null,null,null,{"$f":"IF(Wartosci!D3579=\"\",\"\",Wartosci!D3579)","v":""}]
[null,null,null,null,null,{"$f":"IF(Wartosci!D3580=\"\",\"\",Wartosci!D3580)","v":""}]
[null,null,null,null,null,{"$f":"IF(Wartosci!D3581=\"\",\"\",Wartosci!D3581)","v":""}]
[null,null,null,null,null,{"$f":"IF(Wartosci!D3582=\"\",\"\",Wartosci!D3582)","v":""}]
[null,null,null,null,null,{"$f":"IF(Wartosci!D3583=\"\",\"\",Wartosci!D3583)","v":""}]
[null,null,null,null,null,{"$f":"IF(Wartosci!D3584=\"\",\"\",Wartosci!D3584)","v":""}]
[null,null,null,null,null,{"$f":"IF(Wartosci!D3585=\"\",\"\",Wartosci!D3585)","v":""}]
[null,null,null,null,null,{"$f":"IF(Wartosci!D3586=\"\",\"\",Wartosci!D3586)","v":""}]
[null,null,null,null,null,{"$f":"IF(Wartosci!D3587=\"\",\"\",Wartosci!D3587)","v":""}]
[null,null,null,null,null,{"$f":"IF(Wartosci!D3588=\"\",\"\",Wartosci!D3588)","v":""}]
[null,null,null,null,null,{"$f":"IF(Wartosci!D3589=\"\",\"\",Wartosci!D3589)","v":""}]
[null,null,null,null,null,{"$f":"IF(Wartosci!D3590=\"\",\"\",Wartosci!D3590)","v":""}]
[null,null,null,null,null,{"$f":"IF(Wartosci!D3591=\"\",\"\",Wartosci!D3591)","v":""}]
[null,null,null,null,null,{"$f":"IF(Wartosci!D3592=\"\",\"\",Wartosci!D3592)","v":""}]
[null,null,null,null,null,{"$f":"IF(Wartosci!D3593=\"\",\"\",Wartosci!D3593)","v":""}]
[null,null,null,null,null,{"$f":"IF(Wartosci!D3594=\"\",\"\",Wartosci!D3594)","v":""}]
[null,null,null,null,null,{"$f":"IF(Wartosci!D3595=\"\",\"\",Wartosci!D3595)","v":""}]
[null,null,null,null,null,{"$f":"IF(Wartosci!D3596=\"\",\"\",Wartosci!D3596)","v":""}]
[null,null,null,null,null,{"$f":"IF(Wartosci!D3597=\"\",\"\",Wartosci!D3597)","v":""}]
[null,null,null,null,null,{"$f":"IF(Wartosci!D3598=\"\",\"\",Wartosci!D3598)","v":""}]
[null,null,null,null,null,{"$f":"IF(Wartosci!D3599=\"\",\"\",Wartosci!D3599)","v":""}]
[null,null,null,null,null,{"$f":"IF(Wartosci!D3600=\"\",\"\",Wartosci!D3600)","v":""}]
[null,null,null,null,null,{"$f":"IF(Wartosci!D3601=\"\",\"\",Wartosci!D3601)","v":""}]
[null,null,null,null,null,{"$f":"IF(Wartosci!D3602=\"\",\"\",Wartosci!D3602)","v":""}]
[null,null,null,null,null,{"$f":"IF(Wartosci!D3603=\"\",\"\",Wartosci!D3603)","v":""}]
[null,null,null,null,null,{"$f":"IF(Wartosci!D3604=\"\",\"\",Wartosci!D3604)","v":""}]
[null,null,null,null,null,{"$f":"IF(Wartosci!D3605=\"\",\"\",Wartosci!D3605)","v":""}]
[null,null,null,null,null,{"$f":"IF(Wartosci!D3606=\"\",\"\",Wartosci!D3606)","v":""}]
[null,null,null,null,null,{"$f":"IF(Wartosci!D3607=\"\",\"\",Wartosci!D3607)","v":""}]
[null,null,null,null,null,{"$f":"IF(Wartosci!D3608=\"\",\"\",Wartosci!D3608)","v":""}]
[null,null,null,null,null,{"$f":"IF(Wartosci!D3609=\"\",\"\",Wartosci!D3609)","v":""}]
[null,null,null,null,null,{"$f":"IF(Wartosci!D3610=\"\",\"\",Wartosci!D3610)","v":""}]
[null,null,null,null,null,{"$f":"IF(Wartosci!D3611=\"\",\"\",Wartosci!D3611)","v":""}]
[null,null,null,null,null,{"$f":"IF(Wartosci!D3612=\"\",\"\",Wartosci!D3612)","v":""}]
[null,null,null,null,null,{"$f":"IF(Wartosci!D3613=\"\",\"\",Wartosci!D3613)","v":""}]
[null,null,null,null,null,{"$f":"IF(Wartosci!D3614=\"\",\"\",Wartosci!D3614)","v":""}]
[null,null,null,null,null,{"$f":"IF(Wartosci!D3615=\"\",\"\",Wartosci!D3615)","v":""}]
[null,null,null,null,null,{"$f":"IF(Wartosci!D3616=\"\",\"\",Wartosci!D3616)","v":""}]
[null,null,null,null,null,{"$f":"IF(Wartosci!D3617=\"\",\"\",Wartosci!D3617)","v":""}]
[null,null,null,null,null,{"$f":"IF(Wartosci!D3618=\"\",\"\",Wartosci!D3618)","v":""}]
[null,null,null,null,null,{"$f":"IF(Wartosci!D3619=\"\",\"\",Wartosci!D3619)","v":""}]
[null,null,null,null,null,{"$f":"IF(Wartosci!D3620=\"\",\"\",Wartosci!D3620)","v":""}]
[null,null,null,null,null,{"$f":"IF(Wartosci!D3621=\"\",\"\",Wartosci!D3621)","v":""}]
[null,null,null,null,null,{"$f":"IF(Wartosci!D3622=\"\",\"\",Wartosci!D3622)","v":""}]
[null,null,null,null,null,{"$f":"IF(Wartosci!D3623=\"\",\"\",Wartosci!D3623)","v":""}]
[null,null,null,null,null,{"$f":"IF(Wartosci!D3624=\"\",\"\",Wartosci!D3624)","v":""}]
[null,null,null,null,null,{"$f":"IF(Wartosci!D3625=\"\",\"\",Wartosci!D3625)","v":""}]
[null,null,null,null,null,{"$f":"IF(Wartosci!D3626=\"\",\"\",Wartosci!D3626)","v":""}]
[null,null,null,null,null,{"$f":"IF(Wartosci!D3627=\"\",\"\",Wartosci!D3627)","v":""}]
[null,null,null,null,null,{"$f":"IF(Wartosci!D3628=\"\",\"\",Wartosci!D3628)","v":""}]
[null,null,null,null,null,{"$f":"IF(Wartosci!D3629=\"\",\"\",Wartosci!D3629)","v":""}]
[null,null,null,null,null,{"$f":"IF(Wartosci!D3630=\"\",\"\",Wartosci!D3630)","v":""}]
[null,null,null,null,null,{"$f":"IF(Wartosci!D3631=\"\",\"\",Wartosci!D3631)","v":""}]
[null,null,null,null,null,{"$f":"IF(Wartosci!D3632=\"\",\"\",Wartosci!D3632)","v":""}]
[null,null,null,null,null,{"$f":"IF(Wartosci!D3633=\"\",\"\",Wartosci!D3633)","v":""}]
[null,null,null,null,null,{"$f":"IF(Wartosci!D3634=\"\",\"\",Wartosci!D3634)","v":""}]
[null,null,null,null,null,{"$f":"IF(Wartosci!D3635=\"\",\"\",Wartosci!D3635)","v":""}]
[null,null,null,null,null,{"$f":"IF(Wartosci!D3636=\"\",\"\",Wartosci!D3636)","v":""}]
[null,null,null,null,null,{"$f":"IF(Wartosci!D3637=\"\",\"\",Wartosci!D3637)","v":""}]
[null,null,null,null,null,{"$f":"IF(Wartosci!D3638=\"\",\"\",Wartosci!D3638)","v":""}]
[null,null,null,null,null,{"$f":"IF(Wartosci!D3639=\"\",\"\",Wartosci!D3639)","v":""}]
[null,null,null,null,null,{"$f":"IF(Wartosci!D3640=\"\",\"\",Wartosci!D3640)","v":""}]
[null,null,null,null,null,{"$f":"IF(Wartosci!D3641=\"\",\"\",Wartosci!D3641)","v":""}]
[null,null,null,null,null,{"$f":"IF(Wartosci!D3642=\"\",\"\",Wartosci!D3642)","v":""}]
[null,null,null,null,null,{"$f":"IF(Wartosci!D3643=\"\",\"\",Wartosci!D3643)","v":""}]
[null,null,null,null,null,{"$f":"IF(Wartosci!D3644=\"\",\"\",Wartosci!D3644)","v":""}]
[null,null,null,null,null,{"$f":"IF(Wartosci!D3645=\"\",\"\",Wartosci!D3645)","v":""}]
[null,null,null,null,null,{"$f":"IF(Wartosci!D3646=\"\",\"\",Wartosci!D3646)","v":""}]
[null,null,null,null,null,{"$f":"IF(Wartosci!D3647=\"\",\"\",Wartosci!D3647)","v":""}]
[null,null,null,null,null,{"$f":"IF(Wartosci!D3648=\"\",\"\",Wartosci!D3648)","v":""}]
[null,null,null,null,null,{"$f":"IF(Wartosci!D3649=\"\",\"\",Wartosci!D3649)","v":""}]
[null,null,null,null,null,{"$f":"IF(Wartosci!D3650=\"\",\"\",Wartosci!D3650)","v":""}]
[null,null,null,null,null,{"$f":"IF(Wartosci!D3651=\"\",\"\",Wartosci!D3651)","v":""}]
[null,null,null,null,null,{"$f":"IF(Wartosci!D3652=\"\",\"\",Wartosci!D3652)","v":""}]
[null,null,null,null,null,{"$f":"IF(Wartosci!D3653=\"\",\"\",Wartosci!D3653)","v":""}]
[null,null,null,null,null,{"$f":"IF(Wartosci!D3654=\"\",\"\",Wartosci!D3654)","v":""}]
[null,null,null,null,null,{"$f":"IF(Wartosci!D3655=\"\",\"\",Wartosci!D3655)","v":""}]
[null,null,null,null,null,{"$f":"IF(Wartosci!D3656=\"\",\"\",Wartosci!D3656)","v":""}]
[null,null,null,null,null,{"$f":"IF(Wartosci!D3657=\"\",\"\",Wartosci!D3657)","v":""}]
[null,null,null,null,null,{"$f":"IF(Wartosci!D3658=\"\",\"\",Wartosci!D3658)","v":""}]
[null,null,null,null,null,{"$f":"IF(Wartosci!D3659=\"\",\"\",Wartosci!D3659)","v":""}]
[null,null,null,null,null,{"$f":"IF(Wartosci!D3660=\"\",\"\",Wartosci!D3660)","v":""}]
[null,null,null,null,null,{"$f":"IF(Wartosci!D3661=\"\",\"\",Wartosci!D3661)","v":""}]
[null,null,null,null,null,{"$f":"IF(Wartosci!D3662=\"\",\"\",Wartosci!D3662)","v":""}]
[null,null,null,null,null,{"$f":"IF(Wartosci!D3663=\"\",\"\",Wartosci!D3663)","v":""}]
[null,null,null,null,null,{"$f":"IF(Wartosci!D3664=\"\",\"\",Wartosci!D3664)","v":""}]
[null,null,null,null,null,{"$f":"IF(Wartosci!D3665=\"\",\"\",Wartosci!D3665)","v":""}]
[null,null,null,null,null,{"$f":"IF(Wartosci!D3666=\"\",\"\",Wartosci!D3666)","v":""}]
[null,null,null,null,null,{"$f":"IF(Wartosci!D3667=\"\",\"\",Wartosci!D3667)","v":""}]
[null,null,null,null,null,{"$f":"IF(Wartosci!D3668=\"\",\"\",Wartosci!D3668)","v":""}]
[null,null,null,null,null,{"$f":"IF(Wartosci!D3669=\"\",\"\",Wartosci!D3669)","v":""}]
[null,null,null,null,null,{"$f":"IF(Wartosci!D3670=\"\",\"\",Wartosci!D3670)","v":""}]
[null,null,null,null,null,{"$f":"IF(Wartosci!D3671=\"\",\"\",Wartosci!D3671)","v":""}]
[null,null,null,null,null,{"$f":"IF(Wartosci!D3672=\"\",\"\",Wartosci!D3672)","v":""}]
[null,null,null,null,null,{"$f":"IF(Wartosci!D3673=\"\",\"\",Wartosci!D3673)","v":""}]
[null,null,null,null,null,{"$f":"IF(Wartosci!D3674=\"\",\"\",Wartosci!D3674)","v":""}]
[null,null,null,null,null,{"$f":"IF(Wartosci!D3675=\"\",\"\",Wartosci!D3675)","v":""}]
[null,null,null,null,null,{"$f":"IF(Wartosci!D3676=\"\",\"\",Wartosci!D3676)","v":""}]
[null,null,null,null,null,{"$f":"IF(Wartosci!D3677=\"\",\"\",Wartosci!D3677)","v":""}]
[null,null,null,null,null,{"$f":"IF(Wartosci!D3678=\"\",\"\",Wartosci!D3678)","v":""}]
[null,null,null,null,null,{"$f":"IF(Wartosci!D3679=\"\",\"\",Wartosci!D3679)","v":""}]
[null,null,null,null,null,{"$f":"IF(Wartosci!D3680=\"\",\"\",Wartosci!D3680)","v":""}]
[null,null,null,null,null,{"$f":"IF(Wartosci!D3681=\"\",\"\",Wartosci!D3681)","v":""}]
[null,null,null,null,null,{"$f":"IF(Wartosci!D3682=\"\",\"\",Wartosci!D3682)","v":""}]
[null,null,null,null,null,{"$f":"IF(Wartosci!D3683=\"\",\"\",Wartosci!D3683)","v":""}]
[null,null,null,null,null,{"$f":"IF(Wartosci!D3684=\"\",\"\",Wartosci!D3684)","v":""}]
[null,null,null,null,null,{"$f":"IF(Wartosci!D3685=\"\",\"\",Wartosci!D3685)","v":""}]
[null,null,null,null,null,{"$f":"IF(Wartosci!D3686=\"\",\"\",Wartosci!D3686)","v":""}]
[null,null,null,null,null,{"$f":"IF(Wartosci!D3687=\"\",\"\",Wartosci!D3687)","v":""}]
[null,null,null,null,null,{"$f":"IF(Wartosci!D3688=\"\",\"\",Wartosci!D3688)","v":""}]
[null,null,null,null,null,{"$f":"IF(Wartosci!D3689=\"\",\"\",Wartosci!D3689)","v":""}]
[null,null,null,null,null,{"$f":"IF(Wartosci!D3690=\"\",\"\",Wartosci!D3690)","v":""}]
[null,null,null,null,null,{"$f":"IF(Wartosci!D3691=\"\",\"\",Wartosci!D3691)","v":""}]
[null,null,null,null,null,{"$f":"IF(Wartosci!D3692=\"\",\"\",Wartosci!D3692)","v":""}]
[null,null,null,null,null,{"$f":"IF(Wartosci!D3693=\"\",\"\",Wartosci!D3693)","v":""}]
[null,null,null,null,null,{"$f":"IF(Wartosci!D3694=\"\",\"\",Wartosci!D3694)","v":""}]
[null,null,null,null,null,{"$f":"IF(Wartosci!D3695=\"\",\"\",Wartosci!D3695)","v":""}]
[null,null,null,null,null,{"$f":"IF(Wartosci!D3696=\"\",\"\",Wartosci!D3696)","v":""}]
[null,null,null,null,null,{"$f":"IF(Wartosci!D3697=\"\",\"\",Wartosci!D3697)","v":""}]
[null,null,null,null,null,{"$f":"IF(Wartosci!D3698=\"\",\"\",Wartosci!D3698)","v":""}]
[null,null,null,null,null,{"$f":"IF(Wartosci!D3699=\"\",\"\",Wartosci!D3699)","v":""}]
[null,null,null,null,null,{"$f":"IF(Wartosci!D3700=\"\",\"\",Wartosci!D3700)","v":""}]
[null,null,null,null,null,{"$f":"IF(Wartosci!D3701=\"\",\"\",Wartosci!D3701)","v":""}]
[null,null,null,null,null,{"$f":"IF(Wartosci!D3702=\"\",\"\",Wartosci!D3702)","v":""}]
[null,null,null,null,null,{"$f":"IF(Wartosci!D3703=\"\",\"\",Wartosci!D3703)","v":""}]
[null,null,null,null,null,{"$f":"IF(Wartosci!D3704=\"\",\"\",Wartosci!D3704)","v":""}]
[null,null,null,null,null,{"$f":"IF(Wartosci!D3705=\"\",\"\",Wartosci!D3705)","v":""}]
[null,null,null,null,null,{"$f":"IF(Wartosci!D3706=\"\",\"\",Wartosci!D3706)","v":""}]
[null,null,null,null,null,{"$f":"IF(Wartosci!D3707=\"\",\"\",Wartosci!D3707)","v":""}]
[null,null,null,null,null,{"$f":"IF(Wartosci!D3708=\"\",\"\",Wartosci!D3708)","v":""}]
[null,null,null,null,null,{"$f":"IF(Wartosci!D3709=\"\",\"\",Wartosci!D3709)","v":""}]
[null,null,null,null,null,{"$f":"IF(Wartosci!D3710=\"\",\"\",Wartosci!D3710)","v":""}]
[null,null,null,null,null,{"$f":"IF(Wartosci!D3711=\"\",\"\",Wartosci!D3711)","v":""}]
[null,null,null,null,null,{"$f":"IF(Wartosci!D3712=\"\",\"\",Wartosci!D3712)","v":""}]
[null,null,null,null,null,{"$f":"IF(Wartosci!D3713=\"\",\"\",Wartosci!D3713)","v":""}]
[null,null,null,null,null,{"$f":"IF(Wartosci!D3714=\"\",\"\",Wartosci!D3714)","v":""}]
[null,null,null,null,null,{"$f":"IF(Wartosci!D3715=\"\",\"\",Wartosci!D3715)","v":""}]
[null,null,null,null,null,{"$f":"IF(Wartosci!D3716=\"\",\"\",Wartosci!D3716)","v":""}]
[null,null,null,null,null,{"$f":"IF(Wartosci!D3717=\"\",\"\",Wartosci!D3717)","v":""}]
[null,null,null,null,null,{"$f":"IF(Wartosci!D3718=\"\",\"\",Wartosci!D3718)","v":""}]
[null,null,null,null,null,{"$f":"IF(Wartosci!D3719=\"\",\"\",Wartosci!D3719)","v":""}]
[null,null,null,null,null,{"$f":"IF(Wartosci!D3720=\"\",\"\",Wartosci!D3720)","v":""}]
[null,null,null,null,null,{"$f":"IF(Wartosci!D3721=\"\",\"\",Wartosci!D3721)","v":""}]
[null,null,null,null,null,{"$f":"IF(Wartosci!D3722=\"\",\"\",Wartosci!D3722)","v":""}]
[null,null,null,null,null,{"$f":"IF(Wartosci!D3723=\"\",\"\",Wartosci!D3723)","v":""}]
[null,null,null,null,null,{"$f":"IF(Wartosci!D3724=\"\",\"\",Wartosci!D3724)","v":""}]
[null,null,null,null,null,{"$f":"IF(Wartosci!D3725=\"\",\"\",Wartosci!D3725)","v":""}]
[null,null,null,null,null,{"$f":"IF(Wartosci!D3726=\"\",\"\",Wartosci!D3726)","v":""}]
[null,null,null,null,null,{"$f":"IF(Wartosci!D3727=\"\",\"\",Wartosci!D3727)","v":""}]
[null,null,null,null,null,{"$f":"IF(Wartosci!D3728=\"\",\"\",Wartosci!D3728)","v":""}]
[null,null,null,null,null,{"$f":"IF(Wartosci!D3729=\"\",\"\",Wartosci!D3729)","v":""}]
[null,null,null,null,null,{"$f":"IF(Wartosci!D3730=\"\",\"\",Wartosci!D3730)","v":""}]
[null,null,null,null,null,{"$f":"IF(Wartosci!D3731=\"\",\"\",Wartosci!D3731)","v":""}]
[null,null,null,null,null,{"$f":"IF(Wartosci!D3732=\"\",\"\",Wartosci!D3732)","v":""}]
[null,null,null,null,null,{"$f":"IF(Wartosci!D3733=\"\",\"\",Wartosci!D3733)","v":""}]
[null,null,null,null,null,{"$f":"IF(Wartosci!D3734=\"\",\"\",Wartosci!D3734)","v":""}]
[null,null,null,null,null,{"$f":"IF(Wartosci!D3735=\"\",\"\",Wartosci!D3735)","v":""}]
[null,null,null,null,null,{"$f":"IF(Wartosci!D3736=\"\",\"\",Wartosci!D3736)","v":""}]
[null,null,null,null,null,{"$f":"IF(Wartosci!D3737=\"\",\"\",Wartosci!D3737)","v":""}]
[null,null,null,null,null,{"$f":"IF(Wartosci!D3738=\"\",\"\",Wartosci!D3738)","v":""}]
[null,null,null,null,null,{"$f":"IF(Wartosci!D3739=\"\",\"\",Wartosci!D3739)","v":""}]
[null,null,null,null,null,{"$f":"IF(Wartosci!D3740=\"\",\"\",Wartosci!D3740)","v":""}]
[null,null,null,null,null,{"$f":"IF(Wartosci!D3741=\"\",\"\",Wartosci!D3741)","v":""}]
[null,null,null,null,null,{"$f":"IF(Wartosci!D3742=\"\",\"\",Wartosci!D3742)","v":""}]
[null,null,null,null,null,{"$f":"IF(Wartosci!D3743=\"\",\"\",Wartosci!D3743)","v":""}]
[null,null,null,null,null,{"$f":"IF(Wartosci!D3744=\"\",\"\",Wartosci!D3744)","v":""}]
[null,null,null,null,null,{"$f":"IF(Wartosci!D3745=\"\",\"\",Wartosci!D3745)","v":""}]
[null,null,null,null,null,{"$f":"IF(Wartosci!D3746=\"\",\"\",Wartosci!D3746)","v":""}]
[null,null,null,null,null,{"$f":"IF(Wartosci!D3747=\"\",\"\",Wartosci!D3747)","v":""}]
[null,null,null,null,null,{"$f":"IF(Wartosci!D3748=\"\",\"\",Wartosci!D3748)","v":""}]
[null,null,null,null,null,{"$f":"IF(Wartosci!D3749=\"\",\"\",Wartosci!D3749)","v":""}]
[null,null,null,null,null,{"$f":"IF(Wartosci!D3750=\"\",\"\",Wartosci!D3750)","v":""}]
[null,null,null,null,null,{"$f":"IF(Wartosci!D3751=\"\",\"\",Wartosci!D3751)","v":""}]
[null,null,null,null,null,{"$f":"IF(Wartosci!D3752=\"\",\"\",Wartosci!D3752)","v":""}]
[null,null,null,null,null,{"$f":"IF(Wartosci!D3753=\"\",\"\",Wartosci!D3753)","v":""}]
[null,null,null,null,null,{"$f":"IF(Wartosci!D3754=\"\",\"\",Wartosci!D3754)","v":""}]
[null,null,null,null,null,{"$f":"IF(Wartosci!D3755=\"\",\"\",Wartosci!D3755)","v":""}]
[null,null,null,null,null,{"$f":"IF(Wartosci!D3756=\"\",\"\",Wartosci!D3756)","v":""}]
[null,null,null,null,null,{"$f":"IF(Wartosci!D3757=\"\",\"\",Wartosci!D3757)","v":""}]
[null,null,null,null,null,{"$f":"IF(Wartosci!D3758=\"\",\"\",Wartosci!D3758)","v":""}]
[null,null,null,null,null,{"$f":"IF(Wartosci!D3759=\"\",\"\",Wartosci!D3759)","v":""}]
[null,null,null,null,null,{"$f":"IF(Wartosci!D3760=\"\",\"\",Wartosci!D3760)","v":""}]
[null,null,null,null,null,{"$f":"IF(Wartosci!D3761=\"\",\"\",Wartosci!D3761)","v":""}]
[null,null,null,null,null,{"$f":"IF(Wartosci!D3762=\"\",\"\",Wartosci!D3762)","v":""}]
[null,null,null,null,null,{"$f":"IF(Wartosci!D3763=\"\",\"\",Wartosci!D3763)","v":""}]
[null,null,null,null,null,{"$f":"IF(Wartosci!D3764=\"\",\"\",Wartosci!D3764)","v":""}]
[null,null,null,null,null,{"$f":"IF(Wartosci!D3765=\"\",\"\",Wartosci!D3765)","v":""}]
[null,null,null,null,null,{"$f":"IF(Wartosci!D3766=\"\",\"\",Wartosci!D3766)","v":""}]
[null,null,null,null,null,{"$f":"IF(Wartosci!D3767=\"\",\"\",Wartosci!D3767)","v":""}]
[null,null,null,null,null,{"$f":"IF(Wartosci!D3768=\"\",\"\",Wartosci!D3768)","v":""}]
[null,null,null,null,null,{"$f":"IF(Wartosci!D3769=\"\",\"\",Wartosci!D3769)","v":""}]
[null,null,null,null,null,{"$f":"IF(Wartosci!D3770=\"\",\"\",Wartosci!D3770)","v":""}]
[null,null,null,null,null,{"$f":"IF(Wartosci!D3771=\"\",\"\",Wartosci!D3771)","v":""}]
[null,null,null,null,null,{"$f":"IF(Wartosci!D3772=\"\",\"\",Wartosci!D3772)","v":""}]
[null,null,null,null,null,{"$f":"IF(Wartosci!D3773=\"\",\"\",Wartosci!D3773)","v":""}]
[null,null,null,null,null,{"$f":"IF(Wartosci!D3774=\"\",\"\",Wartosci!D3774)","v":""}]
[null,null,null,null,null,{"$f":"IF(Wartosci!D3775=\"\",\"\",Wartosci!D3775)","v":""}]
[null,null,null,null,null,{"$f":"IF(Wartosci!D3776=\"\",\"\",Wartosci!D3776)","v":""}]
[null,null,null,null,null,{"$f":"IF(Wartosci!D3777=\"\",\"\",Wartosci!D3777)","v":""}]
[null,null,null,null,null,{"$f":"IF(Wartosci!D3778=\"\",\"\",Wartosci!D3778)","v":""}]
[null,null,null,null,null,{"$f":"IF(Wartosci!D3779=\"\",\"\",Wartosci!D3779)","v":""}]
[null,null,null,null,null,{"$f":"IF(Wartosci!D3780=\"\",\"\",Wartosci!D3780)","v":""}]
[null,null,null,null,null,{"$f":"IF(Wartosci!D3781=\"\",\"\",Wartosci!D3781)","v":""}]
[null,null,null,null,null,{"$f":"IF(Wartosci!D3782=\"\",\"\",Wartosci!D3782)","v":""}]
[null,null,null,null,null,{"$f":"IF(Wartosci!D3783=\"\",\"\",Wartosci!D3783)","v":""}]
[null,null,null,null,null,{"$f":"IF(Wartosci!D3784=\"\",\"\",Wartosci!D3784)","v":""}]
[null,null,null,null,null,{"$f":"IF(Wartosci!D3785=\"\",\"\",Wartosci!D3785)","v":""}]
[null,null,null,null,null,{"$f":"IF(Wartosci!D3786=\"\",\"\",Wartosci!D3786)","v":""}]
[null,null,null,null,null,{"$f":"IF(Wartosci!D3787=\"\",\"\",Wartosci!D3787)","v":""}]
[null,null,null,null,null,{"$f":"IF(Wartosci!D3788=\"\",\"\",Wartosci!D3788)","v":""}]
[null,null,null,null,null,{"$f":"IF(Wartosci!D3789=\"\",\"\",Wartosci!D3789)","v":""}]
[null,null,null,null,null,{"$f":"IF(Wartosci!D3790=\"\",\"\",Wartosci!D3790)","v":""}]
[null,null,null,null,null,{"$f":"IF(Wartosci!D3791=\"\",\"\",Wartosci!D3791)","v":""}]
[null,null,null,null,null,{"$f":"IF(Wartosci!D3792=\"\",\"\",Wartosci!D3792)","v":""}]
[null,null,null,null,null,{"$f":"IF(Wartosci!D3793=\"\",\"\",Wartosci!D3793)","v":""}]
[null,null,null,null,null,{"$f":"IF(Wartosci!D3794=\"\",\"\",Wartosci!D3794)","v":""}]
[null,null,null,null,null,{"$f":"IF(Wartosci!D3795=\"\",\"\",Wartosci!D3795)","v":""}]
[null,null,null,null,null,{"$f":"IF(Wartosci!D3796=\"\",\"\",Wartosci!D3796)","v":""}]
[null,null,null,null,null,{"$f":"IF(Wartosci!D3797=\"\",\"\",Wartosci!D3797)","v":""}]
[null,null,null,null,null,{"$f":"IF(Wartosci!D3798=\"\",\"\",Wartosci!D3798)","v":""}]
[null,null,null,null,null,{"$f":"IF(Wartosci!D3799=\"\",\"\",Wartosci!D3799)","v":""}]
[null,null,null,null,null,{"$f":"IF(Wartosci!D3800=\"\",\"\",Wartosci!D3800)","v":""}]
[null,null,null,null,null,{"$f":"IF(Wartosci!D3801=\"\",\"\",Wartosci!D3801)","v":""}]
[null,null,null,null,null,{"$f":"IF(Wartosci!D3802=\"\",\"\",Wartosci!D3802)","v":""}]
[null,null,null,null,null,{"$f":"IF(Wartosci!D3803=\"\",\"\",Wartosci!D3803)","v":""}]
[null,null,null,null,null,{"$f":"IF(Wartosci!D3804=\"\",\"\",Wartosci!D3804)","v":""}]
[null,null,null,null,null,{"$f":"IF(Wartosci!D3805=\"\",\"\",Wartosci!D3805)","v":""}]
[null,null,null,null,null,{"$f":"IF(Wartosci!D3806=\"\",\"\",Wartosci!D3806)","v":""}]
[null,null,null,null,null,{"$f":"IF(Wartosci!D3807=\"\",\"\",Wartosci!D3807)","v":""}]
[null,null,null,null,null,{"$f":"IF(Wartosci!D3808=\"\",\"\",Wartosci!D3808)","v":""}]
[null,null,null,null,null,{"$f":"IF(Wartosci!D3809=\"\",\"\",Wartosci!D3809)","v":""}]
[null,null,null,null,null,{"$f":"IF(Wartosci!D3810=\"\",\"\",Wartosci!D3810)","v":""}]
[null,null,null,null,null,{"$f":"IF(Wartosci!D3811=\"\",\"\",Wartosci!D3811)","v":""}]
[null,null,null,null,null,{"$f":"IF(Wartosci!D3812=\"\",\"\",Wartosci!D3812)","v":""}]
[null,null,null,null,null,{"$f":"IF(Wartosci!D3813=\"\",\"\",Wartosci!D3813)","v":""}]
[null,null,null,null,null,{"$f":"IF(Wartosci!D3814=\"\",\"\",Wartosci!D3814)","v":""}]
[null,null,null,null,null,{"$f":"IF(Wartosci!D3815=\"\",\"\",Wartosci!D3815)","v":""}]
[null,null,null,null,null,{"$f":"IF(Wartosci!D3816=\"\",\"\",Wartosci!D3816)","v":""}]
[null,null,null,null,null,{"$f":"IF(Wartosci!D3817=\"\",\"\",Wartosci!D3817)","v":""}]
[null,null,null,null,null,{"$f":"IF(Wartosci!D3818=\"\",\"\",Wartosci!D3818)","v":""}]
[null,null,null,null,null,{"$f":"IF(Wartosci!D3819=\"\",\"\",Wartosci!D3819)","v":""}]
[null,null,null,null,null,{"$f":"IF(Wartosci!D3820=\"\",\"\",Wartosci!D3820)","v":""}]
[null,null,null,null,null,{"$f":"IF(Wartosci!D3821=\"\",\"\",Wartosci!D3821)","v":""}]
[null,null,null,null,null,{"$f":"IF(Wartosci!D3822=\"\",\"\",Wartosci!D3822)","v":""}]
[null,null,null,null,null,{"$f":"IF(Wartosci!D3823=\"\",\"\",Wartosci!D3823)","v":""}]
[null,null,null,null,null,{"$f":"IF(Wartosci!D3824=\"\",\"\",Wartosci!D3824)","v":""}]
[null,null,null,null,null,{"$f":"IF(Wartosci!D3825=\"\",\"\",Wartosci!D3825)","v":""}]
[null,null,null,null,null,{"$f":"IF(Wartosci!D3826=\"\",\"\",Wartosci!D3826)","v":""}]
[null,null,null,null,null,{"$f":"IF(Wartosci!D3827=\"\",\"\",Wartosci!D3827)","v":""}]
[null,null,null,null,null,{"$f":"IF(Wartosci!D3828=\"\",\"\",Wartosci!D3828)","v":""}]
[null,null,null,null,null,{"$f":"IF(Wartosci!D3829=\"\",\"\",Wartosci!D3829)","v":""}]
[null,null,null,null,null,{"$f":"IF(Wartosci!D3830=\"\",\"\",Wartosci!D3830)","v":""}]
[null,null,null,null,null,{"$f":"IF(Wartosci!D3831=\"\",\"\",Wartosci!D3831)","v":""}]
[null,null,null,null,null,{"$f":"IF(Wartosci!D3832=\"\",\"\",Wartosci!D3832)","v":""}]
[null,null,null,null,null,{"$f":"IF(Wartosci!D3833=\"\",\"\",Wartosci!D3833)","v":""}]
[null,null,null,null,null,{"$f":"IF(Wartosci!D3834=\"\",\"\",Wartosci!D3834)","v":""}]
[null,null,null,null,null,{"$f":"IF(Wartosci!D3835=\"\",\"\",Wartosci!D3835)","v":""}]
[null,null,null,null,null,{"$f":"IF(Wartosci!D3836=\"\",\"\",Wartosci!D3836)","v":""}]
[null,null,null,null,null,{"$f":"IF(Wartosci!D3837=\"\",\"\",Wartosci!D3837)","v":""}]
[null,null,null,null,null,{"$f":"IF(Wartosci!D3838=\"\",\"\",Wartosci!D3838)","v":""}]
[null,null,null,null,null,{"$f":"IF(Wartosci!D3839=\"\",\"\",Wartosci!D3839)","v":""}]
[null,null,null,null,null,{"$f":"IF(Wartosci!D3840=\"\",\"\",Wartosci!D3840)","v":""}]
[null,null,null,null,null,{"$f":"IF(Wartosci!D3841=\"\",\"\",Wartosci!D3841)","v":""}]
[null,null,null,null,null,{"$f":"IF(Wartosci!D3842=\"\",\"\",Wartosci!D3842)","v":""}]
[null,null,null,null,null,{"$f":"IF(Wartosci!D3843=\"\",\"\",Wartosci!D3843)","v":""}]
[null,null,null,null,null,{"$f":"IF(Wartosci!D3844=\"\",\"\",Wartosci!D3844)","v":""}]
[null,null,null,null,null,{"$f":"IF(Wartosci!D3845=\"\",\"\",Wartosci!D3845)","v":""}]
[null,null,null,null,null,{"$f":"IF(Wartosci!D3846=\"\",\"\",Wartosci!D3846)","v":""}]
[null,null,null,null,null,{"$f":"IF(Wartosci!D3847=\"\",\"\",Wartosci!D3847)","v":""}]
[null,null,null,null,null,{"$f":"IF(Wartosci!D3848=\"\",\"\",Wartosci!D3848)","v":""}]
[null,null,null,null,null,{"$f":"IF(Wartosci!D3849=\"\",\"\",Wartosci!D3849)","v":""}]
[null,null,null,null,null,{"$f":"IF(Wartosci!D3850=\"\",\"\",Wartosci!D3850)","v":""}]
[null,null,null,null,null,{"$f":"IF(Wartosci!D3851=\"\",\"\",Wartosci!D3851)","v":""}]
[null,null,null,null,null,{"$f":"IF(Wartosci!D3852=\"\",\"\",Wartosci!D3852)","v":""}]
[null,null,null,null,null,{"$f":"IF(Wartosci!D3853=\"\",\"\",Wartosci!D3853)","v":""}]
[null,null,null,null,null,{"$f":"IF(Wartosci!D3854=\"\",\"\",Wartosci!D3854)","v":""}]
[null,null,null,null,null,{"$f":"IF(Wartosci!D3855=\"\",\"\",Wartosci!D3855)","v":""}]
[null,null,null,null,null,{"$f":"IF(Wartosci!D3856=\"\",\"\",Wartosci!D3856)","v":""}]
[null,null,null,null,null,{"$f":"IF(Wartosci!D3857=\"\",\"\",Wartosci!D3857)","v":""}]
[null,null,null,null,null,{"$f":"IF(Wartosci!D3858=\"\",\"\",Wartosci!D3858)","v":""}]
[null,null,null,null,null,{"$f":"IF(Wartosci!D3859=\"\",\"\",Wartosci!D3859)","v":""}]
[null,null,null,null,null,{"$f":"IF(Wartosci!D3860=\"\",\"\",Wartosci!D3860)","v":""}]
[null,null,null,null,null,{"$f":"IF(Wartosci!D3861=\"\",\"\",Wartosci!D3861)","v":""}]
[null,null,null,null,null,{"$f":"IF(Wartosci!D3862=\"\",\"\",Wartosci!D3862)","v":""}]
[null,null,null,null,null,{"$f":"IF(Wartosci!D3863=\"\",\"\",Wartosci!D3863)","v":""}]
[null,null,null,null,null,{"$f":"IF(Wartosci!D3864=\"\",\"\",Wartosci!D3864)","v":""}]
[null,null,null,null,null,{"$f":"IF(Wartosci!D3865=\"\",\"\",Wartosci!D3865)","v":""}]
[null,null,null,null,null,{"$f":"IF(Wartosci!D3866=\"\",\"\",Wartosci!D3866)","v":""}]
[null,null,null,null,null,{"$f":"IF(Wartosci!D3867=\"\",\"\",Wartosci!D3867)","v":""}]
[null,null,null,null,null,{"$f":"IF(Wartosci!D3868=\"\",\"\",Wartosci!D3868)","v":""}]
[null,null,null,null,null,{"$f":"IF(Wartosci!D3869=\"\",\"\",Wartosci!D3869)","v":""}]
[null,null,null,null,null,{"$f":"IF(Wartosci!D3870=\"\",\"\",Wartosci!D3870)","v":""}]
[null,null,null,null,null,{"$f":"IF(Wartosci!D3871=\"\",\"\",Wartosci!D3871)","v":""}]
[null,null,null,null,null,{"$f":"IF(Wartosci!D3872=\"\",\"\",Wartosci!D3872)","v":""}]
[null,null,null,null,null,{"$f":"IF(Wartosci!D3873=\"\",\"\",Wartosci!D3873)","v":""}]
[null,null,null,null,null,{"$f":"IF(Wartosci!D3874=\"\",\"\",Wartosci!D3874)","v":""}]
[null,null,null,null,null,{"$f":"IF(Wartosci!D3875=\"\",\"\",Wartosci!D3875)","v":""}]
[null,null,null,null,null,{"$f":"IF(Wartosci!D3876=\"\",\"\",Wartosci!D3876)","v":""}]
[null,null,null,null,null,{"$f":"IF(Wartosci!D3877=\"\",\"\",Wartosci!D3877)","v":""}]
[null,null,null,null,null,{"$f":"IF(Wartosci!D3878=\"\",\"\",Wartosci!D3878)","v":""}]
[null,null,null,null,null,{"$f":"IF(Wartosci!D3879=\"\",\"\",Wartosci!D3879)","v":""}]
[null,null,null,null,null,{"$f":"IF(Wartosci!D3880=\"\",\"\",Wartosci!D3880)","v":""}]
[null,null,null,null,null,{"$f":"IF(Wartosci!D3881=\"\",\"\",Wartosci!D3881)","v":""}]
[null,null,null,null,null,{"$f":"IF(Wartosci!D3882=\"\",\"\",Wartosci!D3882)","v":""}]
[null,null,null,null,null,{"$f":"IF(Wartosci!D3883=\"\",\"\",Wartosci!D3883)","v":""}]
[null,null,null,null,null,{"$f":"IF(Wartosci!D3884=\"\",\"\",Wartosci!D3884)","v":""}]
[null,null,null,null,null,{"$f":"IF(Wartosci!D3885=\"\",\"\",Wartosci!D3885)","v":""}]
[null,null,null,null,null,{"$f":"IF(Wartosci!D3886=\"\",\"\",Wartosci!D3886)","v":""}]
[null,null,null,null,null,{"$f":"IF(Wartosci!D3887=\"\",\"\",Wartosci!D3887)","v":""}]
[null,null,null,null,null,{"$f":"IF(Wartosci!D3888=\"\",\"\",Wartosci!D3888)","v":""}]
[null,null,null,null,null,{"$f":"IF(Wartosci!D3889=\"\",\"\",Wartosci!D3889)","v":""}]
[null,null,null,null,null,{"$f":"IF(Wartosci!D3890=\"\",\"\",Wartosci!D3890)","v":""}]
[null,null,null,null,null,{"$f":"IF(Wartosci!D3891=\"\",\"\",Wartosci!D3891)","v":""}]
[null,null,null,null,null,{"$f":"IF(Wartosci!D3892=\"\",\"\",Wartosci!D3892)","v":""}]
[null,null,null,null,null,{"$f":"IF(Wartosci!D3893=\"\",\"\",Wartosci!D3893)","v":""}]
[null,null,null,null,null,{"$f":"IF(Wartosci!D3894=\"\",\"\",Wartosci!D3894)","v":""}]
[null,null,null,null,null,{"$f":"IF(Wartosci!D3895=\"\",\"\",Wartosci!D3895)","v":""}]
[null,null,null,null,null,{"$f":"IF(Wartosci!D3896=\"\",\"\",Wartosci!D3896)","v":""}]
[null,null,null,null,null,{"$f":"IF(Wartosci!D3897=\"\",\"\",Wartosci!D3897)","v":""}]
[null,null,null,null,null,{"$f":"IF(Wartosci!D3898=\"\",\"\",Wartosci!D3898)","v":""}]
[null,null,null,null,null,{"$f":"IF(Wartosci!D3899=\"\",\"\",Wartosci!D3899)","v":""}]
[null,null,null,null,null,{"$f":"IF(Wartosci!D3900=\"\",\"\",Wartosci!D3900)","v":""}]
[null,null,null,null,null,{"$f":"IF(Wartosci!D3901=\"\",\"\",Wartosci!D3901)","v":""}]
[null,null,null,null,null,{"$f":"IF(Wartosci!D3902=\"\",\"\",Wartosci!D3902)","v":""}]
[null,null,null,null,null,{"$f":"IF(Wartosci!D3903=\"\",\"\",Wartosci!D3903)","v":""}]
[null,null,null,null,null,{"$f":"IF(Wartosci!D3904=\"\",\"\",Wartosci!D3904)","v":""}]
[null,null,null,null,null,{"$f":"IF(Wartosci!D3905=\"\",\"\",Wartosci!D3905)","v":""}]
[null,null,null,null,null,{"$f":"IF(Wartosci!D3906=\"\",\"\",Wartosci!D3906)","v":""}]
[null,null,null,null,null,{"$f":"IF(Wartosci!D3907=\"\",\"\",Wartosci!D3907)","v":""}]
[null,null,null,null,null,{"$f":"IF(Wartosci!D3908=\"\",\"\",Wartosci!D3908)","v":""}]
[null,null,null,null,null,{"$f":"IF(Wartosci!D3909=\"\",\"\",Wartosci!D3909)","v":""}]
[null,null,null,null,null,{"$f":"IF(Wartosci!D3910=\"\",\"\",Wartosci!D3910)","v":""}]
[null,null,null,null,null,{"$f":"IF(Wartosci!D3911=\"\",\"\",Wartosci!D3911)","v":""}]
[null,null,null,null,null,{"$f":"IF(Wartosci!D3912=\"\",\"\",Wartosci!D3912)","v":""}]
[null,null,null,null,null,{"$f":"IF(Wartosci!D3913=\"\",\"\",Wartosci!D3913)","v":""}]
[null,null,null,null,null,{"$f":"IF(Wartosci!D3914=\"\",\"\",Wartosci!D3914)","v":""}]
[null,null,null,null,null,{"$f":"IF(Wartosci!D3915=\"\",\"\",Wartosci!D3915)","v":""}]
[null,null,null,null,null,{"$f":"IF(Wartosci!D3916=\"\",\"\",Wartosci!D3916)","v":""}]
[null,null,null,null,null,{"$f":"IF(Wartosci!D3917=\"\",\"\",Wartosci!D3917)","v":""}]
[null,null,null,null,null,{"$f":"IF(Wartosci!D3918=\"\",\"\",Wartosci!D3918)","v":""}]
[null,null,null,null,null,{"$f":"IF(Wartosci!D3919=\"\",\"\",Wartosci!D3919)","v":""}]
[null,null,null,null,null,{"$f":"IF(Wartosci!D3920=\"\",\"\",Wartosci!D3920)","v":""}]
[null,null,null,null,null,{"$f":"IF(Wartosci!D3921=\"\",\"\",Wartosci!D3921)","v":""}]
[null,null,null,null,null,{"$f":"IF(Wartosci!D3922=\"\",\"\",Wartosci!D3922)","v":""}]
[null,null,null,null,null,{"$f":"IF(Wartosci!D3923=\"\",\"\",Wartosci!D3923)","v":""}]
[null,null,null,null,null,{"$f":"IF(Wartosci!D3924=\"\",\"\",Wartosci!D3924)","v":""}]
[null,null,null,null,null,{"$f":"IF(Wartosci!D3925=\"\",\"\",Wartosci!D3925)","v":""}]
[null,null,null,null,null,{"$f":"IF(Wartosci!D3926=\"\",\"\",Wartosci!D3926)","v":""}]
[null,null,null,null,null,{"$f":"IF(Wartosci!D3927=\"\",\"\",Wartosci!D3927)","v":""}]
[null,null,null,null,null,{"$f":"IF(Wartosci!D3928=\"\",\"\",Wartosci!D3928)","v":""}]
[null,null,null,null,null,{"$f":"IF(Wartosci!D3929=\"\",\"\",Wartosci!D3929)","v":""}]
[null,null,null,null,null,{"$f":"IF(Wartosci!D3930=\"\",\"\",Wartosci!D3930)","v":""}]
[null,null,null,null,null,{"$f":"IF(Wartosci!D3931=\"\",\"\",Wartosci!D3931)","v":""}]
[null,null,null,null,null,{"$f":"IF(Wartosci!D3932=\"\",\"\",Wartosci!D3932)","v":""}]
[null,null,null,null,null,{"$f":"IF(Wartosci!D3933=\"\",\"\",Wartosci!D3933)","v":""}]
[null,null,null,null,null,{"$f":"IF(Wartosci!D3934=\"\",\"\",Wartosci!D3934)","v":""}]
[null,null,null,null,null,{"$f":"IF(Wartosci!D3935=\"\",\"\",Wartosci!D3935)","v":""}]
[null,null,null,null,null,{"$f":"IF(Wartosci!D3936=\"\",\"\",Wartosci!D3936)","v":""}]
[null,null,null,null,null,{"$f":"IF(Wartosci!D3937=\"\",\"\",Wartosci!D3937)","v":""}]
[null,null,null,null,null,{"$f":"IF(Wartosci!D3938=\"\",\"\",Wartosci!D3938)","v":""}]
[null,null,null,null,null,{"$f":"IF(Wartosci!D3939=\"\",\"\",Wartosci!D3939)","v":""}]
[null,null,null,null,null,{"$f":"IF(Wartosci!D3940=\"\",\"\",Wartosci!D3940)","v":""}]
[null,null,null,null,null,{"$f":"IF(Wartosci!D3941=\"\",\"\",Wartosci!D3941)","v":""}]
[null,null,null,null,null,{"$f":"IF(Wartosci!D3942=\"\",\"\",Wartosci!D3942)","v":""}]
[null,null,null,null,null,{"$f":"IF(Wartosci!D3943=\"\",\"\",Wartosci!D3943)","v":""}]
[null,null,null,null,null,{"$f":"IF(Wartosci!D3944=\"\",\"\",Wartosci!D3944)","v":""}]
[null,null,null,null,null,{"$f":"IF(Wartosci!D3945=\"\",\"\",Wartosci!D3945)","v":""}]
[null,null,null,null,null,{"$f":"IF(Wartosci!D3946=\"\",\"\",Wartosci!D3946)","v":""}]
[null,null,null,null,null,{"$f":"IF(Wartosci!D3947=\"\",\"\",Wartosci!D3947)","v":""}]
[null,null,null,null,null,{"$f":"IF(Wartosci!D3948=\"\",\"\",Wartosci!D3948)","v":""}]
[null,null,null,null,null,{"$f":"IF(Wartosci!D3949=\"\",\"\",Wartosci!D3949)","v":""}]
[null,null,null,null,null,{"$f":"IF(Wartosci!D3950=\"\",\"\",Wartosci!D3950)","v":""}]
[null,null,null,null,null,{"$f":"IF(Wartosci!D3951=\"\",\"\",Wartosci!D3951)","v":""}]
[null,null,null,null,null,{"$f":"IF(Wartosci!D3952=\"\",\"\",Wartosci!D3952)","v":""}]
[null,null,null,null,null,{"$f":"IF(Wartosci!D3953=\"\",\"\",Wartosci!D3953)","v":""}]
[null,null,null,null,null,{"$f":"IF(Wartosci!D3954=\"\",\"\",Wartosci!D3954)","v":""}]
[null,null,null,null,null,{"$f":"IF(Wartosci!D3955=\"\",\"\",Wartosci!D3955)","v":""}]
[null,null,null,null,null,{"$f":"IF(Wartosci!D3956=\"\",\"\",Wartosci!D3956)","v":""}]
[null,null,null,null,null,{"$f":"IF(Wartosci!D3957=\"\",\"\",Wartosci!D3957)","v":""}]
[null,null,null,null,null,{"$f":"IF(Wartosci!D3958=\"\",\"\",Wartosci!D3958)","v":""}]
[null,null,null,null,null,{"$f":"IF(Wartosci!D3959=\"\",\"\",Wartosci!D3959)","v":""}]
[null,null,null,null,null,{"$f":"IF(Wartosci!D3960=\"\",\"\",Wartosci!D3960)","v":""}]
[null,null,null,null,null,{"$f":"IF(Wartosci!D3961=\"\",\"\",Wartosci!D3961)","v":""}]
[null,null,null,null,null,{"$f":"IF(Wartosci!D3962=\"\",\"\",Wartosci!D3962)","v":""}]
[null,null,null,null,null,{"$f":"IF(Wartosci!D3963=\"\",\"\",Wartosci!D3963)","v":""}]
[null,null,null,null,null,{"$f":"IF(Wartosci!D3964=\"\",\"\",Wartosci!D3964)","v":""}]
[null,null,null,null,null,{"$f":"IF(Wartosci!D3965=\"\",\"\",Wartosci!D3965)","v":""}]
[null,null,null,null,null,{"$f":"IF(Wartosci!D3966=\"\",\"\",Wartosci!D3966)","v":""}]
[null,null,null,null,null,{"$f":"IF(Wartosci!D3967=\"\",\"\",Wartosci!D3967)","v":""}]
[null,null,null,null,null,{"$f":"IF(Wartosci!D3968=\"\",\"\",Wartosci!D3968)","v":""}]
[null,null,null,null,null,{"$f":"IF(Wartosci!D3969=\"\",\"\",Wartosci!D3969)","v":""}]
[null,null,null,null,null,{"$f":"IF(Wartosci!D3970=\"\",\"\",Wartosci!D3970)","v":""}]
[null,null,null,null,null,{"$f":"IF(Wartosci!D3971=\"\",\"\",Wartosci!D3971)","v":""}]
[null,null,null,null,null,{"$f":"IF(Wartosci!D3972=\"\",\"\",Wartosci!D3972)","v":""}]
[null,null,null,null,null,{"$f":"IF(Wartosci!D3973=\"\",\"\",Wartosci!D3973)","v":""}]
[null,null,null,null,null,{"$f":"IF(Wartosci!D3974=\"\",\"\",Wartosci!D3974)","v":""}]
[null,null,null,null,null,{"$f":"IF(Wartosci!D3975=\"\",\"\",Wartosci!D3975)","v":""}]
[null,null,null,null,null,{"$f":"IF(Wartosci!D3976=\"\",\"\",Wartosci!D3976)","v":""}]
[null,null,null,null,null,{"$f":"IF(Wartosci!D3977=\"\",\"\",Wartosci!D3977)","v":""}]
[null,null,null,null,null,{"$f":"IF(Wartosci!D3978=\"\",\"\",Wartosci!D3978)","v":""}]
[null,null,null,null,null,{"$f":"IF(Wartosci!D3979=\"\",\"\",Wartosci!D3979)","v":""}]
[null,null,null,null,null,{"$f":"IF(Wartosci!D3980=\"\",\"\",Wartosci!D3980)","v":""}]
[null,null,null,null,null,{"$f":"IF(Wartosci!D3981=\"\",\"\",Wartosci!D3981)","v":""}]
[null,null,null,null,null,{"$f":"IF(Wartosci!D3982=\"\",\"\",Wartosci!D3982)","v":""}]
[null,null,null,null,null,{"$f":"IF(Wartosci!D3983=\"\",\"\",Wartosci!D3983)","v":""}]
[null,null,null,null,null,{"$f":"IF(Wartosci!D3984=\"\",\"\",Wartosci!D3984)","v":""}]
[null,null,null,null,null,{"$f":"IF(Wartosci!D3985=\"\",\"\",Wartosci!D3985)","v":""}]
[null,null,null,null,null,{"$f":"IF(Wartosci!D3986=\"\",\"\",Wartosci!D3986)","v":""}]
[null,null,null,null,null,{"$f":"IF(Wartosci!D3987=\"\",\"\",Wartosci!D3987)","v":""}]
[null,null,null,null,null,{"$f":"IF(Wartosci!D3988=\"\",\"\",Wartosci!D3988)","v":""}]
[null,null,null,null,null,{"$f":"IF(Wartosci!D3989=\"\",\"\",Wartosci!D3989)","v":""}]
[null,null,null,null,null,{"$f":"IF(Wartosci!D3990=\"\",\"\",Wartosci!D3990)","v":""}]
[null,null,null,null,null,{"$f":"IF(Wartosci!D3991=\"\",\"\",Wartosci!D3991)","v":""}]
[null,null,null,null,null,{"$f":"IF(Wartosci!D3992=\"\",\"\",Wartosci!D3992)","v":""}]
[null,null,null,null,null,{"$f":"IF(Wartosci!D3993=\"\",\"\",Wartosci!D3993)","v":""}]
[null,null,null,null,null,{"$f":"IF(Wartosci!D3994=\"\",\"\",Wartosci!D3994)","v":""}]
[null,null,null,null,null,{"$f":"IF(Wartosci!D3995=\"\",\"\",Wartosci!D3995)","v":""}]
[null,null,null,null,null,{"$f":"IF(Wartosci!D3996=\"\",\"\",Wartosci!D3996)","v":""}]
[null,null,null,null,null,{"$f":"IF(Wartosci!D3997=\"\",\"\",Wartosci!D3997)","v":""}]
[null,null,null,null,null,{"$f":"IF(Wartosci!D3998=\"\",\"\",Wartosci!D3998)","v":""}]
[null,null,null,null,null,{"$f":"IF(Wartosci!D3999=\"\",\"\",Wartosci!D3999)","v":""}]
[null,null,null,null,null,{"$f":"IF(Wartosci!D4000=\"\",\"\",Wartosci!D4000)","v":""}]
[null,null,null,null,null,{"$f":"IF(Wartosci!D4001=\"\",\"\",Wartosci!D4001)","v":""}]
[null,null,null,null,null,{"$f":"IF(Wartosci!D4002=\"\",\"\",Wartosci!D4002)","v":""}]
[null,null,null,null,null,{"$f":"IF(Wartosci!D4003=\"\",\"\",Wartosci!D4003)","v":""}]
[null,null,null,null,null,{"$f":"IF(Wartosci!D4004=\"\",\"\",Wartosci!D4004)","v":""}]
[null,null,null,null,null,{"$f":"IF(Wartosci!D4005=\"\",\"\",Wartosci!D4005)","v":""}]
[null,null,null,null,null,{"$f":"IF(Wartosci!D4006=\"\",\"\",Wartosci!D4006)","v":""}]
[null,null,null,null,null,{"$f":"IF(Wartosci!D4007=\"\",\"\",Wartosci!D4007)","v":""}]
[null,null,null,null,null,{"$f":"IF(Wartosci!D4008=\"\",\"\",Wartosci!D4008)","v":""}]
[null,null,null,null,null,{"$f":"IF(Wartosci!D4009=\"\",\"\",Wartosci!D4009)","v":""}]
[null,null,null,null,null,{"$f":"IF(Wartosci!D4010=\"\",\"\",Wartosci!D4010)","v":""}]
[null,null,null,null,null,{"$f":"IF(Wartosci!D4011=\"\",\"\",Wartosci!D4011)","v":""}]
[null,null,null,null,null,{"$f":"IF(Wartosci!D4012=\"\",\"\",Wartosci!D4012)","v":""}]
[null,null,null,null,null,{"$f":"IF(Wartosci!D4013=\"\",\"\",Wartosci!D4013)","v":""}]
[null,null,null,null,null,{"$f":"IF(Wartosci!D4014=\"\",\"\",Wartosci!D4014)","v":""}]
[null,null,null,null,null,{"$f":"IF(Wartosci!D4015=\"\",\"\",Wartosci!D4015)","v":""}]
[null,null,null,null,null,{"$f":"IF(Wartosci!D4016=\"\",\"\",Wartosci!D4016)","v":""}]